{"text_format":"1","workbook":"xlsx","n_sheets":5,"sheets":["LC","SPmodel","Compounds","Columns","Macro input"],"not_rendered":{"charts":7,"images":1,"macros":1,"external_links":1,"defined_names":2,"comments":0,"pivot_tables":0},"unopened":[],"bounds":{"document_bytes":16777216,"sheet_cells":100000,"rows_first":2000,"rows_last":500,"rows_between":2000,"halvings":0,"cell_chars":16384,"cell_head_chars":4096},"cells_cut":0,"cells_raw":0,"read":"whole","date_system":"1900"}

{"sheet":"LC","index":0,"n_rows":2002,"n_cols":104,"rows_kept":562,"cut":true,"hidden":false,"merged":[[142,1,142,2],[140,1,140,2],[141,1,141,2]],"bounds":{"rows_first":250,"rows_last":62,"rows_between":250,"halvings":3}}
["ChromSimLC_1.01              Bo Svensmark, svensmark@plen.ku.dk, Analytical Chemistry, PLEN KU 2017-2024",null,null,null,null,null,null,null,null,null,null,null,null,null,null,"Most cells are proteted. To unprotect go to Review and click Unprotect sheet",null,null,null,null,null,null,null,null,null,null,null,null,null,null,null,"Gradient profile plot",null,null,"Time","tM-marker",1,2,3,4,5,6,7,8,9,10,11,"Signal #1",null,"tM-marker",1,2,3,4,5,6,7,8,9,10,11,"Signal #3",null,"tM-marker",1,2,3,4,5,6,7,8,9,10,11,"Signal #5",null,"tM-marker",1,2,3,4,5,6,7,8,9,10,11,"Signal #2",null,"tM-marker",1,2,3,4,5,6,7,8,9,10,11,"Signal #4"]
[null,null,null,null,null,null,null,null,null,null,null,"Do only change the white input cells!",null,null,null,null,null,null,null,null,null,null,null,null,null,null,null,null,null,null,"Time","Green","Blue",null,0,{"$f":"$B$23*NORMDIST($AI2,$B$20,$B$24*$B$20,FALSE)","v":1.9134824341048483E-136},{"$f":"B$6*IF(B$6>0,NORMDIST($AI2,B$53,C$53/4,FALSE),0)","v":0},{"$f":"B$7*IF(B$7>0,NORMDIST($AI2,B$54,C$54/4,FALSE),0)","v":0},{"$f":"B$8*IF(B$8>0,NORMDIST($AI2,B$55,C$55/4,FALSE),0)","v":0},{"$f":"B$9*IF(B$9>0,NORMDIST($AI2,B$56,C$56/4,FALSE),0)","v":0},{"$f":"B$10*IF(B$10>0,NORMDIST($AI2,B$57,C$57/4,FALSE),0)","v":0},{"$f":"B$11*IF(B$11>0,NORMDIST($AI2,B$58,$C$58/4,FALSE),0)","v":0},{"$f":"$B$12*IF($B$12>0,NORMDIST($AI2,B$59,$C$59/4,FALSE),0)","v":0},{"$f":"$B$13*IF($B$13>0,NORMDIST($AI2,B$60,$C$60/4,FALSE),0)","v":0},{"$f":"$B$14*IF($B$14>0,NORMDIST($AI2,$B$61,$C$61/4,FALSE),0)","v":0},{"$f":"$B$15*IF($B$15>0,NORMDIST($AI2,$B$62,$C$62/4,FALSE),0)","v":0},{"$f":"$B$16*IF($B$16>0,NORMDIST($AI2,$B$63,$C$63/4,FALSE),0)","v":0},{"$f":"IF($O$20<>0,SUM(AJ2:AU2)*$O$20+$N$20,-1)","v":11},null,{"$f":"$B$23*NORMDIST($AI2,$B$20,$B$24*$B$20,FALSE)","v":1.9134824341048483E-136},{"$f":"IF(B$6>0,B$6*NORMDIST($AI2,F$53,G$53/4,FALSE),0)","v":0},{"$f":"IF(B$7>0,B$7*NORMDIST($AI2,F$54,G$54/4,FALSE),0)","v":0},{"$f":"IF(B$8>0,B$8*NORMDIST($AI2,F$55,G$55/4,FALSE),0)","v":0},{"$f":"IF(B$9>0,B$9*NORMDIST($AI2,F$56,G$56/4,FALSE),0)","v":0},{"$f":"IF(B$10>0,B$10*NORMDIST($AI2,F$57,G$57/4,FALSE),0)","v":0},{"$f":"IF(B$11>0,B$11*NORMDIST($AI2,F$58,G$58/4,FALSE),0)","v":0},{"$f":"IF($B$12>0,$B$12*NORMDIST($AI2,$F$59,$G$59/4,FALSE),0)","v":0},{"$f":"IF($B$13>0,$B$13*NORMDIST($AI2,$F$60,$G$60/4,FALSE),0)","v":0},{"$f":"IF($B$14>0,$B$14*NORMDIST($AI2,$F$61,$G$61/4,FALSE),0)","v":0},{"$f":"IF($B$15>0,$B$15*NORMDIST($AI2,$F$62,$G$62/4,FALSE),0)","v":0},{"$f":"IF($B$16>0,$B$16*NORMDIST($AI2,$F$63,$G$63/4,FALSE),0)","v":0},{"$f":"IF($O$22<>0,SUM(AX2:BI2)*$O$22+$N$22,-1)","v":15},null,{"$f":"$B$23*NORMDIST($AI2,$B$20,$B$20*$B$24,FALSE)","v":1.9134824341048483E-136},{"$f":"IF($B$6>0,$B$6*NORMDIST($AI2,$J$53,$K$53/4,FALSE),0)","v":0},{"$f":"IF($B$7>0,$B$7*NORMDIST($AI2,$J$54,$K$54/4,FALSE),0)","v":0},{"$f":"IF($B$8>0,$B$8*NORMDIST($AI2,$J$55,$K$55/4,FALSE),0)","v":0},{"$f":"IF($B$9>0,$B$9*NORMDIST($AI2,$J$56,$K$56/4,FALSE),0)","v":0},{"$f":"IF($B$10>0,$B$10*NORMDIST($AI2,$J$57,$K$57/4,FALSE),0)","v":0},{"$f":"IF($B$11>0,$B$11*NORMDIST($AI2,$J$58,$K$58/4,FALSE),0)","v":0},{"$f":"IF($B$12>0,$B$12*NORMDIST($AI2,$J$59,$K$59/4,FALSE),0)","v":0},{"$f":"IF($B$13>0,$B$13*NORMDIST($AI2,$J$60,$K$60/4,FALSE),0)","v":0},{"$f":"IF($B$14>0,$B$14*NORMDIST($AI2,$J$61,$K$61/4,FALSE),0)","v":0},{"$f":"IF($B$15>0,$B$15*NORMDIST($AI2,$J$62,$K$62/4,FALSE),0)","v":0},{"$f":"IF($B$16>0,$B$16*NORMDIST($AI2,$J$63,$K$63/4,FALSE),0)","v":0},{"$f":"IF($O$24<>0,SUM(BL2:BW2)*$O$24+$N$24,-1)","v":10},null,{"$f":"$B$23*NORMDIST($AI2,$B$20,$B$20*$B$24,FALSE)","v":1.9134824341048483E-136},{"$f":"IF($B$6>0,$B$6*NORMDIST($AI2,$B$68,$C$68/4,FALSE),0)","v":0},{"$f":"IF($B$7>0,$B$7*NORMDIST($AI2,$B$69,$C$69/4,FALSE),0)","v":0},{"$f":"IF($B$8>0,$B$8*NORMDIST($AI2,$B$70,$C$70/4,FALSE),0)","v":0},{"$f":"IF($B$9>0,$B$9*NORMDIST($AI2,$B$71,$C$71/4,FALSE),0)","v":0},{"$f":"IF($B$10>0,$B$10*NORMDIST($AI2,$B$72,$C$72/4,FALSE),0)","v":0},{"$f":"IF($B$11>0,$B$11*NORMDIST($AI2,$B$73,$C$73/4,FALSE),0)","v":0},{"$f":"IF($B$12>0,$B$12*NORMDIST($AI2,$B$74,$C$74/4,FALSE),0)","v":0},{"$f":"IF($B$13>0,$B$13*NORMDIST($AI2,$B$75,$C$75/4,FALSE),0)","v":0},{"$f":"IF($B$14>0,$B$14*NORMDIST($AI2,$B$76,$C$76/4,FALSE),0)","v":0},{"$f":"IF($B$15>0,$B$15*NORMDIST($AI2,$B$77,$C$77/4,FALSE),0)","v":0},{"$f":"IF($B$16>0,$B$16*NORMDIST($AI2,$B$78,$C$78/4,FALSE),0)","v":0},{"$f":"IF($O$21<>0,SUM(BZ2:CK2)*$O$21+$N$21,-1)","v":-1},null,{"$f":"$B$23*NORMDIST($AI2,$B$20,$B$20*$B$24,FALSE)","v":1.9134824341048483E-136},{"$f":"IF($B$6>0,$B$6*NORMDIST($AI2,$F$68,$G$68/4,FALSE),0)","v":0},{"$f":"IF($B$7>0,$B$7*NORMDIST($AI2,$F$69,$G$69/4,FALSE),0)","v":0},{"$f":"IF($B$8>0,$B$8*NORMDIST($AI2,$F$70,$G$70/4,FALSE),0)","v":0},{"$f":"IF($B$9>0,$B$9*NORMDIST($AI2,$F$71,$G$71/4,FALSE),0)","v":0},{"$f":"IF($B$10>0,$B$10*NORMDIST($AI2,$F$72,$G$72/4,FALSE),0)","v":0},{"$f":"IF($B$11>0,$B$11*NORMDIST($AI2,$F$73,$G$73/4,FALSE),0)","v":0},{"$f":"IF($B$12>0,$B$12*NORMDIST($AI2,$F$74,$G$74/4,FALSE),0)","v":0},{"$f":"IF($B$13>0,$B$13*NORMDIST($AI2,$F$75,$G$75/4,FALSE),0)","v":0},{"$f":"IF($B$14>0,$B$14*NORMDIST($AI2,$F$76,$G$76/4,FALSE),0)","v":0},{"$f":"IF($B$15>0,$B$15*NORMDIST($AI2,$F$77,$G$77/4,FALSE),0)","v":0},{"$f":"IF($B$16>0,$B$16*NORMDIST($AI2,$F$78,$G$78/4,FALSE),0)","v":0},{"$f":"IF($O$23<>0,SUM(CN2:CY2)*$O$23+$N$23,-1)","v":-1}]
[null,null,null,null,null,null,null,null,null,null,null,null,null,null,null,null,null,"Column difference",null,"Lookup address",null,{"$f":"V4","v":"C10:I16"},{"$f":"W4","v":"C18:I23"},null,null,null,null,null,null,null,0,{"$f":"IF($L$20>0,IF($AE3<$J$20,$H$20,IF($AE3<$J$20+$K$20,$H$20+((I$20-H$20)*($AE3-J$20)/K$20),$I$20)),$H$20)","v":0.2},{"$f":"IF($L$22>0,IF($AE3<$J$22,$H$22,IF($AE3<$J$22+$K$22,$H$22+((I$22-H$22)*($AE3-J$22)/K$22),$I$22)),$H$22)","v":0.2},null,{"$f":"AI2+$B$25","v":0.02},4.531256983878812E-131,0,0,0,0,0,0,0,0,0,0,0,{"$f":"IF($O$20<>0,SUM(AJ3:AU3)*$O$20+$N$20,-1)","v":11},null,{"$f":"$B$23*NORMDIST($AI3,$B$20,$B$24*$B$20,FALSE)","v":4.531256983878812E-131},{"$f":"IF(B$6>0,B$6*NORMDIST($AI3,F$53,G$53/4,FALSE),0)","v":0},0,0,0,0,0,0,0,0,0,0,{"$f":"IF($O$22<>0,SUM(AX3:BI3)*$O$22+$N$22,-1)","v":15},null,4.531256983878812E-131,0,0,0,0,0,0,0,0,0,0,0,{"$f":"IF($O$24<>0,SUM(BL3:BW3)*$O$24+$N$24,-1)","v":10},null,4.531256983878812E-131,0,0,0,0,0,0,0,0,0,0,0,{"$f":"IF($O$21<>0,SUM(BZ3:CK3)*$O$21+$N$21,-1)","v":-1},null,4.531256983878812E-131,0,0,0,0,0,0,0,0,0,0,0,{"$f":"IF($O$23<>0,SUM(CN3:CY3)*$O$23+$N$23,-1)","v":-1}]
["Table 1",null,null,null,null,null,null,null,null,null,null,null,"#",1,null,null,null,null,null,"Lookup",null,{"$f":"VLOOKUP(E20,Columns!K10:L61,2,FALSE)","v":"C10:I16"},{"$f":"VLOOKUP(E22,Columns!K10:L61,2,FALSE)","v":"C18:I23"},null,null,null,null,null,null,null,{"$f":"AE3+$B$22/100","v":0.4},{"$f":"IF($L$20>0,IF($AE4<$J$20,$H$20,IF($AE4<$J$20+$K$20,$H$20+((I$20-H$20)*($AE4-J$20)/K$20),$I$20)),$H$20)","v":0.20800000000000002},{"$f":"IF($L$22>0,IF($AE4<$J$22,$H$22,IF($AE4<$J$22+$K$22,$H$22+((I$22-H$22)*($AE4-J$22)/K$22),$I$22)),$H$22)","v":0.20800000000000002},null,0.04,8.356786104486146E-126,0,0,0,0,0,0,0,0,0,0,0,{"$f":"IF($O$20<>0,SUM(AJ4:AU4)*$O$20+$N$20,-1)","v":11},null,8.356786104486146E-126,0,0,0,0,0,0,0,0,0,0,0,{"$f":"IF($O$22<>0,SUM(AX4:BI4)*$O$22+$N$22,-1)","v":15},null,8.356786104486146E-126,0,0,0,0,0,0,0,0,0,0,0,{"$f":"IF($O$24<>0,SUM(BL4:BW4)*$O$24+$N$24,-1)","v":10},null,8.356786104486146E-126,0,0,0,0,0,0,0,0,0,0,0,{"$f":"IF($O$21<>0,SUM(BZ4:CK4)*$O$21+$N$21,-1)","v":-1},null,8.356786104486146E-126,0,0,0,0,0,0,0,0,0,0,0,{"$f":"IF($O$23<>0,SUM(CN4:CY4)*$O$23+$N$23,-1)","v":-1}]
["","Conc","Tetrahydrofuran",null,"tR(ref)","w(ref)",null,null,null,null,null,null,"1 - Cos q","d",null,"Column systems",null,"1 - Cos q","d","Column names",null,null,null,null,null,null,null,null,null,null,0.8,{"$f":"IF($L$20>0,IF($AE5<$J$20,$H$20,IF($AE5<$J$20+$K$20,$H$20+((I$20-H$20)*($AE5-J$20)/K$20),$I$20)),$H$20)","v":0.21600000000000003},{"$f":"IF($L$22>0,IF($AE5<$J$22,$H$22,IF($AE5<$J$22+$K$22,$H$22+((I$22-H$22)*($AE5-J$22)/K$22),$I$22)),$H$22)","v":0.21600000000000003},null,0.06,1.2002901964767884E-120,0,0,0,0,0,0,0,0,0,0,0,{"$f":"IF($O$20<>0,SUM(AJ5:AU5)*$O$20+$N$20,-1)","v":11},null,1.2002901964767884E-120,0,0,0,0,0,0,0,0,0,0,0,{"$f":"IF($O$22<>0,SUM(AX5:BI5)*$O$22+$N$22,-1)","v":15},null,1.2002901964767884E-120,0,0,0,0,0,0,0,0,0,0,0,{"$f":"IF($O$24<>0,SUM(BL5:BW5)*$O$24+$N$24,-1)","v":10},null,1.2002901964767884E-120,0,0,0,0,0,0,0,0,0,0,0,{"$f":"IF($O$21<>0,SUM(BZ5:CK5)*$O$21+$N$21,-1)","v":-1},null,1.2002901964767884E-120,0,0,0,0,0,0,0,0,0,0,0,{"$f":"IF($O$23<>0,SUM(CN5:CY5)*$O$23+$N$23,-1)","v":-1}]
[{"$f":"IF(C6<>\"\",IF(ISNA(VLOOKUP(C6,Compounds!$B$11:'Compounds'!$G$403,1,FALSE)),\"Name error\",1),\"\")","v":1},1,"Aniline",null,2.7286324014718528,7.4477314456849478E-2,null,null,null,null,null,null,"Column difference",null,null,{"$f":"IF(Columns!K10<>\"\",Columns!K10,\"\")","v":"Chromlith/ACN"},null,{"$f":"IF(Columns!S10<>\"\",Columns!S10,\"\")","v":0},{"$f":"IF(Columns!T10<>\"\",Columns!T10,\"\")","v":0},{"$f":"IF(Columns!M10<>\"\",Columns!M10,\"\")","v":"Chromlith RP-18e/ACN"},null,null,null,null,null,null,null,null,null,null,1.2000000000000002,{"$f":"IF($L$20>0,IF($AE6<$J$20,$H$20,IF($AE6<$J$20+$K$20,$H$20+((I$20-H$20)*($AE6-J$20)/K$20),$I$20)),$H$20)","v":0.224},{"$f":"IF($L$22>0,IF($AE6<$J$22,$H$22,IF($AE6<$J$22+$K$22,$H$22+((I$22-H$22)*($AE6-J$22)/K$22),$I$22)),$H$22)","v":0.224},null,0.08,1.3426400912551481E-115,0,0,0,0,0,0,0,0,0,0,0,{"$f":"IF($O$20<>0,SUM(AJ6:AU6)*$O$20+$N$20,-1)","v":11},null,1.3426400912551481E-115,0,0,0,0,0,0,0,0,0,0,0,{"$f":"IF($O$22<>0,SUM(AX6:BI6)*$O$22+$N$22,-1)","v":15},null,1.3426400912551481E-115,0,0,0,0,0,0,0,0,0,0,0,{"$f":"IF($O$24<>0,SUM(BL6:BW6)*$O$24+$N$24,-1)","v":10},null,1.3426400912551481E-115,0,0,0,0,0,0,0,0,0,0,0,{"$f":"IF($O$21<>0,SUM(BZ6:CK6)*$O$21+$N$21,-1)","v":-1},null,1.3426400912551481E-115,0,0,0,0,0,0,0,0,0,0,0,{"$f":"IF($O$23<>0,SUM(CN6:CY6)*$O$23+$N$23,-1)","v":-1}]
[{"$f":"IF(C7<>\"\",IF(ISNA(VLOOKUP(C7,Compounds!$B$11:'Compounds'!$G$403,1,FALSE)),\"Name error\",2),\"\")","v":2},1,"Indole",null,6.8792994967858796,0.15012164135919503,null,{"$f":"IF(OR(E20<>J14,E22<>K14),\"Please Update column parameters\",\"\")","v":""},null,null,null,null,null,null,null,{"$f":"IF(Columns!K11<>\"\",Columns!K11,\"\")","v":"Chromlith/MeHO"},null,{"$f":"IF(Columns!S11<>\"\",Columns!S11,\"\")","v":2.1242312839278243E-2},{"$f":"IF(Columns!T11<>\"\",Columns!T11,\"\")","v":0.20611798970142298},{"$f":"IF(Columns!M11<>\"\",Columns!M11,\"\")","v":"Chromlith RP-18e/MeOH"},null,null,null,null,null,null,null,null,null,null,1.6,{"$f":"IF($L$20>0,IF($AE7<$J$20,$H$20,IF($AE7<$J$20+$K$20,$H$20+((I$20-H$20)*($AE7-J$20)/K$20),$I$20)),$H$20)","v":0.23200000000000001},{"$f":"IF($L$22>0,IF($AE7<$J$22,$H$22,IF($AE7<$J$22+$K$22,$H$22+((I$22-H$22)*($AE7-J$22)/K$22),$I$22)),$H$22)","v":0.23200000000000001},null,0.1,1.1696592043125117E-110,0,0,0,0,0,0,0,0,0,0,0,{"$f":"IF($O$20<>0,SUM(AJ7:AU7)*$O$20+$N$20,-1)","v":11},null,1.1696592043125117E-110,0,0,0,0,0,0,0,0,0,0,0,{"$f":"IF($O$22<>0,SUM(AX7:BI7)*$O$22+$N$22,-1)","v":15},null,1.1696592043125117E-110,0,0,0,0,0,0,0,0,0,0,0,{"$f":"IF($O$24<>0,SUM(BL7:BW7)*$O$24+$N$24,-1)","v":10},null,1.1696592043125117E-110,0,0,0,0,0,0,0,0,0,0,0,{"$f":"IF($O$21<>0,SUM(BZ7:CK7)*$O$21+$N$21,-1)","v":-1},null,1.1696592043125117E-110,0,0,0,0,0,0,0,0,0,0,0,{"$f":"IF($O$23<>0,SUM(CN7:CY7)*$O$23+$N$23,-1)","v":-1}]
[{"$f":"IF(C8<>\"\",IF(ISNA(VLOOKUP(C8,Compounds!$B$11:'Compounds'!$G$403,1,FALSE)),\"Name error\",3),\"\")","v":3},1,"toluene",null,11.465584835110867,0.21012644509342362,null,"Nonlinear simulation",null,null,null,null,null,null,null,{"$f":"IF(Columns!K12<>\"\",Columns!K12,\"\")","v":"IAM/ACN"},null,{"$f":"IF(Columns!S12<>\"\",Columns!S12,\"\")","v":1.8502571925407718E-2},{"$f":"IF(Columns!T12<>\"\",Columns!T12,\"\")","v":0.19236721095554554},{"$f":"IF(Columns!M12<>\"\",Columns!M12,\"\")","v":"IAM PC DD2/ACN"},null,null,null,null,null,null,null,null,null,null,2,{"$f":"IF($L$20>0,IF($AE8<$J$20,$H$20,IF($AE8<$J$20+$K$20,$H$20+((I$20-H$20)*($AE8-J$20)/K$20),$I$20)),$H$20)","v":0.24000000000000002},{"$f":"IF($L$22>0,IF($AE8<$J$22,$H$22,IF($AE8<$J$22+$K$22,$H$22+((I$22-H$22)*($AE8-J$22)/K$22),$I$22)),$H$22)","v":0.24000000000000002},null,0.12000000000000001,7.9357038820631563E-106,0,0,0,0,0,0,0,0,0,0,0,{"$f":"IF($O$20<>0,SUM(AJ8:AU8)*$O$20+$N$20,-1)","v":11},null,7.9357038820631563E-106,0,0,0,0,0,0,0,0,0,0,0,{"$f":"IF($O$22<>0,SUM(AX8:BI8)*$O$22+$N$22,-1)","v":15},null,7.9357038820631563E-106,0,0,0,0,0,0,0,0,0,0,0,{"$f":"IF($O$24<>0,SUM(BL8:BW8)*$O$24+$N$24,-1)","v":10},null,7.9357038820631563E-106,0,0,0,0,0,0,0,0,0,0,0,{"$f":"IF($O$21<>0,SUM(BZ8:CK8)*$O$21+$N$21,-1)","v":-1},null,7.9357038820631563E-106,0,0,0,0,0,0,0,0,0,0,0,{"$f":"IF($O$23<>0,SUM(CN8:CY8)*$O$23+$N$23,-1)","v":-1}]
[{"$f":"IF(C9<>\"\",IF(ISNA(VLOOKUP(C9,Compounds!$B$11:'Compounds'!$G$403,1,FALSE)),\"Name error\",4),\"\")","v":4},1,"Styrene",null,12.732329050512124,0.2146153631838677,null,null,null,null,null,null,null,null,null,{"$f":"IF(Columns!K13<>\"\",Columns!K13,\"\")","v":"IAM/MeOH"},null,{"$f":"IF(Columns!S13<>\"\",Columns!S13,\"\")","v":2.5668182341517576E-2},{"$f":"IF(Columns!T13<>\"\",Columns!T13,\"\")","v":0.22657529583570052},{"$f":"IF(Columns!M13<>\"\",Columns!M13,\"\")","v":"IAM PC DD2/MeOH"},null,null,null,null,null,null,null,null,null,null,2.4,{"$f":"IF($L$20>0,IF($AE9<$J$20,$H$20,IF($AE9<$J$20+$K$20,$H$20+((I$20-H$20)*($AE9-J$20)/K$20),$I$20)),$H$20)","v":0.248},{"$f":"IF($L$22>0,IF($AE9<$J$22,$H$22,IF($AE9<$J$22+$K$22,$H$22+((I$22-H$22)*($AE9-J$22)/K$22),$I$22)),$H$22)","v":0.248},null,0.14000000000000001,4.1931263071359798E-101,0,0,0,0,0,0,0,0,0,0,0,{"$f":"IF($O$20<>0,SUM(AJ9:AU9)*$O$20+$N$20,-1)","v":11},null,4.1931263071359798E-101,0,0,0,0,0,0,0,0,0,0,0,{"$f":"IF($O$22<>0,SUM(AX9:BI9)*$O$22+$N$22,-1)","v":15},null,4.1931263071359798E-101,0,0,0,0,0,0,0,0,0,0,0,{"$f":"IF($O$24<>0,SUM(BL9:BW9)*$O$24+$N$24,-1)","v":10},null,4.1931263071359798E-101,0,0,0,0,0,0,0,0,0,0,0,{"$f":"IF($O$21<>0,SUM(BZ9:CK9)*$O$21+$N$21,-1)","v":-1},null,4.1931263071359798E-101,0,0,0,0,0,0,0,0,0,0,0,{"$f":"IF($O$23<>0,SUM(CN9:CY9)*$O$23+$N$23,-1)","v":-1}]
[{"$f":"IF(C10<>\"\",IF(ISNA(VLOOKUP(C10,Compounds!$B$11:'Compounds'!$G$403,1,FALSE)),\"Name error\",5),\"\")","v":5},1,"Anthracene",null,19.477716559770098,0.17935109730444701,null,null,null,{"$f":"IF('Macro input'!B20>0,\"Please update green\",\"ok\")","v":"ok"},null,null,null,null,null,{"$f":"IF(Columns!K14<>\"\",Columns!K14,\"\")","v":"Fusion/MeOH"},null,{"$f":"IF(Columns!S14<>\"\",Columns!S14,\"\")","v":7.3369734105378503E-3},{"$f":"IF(Columns!T14<>\"\",Columns!T14,\"\")","v":0.1211360673832353},{"$f":"IF(Columns!M14<>\"\",Columns!M14,\"\")","v":"Synergi Fusion-RP/MeOH"},null,null,null,null,null,null,null,null,null,null,2.8,{"$f":"IF($L$20>0,IF($AE10<$J$20,$H$20,IF($AE10<$J$20+$K$20,$H$20+((I$20-H$20)*($AE10-J$20)/K$20),$I$20)),$H$20)","v":0.25600000000000001},{"$f":"IF($L$22>0,IF($AE10<$J$22,$H$22,IF($AE10<$J$22+$K$22,$H$22+((I$22-H$22)*($AE10-J$22)/K$22),$I$22)),$H$22)","v":0.25600000000000001},null,0.16,1.7255073550318049E-96,0,0,0,0,0,0,0,0,0,0,0,{"$f":"IF($O$20<>0,SUM(AJ10:AU10)*$O$20+$N$20,-1)","v":11},null,1.7255073550318049E-96,0,0,0,0,0,0,0,0,0,0,0,{"$f":"IF($O$22<>0,SUM(AX10:BI10)*$O$22+$N$22,-1)","v":15},null,1.7255073550318049E-96,0,0,0,0,0,0,0,0,0,0,0,{"$f":"IF($O$24<>0,SUM(BL10:BW10)*$O$24+$N$24,-1)","v":10},null,1.7255073550318049E-96,0,0,0,0,0,0,0,0,0,0,0,{"$f":"IF($O$21<>0,SUM(BZ10:CK10)*$O$21+$N$21,-1)","v":-1},null,1.7255073550318049E-96,0,0,0,0,0,0,0,0,0,0,0,{"$f":"IF($O$23<>0,SUM(CN10:CY10)*$O$23+$N$23,-1)","v":-1}]
[{"$f":"IF(C11<>\"\",IF(ISNA(VLOOKUP(C11,Compounds!$B$11:'Compounds'!$G$403,1,FALSE)),\"Name error\",6),\"\")","v":6},1,"Pyrene",null,20.512408419205713,0.16828615157098814,null,null,{"$f":"IF('Macro input'!A2*B22>2^16,\"N(Fortran) too high\",\"\")","v":""},null,null,null,null,null,null,{"$f":"IF(Columns!K15<>\"\",Columns!K15,\"\")","v":"Hydro/ACN"},null,{"$f":"IF(Columns!S15<>\"\",Columns!S15,\"\")","v":7.7668324714819104E-4},{"$f":"IF(Columns!T15<>\"\",Columns!T15,\"\")","v":3.9412770700583896E-2},{"$f":"IF(Columns!M15<>\"\",Columns!M15,\"\")","v":"Synergi Hydro-RP/ACN"},null,null,null,null,null,null,null,null,null,null,3.1999999999999997,{"$f":"IF($L$20>0,IF($AE11<$J$20,$H$20,IF($AE11<$J$20+$K$20,$H$20+((I$20-H$20)*($AE11-J$20)/K$20),$I$20)),$H$20)","v":0.26400000000000001},{"$f":"IF($L$22>0,IF($AE11<$J$22,$H$22,IF($AE11<$J$22+$K$22,$H$22+((I$22-H$22)*($AE11-J$22)/K$22),$I$22)),$H$22)","v":0.26400000000000001},null,0.18,5.5299609505264267E-92,0,0,0,0,0,0,0,0,0,0,0,{"$f":"IF($O$20<>0,SUM(AJ11:AU11)*$O$20+$N$20,-1)","v":11},null,5.5299609505264267E-92,0,0,0,0,0,0,0,0,0,0,0,{"$f":"IF($O$22<>0,SUM(AX11:BI11)*$O$22+$N$22,-1)","v":15},null,5.5299609505264267E-92,0,0,0,0,0,0,0,0,0,0,0,{"$f":"IF($O$24<>0,SUM(BL11:BW11)*$O$24+$N$24,-1)","v":10},null,5.5299609505264267E-92,0,0,0,0,0,0,0,0,0,0,0,{"$f":"IF($O$21<>0,SUM(BZ11:CK11)*$O$21+$N$21,-1)","v":-1},null,5.5299609505264267E-92,0,0,0,0,0,0,0,0,0,0,0,{"$f":"IF($O$23<>0,SUM(CN11:CY11)*$O$23+$N$23,-1)","v":-1}]
[{"$f":"IF(C12<>\"\",IF(ISNA(VLOOKUP(C12,Compounds!$B$11:'Compounds'!$G$403,1,FALSE)),\"Name error\",7),\"\")","v":7},1,"Decane",null,25.179569581441449,0.16366785714907126,null,null,null,{"$f":"IF('Macro input'!M20<>0,\"Please update blue\",\"ok\")","v":"ok"},null,null,null,null,null,{"$f":"IF(Columns!K16<>\"\",Columns!K16,\"\")","v":"Hydro/MeOH"},null,{"$f":"IF(Columns!S16<>\"\",Columns!S16,\"\")","v":9.1208356176916139E-3},{"$f":"IF(Columns!T16<>\"\",Columns!T16,\"\")","v":0.13506173120237658},{"$f":"IF(Columns!M16<>\"\",Columns!M16,\"\")","v":"Synergi Hydro-RP/MeOH"},null,null,null,null,null,null,null,null,null,null,3.5999999999999996,{"$f":"IF($L$20>0,IF($AE12<$J$20,$H$20,IF($AE12<$J$20+$K$20,$H$20+((I$20-H$20)*($AE12-J$20)/K$20),$I$20)),$H$20)","v":0.27200000000000002},{"$f":"IF($L$22>0,IF($AE12<$J$22,$H$22,IF($AE12<$J$22+$K$22,$H$22+((I$22-H$22)*($AE12-J$22)/K$22),$I$22)),$H$22)","v":0.27200000000000002},null,0.19999999999999998,1.3802370905399409E-87,0,0,0,0,0,0,0,0,0,0,0,{"$f":"IF($O$20<>0,SUM(AJ12:AU12)*$O$20+$N$20,-1)","v":11},null,1.3802370905399409E-87,0,0,0,0,0,0,0,0,0,0,0,{"$f":"IF($O$22<>0,SUM(AX12:BI12)*$O$22+$N$22,-1)","v":15},null,1.3802370905399409E-87,0,0,0,0,0,0,0,0,0,0,0,{"$f":"IF($O$24<>0,SUM(BL12:BW12)*$O$24+$N$24,-1)","v":10},null,1.3802370905399409E-87,0,0,0,0,0,0,0,0,0,0,0,{"$f":"IF($O$21<>0,SUM(BZ12:CK12)*$O$21+$N$21,-1)","v":-1},null,1.3802370905399409E-87,0,0,0,0,0,0,0,0,0,0,0,{"$f":"IF($O$23<>0,SUM(CN12:CY12)*$O$23+$N$23,-1)","v":-1}]
[{"$f":"IF(C13<>\"\",IF(ISNA(VLOOKUP(C13,Compounds!$B$11:'Compounds'!$G$403,1,FALSE)),\"Name error\",8),\"\")","v":8},1,"Tetradecane",null,28.046562531809982,0.13014137623580449,null,null,null,null,null,null,null,null,null,{"$f":"IF(Columns!K17<>\"\",Columns!K17,\"\")","v":""},null,{"$f":"IF(Columns!S17<>\"\",Columns!S17,\"\")","v":""},{"$f":"IF(Columns!T17<>\"\",Columns!T17,\"\")","v":""},{"$f":"IF(Columns!M17<>\"\",Columns!M17,\"\")","v":""},null,null,null,null,null,null,null,null,null,null,3.9999999999999996,{"$f":"IF($L$20>0,IF($AE13<$J$20,$H$20,IF($AE13<$J$20+$K$20,$H$20+((I$20-H$20)*($AE13-J$20)/K$20),$I$20)),$H$20)","v":0.28000000000000003},{"$f":"IF($L$22>0,IF($AE13<$J$22,$H$22,IF($AE13<$J$22+$K$22,$H$22+((I$22-H$22)*($AE13-J$22)/K$22),$I$22)),$H$22)","v":0.28000000000000003},null,0.21999999999999997,2.6829445851706636E-83,0,0,0,0,0,0,0,0,0,0,0,{"$f":"IF($O$20<>0,SUM(AJ13:AU13)*$O$20+$N$20,-1)","v":11},null,2.6829445851706636E-83,0,0,0,0,0,0,0,0,0,0,0,{"$f":"IF($O$22<>0,SUM(AX13:BI13)*$O$22+$N$22,-1)","v":15},null,2.6829445851706636E-83,0,0,0,0,0,0,0,0,0,0,0,{"$f":"IF($O$24<>0,SUM(BL13:BW13)*$O$24+$N$24,-1)","v":10},null,2.6829445851706636E-83,0,0,0,0,0,0,0,0,0,0,0,{"$f":"IF($O$21<>0,SUM(BZ13:CK13)*$O$21+$N$21,-1)","v":-1},null,2.6829445851706636E-83,0,0,0,0,0,0,0,0,0,0,0,{"$f":"IF($O$23<>0,SUM(CN13:CY13)*$O$23+$N$23,-1)","v":-1}]
[{"$f":"IF(C14<>\"\",IF(ISNA(VLOOKUP(C14,Compounds!$B$11:'Compounds'!$G$403,1,FALSE)),\"Name error\",9),\"\")","v":"Name error"},0,"Pyren",null,"","",null,null,null,{"$f":"SPmodel!B21","v":"Chromlith/ACN"},{"$f":"SPmodel!P21","v":"Chromlith/MeHO"},null,"Column difference",null,null,{"$f":"IF(Columns!K18<>\"\",Columns!K18,\"\")","v":""},null,{"$f":"IF(Columns!S18<>\"\",Columns!S18,\"\")","v":""},{"$f":"IF(Columns!T18<>\"\",Columns!T18,\"\")","v":""},{"$f":"IF(Columns!M18<>\"\",Columns!M18,\"\")","v":""},null,null,null,null,null,null,null,null,null,null,4.3999999999999995,{"$f":"IF($L$20>0,IF($AE14<$J$20,$H$20,IF($AE14<$J$20+$K$20,$H$20+((I$20-H$20)*($AE14-J$20)/K$20),$I$20)),$H$20)","v":0.28800000000000003},{"$f":"IF($L$22>0,IF($AE14<$J$22,$H$22,IF($AE14<$J$22+$K$22,$H$22+((I$22-H$22)*($AE14-J$22)/K$22),$I$22)),$H$22)","v":0.28800000000000003},null,0.23999999999999996,4.0615900919340197E-79,0,0,0,0,0,0,0,0,0,0,0,{"$f":"IF($O$20<>0,SUM(AJ14:AU14)*$O$20+$N$20,-1)","v":11},null,4.0615900919340197E-79,0,0,0,0,0,0,0,0,0,0,0,{"$f":"IF($O$22<>0,SUM(AX14:BI14)*$O$22+$N$22,-1)","v":15},null,4.0615900919340197E-79,0,0,0,0,0,0,0,0,0,0,0,{"$f":"IF($O$24<>0,SUM(BL14:BW14)*$O$24+$N$24,-1)","v":10},null,4.0615900919340197E-79,0,0,0,0,0,0,0,0,0,0,0,{"$f":"IF($O$21<>0,SUM(BZ14:CK14)*$O$21+$N$21,-1)","v":-1},null,4.0615900919340197E-79,0,0,0,0,0,0,0,0,0,0,0,{"$f":"IF($O$23<>0,SUM(CN14:CY14)*$O$23+$N$23,-1)","v":-1}]
[{"$f":"IF(C15<>\"\",IF(ISNA(VLOOKUP(C15,Compounds!$B$11:'Compounds'!$G$403,1,FALSE)),\"Name error\",10),\"\")","v":""},0,null,null,"","",null,"Calibration min f",null,{"$f":"MIN(SPmodel!B22:B31)","v":0.1},{"$f":"MIN(SPmodel!P22:P31)","v":0.2},null,"1 - Cos q","d",null,{"$f":"IF(Columns!K19<>\"\",Columns!K19,\"\")","v":""},null,{"$f":"IF(Columns!S19<>\"\",Columns!S19,\"\")","v":""},{"$f":"IF(Columns!T19<>\"\",Columns!T19,\"\")","v":""},{"$f":"IF(Columns!M19<>\"\",Columns!M19,\"\")","v":""},null,null,null,null,null,null,null,null,null,null,4.8,{"$f":"IF($L$20>0,IF($AE15<$J$20,$H$20,IF($AE15<$J$20+$K$20,$H$20+((I$20-H$20)*($AE15-J$20)/K$20),$I$20)),$H$20)","v":0.29600000000000004},{"$f":"IF($L$22>0,IF($AE15<$J$22,$H$22,IF($AE15<$J$22+$K$22,$H$22+((I$22-H$22)*($AE15-J$22)/K$22),$I$22)),$H$22)","v":0.29600000000000004},null,0.25999999999999995,4.7885812291798396E-75,0,0,0,0,0,0,0,0,0,0,0,{"$f":"IF($O$20<>0,SUM(AJ15:AU15)*$O$20+$N$20,-1)","v":11},null,4.7885812291798396E-75,0,0,0,0,0,0,0,0,0,0,0,{"$f":"IF($O$22<>0,SUM(AX15:BI15)*$O$22+$N$22,-1)","v":15},null,4.7885812291798396E-75,0,0,0,0,0,0,0,0,0,0,0,{"$f":"IF($O$24<>0,SUM(BL15:BW15)*$O$24+$N$24,-1)","v":10},null,4.7885812291798396E-75,0,0,0,0,0,0,0,0,0,0,0,{"$f":"IF($O$21<>0,SUM(BZ15:CK15)*$O$21+$N$21,-1)","v":-1},null,4.7885812291798396E-75,0,0,0,0,0,0,0,0,0,0,0,{"$f":"IF($O$23<>0,SUM(CN15:CY15)*$O$23+$N$23,-1)","v":-1}]
[{"$f":"IF(C16<>\"\",IF(ISNA(VLOOKUP(C16,Compounds!$B$11:'Compounds'!$G$403,1,FALSE)),\"Name error\",11),\"\")","v":""},0,null,null,"","",null,"Calibration max f",null,{"$f":"MAX(SPmodel!B22:B31)","v":0.6},{"$f":"MAX(SPmodel!P22:P31)","v":0.6},null,{"$f":"VLOOKUP(E22,P6:S26,3,FALSE)","v":2.1242312839278243E-2},{"$f":"VLOOKUP(E22,P6:S26,4,FALSE)","v":0.20611798970142298},null,{"$f":"IF(Columns!K20<>\"\",Columns!K20,\"\")","v":""},null,{"$f":"IF(Columns!S20<>\"\",Columns!S20,\"\")","v":""},{"$f":"IF(Columns!T20<>\"\",Columns!T20,\"\")","v":""},{"$f":"IF(Columns!M20<>\"\",Columns!M20,\"\")","v":""},null,null,null,null,null,null,null,null,null,null,5.2,{"$f":"IF($L$20>0,IF($AE16<$J$20,$H$20,IF($AE16<$J$20+$K$20,$H$20+((I$20-H$20)*($AE16-J$20)/K$20),$I$20)),$H$20)","v":0.30400000000000005},{"$f":"IF($L$22>0,IF($AE16<$J$22,$H$22,IF($AE16<$J$22+$K$22,$H$22+((I$22-H$22)*($AE16-J$22)/K$22),$I$22)),$H$22)","v":0.30400000000000005},null,0.27999999999999997,4.3968738564877597E-71,0,0,0,0,0,0,0,0,0,0,0,{"$f":"IF($O$20<>0,SUM(AJ16:AU16)*$O$20+$N$20,-1)","v":11},null,4.3968738564877597E-71,0,0,0,0,0,0,0,0,0,0,0,{"$f":"IF($O$22<>0,SUM(AX16:BI16)*$O$22+$N$22,-1)","v":15},null,4.3968738564877597E-71,0,0,0,0,0,0,0,0,0,0,0,{"$f":"IF($O$24<>0,SUM(BL16:BW16)*$O$24+$N$24,-1)","v":10},null,4.3968738564877597E-71,0,0,0,0,0,0,0,0,0,0,0,{"$f":"IF($O$21<>0,SUM(BZ16:CK16)*$O$21+$N$21,-1)","v":-1},null,4.3968738564877597E-71,0,0,0,0,0,0,0,0,0,0,0,{"$f":"IF($O$23<>0,SUM(CN16:CY16)*$O$23+$N$23,-1)","v":-1}]
[null,null,null,null,null,null,null,null,null,null,null,null,null,null,null,{"$f":"IF(Columns!K21<>\"\",Columns!K21,\"\")","v":""},null,{"$f":"IF(Columns!S21<>\"\",Columns!S21,\"\")","v":""},{"$f":"IF(Columns!T21<>\"\",Columns!T21,\"\")","v":""},{"$f":"IF(Columns!M21<>\"\",Columns!M21,\"\")","v":""},null,null,null,null,null,null,null,null,null,null,5.6000000000000005,{"$f":"IF($L$20>0,IF($AE17<$J$20,$H$20,IF($AE17<$J$20+$K$20,$H$20+((I$20-H$20)*($AE17-J$20)/K$20),$I$20)),$H$20)","v":0.31200000000000006},{"$f":"IF($L$22>0,IF($AE17<$J$22,$H$22,IF($AE17<$J$22+$K$22,$H$22+((I$22-H$22)*($AE17-J$22)/K$22),$I$22)),$H$22)","v":0.31200000000000006},null,0.3,3.1441809571954838E-67,0,0,0,0,0,0,0,0,0,0,0,{"$f":"IF($O$20<>0,SUM(AJ17:AU17)*$O$20+$N$20,-1)","v":11},null,3.1441809571954838E-67,0,0,0,0,0,0,0,0,0,0,0,{"$f":"IF($O$22<>0,SUM(AX17:BI17)*$O$22+$N$22,-1)","v":15},null,3.1441809571954838E-67,0,0,0,0,0,0,0,0,0,0,0,{"$f":"IF($O$24<>0,SUM(BL17:BW17)*$O$24+$N$24,-1)","v":10},null,3.1441809571954838E-67,0,0,0,0,0,0,0,0,0,0,0,{"$f":"IF($O$21<>0,SUM(BZ17:CK17)*$O$21+$N$21,-1)","v":-1},null,3.1441809571954838E-67,0,0,0,0,0,0,0,0,0,0,0,{"$f":"IF($O$23<>0,SUM(CN17:CY17)*$O$23+$N$23,-1)","v":-1}]
["Table 2",null,"Table 3",null,null,null,null,null,null,null,null,null,null,null,null,{"$f":"IF(Columns!K22<>\"\",Columns!K22,\"\")","v":""},null,{"$f":"IF(Columns!S22<>\"\",Columns!S22,\"\")","v":""},{"$f":"IF(Columns!T22<>\"\",Columns!T22,\"\")","v":""},{"$f":"IF(Columns!M22<>\"\",Columns!M22,\"\")","v":""},null,null,null,null,null,null,null,null,null,null,6.0000000000000009,{"$f":"IF($L$20>0,IF($AE18<$J$20,$H$20,IF($AE18<$J$20+$K$20,$H$20+((I$20-H$20)*($AE18-J$20)/K$20),$I$20)),$H$20)","v":0.32000000000000006},{"$f":"IF($L$22>0,IF($AE18<$J$22,$H$22,IF($AE18<$J$22+$K$22,$H$22+((I$22-H$22)*($AE18-J$22)/K$22),$I$22)),$H$22)","v":0.32000000000000006},null,0.32,1.7510455335797447E-63,0,0,0,0,0,0,0,0,0,0,0,{"$f":"IF($O$20<>0,SUM(AJ18:AU18)*$O$20+$N$20,-1)","v":11},null,1.7510455335797447E-63,0,0,0,0,0,0,0,0,0,0,0,{"$f":"IF($O$22<>0,SUM(AX18:BI18)*$O$22+$N$22,-1)","v":15},null,1.7510455335797447E-63,0,0,0,0,0,0,0,0,0,0,0,{"$f":"IF($O$24<>0,SUM(BL18:BW18)*$O$24+$N$24,-1)","v":10},null,1.7510455335797447E-63,0,0,0,0,0,0,0,0,0,0,0,{"$f":"IF($O$21<>0,SUM(BZ18:CK18)*$O$21+$N$21,-1)","v":-1},null,1.7510455335797447E-63,0,0,0,0,0,0,0,0,0,0,0,{"$f":"IF($O$23<>0,SUM(CN18:CY18)*$O$23+$N$23,-1)","v":-1}]
["GC-parameters",null,null,null,"Name*",null,"Beta-ratio","f start","f end","tD","tG","d f ","Degree","Offset","Amplify",{"$f":"IF(Columns!K23<>\"\",Columns!K23,\"\")","v":""},null,{"$f":"IF(Columns!S23<>\"\",Columns!S23,\"\")","v":""},{"$f":"IF(Columns!T23<>\"\",Columns!T23,\"\")","v":""},{"$f":"IF(Columns!M23<>\"\",Columns!M23,\"\")","v":""},null,null,null,null,null,null,null,null,null,null,6.4000000000000012,{"$f":"IF($L$20>0,IF($AE19<$J$20,$H$20,IF($AE19<$J$20+$K$20,$H$20+((I$20-H$20)*($AE19-J$20)/K$20),$I$20)),$H$20)","v":0.32800000000000007},{"$f":"IF($L$22>0,IF($AE19<$J$22,$H$22,IF($AE19<$J$22+$K$22,$H$22+((I$22-H$22)*($AE19-J$22)/K$22),$I$22)),$H$22)","v":0.32800000000000007},null,0.34,7.594754246975241E-60,0,0,0,0,0,0,0,0,0,0,0,{"$f":"IF($O$20<>0,SUM(AJ19:AU19)*$O$20+$N$20,-1)","v":11},null,7.594754246975241E-60,0,0,0,0,0,0,0,0,0,0,0,{"$f":"IF($O$22<>0,SUM(AX19:BI19)*$O$22+$N$22,-1)","v":15},null,7.594754246975241E-60,0,0,0,0,0,0,0,0,0,0,0,{"$f":"IF($O$24<>0,SUM(BL19:BW19)*$O$24+$N$24,-1)","v":10},null,7.594754246975241E-60,0,0,0,0,0,0,0,0,0,0,0,{"$f":"IF($O$21<>0,SUM(BZ19:CK19)*$O$21+$N$21,-1)","v":-1},null,7.594754246975241E-60,0,0,0,0,0,0,0,0,0,0,0,{"$f":"IF($O$23<>0,SUM(CN19:CY19)*$O$23+$N$23,-1)","v":-1}]
["tM, min",1,"Green Linear",null,"Chromlith/ACN",null,1,0.2,1,0,40,{"$f":"IF(I20>H20,I20-H20,0)","v":0.8},1,11,1,{"$f":"IF(Columns!K24<>\"\",Columns!K24,\"\")","v":""},null,{"$f":"IF(Columns!S24<>\"\",Columns!S24,\"\")","v":""},{"$f":"IF(Columns!T24<>\"\",Columns!T24,\"\")","v":""},{"$f":"IF(Columns!M24<>\"\",Columns!M24,\"\")","v":""},null,null,null,null,null,null,null,null,null,null,6.8000000000000016,{"$f":"IF($L$20>0,IF($AE20<$J$20,$H$20,IF($AE20<$J$20+$K$20,$H$20+((I$20-H$20)*($AE20-J$20)/K$20),$I$20)),$H$20)","v":0.33600000000000008},{"$f":"IF($L$22>0,IF($AE20<$J$22,$H$22,IF($AE20<$J$22+$K$22,$H$22+((I$22-H$22)*($AE20-J$22)/K$22),$I$22)),$H$22)","v":0.33600000000000008},null,0.36000000000000004,2.5654076819799048E-56,0,0,0,0,0,0,0,0,0,0,0,{"$f":"IF($O$20<>0,SUM(AJ20:AU20)*$O$20+$N$20,-1)","v":11},null,2.5654076819799048E-56,0,0,0,0,0,0,0,0,0,0,0,{"$f":"IF($O$22<>0,SUM(AX20:BI20)*$O$22+$N$22,-1)","v":15},null,2.5654076819799048E-56,0,0,0,0,0,0,0,0,0,0,0,{"$f":"IF($O$24<>0,SUM(BL20:BW20)*$O$24+$N$24,-1)","v":10},null,2.5654076819799048E-56,0,0,0,0,0,0,0,0,0,0,0,{"$f":"IF($O$21<>0,SUM(BZ20:CK20)*$O$21+$N$21,-1)","v":-1},null,2.5654076819799048E-56,0,0,0,0,0,0,0,0,0,0,0,{"$f":"IF($O$23<>0,SUM(CN20:CY20)*$O$23+$N$23,-1)","v":-1}]
["N",10000,"Green Polynomial",null,null,null,null,null,null,null,null,null,2,12,0,{"$f":"IF(Columns!K25<>\"\",Columns!K25,\"\")","v":""},null,{"$f":"IF(Columns!S25<>\"\",Columns!S25,\"\")","v":""},{"$f":"IF(Columns!T25<>\"\",Columns!T25,\"\")","v":""},{"$f":"IF(Columns!M25<>\"\",Columns!M25,\"\")","v":""},null,null,null,null,null,null,null,null,null,null,7.200000000000002,{"$f":"IF($L$20>0,IF($AE21<$J$20,$H$20,IF($AE21<$J$20+$K$20,$H$20+((I$20-H$20)*($AE21-J$20)/K$20),$I$20)),$H$20)","v":0.34400000000000008},{"$f":"IF($L$22>0,IF($AE21<$J$22,$H$22,IF($AE21<$J$22+$K$22,$H$22+((I$22-H$22)*($AE21-J$22)/K$22),$I$22)),$H$22)","v":0.34400000000000008},null,0.38000000000000006,6.7487825614718533E-53,0,0,0,0,0,0,0,0,0,0,0,{"$f":"IF($O$20<>0,SUM(AJ21:AU21)*$O$20+$N$20,-1)","v":11},null,6.7487825614718533E-53,0,0,0,0,0,0,0,0,0,0,0,{"$f":"IF($O$22<>0,SUM(AX21:BI21)*$O$22+$N$22,-1)","v":15},null,6.7487825614718533E-53,0,0,0,0,0,0,0,0,0,0,0,{"$f":"IF($O$24<>0,SUM(BL21:BW21)*$O$24+$N$24,-1)","v":10},null,6.7487825614718533E-53,0,0,0,0,0,0,0,0,0,0,0,{"$f":"IF($O$21<>0,SUM(BZ21:CK21)*$O$21+$N$21,-1)","v":-1},null,6.7487825614718533E-53,0,0,0,0,0,0,0,0,0,0,0,{"$f":"IF($O$23<>0,SUM(CN21:CY21)*$O$23+$N$23,-1)","v":-1}]
["tmax, min",40,"Blue Linear",null,"Chromlith/MeHO",null,1,0.2,1,0,40,{"$f":"IF(I22>H22,I22-H22,0)","v":0.8},1,15,1,{"$f":"IF(Columns!K26<>\"\",Columns!K26,\"\")","v":""},null,{"$f":"IF(Columns!S26<>\"\",Columns!S26,\"\")","v":""},{"$f":"IF(Columns!T26<>\"\",Columns!T26,\"\")","v":""},{"$f":"IF(Columns!M26<>\"\",Columns!M26,\"\")","v":""},null,null,null,null,null,null,null,null,null,null,7.6000000000000023,{"$f":"IF($L$20>0,IF($AE22<$J$20,$H$20,IF($AE22<$J$20+$K$20,$H$20+((I$20-H$20)*($AE22-J$20)/K$20),$I$20)),$H$20)","v":0.35200000000000009},{"$f":"IF($L$22>0,IF($AE22<$J$22,$H$22,IF($AE22<$J$22+$K$22,$H$22+((I$22-H$22)*($AE22-J$22)/K$22),$I$22)),$H$22)","v":0.35200000000000009},null,0.40000000000000008,1.3826773874611826E-49,0,0,0,0,0,0,0,0,0,0,0,{"$f":"IF($O$20<>0,SUM(AJ22:AU22)*$O$20+$N$20,-1)","v":11},null,1.3826773874611826E-49,0,0,0,0,0,0,0,0,0,0,0,{"$f":"IF($O$22<>0,SUM(AX22:BI22)*$O$22+$N$22,-1)","v":15},null,1.3826773874611826E-49,0,0,0,0,0,0,0,0,0,0,0,{"$f":"IF($O$24<>0,SUM(BL22:BW22)*$O$24+$N$24,-1)","v":10},null,1.3826773874611826E-49,0,0,0,0,0,0,0,0,0,0,0,{"$f":"IF($O$21<>0,SUM(BZ22:CK22)*$O$21+$N$21,-1)","v":-1},null,1.3826773874611826E-49,0,0,0,0,0,0,0,0,0,0,0,{"$f":"IF($O$23<>0,SUM(CN22:CY22)*$O$23+$N$23,-1)","v":-1}]
["tM intensity",0.1,"Blue Polynomial",null,null,null,null,null,null,null,null,null,2,20,0,{"$f":"IF(Columns!K27<>\"\",Columns!K27,\"\")","v":""},null,{"$f":"IF(Columns!S27<>\"\",Columns!S27,\"\")","v":""},{"$f":"IF(Columns!T27<>\"\",Columns!T27,\"\")","v":""},{"$f":"IF(Columns!M27<>\"\",Columns!M27,\"\")","v":""},null,null,null,null,null,null,null,null,null,null,8.0000000000000018,{"$f":"IF($L$20>0,IF($AE23<$J$20,$H$20,IF($AE23<$J$20+$K$20,$H$20+((I$20-H$20)*($AE23-J$20)/K$20),$I$20)),$H$20)","v":0.3600000000000001},{"$f":"IF($L$22>0,IF($AE23<$J$22,$H$22,IF($AE23<$J$22+$K$22,$H$22+((I$22-H$22)*($AE23-J$22)/K$22),$I$22)),$H$22)","v":0.3600000000000001},null,0.4200000000000001,2.2061887436488317E-46,0,0,0,0,0,0,0,0,0,0,0,{"$f":"IF($O$20<>0,SUM(AJ23:AU23)*$O$20+$N$20,-1)","v":11},null,2.2061887436488317E-46,0,0,0,0,0,0,0,0,0,0,0,{"$f":"IF($O$22<>0,SUM(AX23:BI23)*$O$22+$N$22,-1)","v":15},null,2.2061887436488317E-46,0,0,0,0,0,0,0,0,0,0,0,{"$f":"IF($O$24<>0,SUM(BL23:BW23)*$O$24+$N$24,-1)","v":10},null,2.2061887436488317E-46,0,0,0,0,0,0,0,0,0,0,0,{"$f":"IF($O$21<>0,SUM(BZ23:CK23)*$O$21+$N$21,-1)","v":-1},null,2.2061887436488317E-46,0,0,0,0,0,0,0,0,0,0,0,{"$f":"IF($O$23<>0,SUM(CN23:CY23)*$O$23+$N$23,-1)","v":-1}]
["4/sqrt(N)",{"$f":"4/SQRT(B21)","v":0.04},"Reference",null,null,null,null,null,null,null,null,null,null,10,-1,{"$f":"IF(Columns!K28<>\"\",Columns!K28,\"\")","v":""},null,{"$f":"IF(Columns!S28<>\"\",Columns!S28,\"\")","v":""},{"$f":"IF(Columns!T28<>\"\",Columns!T28,\"\")","v":""},{"$f":"IF(Columns!M28<>\"\",Columns!M28,\"\")","v":""},null,null,null,null,null,null,null,null,null,null,8.4000000000000021,{"$f":"IF($L$20>0,IF($AE24<$J$20,$H$20,IF($AE24<$J$20+$K$20,$H$20+((I$20-H$20)*($AE24-J$20)/K$20),$I$20)),$H$20)","v":0.3680000000000001},{"$f":"IF($L$22>0,IF($AE24<$J$22,$H$22,IF($AE24<$J$22+$K$22,$H$22+((I$22-H$22)*($AE24-J$22)/K$22),$I$22)),$H$22)","v":0.3680000000000001},null,0.44000000000000011,2.7415163984726238E-43,0,0,0,0,0,0,0,0,0,0,0,{"$f":"IF($O$20<>0,SUM(AJ24:AU24)*$O$20+$N$20,-1)","v":11},null,2.7415163984726238E-43,0,0,0,0,0,0,0,0,0,0,0,{"$f":"IF($O$22<>0,SUM(AX24:BI24)*$O$22+$N$22,-1)","v":15},null,2.7415163984726238E-43,0,0,0,0,0,0,0,0,0,0,0,{"$f":"IF($O$24<>0,SUM(BL24:BW24)*$O$24+$N$24,-1)","v":10},null,2.7415163984726238E-43,0,0,0,0,0,0,0,0,0,0,0,{"$f":"IF($O$21<>0,SUM(BZ24:CK24)*$O$21+$N$21,-1)","v":-1},null,2.7415163984726238E-43,0,0,0,0,0,0,0,0,0,0,0,{"$f":"IF($O$23<>0,SUM(CN24:CY24)*$O$23+$N$23,-1)","v":-1}]
["dt",{"$f":"B22/2000","v":0.02},null,null,null,null,null,null,null,null,null,null,null,null,null,{"$f":"IF(Columns!K29<>\"\",Columns!K29,\"\")","v":""},null,{"$f":"IF(Columns!S29<>\"\",Columns!S29,\"\")","v":""},{"$f":"IF(Columns!T29<>\"\",Columns!T29,\"\")","v":""},{"$f":"IF(Columns!M29<>\"\",Columns!M29,\"\")","v":""},null,null,null,null,null,null,null,null,null,null,8.8000000000000025,{"$f":"IF($L$20>0,IF($AE25<$J$20,$H$20,IF($AE25<$J$20+$K$20,$H$20+((I$20-H$20)*($AE25-J$20)/K$20),$I$20)),$H$20)","v":0.37600000000000011},{"$f":"IF($L$22>0,IF($AE25<$J$22,$H$22,IF($AE25<$J$22+$K$22,$H$22+((I$22-H$22)*($AE25-J$22)/K$22),$I$22)),$H$22)","v":0.37600000000000011},null,0.46000000000000013,2.6531720347882287E-40,0,0,0,0,0,0,0,0,0,0,0,{"$f":"IF($O$20<>0,SUM(AJ25:AU25)*$O$20+$N$20,-1)","v":11},null,2.6531720347882287E-40,0,0,0,0,0,0,0,0,0,0,0,{"$f":"IF($O$22<>0,SUM(AX25:BI25)*$O$22+$N$22,-1)","v":15},null,2.6531720347882287E-40,0,0,0,0,0,0,0,0,0,0,0,{"$f":"IF($O$24<>0,SUM(BL25:BW25)*$O$24+$N$24,-1)","v":10},null,2.6531720347882287E-40,0,0,0,0,0,0,0,0,0,0,0,{"$f":"IF($O$21<>0,SUM(BZ25:CK25)*$O$21+$N$21,-1)","v":-1},null,2.6531720347882287E-40,0,0,0,0,0,0,0,0,0,0,0,{"$f":"IF($O$23<>0,SUM(CN25:CY25)*$O$23+$N$23,-1)","v":-1}]
[null,null,null,null,null,null,null,null,null,null,null,null,null,null,null,{"$f":"IF(Columns!K30<>\"\",Columns!K30,\"\")","v":""},null,{"$f":"IF(Columns!S30<>\"\",Columns!S30,\"\")","v":""},{"$f":"IF(Columns!T30<>\"\",Columns!T30,\"\")","v":""},{"$f":"IF(Columns!M30<>\"\",Columns!M30,\"\")","v":""},null,null,null,null,null,null,null,null,null,null,9.2000000000000028,{"$f":"IF($L$20>0,IF($AE26<$J$20,$H$20,IF($AE26<$J$20+$K$20,$H$20+((I$20-H$20)*($AE26-J$20)/K$20),$I$20)),$H$20)","v":0.38400000000000012},{"$f":"IF($L$22>0,IF($AE26<$J$22,$H$22,IF($AE26<$J$22+$K$22,$H$22+((I$22-H$22)*($AE26-J$22)/K$22),$I$22)),$H$22)","v":0.38400000000000012},null,0.48000000000000015,1.9997069392518451E-37,0,0,0,0,0,0,0,0,0,0,0,{"$f":"IF($O$20<>0,SUM(AJ26:AU26)*$O$20+$N$20,-1)","v":11},null,1.9997069392518451E-37,0,0,0,0,0,0,0,0,0,0,0,{"$f":"IF($O$22<>0,SUM(AX26:BI26)*$O$22+$N$22,-1)","v":15},null,1.9997069392518451E-37,0,0,0,0,0,0,0,0,0,0,0,{"$f":"IF($O$24<>0,SUM(BL26:BW26)*$O$24+$N$24,-1)","v":10},null,1.9997069392518451E-37,0,0,0,0,0,0,0,0,0,0,0,{"$f":"IF($O$21<>0,SUM(BZ26:CK26)*$O$21+$N$21,-1)","v":-1},null,1.9997069392518451E-37,0,0,0,0,0,0,0,0,0,0,0,{"$f":"IF($O$23<>0,SUM(CN26:CY26)*$O$23+$N$23,-1)","v":-1}]
[null,null,null,null,null,null,null,null,null,null,null,null,null,null,null,null,null,null,null,null,null,null,null,null,null,null,null,null,null,null,9.6000000000000032,{"$f":"IF($L$20>0,IF($AE27<$J$20,$H$20,IF($AE27<$J$20+$K$20,$H$20+((I$20-H$20)*($AE27-J$20)/K$20),$I$20)),$H$20)","v":0.39200000000000013},{"$f":"IF($L$22>0,IF($AE27<$J$22,$H$22,IF($AE27<$J$22+$K$22,$H$22+((I$22-H$22)*($AE27-J$22)/K$22),$I$22)),$H$22)","v":0.39200000000000013},null,0.50000000000000011,1.1737988394938368E-34,0,0,0,0,0,0,0,0,0,0,0,{"$f":"IF($O$20<>0,SUM(AJ27:AU27)*$O$20+$N$20,-1)","v":11},null,1.1737988394938368E-34,0,0,0,0,0,0,0,0,0,0,0,{"$f":"IF($O$22<>0,SUM(AX27:BI27)*$O$22+$N$22,-1)","v":15},null,1.1737988394938368E-34,0,0,0,0,0,0,0,0,0,0,0,{"$f":"IF($O$24<>0,SUM(BL27:BW27)*$O$24+$N$24,-1)","v":10},null,1.1737988394938368E-34,0,0,0,0,0,0,0,0,0,0,0,{"$f":"IF($O$21<>0,SUM(BZ27:CK27)*$O$21+$N$21,-1)","v":-1},null,1.1737988394938368E-34,0,0,0,0,0,0,0,0,0,0,0,{"$f":"IF($O$23<>0,SUM(CN27:CY27)*$O$23+$N$23,-1)","v":-1}]
[null,null,null,null,null,null,null,null,null,null,null,null,null,null,null,null,null,null,null,null,null,null,null,null,null,null,null,null,null,null,10.000000000000004,{"$f":"IF($L$20>0,IF($AE28<$J$20,$H$20,IF($AE28<$J$20+$K$20,$H$20+((I$20-H$20)*($AE28-J$20)/K$20),$I$20)),$H$20)","v":0.40000000000000013},{"$f":"IF($L$22>0,IF($AE28<$J$22,$H$22,IF($AE28<$J$22+$K$22,$H$22+((I$22-H$22)*($AE28-J$22)/K$22),$I$22)),$H$22)","v":0.40000000000000013},null,0.52000000000000013,5.3659593391578809E-32,0,0,0,0,0,0,0,0,0,0,0,{"$f":"IF($O$20<>0,SUM(AJ28:AU28)*$O$20+$N$20,-1)","v":11},null,5.3659593391578809E-32,0,0,0,0,0,0,0,0,0,0,0,{"$f":"IF($O$22<>0,SUM(AX28:BI28)*$O$22+$N$22,-1)","v":15},null,5.3659593391578809E-32,0,0,0,0,0,0,0,0,0,0,0,{"$f":"IF($O$24<>0,SUM(BL28:BW28)*$O$24+$N$24,-1)","v":10},null,5.3659593391578809E-32,0,0,0,0,0,0,0,0,0,0,0,{"$f":"IF($O$21<>0,SUM(BZ28:CK28)*$O$21+$N$21,-1)","v":-1},null,5.3659593391578809E-32,0,0,0,0,0,0,0,0,0,0,0,{"$f":"IF($O$23<>0,SUM(CN28:CY28)*$O$23+$N$23,-1)","v":-1}]
[null,null,null,null,null,null,null,null,null,null,null,null,null,null,null,null,null,null,null,null,null,null,null,null,null,null,null,null,null,null,10.400000000000004,{"$f":"IF($L$20>0,IF($AE29<$J$20,$H$20,IF($AE29<$J$20+$K$20,$H$20+((I$20-H$20)*($AE29-J$20)/K$20),$I$20)),$H$20)","v":0.40800000000000014},{"$f":"IF($L$22>0,IF($AE29<$J$22,$H$22,IF($AE29<$J$22+$K$22,$H$22+((I$22-H$22)*($AE29-J$22)/K$22),$I$22)),$H$22)","v":0.40800000000000014},null,0.54000000000000015,1.9104138528968824E-29,0,0,0,0,0,0,0,0,0,0,0,{"$f":"IF($O$20<>0,SUM(AJ29:AU29)*$O$20+$N$20,-1)","v":11},null,1.9104138528968824E-29,0,0,0,0,0,0,0,0,0,0,0,{"$f":"IF($O$22<>0,SUM(AX29:BI29)*$O$22+$N$22,-1)","v":15},null,1.9104138528968824E-29,0,0,0,0,0,0,0,0,0,0,0,{"$f":"IF($O$24<>0,SUM(BL29:BW29)*$O$24+$N$24,-1)","v":10},null,1.9104138528968824E-29,0,0,0,0,0,0,0,0,0,0,0,{"$f":"IF($O$21<>0,SUM(BZ29:CK29)*$O$21+$N$21,-1)","v":-1},null,1.9104138528968824E-29,0,0,0,0,0,0,0,0,0,0,0,{"$f":"IF($O$23<>0,SUM(CN29:CY29)*$O$23+$N$23,-1)","v":-1}]
[null,null,null,null,null,null,null,null,null,null,null,null,null,null,null,null,null,null,null,null,null,null,null,null,null,null,null,null,null,null,10.800000000000004,{"$f":"IF($L$20>0,IF($AE30<$J$20,$H$20,IF($AE30<$J$20+$K$20,$H$20+((I$20-H$20)*($AE30-J$20)/K$20),$I$20)),$H$20)","v":0.41600000000000015},{"$f":"IF($L$22>0,IF($AE30<$J$22,$H$22,IF($AE30<$J$22+$K$22,$H$22+((I$22-H$22)*($AE30-J$22)/K$22),$I$22)),$H$22)","v":0.41600000000000015},null,0.56000000000000016,5.2970481337736104E-27,0,0,0,0,0,0,0,0,0,0,0,{"$f":"IF($O$20<>0,SUM(AJ30:AU30)*$O$20+$N$20,-1)","v":11},null,5.2970481337736104E-27,0,0,0,0,0,0,0,0,0,0,0,{"$f":"IF($O$22<>0,SUM(AX30:BI30)*$O$22+$N$22,-1)","v":15},null,5.2970481337736104E-27,0,0,0,0,0,0,0,0,0,0,0,{"$f":"IF($O$24<>0,SUM(BL30:BW30)*$O$24+$N$24,-1)","v":10},null,5.2970481337736104E-27,0,0,0,0,0,0,0,0,0,0,0,{"$f":"IF($O$21<>0,SUM(BZ30:CK30)*$O$21+$N$21,-1)","v":-1},null,5.2970481337736104E-27,0,0,0,0,0,0,0,0,0,0,0,{"$f":"IF($O$23<>0,SUM(CN30:CY30)*$O$23+$N$23,-1)","v":-1}]
[null,null,null,null,null,null,null,null,null,null,null,null,null,null,null,null,null,null,null,null,null,null,null,null,null,null,null,null,null,null,11.200000000000005,{"$f":"IF($L$20>0,IF($AE31<$J$20,$H$20,IF($AE31<$J$20+$K$20,$H$20+((I$20-H$20)*($AE31-J$20)/K$20),$I$20)),$H$20)","v":0.42400000000000015},{"$f":"IF($L$22>0,IF($AE31<$J$22,$H$22,IF($AE31<$J$22+$K$22,$H$22+((I$22-H$22)*($AE31-J$22)/K$22),$I$22)),$H$22)","v":0.42400000000000015},null,0.58000000000000018,1.1438438976302664E-24,0,0,0,0,0,0,0,0,0,0,0,{"$f":"IF($O$20<>0,SUM(AJ31:AU31)*$O$20+$N$20,-1)","v":11},null,1.1438438976302664E-24,0,0,0,0,0,0,0,0,0,0,0,{"$f":"IF($O$22<>0,SUM(AX31:BI31)*$O$22+$N$22,-1)","v":15},null,1.1438438976302664E-24,0,0,0,0,0,0,0,0,0,0,0,{"$f":"IF($O$24<>0,SUM(BL31:BW31)*$O$24+$N$24,-1)","v":10},null,1.1438438976302664E-24,0,0,0,0,0,0,0,0,0,0,0,{"$f":"IF($O$21<>0,SUM(BZ31:CK31)*$O$21+$N$21,-1)","v":-1},null,1.1438438976302664E-24,0,0,0,0,0,0,0,0,0,0,0,{"$f":"IF($O$23<>0,SUM(CN31:CY31)*$O$23+$N$23,-1)","v":-1}]
[null,null,null,null,null,null,null,null,null,null,null,null,null,null,null,null,null,null,null,null,null,null,null,null,null,null,null,null,null,null,11.600000000000005,{"$f":"IF($L$20>0,IF($AE32<$J$20,$H$20,IF($AE32<$J$20+$K$20,$H$20+((I$20-H$20)*($AE32-J$20)/K$20),$I$20)),$H$20)","v":0.43200000000000016},{"$f":"IF($L$22>0,IF($AE32<$J$22,$H$22,IF($AE32<$J$22+$K$22,$H$22+((I$22-H$22)*($AE32-J$22)/K$22),$I$22)),$H$22)","v":0.43200000000000016},null,0.6000000000000002,1.9236496566767144E-22,0,0,0,0,0,0,0,0,0,0,0,{"$f":"IF($O$20<>0,SUM(AJ32:AU32)*$O$20+$N$20,-1)","v":11},null,1.9236496566767144E-22,0,0,0,0,0,0,0,0,0,0,0,{"$f":"IF($O$22<>0,SUM(AX32:BI32)*$O$22+$N$22,-1)","v":15},null,1.9236496566767144E-22,0,0,0,0,0,0,0,0,0,0,0,{"$f":"IF($O$24<>0,SUM(BL32:BW32)*$O$24+$N$24,-1)","v":10},null,1.9236496566767144E-22,0,0,0,0,0,0,0,0,0,0,0,{"$f":"IF($O$21<>0,SUM(BZ32:CK32)*$O$21+$N$21,-1)","v":-1},null,1.9236496566767144E-22,0,0,0,0,0,0,0,0,0,0,0,{"$f":"IF($O$23<>0,SUM(CN32:CY32)*$O$23+$N$23,-1)","v":-1}]
[null,null,null,null,null,null,null,null,null,null,null,null,null,null,null,null,null,null,null,null,null,null,null,null,null,null,null,null,null,null,12.000000000000005,{"$f":"IF($L$20>0,IF($AE33<$J$20,$H$20,IF($AE33<$J$20+$K$20,$H$20+((I$20-H$20)*($AE33-J$20)/K$20),$I$20)),$H$20)","v":0.44000000000000017},{"$f":"IF($L$22>0,IF($AE33<$J$22,$H$22,IF($AE33<$J$22+$K$22,$H$22+((I$22-H$22)*($AE33-J$22)/K$22),$I$22)),$H$22)","v":0.44000000000000017},null,0.62000000000000022,2.5194838485751281E-20,0,0,0,0,0,0,0,0,0,0,0,{"$f":"IF($O$20<>0,SUM(AJ33:AU33)*$O$20+$N$20,-1)","v":11},null,2.5194838485751281E-20,0,0,0,0,0,0,0,0,0,0,0,{"$f":"IF($O$22<>0,SUM(AX33:BI33)*$O$22+$N$22,-1)","v":15},null,2.5194838485751281E-20,0,0,0,0,0,0,0,0,0,0,0,{"$f":"IF($O$24<>0,SUM(BL33:BW33)*$O$24+$N$24,-1)","v":10},null,2.5194838485751281E-20,0,0,0,0,0,0,0,0,0,0,0,{"$f":"IF($O$21<>0,SUM(BZ33:CK33)*$O$21+$N$21,-1)","v":-1},null,2.5194838485751281E-20,0,0,0,0,0,0,0,0,0,0,0,{"$f":"IF($O$23<>0,SUM(CN33:CY33)*$O$23+$N$23,-1)","v":-1}]
[null,null,null,null,null,null,null,null,null,null,null,null,null,null,null,null,null,null,null,null,null,null,null,null,null,null,null,null,null,null,12.400000000000006,{"$f":"IF($L$20>0,IF($AE34<$J$20,$H$20,IF($AE34<$J$20+$K$20,$H$20+((I$20-H$20)*($AE34-J$20)/K$20),$I$20)),$H$20)","v":0.44800000000000018},{"$f":"IF($L$22>0,IF($AE34<$J$22,$H$22,IF($AE34<$J$22+$K$22,$H$22+((I$22-H$22)*($AE34-J$22)/K$22),$I$22)),$H$22)","v":0.44800000000000018},null,0.64000000000000024,2.5699433929173568E-18,0,0,0,0,0,0,0,0,0,0,0,{"$f":"IF($O$20<>0,SUM(AJ34:AU34)*$O$20+$N$20,-1)","v":11},null,2.5699433929173568E-18,0,0,0,0,0,0,0,0,0,0,0,{"$f":"IF($O$22<>0,SUM(AX34:BI34)*$O$22+$N$22,-1)","v":15},null,2.5699433929173568E-18,0,0,0,0,0,0,0,0,0,0,0,{"$f":"IF($O$24<>0,SUM(BL34:BW34)*$O$24+$N$24,-1)","v":10},null,2.5699433929173568E-18,0,0,0,0,0,0,0,0,0,0,0,{"$f":"IF($O$21<>0,SUM(BZ34:CK34)*$O$21+$N$21,-1)","v":-1},null,2.5699433929173568E-18,0,0,0,0,0,0,0,0,0,0,0,{"$f":"IF($O$23<>0,SUM(CN34:CY34)*$O$23+$N$23,-1)","v":-1}]
[null,null,null,null,null,null,null,null,null,null,null,null,null,null,null,null,null,null,null,null,null,null,null,null,null,null,null,null,null,null,12.800000000000006,{"$f":"IF($L$20>0,IF($AE35<$J$20,$H$20,IF($AE35<$J$20+$K$20,$H$20+((I$20-H$20)*($AE35-J$20)/K$20),$I$20)),$H$20)","v":0.45600000000000013},{"$f":"IF($L$22>0,IF($AE35<$J$22,$H$22,IF($AE35<$J$22+$K$22,$H$22+((I$22-H$22)*($AE35-J$22)/K$22),$I$22)),$H$22)","v":0.45600000000000013},null,0.66000000000000025,2.0415589079175038E-16,0,0,0,0,0,0,0,0,0,0,0,{"$f":"IF($O$20<>0,SUM(AJ35:AU35)*$O$20+$N$20,-1)","v":11},null,2.0415589079175038E-16,0,0,0,0,0,0,0,0,0,0,0,{"$f":"IF($O$22<>0,SUM(AX35:BI35)*$O$22+$N$22,-1)","v":15},null,2.0415589079175038E-16,0,0,0,0,0,0,0,0,0,0,0,{"$f":"IF($O$24<>0,SUM(BL35:BW35)*$O$24+$N$24,-1)","v":10},null,2.0415589079175038E-16,0,0,0,0,0,0,0,0,0,0,0,{"$f":"IF($O$21<>0,SUM(BZ35:CK35)*$O$21+$N$21,-1)","v":-1},null,2.0415589079175038E-16,0,0,0,0,0,0,0,0,0,0,0,{"$f":"IF($O$23<>0,SUM(CN35:CY35)*$O$23+$N$23,-1)","v":-1}]
[null,null,null,null,null,null,null,null,null,null,null,null,null,null,null,null,null,null,null,null,null,null,null,null,null,null,null,null,null,null,{"$f":"AE35+$B$22/100","v":13.200000000000006},{"$f":"IF($L$20>0,IF($AE36<$J$20,$H$20,IF($AE36<$J$20+$K$20,$H$20+((I$20-H$20)*($AE36-J$20)/K$20),$I$20)),$H$20)","v":0.46400000000000013},{"$f":"IF($L$22>0,IF($AE36<$J$22,$H$22,IF($AE36<$J$22+$K$22,$H$22+((I$22-H$22)*($AE36-J$22)/K$22),$I$22)),$H$22)","v":0.46400000000000013},null,0.68000000000000027,1.2630677708842948E-14,0,0,0,0,0,0,0,0,0,0,0,{"$f":"IF($O$20<>0,SUM(AJ36:AU36)*$O$20+$N$20,-1)","v":11.000000000000012},null,1.2630677708842948E-14,0,0,0,0,0,0,0,0,0,0,0,{"$f":"IF($O$22<>0,SUM(AX36:BI36)*$O$22+$N$22,-1)","v":15.000000000000012},null,1.2630677708842948E-14,0,0,0,0,0,0,0,0,0,0,0,{"$f":"IF($O$24<>0,SUM(BL36:BW36)*$O$24+$N$24,-1)","v":9.9999999999999876},null,1.2630677708842948E-14,0,0,0,0,0,0,0,0,0,0,0,{"$f":"IF($O$21<>0,SUM(BZ36:CK36)*$O$21+$N$21,-1)","v":-1},null,1.2630677708842948E-14,0,0,0,0,0,0,0,0,0,0,0,{"$f":"IF($O$23<>0,SUM(CN36:CY36)*$O$23+$N$23,-1)","v":-1}]
[null,null,null,null,null,null,null,null,null,null,null,null,null,null,null,null,null,null,null,null,null,null,null,null,null,null,null,null,null,null,13.600000000000007,{"$f":"IF($L$20>0,IF($AE37<$J$20,$H$20,IF($AE37<$J$20+$K$20,$H$20+((I$20-H$20)*($AE37-J$20)/K$20),$I$20)),$H$20)","v":0.47200000000000014},{"$f":"IF($L$22>0,IF($AE37<$J$22,$H$22,IF($AE37<$J$22+$K$22,$H$22+((I$22-H$22)*($AE37-J$22)/K$22),$I$22)),$H$22)","v":0.47200000000000014},null,0.70000000000000029,6.0858013325728491E-13,0,0,0,0,0,0,0,0,0,0,0,{"$f":"IF($O$20<>0,SUM(AJ37:AU37)*$O$20+$N$20,-1)","v":11.000000000000609},null,6.0858013325728491E-13,0,0,0,0,0,0,0,0,0,0,0,{"$f":"IF($O$22<>0,SUM(AX37:BI37)*$O$22+$N$22,-1)","v":15.000000000000609},null,6.0858013325728491E-13,0,0,0,0,0,0,0,0,0,0,0,{"$f":"IF($O$24<>0,SUM(BL37:BW37)*$O$24+$N$24,-1)","v":9.9999999999993907},null,6.0858013325728491E-13,0,0,0,0,0,0,0,0,0,0,0,{"$f":"IF($O$21<>0,SUM(BZ37:CK37)*$O$21+$N$21,-1)","v":-1},null,6.0858013325728491E-13,0,0,0,0,0,0,0,0,0,0,0,{"$f":"IF($O$23<>0,SUM(CN37:CY37)*$O$23+$N$23,-1)","v":-1}]
[null,null,null,null,null,null,null,null,null,null,null,null,null,null,null,null,null,null,null,null,null,null,null,null,null,null,null,null,null,null,14.000000000000007,{"$f":"IF($L$20>0,IF($AE38<$J$20,$H$20,IF($AE38<$J$20+$K$20,$H$20+((I$20-H$20)*($AE38-J$20)/K$20),$I$20)),$H$20)","v":0.48000000000000015},{"$f":"IF($L$22>0,IF($AE38<$J$22,$H$22,IF($AE38<$J$22+$K$22,$H$22+((I$22-H$22)*($AE38-J$22)/K$22),$I$22)),$H$22)","v":0.48000000000000015},null,0.72000000000000031,2.2836801020912784E-11,0,0,0,0,0,0,0,0,0,0,0,{"$f":"IF($O$20<>0,SUM(AJ38:AU38)*$O$20+$N$20,-1)","v":11.000000000022837},null,2.2836801020912784E-11,0,0,0,0,0,0,0,0,0,0,0,{"$f":"IF($O$22<>0,SUM(AX38:BI38)*$O$22+$N$22,-1)","v":15.000000000022837},null,2.2836801020912784E-11,0,0,0,0,0,0,0,0,0,0,0,{"$f":"IF($O$24<>0,SUM(BL38:BW38)*$O$24+$N$24,-1)","v":9.9999999999771632},null,2.2836801020912784E-11,0,0,0,0,0,0,0,0,0,0,0,{"$f":"IF($O$21<>0,SUM(BZ38:CK38)*$O$21+$N$21,-1)","v":-1},null,2.2836801020912784E-11,0,0,0,0,0,0,0,0,0,0,0,{"$f":"IF($O$23<>0,SUM(CN38:CY38)*$O$23+$N$23,-1)","v":-1}]
[null,null,null,null,null,null,null,null,null,null,null,null,null,null,null,null,null,null,null,null,null,null,null,null,null,null,null,null,null,null,14.400000000000007,{"$f":"IF($L$20>0,IF($AE39<$J$20,$H$20,IF($AE39<$J$20+$K$20,$H$20+((I$20-H$20)*($AE39-J$20)/K$20),$I$20)),$H$20)","v":0.48800000000000016},{"$f":"IF($L$22>0,IF($AE39<$J$22,$H$22,IF($AE39<$J$22+$K$22,$H$22+((I$22-H$22)*($AE39-J$22)/K$22),$I$22)),$H$22)","v":0.48800000000000016},null,0.74000000000000032,6.6738915369074863E-10,0,0,0,0,0,0,0,0,0,0,0,{"$f":"IF($O$20<>0,SUM(AJ39:AU39)*$O$20+$N$20,-1)","v":11.00000000066739},null,6.6738915369074863E-10,0,0,0,0,0,0,0,0,0,0,0,{"$f":"IF($O$22<>0,SUM(AX39:BI39)*$O$22+$N$22,-1)","v":15.00000000066739},null,6.6738915369074863E-10,0,0,0,0,0,0,0,0,0,0,0,{"$f":"IF($O$24<>0,SUM(BL39:BW39)*$O$24+$N$24,-1)","v":9.9999999993326103},null,6.6738915369074863E-10,0,0,0,0,0,0,0,0,0,0,0,{"$f":"IF($O$21<>0,SUM(BZ39:CK39)*$O$21+$N$21,-1)","v":-1},null,6.6738915369074863E-10,0,0,0,0,0,0,0,0,0,0,0,{"$f":"IF($O$23<>0,SUM(CN39:CY39)*$O$23+$N$23,-1)","v":-1}]
[null,null,null,null,null,null,null,null,null,null,null,null,null,null,null,null,null,null,null,null,null,null,null,null,null,null,null,null,null,null,14.800000000000008,{"$f":"IF($L$20>0,IF($AE40<$J$20,$H$20,IF($AE40<$J$20+$K$20,$H$20+((I$20-H$20)*($AE40-J$20)/K$20),$I$20)),$H$20)","v":0.49600000000000016},{"$f":"IF($L$22>0,IF($AE40<$J$22,$H$22,IF($AE40<$J$22+$K$22,$H$22+((I$22-H$22)*($AE40-J$22)/K$22),$I$22)),$H$22)","v":0.49600000000000016},null,0.76000000000000034,1.5189707124559025E-8,0,0,0,0,0,0,0,0,0,0,0,{"$f":"IF($O$20<>0,SUM(AJ40:AU40)*$O$20+$N$20,-1)","v":11.000000015189707},null,1.5189707124559025E-8,0,0,0,0,0,0,0,0,0,0,0,{"$f":"IF($O$22<>0,SUM(AX40:BI40)*$O$22+$N$22,-1)","v":15.000000015189707},null,1.5189707124559025E-8,0,0,0,0,0,0,0,0,0,0,0,{"$f":"IF($O$24<>0,SUM(BL40:BW40)*$O$24+$N$24,-1)","v":9.9999999848102927},null,1.5189707124559025E-8,0,0,0,0,0,0,0,0,0,0,0,{"$f":"IF($O$21<>0,SUM(BZ40:CK40)*$O$21+$N$21,-1)","v":-1},null,1.5189707124559025E-8,0,0,0,0,0,0,0,0,0,0,0,{"$f":"IF($O$23<>0,SUM(CN40:CY40)*$O$23+$N$23,-1)","v":-1}]
[null,null,null,null,null,null,null,null,null,null,null,null,null,null,null,null,null,null,null,null,null,null,null,null,null,null,null,null,null,null,15.200000000000008,{"$f":"IF($L$20>0,IF($AE41<$J$20,$H$20,IF($AE41<$J$20+$K$20,$H$20+((I$20-H$20)*($AE41-J$20)/K$20),$I$20)),$H$20)","v":0.50400000000000023},{"$f":"IF($L$22>0,IF($AE41<$J$22,$H$22,IF($AE41<$J$22+$K$22,$H$22+((I$22-H$22)*($AE41-J$22)/K$22),$I$22)),$H$22)","v":0.50400000000000023},null,0.78000000000000036,2.6924400106359534E-7,0,0,0,0,0,0,0,0,0,0,0,{"$f":"IF($O$20<>0,SUM(AJ41:AU41)*$O$20+$N$20,-1)","v":11.000000269244001},null,2.6924400106359534E-7,0,0,0,0,0,0,0,0,0,0,0,{"$f":"IF($O$22<>0,SUM(AX41:BI41)*$O$22+$N$22,-1)","v":15.000000269244001},null,2.6924400106359534E-7,0,0,0,0,0,0,0,0,0,0,0,{"$f":"IF($O$24<>0,SUM(BL41:BW41)*$O$24+$N$24,-1)","v":9.9999997307559987},null,2.6924400106359534E-7,0,0,0,0,0,0,0,0,0,0,0,{"$f":"IF($O$21<>0,SUM(BZ41:CK41)*$O$21+$N$21,-1)","v":-1},null,2.6924400106359534E-7,0,0,0,0,0,0,0,0,0,0,0,{"$f":"IF($O$23<>0,SUM(CN41:CY41)*$O$23+$N$23,-1)","v":-1}]
[null,null,null,null,null,null,null,null,null,null,null,null,null,null,null,null,null,null,null,null,null,null,null,null,null,null,null,null,null,null,15.600000000000009,{"$f":"IF($L$20>0,IF($AE42<$J$20,$H$20,IF($AE42<$J$20+$K$20,$H$20+((I$20-H$20)*($AE42-J$20)/K$20),$I$20)),$H$20)","v":0.51200000000000023},{"$f":"IF($L$22>0,IF($AE42<$J$22,$H$22,IF($AE42<$J$22+$K$22,$H$22+((I$22-H$22)*($AE42-J$22)/K$22),$I$22)),$H$22)","v":0.51200000000000023},null,0.80000000000000038,3.7167987868359298E-6,0,0,0,0,0,0,0,0,0,0,0,{"$f":"IF($O$20<>0,SUM(AJ42:AU42)*$O$20+$N$20,-1)","v":11.000003716798787},null,3.7167987868359298E-6,0,0,0,0,0,0,0,0,0,0,0,{"$f":"IF($O$22<>0,SUM(AX42:BI42)*$O$22+$N$22,-1)","v":15.000003716798787},null,3.7167987868359298E-6,0,0,0,0,0,0,0,0,0,0,0,{"$f":"IF($O$24<>0,SUM(BL42:BW42)*$O$24+$N$24,-1)","v":9.999996283201213},null,3.7167987868359298E-6,0,0,0,0,0,0,0,0,0,0,0,{"$f":"IF($O$21<>0,SUM(BZ42:CK42)*$O$21+$N$21,-1)","v":-1},null,3.7167987868359298E-6,0,0,0,0,0,0,0,0,0,0,0,{"$f":"IF($O$23<>0,SUM(CN42:CY42)*$O$23+$N$23,-1)","v":-1}]
[null,null,null,null,null,null,null,null,null,null,null,null,null,null,null,null,null,null,null,null,null,null,null,null,null,null,null,null,null,null,16.000000000000007,{"$f":"IF($L$20>0,IF($AE43<$J$20,$H$20,IF($AE43<$J$20+$K$20,$H$20+((I$20-H$20)*($AE43-J$20)/K$20),$I$20)),$H$20)","v":0.52000000000000024},{"$f":"IF($L$22>0,IF($AE43<$J$22,$H$22,IF($AE43<$J$22+$K$22,$H$22+((I$22-H$22)*($AE43-J$22)/K$22),$I$22)),$H$22)","v":0.52000000000000024},null,0.8200000000000004,3.9959352767265467E-5,0,0,0,0,0,0,0,0,0,0,0,{"$f":"IF($O$20<>0,SUM(AJ43:AU43)*$O$20+$N$20,-1)","v":11.000039959352767},null,3.9959352767265467E-5,0,0,0,0,0,0,0,0,0,0,0,{"$f":"IF($O$22<>0,SUM(AX43:BI43)*$O$22+$N$22,-1)","v":15.000039959352767},null,3.9959352767265467E-5,0,0,0,0,0,0,0,0,0,0,0,{"$f":"IF($O$24<>0,SUM(BL43:BW43)*$O$24+$N$24,-1)","v":9.9999600406472329},null,3.9959352767265467E-5,0,0,0,0,0,0,0,0,0,0,0,{"$f":"IF($O$21<>0,SUM(BZ43:CK43)*$O$21+$N$21,-1)","v":-1},null,3.9959352767265467E-5,0,0,0,0,0,0,0,0,0,0,0,{"$f":"IF($O$23<>0,SUM(CN43:CY43)*$O$23+$N$23,-1)","v":-1}]
[null,null,null,null,null,null,null,null,null,null,null,null,null,null,null,null,null,null,null,null,null,null,null,null,null,null,null,null,null,null,16.400000000000006,{"$f":"IF($L$20>0,IF($AE44<$J$20,$H$20,IF($AE44<$J$20+$K$20,$H$20+((I$20-H$20)*($AE44-J$20)/K$20),$I$20)),$H$20)","v":0.52800000000000014},{"$f":"IF($L$22>0,IF($AE44<$J$22,$H$22,IF($AE44<$J$22+$K$22,$H$22+((I$22-H$22)*($AE44-J$22)/K$22),$I$22)),$H$22)","v":0.52800000000000014},null,0.84000000000000041,3.3457556441222712E-4,0,0,0,0,0,0,0,0,0,0,0,{"$f":"IF($O$20<>0,SUM(AJ44:AU44)*$O$20+$N$20,-1)","v":11.000334575564413},null,3.3457556441222712E-4,0,0,0,0,0,0,0,0,0,0,0,{"$f":"IF($O$22<>0,SUM(AX44:BI44)*$O$22+$N$22,-1)","v":15.000334575564413},null,3.3457556441222712E-4,0,0,0,0,0,0,0,0,0,0,0,{"$f":"IF($O$24<>0,SUM(BL44:BW44)*$O$24+$N$24,-1)","v":9.9996654244355874},null,3.3457556441222712E-4,0,0,0,0,0,0,0,0,0,0,0,{"$f":"IF($O$21<>0,SUM(BZ44:CK44)*$O$21+$N$21,-1)","v":-1},null,3.3457556441222712E-4,0,0,0,0,0,0,0,0,0,0,0,{"$f":"IF($O$23<>0,SUM(CN44:CY44)*$O$23+$N$23,-1)","v":-1}]
[null,null,null,null,null,null,null,null,null,null,null,null,null,null,null,null,null,null,null,null,null,null,null,null,null,null,null,null,null,null,16.800000000000004,{"$f":"IF($L$20>0,IF($AE45<$J$20,$H$20,IF($AE45<$J$20+$K$20,$H$20+((I$20-H$20)*($AE45-J$20)/K$20),$I$20)),$H$20)","v":0.53600000000000014},{"$f":"IF($L$22>0,IF($AE45<$J$22,$H$22,IF($AE45<$J$22+$K$22,$H$22+((I$22-H$22)*($AE45-J$22)/K$22),$I$22)),$H$22)","v":0.53600000000000014},null,0.86000000000000043,2.1817067376144815E-3,0,0,0,0,0,0,0,0,0,0,0,{"$f":"IF($O$20<>0,SUM(AJ45:AU45)*$O$20+$N$20,-1)","v":11.002181706737614},null,2.1817067376144815E-3,0,0,0,0,0,0,0,0,0,0,0,{"$f":"IF($O$22<>0,SUM(AX45:BI45)*$O$22+$N$22,-1)","v":15.002181706737614},null,2.1817067376144815E-3,0,0,0,0,0,0,0,0,0,0,0,{"$f":"IF($O$24<>0,SUM(BL45:BW45)*$O$24+$N$24,-1)","v":9.9978182932623856},null,2.1817067376144815E-3,0,0,0,0,0,0,0,0,0,0,0,{"$f":"IF($O$21<>0,SUM(BZ45:CK45)*$O$21+$N$21,-1)","v":-1},null,2.1817067376144815E-3,0,0,0,0,0,0,0,0,0,0,0,{"$f":"IF($O$23<>0,SUM(CN45:CY45)*$O$23+$N$23,-1)","v":-1}]
[null,null,null,null,null,null,null,null,null,null,null,null,null,null,null,null,null,null,null,null,null,null,null,null,null,null,null,null,null,null,17.200000000000003,{"$f":"IF($L$20>0,IF($AE46<$J$20,$H$20,IF($AE46<$J$20+$K$20,$H$20+((I$20-H$20)*($AE46-J$20)/K$20),$I$20)),$H$20)","v":0.54400000000000004},{"$f":"IF($L$22>0,IF($AE46<$J$22,$H$22,IF($AE46<$J$22+$K$22,$H$22+((I$22-H$22)*($AE46-J$22)/K$22),$I$22)),$H$22)","v":0.54400000000000004},null,0.88000000000000045,1.1079621029845393E-2,0,0,0,0,0,0,0,0,0,0,0,{"$f":"IF($O$20<>0,SUM(AJ46:AU46)*$O$20+$N$20,-1)","v":11.011079621029845},null,1.1079621029845393E-2,0,0,0,0,0,0,0,0,0,0,0,{"$f":"IF($O$22<>0,SUM(AX46:BI46)*$O$22+$N$22,-1)","v":15.011079621029845},null,1.1079621029845393E-2,0,0,0,0,0,0,0,0,0,0,0,{"$f":"IF($O$24<>0,SUM(BL46:BW46)*$O$24+$N$24,-1)","v":9.9889203789701551},null,1.1079621029845393E-2,0,0,0,0,0,0,0,0,0,0,0,{"$f":"IF($O$21<>0,SUM(BZ46:CK46)*$O$21+$N$21,-1)","v":-1},null,1.1079621029845393E-2,0,0,0,0,0,0,0,0,0,0,0,{"$f":"IF($O$23<>0,SUM(CN46:CY46)*$O$23+$N$23,-1)","v":-1}]
[null,null,null,null,null,null,null,null,null,null,null,null,null,null,null,null,null,null,null,null,null,null,null,null,null,null,null,null,null,null,17.600000000000001,{"$f":"IF($L$20>0,IF($AE47<$J$20,$H$20,IF($AE47<$J$20+$K$20,$H$20+((I$20-H$20)*($AE47-J$20)/K$20),$I$20)),$H$20)","v":0.55200000000000005},{"$f":"IF($L$22>0,IF($AE47<$J$22,$H$22,IF($AE47<$J$22+$K$22,$H$22+((I$22-H$22)*($AE47-J$22)/K$22),$I$22)),$H$22)","v":0.55200000000000005},null,0.90000000000000047,4.3820751233922609E-2,0,0,0,0,0,0,0,0,0,0,0,{"$f":"IF($O$20<>0,SUM(AJ47:AU47)*$O$20+$N$20,-1)","v":11.043820751233923},null,4.3820751233922609E-2,0,0,0,0,0,0,0,0,0,0,0,{"$f":"IF($O$22<>0,SUM(AX47:BI47)*$O$22+$N$22,-1)","v":15.043820751233923},null,4.3820751233922609E-2,0,0,0,0,0,0,0,0,0,0,0,{"$f":"IF($O$24<>0,SUM(BL47:BW47)*$O$24+$N$24,-1)","v":9.9561792487660767},null,4.3820751233922609E-2,0,0,0,0,0,0,0,0,0,0,0,{"$f":"IF($O$21<>0,SUM(BZ47:CK47)*$O$21+$N$21,-1)","v":-1},null,4.3820751233922609E-2,0,0,0,0,0,0,0,0,0,0,0,{"$f":"IF($O$23<>0,SUM(CN47:CY47)*$O$23+$N$23,-1)","v":-1}]
[null,null,null,null,null,null,null,null,null,null,null,null,null,null,null,null,null,null,null,null,null,null,null,null,null,null,null,null,null,null,18,{"$f":"IF($L$20>0,IF($AE48<$J$20,$H$20,IF($AE48<$J$20+$K$20,$H$20+((I$20-H$20)*($AE48-J$20)/K$20),$I$20)),$H$20)","v":0.56000000000000005},{"$f":"IF($L$22>0,IF($AE48<$J$22,$H$22,IF($AE48<$J$22+$K$22,$H$22+((I$22-H$22)*($AE48-J$22)/K$22),$I$22)),$H$22)","v":0.56000000000000005},null,0.92000000000000048,0.13497741628297344,0,0,0,0,0,0,0,0,0,0,0,{"$f":"IF($O$20<>0,SUM(AJ48:AU48)*$O$20+$N$20,-1)","v":11.134977416282974},null,0.13497741628297344,0,0,0,0,0,0,0,0,0,0,0,{"$f":"IF($O$22<>0,SUM(AX48:BI48)*$O$22+$N$22,-1)","v":15.134977416282974},null,0.13497741628297344,0,0,0,0,0,0,0,0,0,0,0,{"$f":"IF($O$24<>0,SUM(BL48:BW48)*$O$24+$N$24,-1)","v":9.8650225837170264},null,0.13497741628297344,0,0,0,0,0,0,0,0,0,0,0,{"$f":"IF($O$21<>0,SUM(BZ48:CK48)*$O$21+$N$21,-1)","v":-1},null,0.13497741628297344,0,0,0,0,0,0,0,0,0,0,0,{"$f":"IF($O$23<>0,SUM(CN48:CY48)*$O$23+$N$23,-1)","v":-1}]
[null,null,null,null,null,null,null,null,null,null,null,null,null,null,null,null,null,null,null,null,null,null,null,null,null,null,null,null,null,null,18.399999999999999,{"$f":"IF($L$20>0,IF($AE49<$J$20,$H$20,IF($AE49<$J$20+$K$20,$H$20+((I$20-H$20)*($AE49-J$20)/K$20),$I$20)),$H$20)","v":0.56800000000000006},{"$f":"IF($L$22>0,IF($AE49<$J$22,$H$22,IF($AE49<$J$22+$K$22,$H$22+((I$22-H$22)*($AE49-J$22)/K$22),$I$22)),$H$22)","v":0.56800000000000006},null,0.9400000000000005,0.32379398916473551,0,0,0,0,0,0,0,0,0,0,0,{"$f":"IF($O$20<>0,SUM(AJ49:AU49)*$O$20+$N$20,-1)","v":11.323793989164736},null,0.32379398916473551,0,0,0,0,0,0,0,0,0,0,0,{"$f":"IF($O$22<>0,SUM(AX49:BI49)*$O$22+$N$22,-1)","v":15.323793989164736},null,0.32379398916473551,0,0,0,0,0,0,0,0,0,0,0,{"$f":"IF($O$24<>0,SUM(BL49:BW49)*$O$24+$N$24,-1)","v":9.6762060108352639},null,0.32379398916473551,0,0,0,0,0,0,0,0,0,0,0,{"$f":"IF($O$21<>0,SUM(BZ49:CK49)*$O$21+$N$21,-1)","v":-1},null,0.32379398916473551,0,0,0,0,0,0,0,0,0,0,0,{"$f":"IF($O$23<>0,SUM(CN49:CY49)*$O$23+$N$23,-1)","v":-1}]
[null,null,null,null,null,null,null,null,null,null,null,null,null,null,null,null,null,null,null,null,null,null,null,null,null,null,null,null,null,null,18.799999999999997,{"$f":"IF($L$20>0,IF($AE50<$J$20,$H$20,IF($AE50<$J$20+$K$20,$H$20+((I$20-H$20)*($AE50-J$20)/K$20),$I$20)),$H$20)","v":0.57600000000000007},{"$f":"IF($L$22>0,IF($AE50<$J$22,$H$22,IF($AE50<$J$22+$K$22,$H$22+((I$22-H$22)*($AE50-J$22)/K$22),$I$22)),$H$22)","v":0.57600000000000007},null,0.96000000000000052,0.6049268112978663,0,0,0,0,0,0,0,0,0,0,0,{"$f":"IF($O$20<>0,SUM(AJ50:AU50)*$O$20+$N$20,-1)","v":11.604926811297867},null,0.6049268112978663,0,0,0,0,0,0,0,0,0,0,0,{"$f":"IF($O$22<>0,SUM(AX50:BI50)*$O$22+$N$22,-1)","v":15.604926811297867},null,0.6049268112978663,0,0,0,0,0,0,0,0,0,0,0,{"$f":"IF($O$24<>0,SUM(BL50:BW50)*$O$24+$N$24,-1)","v":9.395073188702133},null,0.6049268112978663,0,0,0,0,0,0,0,0,0,0,0,{"$f":"IF($O$21<>0,SUM(BZ50:CK50)*$O$21+$N$21,-1)","v":-1},null,0.6049268112978663,0,0,0,0,0,0,0,0,0,0,0,{"$f":"IF($O$23<>0,SUM(CN50:CY50)*$O$23+$N$23,-1)","v":-1}]
["Peaks",null,{"$f":"J14","v":"Chromlith/ACN"},null,null,null,{"$f":"K14","v":"Chromlith/MeHO"},null,null,"Reference",null,null,null,null,null,null,null,null,null,null,null,null,null,null,null,null,null,null,null,null,19.199999999999996,{"$f":"IF($L$20>0,IF($AE51<$J$20,$H$20,IF($AE51<$J$20+$K$20,$H$20+((I$20-H$20)*($AE51-J$20)/K$20),$I$20)),$H$20)","v":0.58399999999999996},{"$f":"IF($L$22>0,IF($AE51<$J$22,$H$22,IF($AE51<$J$22+$K$22,$H$22+((I$22-H$22)*($AE51-J$22)/K$22),$I$22)),$H$22)","v":0.58399999999999996},null,0.98000000000000054,0.88016331691075467,0,0,0,0,0,0,0,0,0,0,0,{"$f":"IF($O$20<>0,SUM(AJ51:AU51)*$O$20+$N$20,-1)","v":11.880163316910755},null,0.88016331691075467,0,0,0,0,0,0,0,0,0,0,0,{"$f":"IF($O$22<>0,SUM(AX51:BI51)*$O$22+$N$22,-1)","v":15.880163316910755},null,0.88016331691075467,0,0,0,0,0,0,0,0,0,0,0,{"$f":"IF($O$24<>0,SUM(BL51:BW51)*$O$24+$N$24,-1)","v":9.119836683089245},null,0.88016331691075467,0,0,0,0,0,0,0,0,0,0,0,{"$f":"IF($O$21<>0,SUM(BZ51:CK51)*$O$21+$N$21,-1)","v":-1},null,0.88016331691075467,0,0,0,0,0,0,0,0,0,0,0,{"$f":"IF($O$23<>0,SUM(CN51:CY51)*$O$23+$N$23,-1)","v":-1}]
[null,"tR","w","a","RS","tR","w","a","RS","tR","w",null,"tR","Retention time, min",null,null,null,null,null,null,null,null,null,null,null,null,null,null,null,null,19.599999999999994,{"$f":"IF($L$20>0,IF($AE52<$J$20,$H$20,IF($AE52<$J$20+$K$20,$H$20+((I$20-H$20)*($AE52-J$20)/K$20),$I$20)),$H$20)","v":0.59199999999999986},{"$f":"IF($L$22>0,IF($AE52<$J$22,$H$22,IF($AE52<$J$22+$K$22,$H$22+((I$22-H$22)*($AE52-J$22)/K$22),$I$22)),$H$22)","v":0.59199999999999986},null,1.0000000000000004,0.99735570100358173,0,0,0,0,0,0,0,0,0,0,0,{"$f":"IF($O$20<>0,SUM(AJ52:AU52)*$O$20+$N$20,-1)","v":11.997355701003581},null,0.99735570100358173,0,0,0,0,0,0,0,0,0,0,0,{"$f":"IF($O$22<>0,SUM(AX52:BI52)*$O$22+$N$22,-1)","v":15.997355701003581},null,0.99735570100358173,0,0,0,0,0,0,0,0,0,0,0,{"$f":"IF($O$24<>0,SUM(BL52:BW52)*$O$24+$N$24,-1)","v":9.0026442989964188},null,0.99735570100358173,0,0,0,0,0,0,0,0,0,0,0,{"$f":"IF($O$21<>0,SUM(BZ52:CK52)*$O$21+$N$21,-1)","v":-1},null,0.99735570100358173,0,0,0,0,0,0,0,0,0,0,0,{"$f":"IF($O$23<>0,SUM(CN52:CY52)*$O$23+$N$23,-1)","v":-1}]
[1,{"$f":"IF(B6>0,IF(H83*B83=0,G83,$K$20+$J$20+I83),\"\")","v":2.7286324014718528},{"$f":"IF(B6>0,IF(OR(B83=0,B53<$J$20,D83/2>C83,D83<0),$B$24*$B$20*(1+C83),$B$24*(SQRT(($B$20*(1+D83/2))^2+I83^2))),\"\")","v":7.4477314456849478E-2},{"$f":"IF(AND(B7>0,B54>B53),(B54-$B$20)/(B53-$B$20),\"\")","v":3.4011276728238578},{"$f":"IF(D53<>\"\",2*ABS(B54-B53)/(C54+C53),\"\")","v":36.960698060534078},{"$f":"IF(B6>0,IF(B97*H97<=0,G97,$K$22+$J$22+I97),\"\")","v":3.7211820434064493},{"$f":"IF(B6>0,IF(OR(B97=0,F53<$J$22,D97/2>C97,D97<0),$B$24*$B$20*(1+C97),$B$24*(SQRT(($B$20*(1+D97/2))^2+I97^2))),\"\")","v":9.3999252982451084E-2},{"$f":"IF(AND(B7>0,F54>F53),(F54-$B$20)/(F53-$B$20),\"\")","v":2.7691049298691865},{"$f":"IF(H53<>\"\",2*ABS(F54-F53)/(G54+G53),\"\")","v":35.510002760668513},{"$f":"IF(E6<>\"\",E6,\"\")","v":2.7286324014718528},{"$f":"IF(J53<>\"\",IF(F6<>0,F6,C53),\"\")","v":7.4477314456849478E-2},null,"w","Peak width at baseline, min",null,null,null,null,null,null,null,null,null,null,null,null,null,null,null,null,19.999999999999993,{"$f":"IF($L$20>0,IF($AE53<$J$20,$H$20,IF($AE53<$J$20+$K$20,$H$20+((I$20-H$20)*($AE53-J$20)/K$20),$I$20)),$H$20)","v":0.59999999999999987},{"$f":"IF($L$22>0,IF($AE53<$J$22,$H$22,IF($AE53<$J$22+$K$22,$H$22+((I$22-H$22)*($AE53-J$22)/K$22),$I$22)),$H$22)","v":0.59999999999999987},null,1.0200000000000005,0.88016331691074368,0,0,0,0,0,0,0,0,0,0,0,{"$f":"IF($O$20<>0,SUM(AJ53:AU53)*$O$20+$N$20,-1)","v":11.880163316910744},null,0.88016331691074368,0,0,0,0,0,0,0,0,0,0,0,{"$f":"IF($O$22<>0,SUM(AX53:BI53)*$O$22+$N$22,-1)","v":15.880163316910744},null,0.88016331691074368,0,0,0,0,0,0,0,0,0,0,0,{"$f":"IF($O$24<>0,SUM(BL53:BW53)*$O$24+$N$24,-1)","v":9.1198366830892557},null,0.88016331691074368,0,0,0,0,0,0,0,0,0,0,0,{"$f":"IF($O$21<>0,SUM(BZ53:CK53)*$O$21+$N$21,-1)","v":-1},null,0.88016331691074368,0,0,0,0,0,0,0,0,0,0,0,{"$f":"IF($O$23<>0,SUM(CN53:CY53)*$O$23+$N$23,-1)","v":-1}]
[2,{"$f":"IF(B7>0,IF(H84*B84=0,G84,$K$20+$J$20+I84),\"\")","v":6.8792994967858796},{"$f":"IF(B7>0,IF(OR(B84=0,B54<$J$20,D84/2>C84,D84<0),$B$24*$B$20*(1+C84),$B$24*(SQRT(($B$20*(1+D84/2))^2+I84^2))),\"\")","v":0.15012164135919503},1.7800734323591165,25.461816513649659,{"$f":"IF(B7>0,IF(B98*H98<=0,G98,$K$22+$J$22+I98),\"\")","v":8.535238611468305},{"$f":"IF(B7>0,IF(OR(B98=0,F54<$J$22,D98/2>C98,D98<0),$B$24*$B$20*(1+C98),$B$24*(SQRT(($B$20*(1+D98/2))^2+I98^2))),\"\")","v":0.17713880355377584},1.886254659480471,30.948760954200509,6.8792994967858796,0.15012164135919503,null,"a","Relative retention",null,null,null,null,null,null,null,null,null,null,null,null,null,null,null,null,20.399999999999991,{"$f":"IF($L$20>0,IF($AE54<$J$20,$H$20,IF($AE54<$J$20+$K$20,$H$20+((I$20-H$20)*($AE54-J$20)/K$20),$I$20)),$H$20)","v":0.60799999999999987},{"$f":"IF($L$22>0,IF($AE54<$J$22,$H$22,IF($AE54<$J$22+$K$22,$H$22+((I$22-H$22)*($AE54-J$22)/K$22),$I$22)),$H$22)","v":0.60799999999999987},null,1.0400000000000005,0.60492681129785109,0,0,0,0,0,0,0,0,0,0,0,{"$f":"IF($O$20<>0,SUM(AJ54:AU54)*$O$20+$N$20,-1)","v":11.604926811297851},null,0.60492681129785109,0,0,0,0,0,0,0,0,0,0,0,{"$f":"IF($O$22<>0,SUM(AX54:BI54)*$O$22+$N$22,-1)","v":15.604926811297851},null,0.60492681129785109,0,0,0,0,0,0,0,0,0,0,0,{"$f":"IF($O$24<>0,SUM(BL54:BW54)*$O$24+$N$24,-1)","v":9.395073188702149},null,0.60492681129785109,0,0,0,0,0,0,0,0,0,0,0,{"$f":"IF($O$21<>0,SUM(BZ54:CK54)*$O$21+$N$21,-1)","v":-1},null,0.60492681129785109,0,0,0,0,0,0,0,0,0,0,0,{"$f":"IF($O$23<>0,SUM(CN54:CY54)*$O$23+$N$23,-1)","v":-1}]
[3,{"$f":"IF(B8>0,IF(H85*B85=0,G85,$K$20+$J$20+I85),\"\")","v":11.465584835110867},{"$f":"IF(B8>0,IF(OR(B85=0,B55<$J$20,D85/2>C85,D85<0),$B$24*$B$20*(1+C85),$B$24*(SQRT(($B$20*(1+D85/2))^2+I85^2))),\"\")","v":0.21012644509342362},1.1210390279529789,{"$f":"IF(D55<>\"\",2*ABS(B56-B55)/(C56+C55),\"\")","v":5.964772907753253},{"$f":"IF(B8>0,IF(B99*H99<=0,G99,$K$22+$J$22+I99),\"\")","v":15.213378941179245},{"$f":"IF(B8>0,IF(OR(B99=0,F55<$J$22,D99/2>C99,D99<0),$B$24*$B$20*(1+C99),$B$24*(SQRT(($B$20*(1+D99/2))^2+I99^2))),\"\")","v":0.25442227506863357},1.1318196497943878,7.3460488194921663,11.465584835110867,0.21012644509342362,null,"RS","Resolution",null,null,null,null,null,null,null,null,null,null,null,null,null,null,null,null,20.79999999999999,{"$f":"IF($L$20>0,IF($AE55<$J$20,$H$20,IF($AE55<$J$20+$K$20,$H$20+((I$20-H$20)*($AE55-J$20)/K$20),$I$20)),$H$20)","v":0.61599999999999988},{"$f":"IF($L$22>0,IF($AE55<$J$22,$H$22,IF($AE55<$J$22+$K$22,$H$22+((I$22-H$22)*($AE55-J$22)/K$22),$I$22)),$H$22)","v":0.61599999999999988},null,1.0600000000000005,0.32379398916472335,0,0,0,0,0,0,0,0,0,0,0,{"$f":"IF($O$20<>0,SUM(AJ55:AU55)*$O$20+$N$20,-1)","v":11.323793989164724},null,0.32379398916472335,0,0,0,0,0,0,0,0,0,0,0,{"$f":"IF($O$22<>0,SUM(AX55:BI55)*$O$22+$N$22,-1)","v":15.323793989164724},null,0.32379398916472335,0,0,0,0,0,0,0,0,0,0,0,{"$f":"IF($O$24<>0,SUM(BL55:BW55)*$O$24+$N$24,-1)","v":9.6762060108352763},null,0.32379398916472335,0,0,0,0,0,0,0,0,0,0,0,{"$f":"IF($O$21<>0,SUM(BZ55:CK55)*$O$21+$N$21,-1)","v":-1},null,0.32379398916472335,0,0,0,0,0,0,0,0,0,0,0,{"$f":"IF($O$23<>0,SUM(CN55:CY55)*$O$23+$N$23,-1)","v":-1}]
[4,{"$f":"IF(B9>0,IF(H86*B86=0,G86,$K$20+$J$20+I86),\"\")","v":12.732329050512124},{"$f":"IF(B9>0,IF(OR(B86=0,B56<$J$20,D86/2>C86,D86<0),$B$24*$B$20*(1+C86),$B$24*(SQRT(($B$20*(1+D86/2))^2+I86^2))),\"\")","v":0.2146153631838677},1.5749401913479006,{"$f":"IF(D56<>\"\",2*ABS(B57-B56)/(C57+C56),\"\")","v":34.243460729612266},{"$f":"IF(B9>0,IF(B100*H100<=0,G100,$K$22+$J$22+I100),\"\")","v":17.086981575600419},{"$f":"IF(B9>0,IF(OR(B100=0,F56<$J$22,D100/2>C100,D100<0),$B$24*$B$20*(1+C100),$B$24*(SQRT(($B$20*(1+D100/2))^2+I100^2))),\"\")","v":0.2556757872937388},1.5770285075178916,{"$f":"IF(H56<>\"\",2*ABS(F57-F56)/(G57+G56),\"\")","v":40.491760522517758},12.732329050512124,0.2146153631838677,null,null,null,null,null,null,null,null,null,null,null,null,null,null,null,null,null,null,null,21.199999999999989,{"$f":"IF($L$20>0,IF($AE56<$J$20,$H$20,IF($AE56<$J$20+$K$20,$H$20+((I$20-H$20)*($AE56-J$20)/K$20),$I$20)),$H$20)","v":0.62399999999999978},{"$f":"IF($L$22>0,IF($AE56<$J$22,$H$22,IF($AE56<$J$22+$K$22,$H$22+((I$22-H$22)*($AE56-J$22)/K$22),$I$22)),$H$22)","v":0.62399999999999978},null,1.0800000000000005,0.13497741628296667,0,0,0,0,0,0,0,0,0,0,0,{"$f":"IF($O$20<>0,SUM(AJ56:AU56)*$O$20+$N$20,-1)","v":11.134977416282966},null,0.13497741628296667,0,0,0,0,0,0,0,0,0,0,0,{"$f":"IF($O$22<>0,SUM(AX56:BI56)*$O$22+$N$22,-1)","v":15.134977416282966},null,0.13497741628296667,0,0,0,0,0,0,0,0,0,0,0,{"$f":"IF($O$24<>0,SUM(BL56:BW56)*$O$24+$N$24,-1)","v":9.8650225837170336},null,0.13497741628296667,0,0,0,0,0,0,0,0,0,0,0,{"$f":"IF($O$21<>0,SUM(BZ56:CK56)*$O$21+$N$21,-1)","v":-1},null,0.13497741628296667,0,0,0,0,0,0,0,0,0,0,0,{"$f":"IF($O$23<>0,SUM(CN56:CY56)*$O$23+$N$23,-1)","v":-1}]
[5,{"$f":"IF(B10>0,IF(H87*B87=0,G87,$K$20+$J$20+I87),\"\")","v":19.477716559770098},{"$f":"IF(B10>0,IF(OR(B87=0,B57<$J$20,D87/2>C87,D87<0),$B$24*$B$20*(1+C87),$B$24*(SQRT(($B$20*(1+D87/2))^2+I87^2))),\"\")","v":0.17935109730444701},1.0559967383463582,5.9527099744502001,{"$f":"IF(B10>0,IF(B101*H101<=0,G101,$K$22+$J$22+I101),\"\")","v":26.369628544636949},{"$f":"IF(B10>0,IF(OR(B101=0,F57<$J$22,D101/2>C101,D101<0),$B$24*$B$20*(1+C101),$B$24*(SQRT(($B$20*(1+D101/2))^2+I101^2))),\"\")","v":0.20281981029206556},1.0472980826670606,{"$f":"IF(H57<>\"\",2*ABS(F58-F57)/(G58+G57),\"\")","v":6.1126426222792656},19.477716559770098,0.17935109730444701,null,"OBS: If a is absent, the order of tR do not",null,null,null,null,null,null,null,null,null,null,null,null,null,null,null,null,null,21.599999999999987,{"$f":"IF($L$20>0,IF($AE57<$J$20,$H$20,IF($AE57<$J$20+$K$20,$H$20+((I$20-H$20)*($AE57-J$20)/K$20),$I$20)),$H$20)","v":0.63199999999999978},{"$f":"IF($L$22>0,IF($AE57<$J$22,$H$22,IF($AE57<$J$22+$K$22,$H$22+((I$22-H$22)*($AE57-J$22)/K$22),$I$22)),$H$22)","v":0.63199999999999978},null,1.1000000000000005,4.3820751233919895E-2,0,0,0,0,0,0,0,0,0,0,0,{"$f":"IF($O$20<>0,SUM(AJ57:AU57)*$O$20+$N$20,-1)","v":11.04382075123392},null,4.3820751233919895E-2,0,0,0,0,0,0,0,0,0,0,0,{"$f":"IF($O$22<>0,SUM(AX57:BI57)*$O$22+$N$22,-1)","v":15.04382075123392},null,4.3820751233919895E-2,0,0,0,0,0,0,0,0,0,0,0,{"$f":"IF($O$24<>0,SUM(BL57:BW57)*$O$24+$N$24,-1)","v":9.9561792487660803},null,4.3820751233919895E-2,0,0,0,0,0,0,0,0,0,0,0,{"$f":"IF($O$21<>0,SUM(BZ57:CK57)*$O$21+$N$21,-1)","v":-1},null,4.3820751233919895E-2,0,0,0,0,0,0,0,0,0,0,0,{"$f":"IF($O$23<>0,SUM(CN57:CY57)*$O$23+$N$23,-1)","v":-1}]
[6,{"$f":"IF(B11>0,IF(H88*B88=0,G88,$K$20+$J$20+I88),\"\")","v":20.512408419205713},{"$f":"IF(B11>0,IF(OR(B88=0,B58<$J$20,D88/2>C88,D88<0),$B$24*$B$20*(1+C88),$B$24*(SQRT(($B$20*(1+D88/2))^2+I88^2))),\"\")","v":0.16828615157098814},1.2391893948694686,28.119324000522049,{"$f":"IF(B11>0,IF(B102*H102<=0,G102,$K$22+$J$22+I102),\"\")","v":27.569563332773807},{"$f":"IF(B11>0,IF(OR(B102=0,F58<$J$22,D102/2>C102,D102<0),$B$24*$B$20*(1+C102),$B$24*(SQRT(($B$20*(1+D102/2))^2+I102^2))),\"\")","v":0.18978772863499488},1.2113719014735977,29.708067709243601,20.512408419205713,0.16828615157098814,null,"match the order of compounds in the input.",null,null,null,null,null,null,null,null,null,null,null,null,null,null,null,null,null,21.999999999999986,{"$f":"IF($L$20>0,IF($AE58<$J$20,$H$20,IF($AE58<$J$20+$K$20,$H$20+((I$20-H$20)*($AE58-J$20)/K$20),$I$20)),$H$20)","v":0.63999999999999979},{"$f":"IF($L$22>0,IF($AE58<$J$22,$H$22,IF($AE58<$J$22+$K$22,$H$22+((I$22-H$22)*($AE58-J$22)/K$22),$I$22)),$H$22)","v":0.63999999999999979},null,1.1200000000000006,1.1079621029844567E-2,0,0,0,0,0,0,0,0,0,0,0,{"$f":"IF($O$20<>0,SUM(AJ58:AU58)*$O$20+$N$20,-1)","v":11.011079621029845},null,1.1079621029844567E-2,0,0,0,0,0,0,0,0,0,0,0,{"$f":"IF($O$22<>0,SUM(AX58:BI58)*$O$22+$N$22,-1)","v":15.011079621029845},null,1.1079621029844567E-2,0,0,0,0,0,0,0,0,0,0,0,{"$f":"IF($O$24<>0,SUM(BL58:BW58)*$O$24+$N$24,-1)","v":9.9889203789701551},null,1.1079621029844567E-2,0,0,0,0,0,0,0,0,0,0,0,{"$f":"IF($O$21<>0,SUM(BZ58:CK58)*$O$21+$N$21,-1)","v":-1},null,1.1079621029844567E-2,0,0,0,0,0,0,0,0,0,0,0,{"$f":"IF($O$23<>0,SUM(CN58:CY58)*$O$23+$N$23,-1)","v":-1}]
[7,{"$f":"IF(B12>0,IF(H89*B89=0,G89,$K$20+$J$20+I89),\"\")","v":25.179569581441449},{"$f":"IF(B12>0,IF(OR(B89=0,B59<$J$20,D89/2>C89,D89<0),$B$24*$B$20*(1+C89),$B$24*(SQRT(($B$20*(1+D89/2))^2+I89^2))),\"\")","v":0.16366785714907126},1.1185708844283579,19.516016684287884,{"$f":"IF(B12>0,IF(B103*H103<=0,G103,$K$22+$J$22+I103),\"\")","v":33.185622455745388},{"$f":"IF(B12>0,IF(OR(B103=0,F59<$J$22,D103/2>C103,D103<0),$B$24*$B$20*(1+C103),$B$24*(SQRT(($B$20*(1+D103/2))^2+I103^2))),\"\")","v":0.18829536838340574},1.1223486316253539,23.384759401274493,25.179569581441449,0.16366785714907126,null,"To fix it: sort peaks according to tR",null,null,null,null,null,null,null,null,null,null,null,null,null,null,null,null,null,22.399999999999984,{"$f":"IF($L$20>0,IF($AE59<$J$20,$H$20,IF($AE59<$J$20+$K$20,$H$20+((I$20-H$20)*($AE59-J$20)/K$20),$I$20)),$H$20)","v":0.64799999999999969},{"$f":"IF($L$22>0,IF($AE59<$J$22,$H$22,IF($AE59<$J$22+$K$22,$H$22+((I$22-H$22)*($AE59-J$22)/K$22),$I$22)),$H$22)","v":0.64799999999999969},null,1.1400000000000006,2.1817067376142915E-3,0,0,0,0,0,0,0,0,0,0,0,{"$f":"IF($O$20<>0,SUM(AJ59:AU59)*$O$20+$N$20,-1)","v":11.002181706737614},null,2.1817067376142915E-3,0,0,0,0,0,0,0,0,0,0,0,{"$f":"IF($O$22<>0,SUM(AX59:BI59)*$O$22+$N$22,-1)","v":15.002181706737614},null,2.1817067376142915E-3,0,0,0,0,0,0,0,0,0,0,0,{"$f":"IF($O$24<>0,SUM(BL59:BW59)*$O$24+$N$24,-1)","v":9.9978182932623856},null,2.1817067376142915E-3,0,0,0,0,0,0,0,0,0,0,0,{"$f":"IF($O$21<>0,SUM(BZ59:CK59)*$O$21+$N$21,-1)","v":-1},null,2.1817067376142915E-3,0,0,0,0,0,0,0,0,0,0,0,{"$f":"IF($O$23<>0,SUM(CN59:CY59)*$O$23+$N$23,-1)","v":-1}]
[8,{"$f":"IF(B13>0,IF(H90*B90=0,G90,$K$20+$J$20+I90),\"\")","v":28.046562531809982},{"$f":"IF(B13>0,IF(OR(B90=0,B60<$J$20,D90/2>C90,D90<0),$B$24*$B$20*(1+C90),$B$24*(SQRT(($B$20*(1+D90/2))^2+I90^2))),\"\")","v":0.13014137623580449},"","",{"$f":"IF(B13>0,IF(B104*H104<=0,G104,$K$22+$J$22+I104),\"\")","v":37.123489321216098},{"$f":"IF(B13>0,IF(OR(B104=0,F60<$J$22,D104/2>C104,D104<0),$B$24*$B$20*(1+C104),$B$24*(SQRT(($B$20*(1+D104/2))^2+I104^2))),\"\")","v":0.14849380253755676},"","",28.046562531809982,0.13014137623580449,null,null,null,null,null,null,null,null,null,null,null,null,null,null,null,null,null,null,null,22.799999999999983,{"$f":"IF($L$20>0,IF($AE60<$J$20,$H$20,IF($AE60<$J$20+$K$20,$H$20+((I$20-H$20)*($AE60-J$20)/K$20),$I$20)),$H$20)","v":0.65599999999999969},{"$f":"IF($L$22>0,IF($AE60<$J$22,$H$22,IF($AE60<$J$22+$K$22,$H$22+((I$22-H$22)*($AE60-J$22)/K$22),$I$22)),$H$22)","v":0.65599999999999969},null,1.1600000000000006,3.3457556441219443E-4,0,0,0,0,0,0,0,0,0,0,0,{"$f":"IF($O$20<>0,SUM(AJ60:AU60)*$O$20+$N$20,-1)","v":11.000334575564413},null,3.3457556441219443E-4,0,0,0,0,0,0,0,0,0,0,0,{"$f":"IF($O$22<>0,SUM(AX60:BI60)*$O$22+$N$22,-1)","v":15.000334575564413},null,3.3457556441219443E-4,0,0,0,0,0,0,0,0,0,0,0,{"$f":"IF($O$24<>0,SUM(BL60:BW60)*$O$24+$N$24,-1)","v":9.9996654244355874},null,3.3457556441219443E-4,0,0,0,0,0,0,0,0,0,0,0,{"$f":"IF($O$21<>0,SUM(BZ60:CK60)*$O$21+$N$21,-1)","v":-1},null,3.3457556441219443E-4,0,0,0,0,0,0,0,0,0,0,0,{"$f":"IF($O$23<>0,SUM(CN60:CY60)*$O$23+$N$23,-1)","v":-1}]
[9,{"$f":"IF(B14>0,IF(H91*B91=0,G91,$K$20+$J$20+I91),\"\")","v":""},{"$f":"IF(B14>0,IF(OR(B91=0,B61<$J$20,D91/2>C91,D91<0),$B$24*$B$20*(1+C91),$B$24*(SQRT(($B$20*(1+D91/2))^2+I91^2))),\"\")","v":""},"","",{"$f":"IF(B14>0,IF(B105*H105<=0,G105,$K$22+$J$22+I105),\"\")","v":""},{"$f":"IF(B14>0,IF(OR(B105=0,F61<$J$22,D105/2>C105,D105<0),$B$24*$B$20*(1+C105),$B$24*(SQRT(($B$20*(1+D105/2))^2+I105^2))),\"\")","v":""},"","","","",null,null,null,null,null,null,null,null,null,null,null,null,null,null,null,null,null,null,null,23.199999999999982,{"$f":"IF($L$20>0,IF($AE61<$J$20,$H$20,IF($AE61<$J$20+$K$20,$H$20+((I$20-H$20)*($AE61-J$20)/K$20),$I$20)),$H$20)","v":0.6639999999999997},{"$f":"IF($L$22>0,IF($AE61<$J$22,$H$22,IF($AE61<$J$22+$K$22,$H$22+((I$22-H$22)*($AE61-J$22)/K$22),$I$22)),$H$22)","v":0.6639999999999997},null,1.1800000000000006,3.9959352767260995E-5,0,0,0,0,0,0,0,0,0,0,0,{"$f":"IF($O$20<>0,SUM(AJ61:AU61)*$O$20+$N$20,-1)","v":11.000039959352767},null,3.9959352767260995E-5,0,0,0,0,0,0,0,0,0,0,0,{"$f":"IF($O$22<>0,SUM(AX61:BI61)*$O$22+$N$22,-1)","v":15.000039959352767},null,3.9959352767260995E-5,0,0,0,0,0,0,0,0,0,0,0,{"$f":"IF($O$24<>0,SUM(BL61:BW61)*$O$24+$N$24,-1)","v":9.9999600406472329},null,3.9959352767260995E-5,0,0,0,0,0,0,0,0,0,0,0,{"$f":"IF($O$21<>0,SUM(BZ61:CK61)*$O$21+$N$21,-1)","v":-1},null,3.9959352767260995E-5,0,0,0,0,0,0,0,0,0,0,0,{"$f":"IF($O$23<>0,SUM(CN61:CY61)*$O$23+$N$23,-1)","v":-1}]
[10,{"$f":"IF(B15>0,IF(H92*B92=0,G92,$K$20+$J$20+I92),\"\")","v":""},{"$f":"IF(B15>0,IF(OR(B92=0,B62<$J$20,D92/2>C92,D92<0),$B$24*$B$20*(1+C92),$B$24*(SQRT(($B$20*(1+D92/2))^2+I92^2))),\"\")","v":""},"","",{"$f":"IF(B15>0,IF(B106*H106<=0,G106,$K$22+$J$22+I106),\"\")","v":""},{"$f":"IF(B15>0,IF(OR(B106=0,F62<$J$22,D106/2>C106,D106<0),$B$24*$B$20*(1+C106),$B$24*(SQRT(($B$20*(1+D106/2))^2+I106^2))),\"\")","v":""},"","","","",null,null,null,null,null,null,null,null,null,null,null,null,null,null,null,null,null,null,null,23.59999999999998,{"$f":"IF($L$20>0,IF($AE62<$J$20,$H$20,IF($AE62<$J$20+$K$20,$H$20+((I$20-H$20)*($AE62-J$20)/K$20),$I$20)),$H$20)","v":0.67199999999999971},{"$f":"IF($L$22>0,IF($AE62<$J$22,$H$22,IF($AE62<$J$22+$K$22,$H$22+((I$22-H$22)*($AE62-J$22)/K$22),$I$22)),$H$22)","v":0.67199999999999971},null,1.2000000000000006,3.7167987868354677E-6,0,0,0,0,0,0,0,0,0,0,0,{"$f":"IF($O$20<>0,SUM(AJ62:AU62)*$O$20+$N$20,-1)","v":11.000003716798787},null,3.7167987868354677E-6,0,0,0,0,0,0,0,0,0,0,0,{"$f":"IF($O$22<>0,SUM(AX62:BI62)*$O$22+$N$22,-1)","v":15.000003716798787},null,3.7167987868354677E-6,0,0,0,0,0,0,0,0,0,0,0,{"$f":"IF($O$24<>0,SUM(BL62:BW62)*$O$24+$N$24,-1)","v":9.999996283201213},null,3.7167987868354677E-6,0,0,0,0,0,0,0,0,0,0,0,{"$f":"IF($O$21<>0,SUM(BZ62:CK62)*$O$21+$N$21,-1)","v":-1},null,3.7167987868354677E-6,0,0,0,0,0,0,0,0,0,0,0,{"$f":"IF($O$23<>0,SUM(CN62:CY62)*$O$23+$N$23,-1)","v":-1}]
[11,{"$f":"IF(B16>0,IF(H93*B93=0,G93,$K$20+$J$20+I93),\"\")","v":""},{"$f":"IF(B16>0,IF(OR(B93=0,B63<$J$20,D93/2>C93,D93<0),$B$24*$B$20*(1+C93),$B$24*(SQRT(($B$20*(1+D93/2))^2+I93^2))),\"\")","v":""},{"$f":"IF(AND(F49>0,B64>B63),(B64-$B$20)/(B63-$B$20),\"\")","v":""},"",{"$f":"IF(B16>0,IF(B107*H107<=0,G107,$K$22+$J$22+I107),\"\")","v":""},{"$f":"IF(B16>0,IF(OR(B107=0,F63<$J$22,D107/2>C107,D107<0),$B$24*$B$20*(1+C107),$B$24*(SQRT(($B$20*(1+D107/2))^2+I107^2))),\"\")","v":""},null,"","","",null,null,null,null,null,null,null,null,null,null,null,null,null,null,null,null,null,null,null,23.999999999999979,{"$f":"IF($L$20>0,IF($AE63<$J$20,$H$20,IF($AE63<$J$20+$K$20,$H$20+((I$20-H$20)*($AE63-J$20)/K$20),$I$20)),$H$20)","v":0.67999999999999972},{"$f":"IF($L$22>0,IF($AE63<$J$22,$H$22,IF($AE63<$J$22+$K$22,$H$22+((I$22-H$22)*($AE63-J$22)/K$22),$I$22)),$H$22)","v":0.67999999999999972},null,1.2200000000000006,2.6924400106355807E-7,0,0,0,0,0,0,0,0,0,0,0,{"$f":"IF($O$20<>0,SUM(AJ63:AU63)*$O$20+$N$20,-1)","v":11.000000269244001},null,2.6924400106355807E-7,0,0,0,0,0,0,0,0,0,0,0,{"$f":"IF($O$22<>0,SUM(AX63:BI63)*$O$22+$N$22,-1)","v":15.000000269244001},null,2.6924400106355807E-7,0,0,0,0,0,0,0,0,0,0,0,{"$f":"IF($O$24<>0,SUM(BL63:BW63)*$O$24+$N$24,-1)","v":9.9999997307559987},null,2.6924400106355807E-7,0,0,0,0,0,0,0,0,0,0,0,{"$f":"IF($O$21<>0,SUM(BZ63:CK63)*$O$21+$N$21,-1)","v":-1},null,2.6924400106355807E-7,0,0,0,0,0,0,0,0,0,0,0,{"$f":"IF($O$23<>0,SUM(CN63:CY63)*$O$23+$N$23,-1)","v":-1}]
["Max",{"$f":"IF(F49>0,IF(G94*C94=0,F94,$K$20+I94),\"\")","v":""},null,null,{"$f":"MIN(E53:E63)","v":5.9527099744502001},null,null,null,{"$f":"MIN(I53:I63)","v":6.1126426222792656},null,null,null,null,null,null,null,null,null,null,null,null,null,null,null,null,null,null,null,null,null,24.399999999999977,{"$f":"IF($L$20>0,IF($AE64<$J$20,$H$20,IF($AE64<$J$20+$K$20,$H$20+((I$20-H$20)*($AE64-J$20)/K$20),$I$20)),$H$20)","v":0.6879999999999995},{"$f":"IF($L$22>0,IF($AE64<$J$22,$H$22,IF($AE64<$J$22+$K$22,$H$22+((I$22-H$22)*($AE64-J$22)/K$22),$I$22)),$H$22)","v":0.6879999999999995},null,1.2400000000000007,1.5189707124556759E-8,0,0,0,0,0,0,0,0,0,0,0,{"$f":"IF($O$20<>0,SUM(AJ64:AU64)*$O$20+$N$20,-1)","v":11.000000015189707},null,1.5189707124556759E-8,0,0,0,0,0,0,0,0,0,0,0,{"$f":"IF($O$22<>0,SUM(AX64:BI64)*$O$22+$N$22,-1)","v":15.000000015189707},null,1.5189707124556759E-8,0,0,0,0,0,0,0,0,0,0,0,{"$f":"IF($O$24<>0,SUM(BL64:BW64)*$O$24+$N$24,-1)","v":9.9999999848102927},null,1.5189707124556759E-8,0,0,0,0,0,0,0,0,0,0,0,{"$f":"IF($O$21<>0,SUM(BZ64:CK64)*$O$21+$N$21,-1)","v":-1},null,1.5189707124556759E-8,0,0,0,0,0,0,0,0,0,0,0,{"$f":"IF($O$23<>0,SUM(CN64:CY64)*$O$23+$N$23,-1)","v":-1}]
[null,null,null,null,null,null,null,null,null,null,null,null,null,null,null,null,null,null,null,null,null,null,null,null,null,null,null,null,null,null,24.799999999999976,{"$f":"IF($L$20>0,IF($AE65<$J$20,$H$20,IF($AE65<$J$20+$K$20,$H$20+((I$20-H$20)*($AE65-J$20)/K$20),$I$20)),$H$20)","v":0.69599999999999951},{"$f":"IF($L$22>0,IF($AE65<$J$22,$H$22,IF($AE65<$J$22+$K$22,$H$22+((I$22-H$22)*($AE65-J$22)/K$22),$I$22)),$H$22)","v":0.69599999999999951},null,1.2600000000000007,6.6738915369063954E-10,0,0,0,0,0,0,0,0,0,0,0,{"$f":"IF($O$20<>0,SUM(AJ65:AU65)*$O$20+$N$20,-1)","v":11.00000000066739},null,6.6738915369063954E-10,0,0,0,0,0,0,0,0,0,0,0,{"$f":"IF($O$22<>0,SUM(AX65:BI65)*$O$22+$N$22,-1)","v":15.00000000066739},null,6.6738915369063954E-10,0,0,0,0,0,0,0,0,0,0,0,{"$f":"IF($O$24<>0,SUM(BL65:BW65)*$O$24+$N$24,-1)","v":9.9999999993326103},null,6.6738915369063954E-10,0,0,0,0,0,0,0,0,0,0,0,{"$f":"IF($O$21<>0,SUM(BZ65:CK65)*$O$21+$N$21,-1)","v":-1},null,6.6738915369063954E-10,0,0,0,0,0,0,0,0,0,0,0,{"$f":"IF($O$23<>0,SUM(CN65:CY65)*$O$23+$N$23,-1)","v":-1}]
["Peaks",null,"Nonlinear",{"$f":"J14","v":"Chromlith/ACN"},null,null,"Nonlinear",{"$f":"K14","v":"Chromlith/MeHO"},null,null,"DtR(1)","DtR(2)",null,"OBS:","A retention time tR =999.99 means that this compound",null,null,null,null,null,null,null,null,null,null,null,null,null,null,null,25.199999999999974,{"$f":"IF($L$20>0,IF($AE66<$J$20,$H$20,IF($AE66<$J$20+$K$20,$H$20+((I$20-H$20)*($AE66-J$20)/K$20),$I$20)),$H$20)","v":0.70399999999999952},{"$f":"IF($L$22>0,IF($AE66<$J$22,$H$22,IF($AE66<$J$22+$K$22,$H$22+((I$22-H$22)*($AE66-J$22)/K$22),$I$22)),$H$22)","v":0.70399999999999952},null,1.2800000000000007,{"$f":"$B$23*NORMDIST($AI66,$B$20,$B$24*$B$20,FALSE)","v":2.2836801020908809E-11},{"$f":"B$6*IF(B$6>0,NORMDIST($AI66,B$53,C$53/4,FALSE),0)","v":0},{"$f":"B$7*IF(B$7>0,NORMDIST($AI66,B$54,C$54/4,FALSE),0)","v":0},{"$f":"B$8*IF(B$8>0,NORMDIST($AI66,B$55,C$55/4,FALSE),0)","v":0},{"$f":"B$9*IF(B$9>0,NORMDIST($AI66,B$56,C$56/4,FALSE),0)","v":0},{"$f":"B$10*IF(B$10>0,NORMDIST($AI66,B$57,C$57/4,FALSE),0)","v":0},{"$f":"B$11*IF(B$11>0,NORMDIST($AI66,B$58,$C$58/4,FALSE),0)","v":0},{"$f":"$B$12*IF($B$12>0,NORMDIST($AI66,B$59,$C$59/4,FALSE),0)","v":0},{"$f":"$B$13*IF($B$13>0,NORMDIST($AI66,B$60,$C$60/4,FALSE),0)","v":0},{"$f":"$B$14*IF($B$14>0,NORMDIST($AI66,$B$61,$C$61/4,FALSE),0)","v":0},{"$f":"$B$15*IF($B$15>0,NORMDIST($AI66,$B$62,$C$62/4,FALSE),0)","v":0},{"$f":"$B$16*IF($B$16>0,NORMDIST($AI66,$B$63,$C$63/4,FALSE),0)","v":0},{"$f":"IF($O$20<>0,SUM(AJ66:AU66)*$O$20+$N$20,-1)","v":11.000000000022837},null,2.2836801020908809E-11,{"$f":"IF(B$6>0,B$6*NORMDIST($AI66,F$53,G$53/4,FALSE),0)","v":0},{"$f":"IF(B$7>0,B$7*NORMDIST($AI66,F$54,G$54/4,FALSE),0)","v":0},{"$f":"IF(B$8>0,B$8*NORMDIST($AI66,F$55,G$55/4,FALSE),0)","v":0},{"$f":"IF(B$9>0,B$9*NORMDIST($AI66,F$56,G$56/4,FALSE),0)","v":0},{"$f":"IF(B$10>0,B$10*NORMDIST($AI66,F$57,G$57/4,FALSE),0)","v":0},{"$f":"IF(B$11>0,B$11*NORMDIST($AI66,F$58,G$58/4,FALSE),0)","v":0},{"$f":"IF($B$12>0,$B$12*NORMDIST($AI66,$F$59,$G$59/4,FALSE),0)","v":0},{"$f":"IF($B$13>0,$B$13*NORMDIST($AI66,$F$60,$G$60/4,FALSE),0)","v":0},{"$f":"IF($B$14>0,$B$14*NORMDIST($AI66,$F$61,$G$61/4,FALSE),0)","v":0},{"$f":"IF($B$15>0,$B$15*NORMDIST($AI66,$F$62,$G$62/4,FALSE),0)","v":0},{"$f":"IF($B$16>0,$B$16*NORMDIST($AI66,$F$63,$G$63/4,FALSE),0)","v":0},{"$f":"IF($O$22<>0,SUM(AX66:BI66)*$O$22+$N$22,-1)","v":15.000000000022837},null,{"$f":"$B$23*NORMDIST($AI66,$B$20,$B$20*$B$24,FALSE)","v":2.2836801020908809E-11},{"$f":"IF($B$6>0,$B$6*NORMDIST($AI66,$J$53,$K$53/4,FALSE),0)","v":0},{"$f":"IF($B$7>0,$B$7*NORMDIST($AI66,$J$54,$K$54/4,FALSE),0)","v":0},{"$f":"IF($B$8>0,$B$8*NORMDIST($AI66,$J$55,$K$55/4,FALSE),0)","v":0},{"$f":"IF($B$9>0,$B$9*NORMDIST($AI66,$J$56,$K$56/4,FALSE),0)","v":0},{"$f":"IF($B$10>0,$B$10*NORMDIST($AI66,$J$57,$K$57/4,FALSE),0)","v":0},{"$f":"IF($B$11>0,$B$11*NORMDIST($AI66,$J$58,$K$58/4,FALSE),0)","v":0},{"$f":"IF($B$12>0,$B$12*NORMDIST($AI66,$J$59,$K$59/4,FALSE),0)","v":0},{"$f":"IF($B$13>0,$B$13*NORMDIST($AI66,$J$60,$K$60/4,FALSE),0)","v":0},{"$f":"IF($B$14>0,$B$14*NORMDIST($AI66,$J$61,$K$61/4,FALSE),0)","v":0},{"$f":"IF($B$15>0,$B$15*NORMDIST($AI66,$J$62,$K$62/4,FALSE),0)","v":0},{"$f":"IF($B$16>0,$B$16*NORMDIST($AI66,$J$63,$K$63/4,FALSE),0)","v":0},{"$f":"IF($O$24<>0,SUM(BL66:BW66)*$O$24+$N$24,-1)","v":9.9999999999771632},null,{"$f":"$B$23*NORMDIST($AI66,$B$20,$B$20*$B$24,FALSE)","v":2.2836801020908809E-11},{"$f":"IF($B$6>0,$B$6*NORMDIST($AI66,$B$68,$C$68/4,FALSE),0)","v":0},{"$f":"IF($B$7>0,$B$7*NORMDIST($AI66,$B$69,$C$69/4,FALSE),0)","v":0},{"$f":"IF($B$8>0,$B$8*NORMDIST($AI66,$B$70,$C$70/4,FALSE),0)","v":0},{"$f":"IF($B$9>0,$B$9*NORMDIST($AI66,$B$71,$C$71/4,FALSE),0)","v":0},{"$f":"IF($B$10>0,$B$10*NORMDIST($AI66,$B$72,$C$72/4,FALSE),0)","v":0},{"$f":"IF($B$11>0,$B$11*NORMDIST($AI66,$B$73,$C$73/4,FALSE),0)","v":0},{"$f":"IF($B$12>0,$B$12*NORMDIST($AI66,$B$74,$C$74/4,FALSE),0)","v":0},{"$f":"IF($B$13>0,$B$13*NORMDIST($AI66,$B$75,$C$75/4,FALSE),0)","v":0},{"$f":"IF($B$14>0,$B$14*NORMDIST($AI66,$B$76,$C$76/4,FALSE),0)","v":0},{"$f":"IF($B$15>0,$B$15*NORMDIST($AI66,$B$77,$C$77/4,FALSE),0)","v":0},{"$f":"IF($B$16>0,$B$16*NORMDIST($AI66,$B$78,$C$78/4,FALSE),0)","v":0},{"$f":"IF($O$21<>0,SUM(BZ66:CK66)*$O$21+$N$21,-1)","v":-1},null,{"$f":"$B$23*NORMDIST($AI66,$B$20,$B$20*$B$24,FALSE)","v":2.2836801020908809E-11},{"$f":"IF($B$6>0,$B$6*NORMDIST($AI66,$F$68,$G$68/4,FALSE),0)","v":0},{"$f":"IF($B$7>0,$B$7*NORMDIST($AI66,$F$69,$G$69/4,FALSE),0)","v":0},{"$f":"IF($B$8>0,$B$8*NORMDIST($AI66,$F$70,$G$70/4,FALSE),0)","v":0},{"$f":"IF($B$9>0,$B$9*NORMDIST($AI66,$F$71,$G$71/4,FALSE),0)","v":0},{"$f":"IF($B$10>0,$B$10*NORMDIST($AI66,$F$72,$G$72/4,FALSE),0)","v":0},{"$f":"IF($B$11>0,$B$11*NORMDIST($AI66,$F$73,$G$73/4,FALSE),0)","v":0},{"$f":"IF($B$12>0,$B$12*NORMDIST($AI66,$F$74,$G$74/4,FALSE),0)","v":0},{"$f":"IF($B$13>0,$B$13*NORMDIST($AI66,$F$75,$G$75/4,FALSE),0)","v":0},{"$f":"IF($B$14>0,$B$14*NORMDIST($AI66,$F$76,$G$76/4,FALSE),0)","v":0},{"$f":"IF($B$15>0,$B$15*NORMDIST($AI66,$F$77,$G$77/4,FALSE),0)","v":0},{"$f":"IF($B$16>0,$B$16*NORMDIST($AI66,$F$78,$G$78/4,FALSE),0)","v":0},{"$f":"IF($O$23<>0,SUM(CN66:CY66)*$O$23+$N$23,-1)","v":-1}]
[null,"tR","w","a","RS","tR","w","a","RS",null,"Lin-Non","Lin-Non",null,null,"was not eluted within tmax.",null,null,null,null,null,null,null,null,null,null,null,null,null,null,null,25.599999999999973,{"$f":"IF($L$20>0,IF($AE67<$J$20,$H$20,IF($AE67<$J$20+$K$20,$H$20+((I$20-H$20)*($AE67-J$20)/K$20),$I$20)),$H$20)","v":0.71199999999999952},{"$f":"IF($L$22>0,IF($AE67<$J$22,$H$22,IF($AE67<$J$22+$K$22,$H$22+((I$22-H$22)*($AE67-J$22)/K$22),$I$22)),$H$22)","v":0.71199999999999952},null,{"$f":"AI66+$B$25","v":1.3000000000000007},6.0858013325717041E-13,0,0,0,0,0,0,0,0,0,0,0,{"$f":"IF($O$20<>0,SUM(AJ67:AU67)*$O$20+$N$20,-1)","v":11.000000000000609},null,{"$f":"$B$23*NORMDIST($AI67,$B$20,$B$24*$B$20,FALSE)","v":6.0858013325717041E-13},0,0,0,0,0,0,0,0,0,0,0,{"$f":"IF($O$22<>0,SUM(AX67:BI67)*$O$22+$N$22,-1)","v":15.000000000000609},null,6.0858013325717041E-13,0,0,0,0,0,0,0,0,0,0,0,{"$f":"IF($O$24<>0,SUM(BL67:BW67)*$O$24+$N$24,-1)","v":9.9999999999993907},null,6.0858013325717041E-13,0,0,0,0,0,0,0,0,0,0,0,{"$f":"IF($O$21<>0,SUM(BZ67:CK67)*$O$21+$N$21,-1)","v":-1},null,6.0858013325717041E-13,0,0,0,0,0,0,0,0,0,0,0,{"$f":"IF($O$23<>0,SUM(CN67:CY67)*$O$23+$N$23,-1)","v":-1}]
[1,2.6,7.5697072582417035E-2,{"$f":"IF(AND(B6>0,B69>B68),(B69-$B$20)/(B68-$B$20),\"\")","v":3.4},{"$f":"IF(D68<>\"\",2*ABS(B69-B68)/(C69+C68),\"\")","v":33.29058725826269},3.65,0.11414637929094663,{"$f":"IF(AND(B6>0,F69>F68),(F69-$B$20)/(F68-$B$20),\"\")","v":2.8433962264150945},{"$f":"IF(H68<>\"\",2*ABS(F69-F68)/(G69+G68),\"\")","v":31.273945914733289},null,{"$f":"IF(AND(B68<>\"\",B68<999),B53-B68,\"\")","v":0.12863240147185273},{"$f":"IF(AND(F68<>\"\",F68<999),F53-F68,\"\")","v":7.1182043406449402E-2},null,null,null,null,null,null,null,null,null,null,null,null,null,null,null,null,null,null,{"$f":"AE67+$B$22/100","v":25.999999999999972},{"$f":"IF($L$20>0,IF($AE68<$J$20,$H$20,IF($AE68<$J$20+$K$20,$H$20+((I$20-H$20)*($AE68-J$20)/K$20),$I$20)),$H$20)","v":0.71999999999999953},{"$f":"IF($L$22>0,IF($AE68<$J$22,$H$22,IF($AE68<$J$22+$K$22,$H$22+((I$22-H$22)*($AE68-J$22)/K$22),$I$22)),$H$22)","v":0.71999999999999953},null,1.3200000000000007,1.2630677708840436E-14,0,0,0,0,0,0,0,0,0,0,0,{"$f":"IF($O$20<>0,SUM(AJ68:AU68)*$O$20+$N$20,-1)","v":11.000000000000012},null,1.2630677708840436E-14,0,0,0,0,0,0,0,0,0,0,0,{"$f":"IF($O$22<>0,SUM(AX68:BI68)*$O$22+$N$22,-1)","v":15.000000000000012},null,1.2630677708840436E-14,0,0,0,0,0,0,0,0,0,0,0,{"$f":"IF($O$24<>0,SUM(BL68:BW68)*$O$24+$N$24,-1)","v":9.9999999999999876},null,1.2630677708840436E-14,0,0,0,0,0,0,0,0,0,0,0,{"$f":"IF($O$21<>0,SUM(BZ68:CK68)*$O$21+$N$21,-1)","v":-1},null,1.2630677708840436E-14,0,0,0,0,0,0,0,0,0,0,0,{"$f":"IF($O$23<>0,SUM(CN68:CY68)*$O$23+$N$23,-1)","v":-1}]
[2,6.44,0.15499876766875884,1.8354779411764703,25.050615743179403,8.5350000000000001,0.19825423771585426,{"$f":"IF(AND(B7>0,F70>F69),(F70-$B$20)/(F69-$B$20),\"\")","v":1.9230258792302588},31.120434728658179,null,{"$f":"IF(AND(B69<>\"\",B69<999),B54-B69,\"\")","v":0.43929949678587921},{"$f":"IF(AND(F69<>\"\",F69<999),F54-F69,\"\")","v":2.3861146830483904E-4},null,"Nonlinear simulation in VBA",null,null,null,null,null,null,null,null,null,null,null,null,null,null,null,null,26.39999999999997,{"$f":"IF($L$20>0,IF($AE69<$J$20,$H$20,IF($AE69<$J$20+$K$20,$H$20+((I$20-H$20)*($AE69-J$20)/K$20),$I$20)),$H$20)","v":0.72799999999999931},{"$f":"IF($L$22>0,IF($AE69<$J$22,$H$22,IF($AE69<$J$22+$K$22,$H$22+((I$22-H$22)*($AE69-J$22)/K$22),$I$22)),$H$22)","v":0.72799999999999931},null,1.3400000000000007,2.041558907917083E-16,0,0,0,0,0,0,0,0,0,0,0,{"$f":"IF($O$20<>0,SUM(AJ69:AU69)*$O$20+$N$20,-1)","v":11},null,2.041558907917083E-16,0,0,0,0,0,0,0,0,0,0,0,{"$f":"IF($O$22<>0,SUM(AX69:BI69)*$O$22+$N$22,-1)","v":15},null,2.041558907917083E-16,0,0,0,0,0,0,0,0,0,0,0,{"$f":"IF($O$24<>0,SUM(BL69:BW69)*$O$24+$N$24,-1)","v":10},null,2.041558907917083E-16,0,0,0,0,0,0,0,0,0,0,0,{"$f":"IF($O$21<>0,SUM(BZ69:CK69)*$O$21+$N$21,-1)","v":-1},null,2.041558907917083E-16,0,0,0,0,0,0,0,0,0,0,0,{"$f":"IF($O$23<>0,SUM(CN69:CY69)*$O$23+$N$23,-1)","v":-1}]
[3,10.984999999999999,0.20786656439298726,1.1046569854782176,{"$f":"IF(D70<>\"\",2*ABS(B71-B70)/(C71+C70),\"\")","v":5.0564918146634534},15.49,0.24871895277079925,1.1280193236714975,7.6808506671737726,null,0.48058483511086791,-0.27662105882075494,null,"Column",1,2,null,null,null,null,null,null,null,null,null,null,null,null,null,null,26.799999999999969,{"$f":"IF($L$20>0,IF($AE70<$J$20,$H$20,IF($AE70<$J$20+$K$20,$H$20+((I$20-H$20)*($AE70-J$20)/K$20),$I$20)),$H$20)","v":0.73599999999999932},{"$f":"IF($L$22>0,IF($AE70<$J$22,$H$22,IF($AE70<$J$22+$K$22,$H$22+((I$22-H$22)*($AE70-J$22)/K$22),$I$22)),$H$22)","v":0.73599999999999932},null,1.3600000000000008,2.5699433929167721E-18,0,0,0,0,0,0,0,0,0,0,0,{"$f":"IF($O$20<>0,SUM(AJ70:AU70)*$O$20+$N$20,-1)","v":11},null,2.5699433929167721E-18,0,0,0,0,0,0,0,0,0,0,0,{"$f":"IF($O$22<>0,SUM(AX70:BI70)*$O$22+$N$22,-1)","v":15},null,2.5699433929167721E-18,0,0,0,0,0,0,0,0,0,0,0,{"$f":"IF($O$24<>0,SUM(BL70:BW70)*$O$24+$N$24,-1)","v":10},null,2.5699433929167721E-18,0,0,0,0,0,0,0,0,0,0,0,{"$f":"IF($O$21<>0,SUM(BZ70:CK70)*$O$21+$N$21,-1)","v":-1},null,2.5699433929167721E-18,0,0,0,0,0,0,0,0,0,0,0,{"$f":"IF($O$23<>0,SUM(CN70:CY70)*$O$23+$N$23,-1)","v":-1}]
[4,12.030000000000001,0.20546348272370296,1.6514052583862193,{"$f":"IF(D71<>\"\",2*ABS(B72-B71)/(C72+C71),\"\")","v":35.38356056961797},17.344999999999999,0.23430046275510105,1.5029060874885287,{"$f":"IF(H71<>\"\",2*ABS(F72-F71)/(G72+G71),\"\")","v":43.574622175624057},null,0.70232905051212313,-0.25801842439958023,null,"CPU s",5.419921875,5.59375,null,null,null,null,null,null,null,null,null,null,null,null,null,null,27.199999999999967,{"$f":"IF($L$20>0,IF($AE71<$J$20,$H$20,IF($AE71<$J$20+$K$20,$H$20+((I$20-H$20)*($AE71-J$20)/K$20),$I$20)),$H$20)","v":0.74399999999999933},{"$f":"IF($L$22>0,IF($AE71<$J$22,$H$22,IF($AE71<$J$22+$K$22,$H$22+((I$22-H$22)*($AE71-J$22)/K$22),$I$22)),$H$22)","v":0.74399999999999933},null,1.3800000000000008,2.5194838485745371E-20,0,0,0,0,0,0,0,0,0,0,0,{"$f":"IF($O$20<>0,SUM(AJ71:AU71)*$O$20+$N$20,-1)","v":11},null,2.5194838485745371E-20,0,0,0,0,0,0,0,0,0,0,0,{"$f":"IF($O$22<>0,SUM(AX71:BI71)*$O$22+$N$22,-1)","v":15},null,2.5194838485745371E-20,0,0,0,0,0,0,0,0,0,0,0,{"$f":"IF($O$24<>0,SUM(BL71:BW71)*$O$24+$N$24,-1)","v":10},null,2.5194838485745371E-20,0,0,0,0,0,0,0,0,0,0,0,{"$f":"IF($O$21<>0,SUM(BZ71:CK71)*$O$21+$N$21,-1)","v":-1},null,2.5194838485745371E-20,0,0,0,0,0,0,0,0,0,0,0,{"$f":"IF($O$23<>0,SUM(CN71:CY71)*$O$23+$N$23,-1)","v":-1}]
[5,19.215,0.20065731938513773,1.0842712050507823,7.6043231311656543,25.565000000000001,0.14298335932234324,1.0400976999796459,{"$f":"IF(H72<>\"\",2*ABS(F73-F72)/(G73+G72),\"\")","v":7.2546965595992985},null,0.262716559770098,0.80462854463694811,null,"Loops",12801600,12801600,null,null,null,null,null,null,null,null,null,null,null,null,null,null,27.599999999999966,{"$f":"IF($L$20>0,IF($AE72<$J$20,$H$20,IF($AE72<$J$20+$K$20,$H$20+((I$20-H$20)*($AE72-J$20)/K$20),$I$20)),$H$20)","v":0.75199999999999934},{"$f":"IF($L$22>0,IF($AE72<$J$22,$H$22,IF($AE72<$J$22+$K$22,$H$22+((I$22-H$22)*($AE72-J$22)/K$22),$I$22)),$H$22)","v":0.75199999999999934},null,1.4000000000000008,1.9236496566762224E-22,0,0,0,0,0,0,0,0,0,0,0,{"$f":"IF($O$20<>0,SUM(AJ72:AU72)*$O$20+$N$20,-1)","v":11},null,1.9236496566762224E-22,0,0,0,0,0,0,0,0,0,0,0,{"$f":"IF($O$22<>0,SUM(AX72:BI72)*$O$22+$N$22,-1)","v":15},null,1.9236496566762224E-22,0,0,0,0,0,0,0,0,0,0,0,{"$f":"IF($O$24<>0,SUM(BL72:BW72)*$O$24+$N$24,-1)","v":10},null,1.9236496566762224E-22,0,0,0,0,0,0,0,0,0,0,0,{"$f":"IF($O$21<>0,SUM(BZ72:CK72)*$O$21+$N$21,-1)","v":-1},null,1.9236496566762224E-22,0,0,0,0,0,0,0,0,0,0,0,{"$f":"IF($O$23<>0,SUM(CN72:CY72)*$O$23+$N$23,-1)","v":-1}]
[6,20.75,0.20306040105442033,1.2762025316455696,29.673227695069212,26.55,0.12856486930664418,1.2510763209393347,45.632290013196013,null,-0.23759158079428744,1.0195633327738065,null,null,null,null,null,null,null,null,null,null,null,null,null,null,null,null,null,null,27.999999999999964,{"$f":"IF($L$20>0,IF($AE73<$J$20,$H$20,IF($AE73<$J$20+$K$20,$H$20+((I$20-H$20)*($AE73-J$20)/K$20),$I$20)),$H$20)","v":0.75999999999999934},{"$f":"IF($L$22>0,IF($AE73<$J$22,$H$22,IF($AE73<$J$22+$K$22,$H$22+((I$22-H$22)*($AE73-J$22)/K$22),$I$22)),$H$22)","v":0.75999999999999934},null,1.4200000000000008,1.1438438976299659E-24,0,0,0,0,0,0,0,0,0,0,0,{"$f":"IF($O$20<>0,SUM(AJ73:AU73)*$O$20+$N$20,-1)","v":11},null,1.1438438976299659E-24,0,0,0,0,0,0,0,0,0,0,0,{"$f":"IF($O$22<>0,SUM(AX73:BI73)*$O$22+$N$22,-1)","v":15},null,1.1438438976299659E-24,0,0,0,0,0,0,0,0,0,0,0,{"$f":"IF($O$24<>0,SUM(BL73:BW73)*$O$24+$N$24,-1)","v":10},null,1.1438438976299659E-24,0,0,0,0,0,0,0,0,0,0,0,{"$f":"IF($O$21<>0,SUM(BZ73:CK73)*$O$21+$N$21,-1)","v":-1},null,1.1438438976299659E-24,0,0,0,0,0,0,0,0,0,0,0,{"$f":"IF($O$23<>0,SUM(CN73:CY73)*$O$23+$N$23,-1)","v":-1}]
[7,26.205000000000002,0.16461109434589011,1.1940091251735767,31.066979330707063,32.965000000000003,0.15259568599947365,1.1520412951665884,35.172229146773411,null,-1.0254304185585532,0.22062245574538508,null,null,null,null,null,null,null,null,null,null,null,null,null,null,null,null,null,null,28.399999999999963,{"$f":"IF($L$20>0,IF($AE74<$J$20,$H$20,IF($AE74<$J$20+$K$20,$H$20+((I$20-H$20)*($AE74-J$20)/K$20),$I$20)),$H$20)","v":0.76799999999999935},{"$f":"IF($L$22>0,IF($AE74<$J$22,$H$22,IF($AE74<$J$22+$K$22,$H$22+((I$22-H$22)*($AE74-J$22)/K$22),$I$22)),$H$22)","v":0.76799999999999935},null,1.4400000000000008,5.2970481337721417E-27,0,0,0,0,0,0,0,0,0,0,0,{"$f":"IF($O$20<>0,SUM(AJ74:AU74)*$O$20+$N$20,-1)","v":11},null,5.2970481337721417E-27,0,0,0,0,0,0,0,0,0,0,0,{"$f":"IF($O$22<>0,SUM(AX74:BI74)*$O$22+$N$22,-1)","v":15},null,5.2970481337721417E-27,0,0,0,0,0,0,0,0,0,0,0,{"$f":"IF($O$24<>0,SUM(BL74:BW74)*$O$24+$N$24,-1)","v":10},null,5.2970481337721417E-27,0,0,0,0,0,0,0,0,0,0,0,{"$f":"IF($O$21<>0,SUM(BZ74:CK74)*$O$21+$N$21,-1)","v":-1},null,5.2970481337721417E-27,0,0,0,0,0,0,0,0,0,0,0,{"$f":"IF($O$23<>0,SUM(CN74:CY74)*$O$23+$N$23,-1)","v":-1}]
[8,31.095000000000002,0.15019260433019277,"","",37.825000000000003,0.12375870596807897,"","",null,-3.0484374681900199,-0.7015106787839045,null,null,null,null,null,null,null,null,null,null,null,null,null,null,null,null,null,null,28.799999999999962,{"$f":"IF($L$20>0,IF($AE75<$J$20,$H$20,IF($AE75<$J$20+$K$20,$H$20+((I$20-H$20)*($AE75-J$20)/K$20),$I$20)),$H$20)","v":0.77599999999999936},{"$f":"IF($L$22>0,IF($AE75<$J$22,$H$22,IF($AE75<$J$22+$K$22,$H$22+((I$22-H$22)*($AE75-J$22)/K$22),$I$22)),$H$22)","v":0.77599999999999936},null,1.4600000000000009,1.9104138528963398E-29,0,0,0,0,0,0,0,0,0,0,0,{"$f":"IF($O$20<>0,SUM(AJ75:AU75)*$O$20+$N$20,-1)","v":11},null,1.9104138528963398E-29,0,0,0,0,0,0,0,0,0,0,0,{"$f":"IF($O$22<>0,SUM(AX75:BI75)*$O$22+$N$22,-1)","v":15},null,1.9104138528963398E-29,0,0,0,0,0,0,0,0,0,0,0,{"$f":"IF($O$24<>0,SUM(BL75:BW75)*$O$24+$N$24,-1)","v":10},null,1.9104138528963398E-29,0,0,0,0,0,0,0,0,0,0,0,{"$f":"IF($O$21<>0,SUM(BZ75:CK75)*$O$21+$N$21,-1)","v":-1},null,1.9104138528963398E-29,0,0,0,0,0,0,0,0,0,0,0,{"$f":"IF($O$23<>0,SUM(CN75:CY75)*$O$23+$N$23,-1)","v":-1}]
[9,null,null,"","",null,null,"","",null,{"$f":"IF(AND(B76<>\"\",B76<999),B61-B76,\"\")","v":""},"",null,null,null,null,null,null,null,null,null,null,null,null,null,null,null,null,null,null,29.19999999999996,{"$f":"IF($L$20>0,IF($AE76<$J$20,$H$20,IF($AE76<$J$20+$K$20,$H$20+((I$20-H$20)*($AE76-J$20)/K$20),$I$20)),$H$20)","v":0.78399999999999936},{"$f":"IF($L$22>0,IF($AE76<$J$22,$H$22,IF($AE76<$J$22+$K$22,$H$22+((I$22-H$22)*($AE76-J$22)/K$22),$I$22)),$H$22)","v":0.78399999999999936},null,1.4800000000000009,5.3659593391562793E-32,0,0,0,0,0,0,0,0,0,0,0,{"$f":"IF($O$20<>0,SUM(AJ76:AU76)*$O$20+$N$20,-1)","v":11},null,5.3659593391562793E-32,0,0,0,0,0,0,0,0,0,0,0,{"$f":"IF($O$22<>0,SUM(AX76:BI76)*$O$22+$N$22,-1)","v":15},null,5.3659593391562793E-32,0,0,0,0,0,0,0,0,0,0,0,{"$f":"IF($O$24<>0,SUM(BL76:BW76)*$O$24+$N$24,-1)","v":10},null,5.3659593391562793E-32,0,0,0,0,0,0,0,0,0,0,0,{"$f":"IF($O$21<>0,SUM(BZ76:CK76)*$O$21+$N$21,-1)","v":-1},null,5.3659593391562793E-32,0,0,0,0,0,0,0,0,0,0,0,{"$f":"IF($O$23<>0,SUM(CN76:CY76)*$O$23+$N$23,-1)","v":-1}]
[10,null,null,"","",null,null,"","",null,"","",null,null,null,null,null,null,null,null,null,null,null,null,null,null,null,null,null,null,29.599999999999959,{"$f":"IF($L$20>0,IF($AE77<$J$20,$H$20,IF($AE77<$J$20+$K$20,$H$20+((I$20-H$20)*($AE77-J$20)/K$20),$I$20)),$H$20)","v":0.79199999999999915},{"$f":"IF($L$22>0,IF($AE77<$J$22,$H$22,IF($AE77<$J$22+$K$22,$H$22+((I$22-H$22)*($AE77-J$22)/K$22),$I$22)),$H$22)","v":0.79199999999999915},null,1.5000000000000009,1.1737988394934697E-34,0,0,0,0,0,0,0,0,0,0,0,{"$f":"IF($O$20<>0,SUM(AJ77:AU77)*$O$20+$N$20,-1)","v":11},null,1.1737988394934697E-34,0,0,0,0,0,0,0,0,0,0,0,{"$f":"IF($O$22<>0,SUM(AX77:BI77)*$O$22+$N$22,-1)","v":15},null,1.1737988394934697E-34,0,0,0,0,0,0,0,0,0,0,0,{"$f":"IF($O$24<>0,SUM(BL77:BW77)*$O$24+$N$24,-1)","v":10},null,1.1737988394934697E-34,0,0,0,0,0,0,0,0,0,0,0,{"$f":"IF($O$21<>0,SUM(BZ77:CK77)*$O$21+$N$21,-1)","v":-1},null,1.1737988394934697E-34,0,0,0,0,0,0,0,0,0,0,0,{"$f":"IF($O$23<>0,SUM(CN77:CY77)*$O$23+$N$23,-1)","v":-1}]
[11,null,null,"","",null,null,"","",null,"","",null,null,null,null,null,null,null,null,null,null,null,null,null,null,null,null,null,null,29.999999999999957,{"$f":"IF($L$20>0,IF($AE78<$J$20,$H$20,IF($AE78<$J$20+$K$20,$H$20+((I$20-H$20)*($AE78-J$20)/K$20),$I$20)),$H$20)","v":0.79999999999999916},{"$f":"IF($L$22>0,IF($AE78<$J$22,$H$22,IF($AE78<$J$22+$K$22,$H$22+((I$22-H$22)*($AE78-J$22)/K$22),$I$22)),$H$22)","v":0.79999999999999916},null,1.5200000000000009,1.9997069392511063E-37,0,0,0,0,0,0,0,0,0,0,0,{"$f":"IF($O$20<>0,SUM(AJ78:AU78)*$O$20+$N$20,-1)","v":11},null,1.9997069392511063E-37,0,0,0,0,0,0,0,0,0,0,0,{"$f":"IF($O$22<>0,SUM(AX78:BI78)*$O$22+$N$22,-1)","v":15},null,1.9997069392511063E-37,0,0,0,0,0,0,0,0,0,0,0,{"$f":"IF($O$24<>0,SUM(BL78:BW78)*$O$24+$N$24,-1)","v":10},null,1.9997069392511063E-37,0,0,0,0,0,0,0,0,0,0,0,{"$f":"IF($O$21<>0,SUM(BZ78:CK78)*$O$21+$N$21,-1)","v":-1},null,1.9997069392511063E-37,0,0,0,0,0,0,0,0,0,0,0,{"$f":"IF($O$23<>0,SUM(CN78:CY78)*$O$23+$N$23,-1)","v":-1}]
["Min",null,null,null,{"$f":"MIN(E68:E78)","v":5.0564918146634534},null,null,null,{"$f":"MIN(I68:I78)","v":7.2546965595992985},"Max",{"$f":"MAX(K68:K78,-MIN(K68:K78))","v":3.0484374681900199},{"$f":"MAX(L68:L78,-MIN(L68:L78))","v":1.0195633327738065},null,null,null,null,null,null,null,null,null,null,null,null,null,null,null,null,null,null,30.399999999999956,{"$f":"IF($L$20>0,IF($AE79<$J$20,$H$20,IF($AE79<$J$20+$K$20,$H$20+((I$20-H$20)*($AE79-J$20)/K$20),$I$20)),$H$20)","v":0.80799999999999916},{"$f":"IF($L$22>0,IF($AE79<$J$22,$H$22,IF($AE79<$J$22+$K$22,$H$22+((I$22-H$22)*($AE79-J$22)/K$22),$I$22)),$H$22)","v":0.80799999999999916},null,1.5400000000000009,2.6531720347872112E-40,0,0,0,0,0,0,0,0,0,0,0,{"$f":"IF($O$20<>0,SUM(AJ79:AU79)*$O$20+$N$20,-1)","v":11},null,2.6531720347872112E-40,0,0,0,0,0,0,0,0,0,0,0,{"$f":"IF($O$22<>0,SUM(AX79:BI79)*$O$22+$N$22,-1)","v":15},null,2.6531720347872112E-40,0,0,0,0,0,0,0,0,0,0,0,{"$f":"IF($O$24<>0,SUM(BL79:BW79)*$O$24+$N$24,-1)","v":10},null,2.6531720347872112E-40,0,0,0,0,0,0,0,0,0,0,0,{"$f":"IF($O$21<>0,SUM(BZ79:CK79)*$O$21+$N$21,-1)","v":-1},null,2.6531720347872112E-40,0,0,0,0,0,0,0,0,0,0,0,{"$f":"IF($O$23<>0,SUM(CN79:CY79)*$O$23+$N$23,-1)","v":-1}]
[null,null,null,null,null,null,null,null,null,null,null,null,null,null,null,null,null,null,null,null,null,null,null,null,null,null,null,null,null,null,30.799999999999955,{"$f":"IF($L$20>0,IF($AE80<$J$20,$H$20,IF($AE80<$J$20+$K$20,$H$20+((I$20-H$20)*($AE80-J$20)/K$20),$I$20)),$H$20)","v":0.81599999999999917},{"$f":"IF($L$22>0,IF($AE80<$J$22,$H$22,IF($AE80<$J$22+$K$22,$H$22+((I$22-H$22)*($AE80-J$22)/K$22),$I$22)),$H$22)","v":0.81599999999999917},null,1.5600000000000009,2.7415163984715326E-43,0,0,0,0,0,0,0,0,0,0,0,{"$f":"IF($O$20<>0,SUM(AJ80:AU80)*$O$20+$N$20,-1)","v":11},null,2.7415163984715326E-43,0,0,0,0,0,0,0,0,0,0,0,{"$f":"IF($O$22<>0,SUM(AX80:BI80)*$O$22+$N$22,-1)","v":15},null,2.7415163984715326E-43,0,0,0,0,0,0,0,0,0,0,0,{"$f":"IF($O$24<>0,SUM(BL80:BW80)*$O$24+$N$24,-1)","v":10},null,2.7415163984715326E-43,0,0,0,0,0,0,0,0,0,0,0,{"$f":"IF($O$21<>0,SUM(BZ80:CK80)*$O$21+$N$21,-1)","v":-1},null,2.7415163984715326E-43,0,0,0,0,0,0,0,0,0,0,0,{"$f":"IF($O$23<>0,SUM(CN80:CY80)*$O$23+$N$23,-1)","v":-1}]
["Calc",null,null,{"$f":"C51","v":"Chromlith/ACN"},null,null,null,null,null,null,"LSS Parameters Column 1:",null,null,null,"ko","k' at start of program",null,null,null,null,null,null,null,null,null,null,null,null,null,null,31.199999999999953,{"$f":"IF($L$20>0,IF($AE81<$J$20,$H$20,IF($AE81<$J$20+$K$20,$H$20+((I$20-H$20)*($AE81-J$20)/K$20),$I$20)),$H$20)","v":0.82399999999999918},{"$f":"IF($L$22>0,IF($AE81<$J$22,$H$22,IF($AE81<$J$22+$K$22,$H$22+((I$22-H$22)*($AE81-J$22)/K$22),$I$22)),$H$22)","v":0.82399999999999918},null,1.580000000000001,2.2061887436479535E-46,0,0,0,0,0,0,0,0,0,0,0,{"$f":"IF($O$20<>0,SUM(AJ81:AU81)*$O$20+$N$20,-1)","v":11},null,2.2061887436479535E-46,0,0,0,0,0,0,0,0,0,0,0,{"$f":"IF($O$22<>0,SUM(AX81:BI81)*$O$22+$N$22,-1)","v":15},null,2.2061887436479535E-46,0,0,0,0,0,0,0,0,0,0,0,{"$f":"IF($O$24<>0,SUM(BL81:BW81)*$O$24+$N$24,-1)","v":10},null,2.2061887436479535E-46,0,0,0,0,0,0,0,0,0,0,0,{"$f":"IF($O$21<>0,SUM(BZ81:CK81)*$O$21+$N$21,-1)","v":-1},null,2.2061887436479535E-46,0,0,0,0,0,0,0,0,0,0,0,{"$f":"IF($O$23<>0,SUM(CN81:CY81)*$O$23+$N$23,-1)","v":-1}]
["Param","b","ko",{"$f":"IF(B83=0,\"k'\",\"k*\")","v":"k*"},{"$f":"IF(B83=0,\"\",\"k**\")","v":"k**"},"ke","tRuncorr","tR-tD-tG","tadd",null,"kw","log(kw)","Slope",null,"b","program steepness",null,null,null,null,null,null,null,null,null,null,null,null,null,null,31.599999999999952,{"$f":"IF($L$20>0,IF($AE82<$J$20,$H$20,IF($AE82<$J$20+$K$20,$H$20+((I$20-H$20)*($AE82-J$20)/K$20),$I$20)),$H$20)","v":0.83199999999999896},{"$f":"IF($L$22>0,IF($AE82<$J$22,$H$22,IF($AE82<$J$22+$K$22,$H$22+((I$22-H$22)*($AE82-J$22)/K$22),$I$22)),$H$22)","v":0.83199999999999896},null,1.600000000000001,1.3826773874605931E-49,0,0,0,0,0,0,0,0,0,0,0,{"$f":"IF($O$20<>0,SUM(AJ82:AU82)*$O$20+$N$20,-1)","v":11},null,1.3826773874605931E-49,0,0,0,0,0,0,0,0,0,0,0,{"$f":"IF($O$22<>0,SUM(AX82:BI82)*$O$22+$N$22,-1)","v":15},null,1.3826773874605931E-49,0,0,0,0,0,0,0,0,0,0,0,{"$f":"IF($O$24<>0,SUM(BL82:BW82)*$O$24+$N$24,-1)","v":10},null,1.3826773874605931E-49,0,0,0,0,0,0,0,0,0,0,0,{"$f":"IF($O$21<>0,SUM(BZ82:CK82)*$O$21+$N$21,-1)","v":-1},null,1.3826773874605931E-49,0,0,0,0,0,0,0,0,0,0,0,{"$f":"IF($O$23<>0,SUM(CN82:CY82)*$O$23+$N$23,-1)","v":-1}]
[1,{"$f":"IF(B6>0,IF($L$20>0,$B$20*$L$20*M83/$K$20,0),\"\")","v":4.5777133714285712E-2},{"$f":"IF(B6>0,K$83*10^(-M$83*$H$20),\"\")","v":1.8961346278237452},{"$f":"IF(B6>0,IF($D$82=\"k'\",C83,C83/(LN(10)*B83*(C83/2-$J$20/$B$20)+1)),\"\")","v":1.7238657228424736},{"$f":"IF(AND(B6>0,B83>0),1/(1.15*B83),\"\")","v":18.995623946632954},{"$f":"IF(B6>0,K83*10^(-M83*$I$20),\"\")","v":2.7975884155787924E-2},{"$f":"IF(B6>0,IF(B83>0,IF($J$20<$B$20*C83,($B$20/B83)*LOG(LN(10)*C83*B83*(1-$J$20/($B$20*C83))+1)+$B$20+$J$20,$B$20*(1+C83)),$B$20*(1+D83)),\"\")","v":2.7286324014718528},{"$f":"IF(B6>0,IF(G83>$K$20+$J$20,G83-$K$20-$J$20,0),\"\")","v":0},{"$f":"IF(AND(B6>0,B83>0),(1+F83)*MIN(H83*B83/(LOG(LN(10)*F83*B83+1)+B83),$B$20),\"\")","v":0},null,{"$f":"IF($B6>0,10^L83,\"\")","v":5.4405211964704359},{"$f":"IF(C6<>\"\",SPmodel!J7+LOG($G$20),\"\")","v":0.73564050666666669},{"$f":"SPmodel!K7","v":2.2888566857142854},null,"k*","k' at the center of the column for a program",null,null,null,null,null,null,null,null,null,null,null,null,null,null,31.99999999999995,{"$f":"IF($L$20>0,IF($AE83<$J$20,$H$20,IF($AE83<$J$20+$K$20,$H$20+((I$20-H$20)*($AE83-J$20)/K$20),$I$20)),$H$20)","v":0.83999999999999897},{"$f":"IF($L$22>0,IF($AE83<$J$22,$H$22,IF($AE83<$J$22+$K$22,$H$22+((I$22-H$22)*($AE83-J$22)/K$22),$I$22)),$H$22)","v":0.83999999999999897},null,1.620000000000001,6.7487825614688785E-53,0,0,0,0,0,0,0,0,0,0,0,{"$f":"IF($O$20<>0,SUM(AJ83:AU83)*$O$20+$N$20,-1)","v":11},null,6.7487825614688785E-53,0,0,0,0,0,0,0,0,0,0,0,{"$f":"IF($O$22<>0,SUM(AX83:BI83)*$O$22+$N$22,-1)","v":15},null,6.7487825614688785E-53,0,0,0,0,0,0,0,0,0,0,0,{"$f":"IF($O$24<>0,SUM(BL83:BW83)*$O$24+$N$24,-1)","v":10},null,6.7487825614688785E-53,0,0,0,0,0,0,0,0,0,0,0,{"$f":"IF($O$21<>0,SUM(BZ83:CK83)*$O$21+$N$21,-1)","v":-1},null,6.7487825614688785E-53,0,0,0,0,0,0,0,0,0,0,0,{"$f":"IF($O$23<>0,SUM(CN83:CY83)*$O$23+$N$23,-1)","v":-1}]
[2,{"$f":"IF(B7>0,IF($L$20>0,$B$20*$L$20*M84/$K$20,0),\"\")","v":6.7074193142857147E-2},{"$f":"IF(B7>0,K$84*10^(-M$84*$H$20),\"\")","v":9.5789729877601069},{"$f":"IF(B7>0,IF($D$82=\"k'\",C84,C84/(LN(10)*B84*(C84/2-$J$20/$B$20)+1)),\"\")","v":5.5060820679597517},12.964229260861501,{"$f":"IF(B7>0,K84*10^(-M84*$I$20),\"\")","v":1.9877017627189537E-2},{"$f":"IF(B7>0,IF(B84>0,IF($J$20<$B$20*C84,($B$20/B84)*LOG(LN(10)*C84*B84*(1-$J$20/($B$20*C84))+1)+$B$20+$J$20,$B$20*(1+C84)),$B$20*(1+D84)),\"\")","v":6.8792994967858796},{"$f":"IF(B7>0,IF(G84>$K$20+$J$20,G84-$K$20-$J$20,0),\"\")","v":0},0,null,44.880830009068269,{"$f":"IF(C7<>\"\",SPmodel!J8+LOG($G$20),\"\")","v":1.6520608800000005},{"$f":"SPmodel!K8","v":3.3537096571428573},null,"k**:     ","k* without correction for ko",null,null,null,null,null,null,null,null,null,null,null,null,null,null,32.399999999999949,{"$f":"IF($L$20>0,IF($AE84<$J$20,$H$20,IF($AE84<$J$20+$K$20,$H$20+((I$20-H$20)*($AE84-J$20)/K$20),$I$20)),$H$20)","v":0.84799999999999898},{"$f":"IF($L$22>0,IF($AE84<$J$22,$H$22,IF($AE84<$J$22+$K$22,$H$22+((I$22-H$22)*($AE84-J$22)/K$22),$I$22)),$H$22)","v":0.84799999999999898},null,1.640000000000001,2.5654076819787384E-56,0,0,0,0,0,0,0,0,0,0,0,{"$f":"IF($O$20<>0,SUM(AJ84:AU84)*$O$20+$N$20,-1)","v":11},null,2.5654076819787384E-56,0,0,0,0,0,0,0,0,0,0,0,{"$f":"IF($O$22<>0,SUM(AX84:BI84)*$O$22+$N$22,-1)","v":15},null,2.5654076819787384E-56,0,0,0,0,0,0,0,0,0,0,0,{"$f":"IF($O$24<>0,SUM(BL84:BW84)*$O$24+$N$24,-1)","v":10},null,2.5654076819787384E-56,0,0,0,0,0,0,0,0,0,0,0,{"$f":"IF($O$21<>0,SUM(BZ84:CK84)*$O$21+$N$21,-1)","v":-1},null,2.5654076819787384E-56,0,0,0,0,0,0,0,0,0,0,0,{"$f":"IF($O$23<>0,SUM(CN84:CY84)*$O$23+$N$23,-1)","v":-1}]
[3,{"$f":"IF(B8>0,IF($L$20>0,$B$20*$L$20*M85/$K$20,0),\"\")","v":7.0602114857142864E-2},{"$f":"IF(B8>0,K$85*10^(-M$85*$H$20),\"\")","v":27.56648829912432},{"$f":"IF(B8>0,IF($D$82=\"k'\",C85,C85/(LN(10)*B85*(C85/2-$J$20/$B$20)+1)),\"\")","v":8.506322254671181},12.316418837463901,{"$f":"IF(B8>0,K85*10^(-M85*$I$20),\"\")","v":4.133299261674566E-2},{"$f":"IF(B8>0,IF(B85>0,IF($J$20<$B$20*C85,($B$20/B85)*LOG(LN(10)*C85*B85*(1-$J$20/($B$20*C85))+1)+$B$20+$J$20,$B$20*(1+C85)),$B$20*(1+D85)),\"\")","v":11.465584835110867},{"$f":"IF(B8>0,IF(G85>$K$20+$J$20,G85-$K$20-$J$20,0),\"\")","v":0},0,null,140.08853491353,{"$f":"IF(C8<>\"\",SPmodel!J9+LOG($G$20),\"\")","v":2.1464025933333333},{"$f":"SPmodel!K9","v":3.5301057428571427},null,"tRuncorr","tR for an unlimited program",null,null,null,null,null,null,null,null,null,null,null,null,null,null,32.799999999999947,{"$f":"IF($L$20>0,IF($AE85<$J$20,$H$20,IF($AE85<$J$20+$K$20,$H$20+((I$20-H$20)*($AE85-J$20)/K$20),$I$20)),$H$20)","v":0.85599999999999898},{"$f":"IF($L$22>0,IF($AE85<$J$22,$H$22,IF($AE85<$J$22+$K$22,$H$22+((I$22-H$22)*($AE85-J$22)/K$22),$I$22)),$H$22)","v":0.85599999999999898},null,1.660000000000001,7.5947542469717854E-60,0,0,0,0,0,0,0,0,0,0,0,{"$f":"IF($O$20<>0,SUM(AJ85:AU85)*$O$20+$N$20,-1)","v":11},null,7.5947542469717854E-60,0,0,0,0,0,0,0,0,0,0,0,{"$f":"IF($O$22<>0,SUM(AX85:BI85)*$O$22+$N$22,-1)","v":15},null,7.5947542469717854E-60,0,0,0,0,0,0,0,0,0,0,0,{"$f":"IF($O$24<>0,SUM(BL85:BW85)*$O$24+$N$24,-1)","v":10},null,7.5947542469717854E-60,0,0,0,0,0,0,0,0,0,0,0,{"$f":"IF($O$21<>0,SUM(BZ85:CK85)*$O$21+$N$21,-1)","v":-1},null,7.5947542469717854E-60,0,0,0,0,0,0,0,0,0,0,0,{"$f":"IF($O$23<>0,SUM(CN85:CY85)*$O$23+$N$23,-1)","v":-1}]
[4,{"$f":"IF(B9>0,IF($L$20>0,$B$20*$L$20*M86/$K$20,0),\"\")","v":7.782600800000003E-2},{"$f":"IF(B9>0,K$86*10^(-M$86*$H$20),\"\")","v":40.101125321201152},{"$f":"IF(B9>0,IF($D$82=\"k'\",C86,C86/(LN(10)*B86*(C86/2-$J$20/$B$20)+1)),\"\")","v":8.730768159193385},11.173195693029816,{"$f":"IF(B9>0,K86*10^(-M86*$I$20),\"\")","v":3.09112266848562E-2},{"$f":"IF(B9>0,IF(B86>0,IF($J$20<$B$20*C86,($B$20/B86)*LOG(LN(10)*C86*B86*(1-$J$20/($B$20*C86))+1)+$B$20+$J$20,$B$20*(1+C86)),$B$20*(1+D86)),\"\")","v":12.732329050512124},{"$f":"IF(B9>0,IF(G86>$K$20+$J$20,G86-$K$20-$J$20,0),\"\")","v":0},0,null,240.66705299648223,{"$f":"IF(C9<>\"\",SPmodel!J10+LOG($G$20),\"\")","v":2.3814166400000003},{"$f":"SPmodel!K10","v":3.8913004000000009},null,"tR-tD-tG","time after program hold",null,null,null,null,null,null,null,null,null,null,null,null,null,null,33.199999999999946,{"$f":"IF($L$20>0,IF($AE86<$J$20,$H$20,IF($AE86<$J$20+$K$20,$H$20+((I$20-H$20)*($AE86-J$20)/K$20),$I$20)),$H$20)","v":0.86399999999999899},{"$f":"IF($L$22>0,IF($AE86<$J$22,$H$22,IF($AE86<$J$22+$K$22,$H$22+((I$22-H$22)*($AE86-J$22)/K$22),$I$22)),$H$22)","v":0.86399999999999899},null,1.680000000000001,1.7510455335788992E-63,0,0,0,0,0,0,0,0,0,0,0,{"$f":"IF($O$20<>0,SUM(AJ86:AU86)*$O$20+$N$20,-1)","v":11},null,1.7510455335788992E-63,0,0,0,0,0,0,0,0,0,0,0,{"$f":"IF($O$22<>0,SUM(AX86:BI86)*$O$22+$N$22,-1)","v":15},null,1.7510455335788992E-63,0,0,0,0,0,0,0,0,0,0,0,{"$f":"IF($O$24<>0,SUM(BL86:BW86)*$O$24+$N$24,-1)","v":10},null,1.7510455335788992E-63,0,0,0,0,0,0,0,0,0,0,0,{"$f":"IF($O$21<>0,SUM(BZ86:CK86)*$O$21+$N$21,-1)","v":-1},null,1.7510455335788992E-63,0,0,0,0,0,0,0,0,0,0,0,{"$f":"IF($O$23<>0,SUM(CN86:CY86)*$O$23+$N$23,-1)","v":-1}]
[5,{"$f":"IF(B10>0,IF($L$20>0,$B$20*$L$20*M87/$K$20,0),\"\")","v":0.1233584674285714},{"$f":"IF(B10>0,K$87*10^(-M$87*$H$20),\"\")","v":666.36115515336269},{"$f":"IF(B10>0,IF($D$82=\"k'\",C87,C87/(LN(10)*B87*(C87/2-$J$20/$B$20)+1)),\"\")","v":6.9675548652223505},7.0490922554206605,{"$f":"IF(B10>0,K87*10^(-M87*$I$20),\"\")","v":7.7512362728806607E-3},{"$f":"IF(B10>0,IF(B87>0,IF($J$20<$B$20*C87,($B$20/B87)*LOG(LN(10)*C87*B87*(1-$J$20/($B$20*C87))+1)+$B$20+$J$20,$B$20*(1+C87)),$B$20*(1+D87)),\"\")","v":19.477716559770098},{"$f":"IF(B10>0,IF(G87>$K$20+$J$20,G87-$K$20-$J$20,0),\"\")","v":0},0,null,11410.228632077471,{"$f":"IF(C10<>\"\",SPmodel!J11+LOG($G$20),\"\")","v":4.0572943466666658},{"$f":"SPmodel!K11","v":6.1679233714285697},null,"ke","k' at end of program",null,null,null,null,null,null,null,null,null,null,null,null,null,null,33.599999999999945,{"$f":"IF($L$20>0,IF($AE87<$J$20,$H$20,IF($AE87<$J$20+$K$20,$H$20+((I$20-H$20)*($AE87-J$20)/K$20),$I$20)),$H$20)","v":0.871999999999999},{"$f":"IF($L$22>0,IF($AE87<$J$22,$H$22,IF($AE87<$J$22+$K$22,$H$22+((I$22-H$22)*($AE87-J$22)/K$22),$I$22)),$H$22)","v":0.871999999999999},null,1.7000000000000011,3.1441809571941437E-67,0,0,0,0,0,0,0,0,0,0,0,{"$f":"IF($O$20<>0,SUM(AJ87:AU87)*$O$20+$N$20,-1)","v":11},null,3.1441809571941437E-67,0,0,0,0,0,0,0,0,0,0,0,{"$f":"IF($O$22<>0,SUM(AX87:BI87)*$O$22+$N$22,-1)","v":15},null,3.1441809571941437E-67,0,0,0,0,0,0,0,0,0,0,0,{"$f":"IF($O$24<>0,SUM(BL87:BW87)*$O$24+$N$24,-1)","v":10},null,3.1441809571941437E-67,0,0,0,0,0,0,0,0,0,0,0,{"$f":"IF($O$21<>0,SUM(BZ87:CK87)*$O$21+$N$21,-1)","v":-1},null,3.1441809571941437E-67,0,0,0,0,0,0,0,0,0,0,0,{"$f":"IF($O$23<>0,SUM(CN87:CY87)*$O$23+$N$23,-1)","v":-1}]
[6,{"$f":"IF(B11>0,IF($L$20>0,$B$20*$L$20*M88/$K$20,0),\"\")","v":0.13478074971428572},{"$f":"IF(B11>0,K$88*10^(-M$88*$H$20),\"\")","v":1370.9889555125421},{"$f":"IF(B11>0,IF($D$82=\"k'\",C88,C88/(LN(10)*B88*(C88/2-$J$20/$B$20)+1)),\"\")","v":6.4143075785494066},6.4517018879524555,{"$f":"IF(B11>0,K88*10^(-M88*$I$20),\"\")","v":5.5693430249208354E-3},{"$f":"IF(B11>0,IF(B88>0,IF($J$20<$B$20*C88,($B$20/B88)*LOG(LN(10)*C88*B88*(1-$J$20/($B$20*C88))+1)+$B$20+$J$20,$B$20*(1+C88)),$B$20*(1+D88)),\"\")","v":20.512408419205713},{"$f":"IF(B11>0,IF(G88>$K$20+$J$20,G88-$K$20-$J$20,0),\"\")","v":0},0,null,30538.060652914355,{"$f":"IF(C11<>\"\",SPmodel!J12+LOG($G$20),\"\")","v":4.484841453333333},{"$f":"SPmodel!K12","v":6.7390374857142854},null,"tadd","time to add to program end",null,null,null,null,null,null,null,null,null,null,null,null,null,null,33.999999999999943,{"$f":"IF($L$20>0,IF($AE88<$J$20,$H$20,IF($AE88<$J$20+$K$20,$H$20+((I$20-H$20)*($AE88-J$20)/K$20),$I$20)),$H$20)","v":0.87999999999999901},{"$f":"IF($L$22>0,IF($AE88<$J$22,$H$22,IF($AE88<$J$22+$K$22,$H$22+((I$22-H$22)*($AE88-J$22)/K$22),$I$22)),$H$22)","v":0.87999999999999901},null,1.7200000000000011,4.3968738564855108E-71,0,0,0,0,0,0,0,0,0,0,0,{"$f":"IF($O$20<>0,SUM(AJ88:AU88)*$O$20+$N$20,-1)","v":11},null,4.3968738564855108E-71,0,0,0,0,0,0,0,0,0,0,0,{"$f":"IF($O$22<>0,SUM(AX88:BI88)*$O$22+$N$22,-1)","v":15},null,4.3968738564855108E-71,0,0,0,0,0,0,0,0,0,0,0,{"$f":"IF($O$24<>0,SUM(BL88:BW88)*$O$24+$N$24,-1)","v":10},null,4.3968738564855108E-71,0,0,0,0,0,0,0,0,0,0,0,{"$f":"IF($O$21<>0,SUM(BZ88:CK88)*$O$21+$N$21,-1)","v":-1},null,4.3968738564855108E-71,0,0,0,0,0,0,0,0,0,0,0,{"$f":"IF($O$23<>0,SUM(CN88:CY88)*$O$23+$N$23,-1)","v":-1}]
[7,{"$f":"IF(B12>0,IF($L$20>0,$B$20*$L$20*M89/$K$20,0),\"\")","v":0.14035784685714287},{"$f":"IF(B12>0,K89*10^(-M89*$H$20),\"\")","v":7658.8668279432586},{"$f":"IF(B12>0,IF($D$82=\"k'\",C89,C89/(LN(10)*B89*(C89/2-$J$20/$B$20)+1)),\"\")","v":6.1833928574535628},6.1953445201845652,{"$f":"IF(B12>0,K89*10^(-M89*$I$20),\"\")","v":1.8614468650599614E-2},{"$f":"IF(B12>0,IF(B89>0,IF($J$20<$B$20*C89,($B$20/B89)*LOG(LN(10)*C89*B89*(1-$J$20/($B$20*C89))+1)+$B$20+$J$20,$B$20*(1+C89)),$B$20*(1+D89)),\"\")","v":25.179569581441449},{"$f":"IF(B12>0,IF(G89>$K$20+$J$20,G89-$K$20-$J$20,0),\"\")","v":0},0,null,193973.76107017833,{"$f":"IF(C12<>\"\",SPmodel!J13+LOG($G$20),\"\")","v":5.2877429866666681},{"$f":"SPmodel!K13","v":7.0178923428571434},null,null,null,null,null,null,null,null,null,null,null,null,null,null,null,null,null,34.399999999999942,{"$f":"IF($L$20>0,IF($AE89<$J$20,$H$20,IF($AE89<$J$20+$K$20,$H$20+((I$20-H$20)*($AE89-J$20)/K$20),$I$20)),$H$20)","v":0.88799999999999879},{"$f":"IF($L$22>0,IF($AE89<$J$22,$H$22,IF($AE89<$J$22+$K$22,$H$22+((I$22-H$22)*($AE89-J$22)/K$22),$I$22)),$H$22)","v":0.88799999999999879},null,1.7400000000000011,4.788581229177389E-75,0,0,0,0,0,0,0,0,0,0,0,{"$f":"IF($O$20<>0,SUM(AJ89:AU89)*$O$20+$N$20,-1)","v":11},null,4.788581229177389E-75,0,0,0,0,0,0,0,0,0,0,0,{"$f":"IF($O$22<>0,SUM(AX89:BI89)*$O$22+$N$22,-1)","v":15},null,4.788581229177389E-75,0,0,0,0,0,0,0,0,0,0,0,{"$f":"IF($O$24<>0,SUM(BL89:BW89)*$O$24+$N$24,-1)","v":10},null,4.788581229177389E-75,0,0,0,0,0,0,0,0,0,0,0,{"$f":"IF($O$21<>0,SUM(BZ89:CK89)*$O$21+$N$21,-1)","v":-1},null,4.788581229177389E-75,0,0,0,0,0,0,0,0,0,0,0,{"$f":"IF($O$23<>0,SUM(CN89:CY89)*$O$23+$N$23,-1)","v":-1}]
[8,{"$f":"IF(B13>0,IF($L$20>0,$B$20*$L$20*M90/$K$20,0),\"\")","v":0.19271467657142857},{"$f":"IF(B13>0,K90*10^(-M90*$H$20),\"\")","v":367397.67836958694},{"$f":"IF(B13>0,IF($D$82=\"k'\",C90,C90/(LN(10)*B90*(C90/2-$J$20/$B$20)+1)),\"\")","v":4.5070688117902247},4.5121899009544562,{"$f":"IF(B13>0,K90*10^(-M90*$I$20),\"\")","v":7.187028131239899E-3},{"$f":"IF(B13>0,IF(B90>0,IF($J$20<$B$20*C90,($B$20/B90)*LOG(LN(10)*C90*B90*(1-$J$20/($B$20*C90))+1)+$B$20+$J$20,$B$20*(1+C90)),$B$20*(1+D90)),\"\")","v":28.046562531809982},{"$f":"IF(B13>0,IF(G90>$K$20+$J$20,G90-$K$20-$J$20,0),\"\")","v":0},0,null,31065845.163635179,{"$f":"IF(C13<>\"\",SPmodel!J14+LOG($G$20),\"\")","v":7.4922831733333322},{"$f":"SPmodel!K14","v":9.6357338285714285},null,null,null,null,null,null,null,null,null,null,null,null,null,null,null,null,null,34.79999999999994,{"$f":"IF($L$20>0,IF($AE90<$J$20,$H$20,IF($AE90<$J$20+$K$20,$H$20+((I$20-H$20)*($AE90-J$20)/K$20),$I$20)),$H$20)","v":0.8959999999999988},{"$f":"IF($L$22>0,IF($AE90<$J$22,$H$22,IF($AE90<$J$22+$K$22,$H$22+((I$22-H$22)*($AE90-J$22)/K$22),$I$22)),$H$22)","v":0.8959999999999988},null,1.7600000000000011,4.0615900919318271E-79,0,0,0,0,0,0,0,0,0,0,0,{"$f":"IF($O$20<>0,SUM(AJ90:AU90)*$O$20+$N$20,-1)","v":11},null,4.0615900919318271E-79,0,0,0,0,0,0,0,0,0,0,0,{"$f":"IF($O$22<>0,SUM(AX90:BI90)*$O$22+$N$22,-1)","v":15},null,4.0615900919318271E-79,0,0,0,0,0,0,0,0,0,0,0,{"$f":"IF($O$24<>0,SUM(BL90:BW90)*$O$24+$N$24,-1)","v":10},null,4.0615900919318271E-79,0,0,0,0,0,0,0,0,0,0,0,{"$f":"IF($O$21<>0,SUM(BZ90:CK90)*$O$21+$N$21,-1)","v":-1},null,4.0615900919318271E-79,0,0,0,0,0,0,0,0,0,0,0,{"$f":"IF($O$23<>0,SUM(CN90:CY90)*$O$23+$N$23,-1)","v":-1}]
[9,{"$f":"IF(B14>0,IF($L$20>0,$B$20*$L$20*M91/$K$20,0),\"\")","v":""},{"$f":"IF(B14>0,K91*10^(-M91*$H$20),\"\")","v":""},{"$f":"IF(B14>0,IF($D$82=\"k'\",C91,C91/(LN(10)*B91*(C91/2-$J$20/$B$20)+1)),\"\")","v":""},"",{"$f":"IF(B14>0,K91*10^(-M91*$I$20),\"\")","v":""},{"$f":"IF(B14>0,IF(B91>0,IF($J$20<$B$20*C91,($B$20/B91)*LOG(LN(10)*C91*B91*(1-$J$20/($B$20*C91))+1)+$B$20+$J$20,$B$20*(1+C91)),$B$20*(1+D91)),\"\")","v":""},{"$f":"IF(B14>0,IF(G91>$K$20+$J$20,G91-$K$20-$J$20,0),\"\")","v":""},"",null,"",{"$f":"IF(C14<>\"\",SPmodel!J15+LOG($G$20),\"\")","v":{"$error":"#N/A"}},{"$f":"SPmodel!K15","v":{"$error":"#N/A"}},null,null,null,null,null,null,null,null,null,null,null,null,null,null,null,null,null,35.199999999999939,{"$f":"IF($L$20>0,IF($AE91<$J$20,$H$20,IF($AE91<$J$20+$K$20,$H$20+((I$20-H$20)*($AE91-J$20)/K$20),$I$20)),$H$20)","v":0.9039999999999988},{"$f":"IF($L$22>0,IF($AE91<$J$22,$H$22,IF($AE91<$J$22+$K$22,$H$22+((I$22-H$22)*($AE91-J$22)/K$22),$I$22)),$H$22)","v":0.9039999999999988},null,1.7800000000000011,2.682944585169138E-83,0,0,0,0,0,0,0,0,0,0,0,{"$f":"IF($O$20<>0,SUM(AJ91:AU91)*$O$20+$N$20,-1)","v":11},null,2.682944585169138E-83,0,0,0,0,0,0,0,0,0,0,0,{"$f":"IF($O$22<>0,SUM(AX91:BI91)*$O$22+$N$22,-1)","v":15},null,2.682944585169138E-83,0,0,0,0,0,0,0,0,0,0,0,{"$f":"IF($O$24<>0,SUM(BL91:BW91)*$O$24+$N$24,-1)","v":10},null,2.682944585169138E-83,0,0,0,0,0,0,0,0,0,0,0,{"$f":"IF($O$21<>0,SUM(BZ91:CK91)*$O$21+$N$21,-1)","v":-1},null,2.682944585169138E-83,0,0,0,0,0,0,0,0,0,0,0,{"$f":"IF($O$23<>0,SUM(CN91:CY91)*$O$23+$N$23,-1)","v":-1}]
[10,{"$f":"IF(B15>0,IF($L$20>0,$B$20*$L$20*M92/$K$20,0),\"\")","v":""},{"$f":"IF(B15>0,K92*10^(-M92*$H$20),\"\")","v":""},{"$f":"IF(B15>0,IF($D$82=\"k'\",C92,C92/(LN(10)*B92*(C92/2-$J$20/$B$20)+1)),\"\")","v":""},"",{"$f":"IF(B15>0,K92*10^(-M92*$I$20),\"\")","v":""},{"$f":"IF(B15>0,IF(B92>0,IF($J$20<$B$20*C92,($B$20/B92)*LOG(LN(10)*C92*B92*(1-$J$20/($B$20*C92))+1)+$B$20+$J$20,$B$20*(1+C92)),$B$20*(1+D92)),\"\")","v":""},{"$f":"IF(B15>0,IF(G92>$K$20+$J$20,G92-$K$20-$J$20,0),\"\")","v":""},"",null,"",{"$f":"IF(C15<>\"\",SPmodel!J16+LOG($G$20),\"\")","v":""},{"$f":"SPmodel!K16","v":""},null,null,null,null,null,null,null,null,null,null,null,null,null,null,null,null,null,35.599999999999937,{"$f":"IF($L$20>0,IF($AE92<$J$20,$H$20,IF($AE92<$J$20+$K$20,$H$20+((I$20-H$20)*($AE92-J$20)/K$20),$I$20)),$H$20)","v":0.91199999999999881},{"$f":"IF($L$22>0,IF($AE92<$J$22,$H$22,IF($AE92<$J$22+$K$22,$H$22+((I$22-H$22)*($AE92-J$22)/K$22),$I$22)),$H$22)","v":0.91199999999999881},null,1.8000000000000012,1.3802370905391564E-87,0,0,0,0,0,0,0,0,0,0,0,{"$f":"IF($O$20<>0,SUM(AJ92:AU92)*$O$20+$N$20,-1)","v":11},null,1.3802370905391564E-87,0,0,0,0,0,0,0,0,0,0,0,{"$f":"IF($O$22<>0,SUM(AX92:BI92)*$O$22+$N$22,-1)","v":15},null,1.3802370905391564E-87,0,0,0,0,0,0,0,0,0,0,0,{"$f":"IF($O$24<>0,SUM(BL92:BW92)*$O$24+$N$24,-1)","v":10},null,1.3802370905391564E-87,0,0,0,0,0,0,0,0,0,0,0,{"$f":"IF($O$21<>0,SUM(BZ92:CK92)*$O$21+$N$21,-1)","v":-1},null,1.3802370905391564E-87,0,0,0,0,0,0,0,0,0,0,0,{"$f":"IF($O$23<>0,SUM(CN92:CY92)*$O$23+$N$23,-1)","v":-1}]
[11,{"$f":"IF(B16>0,IF($L$20>0,$B$20*$L$20*M93/$K$20,0),\"\")","v":""},{"$f":"IF(B16>0,K93*10^(-M93*$H$20),\"\")","v":""},{"$f":"IF(B16>0,IF($D$82=\"k'\",C93,C93/(LN(10)*B93*(C93/2-$J$20/$B$20)+1)),\"\")","v":""},"",{"$f":"IF(B16>0,K93*10^(-M93*$I$20),\"\")","v":""},{"$f":"IF(B16>0,IF(B93>0,IF($J$20<$B$20*C93,($B$20/B93)*LOG(LN(10)*C93*B93*(1-$J$20/($B$20*C93))+1)+$B$20+$J$20,$B$20*(1+C93)),$B$20*(1+D93)),\"\")","v":""},{"$f":"IF(B16>0,IF(G93>$K$20+$J$20,G93-$K$20-$J$20,0),\"\")","v":""},"",null,"",{"$f":"IF(C16<>\"\",SPmodel!J17+LOG($G$20),\"\")","v":""},{"$f":"SPmodel!K17","v":""},null,null,null,null,null,null,null,null,null,null,null,null,null,null,null,null,null,35.999999999999936,{"$f":"IF($L$20>0,IF($AE93<$J$20,$H$20,IF($AE93<$J$20+$K$20,$H$20+((I$20-H$20)*($AE93-J$20)/K$20),$I$20)),$H$20)","v":0.91999999999999882},{"$f":"IF($L$22>0,IF($AE93<$J$22,$H$22,IF($AE93<$J$22+$K$22,$H$22+((I$22-H$22)*($AE93-J$22)/K$22),$I$22)),$H$22)","v":0.91999999999999882},null,1.8200000000000012,5.5299609505232833E-92,0,0,0,0,0,0,0,0,0,0,0,{"$f":"IF($O$20<>0,SUM(AJ93:AU93)*$O$20+$N$20,-1)","v":11},null,5.5299609505232833E-92,0,0,0,0,0,0,0,0,0,0,0,{"$f":"IF($O$22<>0,SUM(AX93:BI93)*$O$22+$N$22,-1)","v":15},null,5.5299609505232833E-92,0,0,0,0,0,0,0,0,0,0,0,{"$f":"IF($O$24<>0,SUM(BL93:BW93)*$O$24+$N$24,-1)","v":10},null,5.5299609505232833E-92,0,0,0,0,0,0,0,0,0,0,0,{"$f":"IF($O$21<>0,SUM(BZ93:CK93)*$O$21+$N$21,-1)","v":-1},null,5.5299609505232833E-92,0,0,0,0,0,0,0,0,0,0,0,{"$f":"IF($O$23<>0,SUM(CN93:CY93)*$O$23+$N$23,-1)","v":-1}]
[null,null,null,null,null,null,null,null,null,null,null,null,null,null,null,null,null,null,null,null,null,null,null,null,null,null,null,null,null,null,36.399999999999935,{"$f":"IF($L$20>0,IF($AE94<$J$20,$H$20,IF($AE94<$J$20+$K$20,$H$20+((I$20-H$20)*($AE94-J$20)/K$20),$I$20)),$H$20)","v":0.9279999999999986},{"$f":"IF($L$22>0,IF($AE94<$J$22,$H$22,IF($AE94<$J$22+$K$22,$H$22+((I$22-H$22)*($AE94-J$22)/K$22),$I$22)),$H$22)","v":0.9279999999999986},null,1.8400000000000012,1.7255073550307753E-96,0,0,0,0,0,0,0,0,0,0,0,{"$f":"IF($O$20<>0,SUM(AJ94:AU94)*$O$20+$N$20,-1)","v":11},null,1.7255073550307753E-96,0,0,0,0,0,0,0,0,0,0,0,{"$f":"IF($O$22<>0,SUM(AX94:BI94)*$O$22+$N$22,-1)","v":15},null,1.7255073550307753E-96,0,0,0,0,0,0,0,0,0,0,0,{"$f":"IF($O$24<>0,SUM(BL94:BW94)*$O$24+$N$24,-1)","v":10},null,1.7255073550307753E-96,0,0,0,0,0,0,0,0,0,0,0,{"$f":"IF($O$21<>0,SUM(BZ94:CK94)*$O$21+$N$21,-1)","v":-1},null,1.7255073550307753E-96,0,0,0,0,0,0,0,0,0,0,0,{"$f":"IF($O$23<>0,SUM(CN94:CY94)*$O$23+$N$23,-1)","v":-1}]
["Calc",null,null,{"$f":"G51","v":"Chromlith/MeHO"},null,null,null,null,null,null,"LSS Parameters Column 2:",null,null,null,null,null,null,null,null,null,null,null,null,null,null,null,null,null,null,null,36.799999999999933,{"$f":"IF($L$20>0,IF($AE95<$J$20,$H$20,IF($AE95<$J$20+$K$20,$H$20+((I$20-H$20)*($AE95-J$20)/K$20),$I$20)),$H$20)","v":0.93599999999999861},{"$f":"IF($L$22>0,IF($AE95<$J$22,$H$22,IF($AE95<$J$22+$K$22,$H$22+((I$22-H$22)*($AE95-J$22)/K$22),$I$22)),$H$22)","v":0.93599999999999861},null,1.8600000000000012,4.1931263071333581E-101,0,0,0,0,0,0,0,0,0,0,0,{"$f":"IF($O$20<>0,SUM(AJ95:AU95)*$O$20+$N$20,-1)","v":11},null,4.1931263071333581E-101,0,0,0,0,0,0,0,0,0,0,0,{"$f":"IF($O$22<>0,SUM(AX95:BI95)*$O$22+$N$22,-1)","v":15},null,4.1931263071333581E-101,0,0,0,0,0,0,0,0,0,0,0,{"$f":"IF($O$24<>0,SUM(BL95:BW95)*$O$24+$N$24,-1)","v":10},null,4.1931263071333581E-101,0,0,0,0,0,0,0,0,0,0,0,{"$f":"IF($O$21<>0,SUM(BZ95:CK95)*$O$21+$N$21,-1)","v":-1},null,4.1931263071333581E-101,0,0,0,0,0,0,0,0,0,0,0,{"$f":"IF($O$23<>0,SUM(CN95:CY95)*$O$23+$N$23,-1)","v":-1}]
["Param","b","ko",{"$f":"IF(B97=0,\"k'\",\"k*\")","v":"k*"},{"$f":"IF(B97=0,\"\",\"k**\")","v":"k**"},"ke","tRuncorr","tR-tD-tG","tadd",null,"kw","log(kw)","Slope",null,null,null,null,null,null,null,null,null,null,null,null,null,null,null,null,null,37.199999999999932,{"$f":"IF($L$20>0,IF($AE96<$J$20,$H$20,IF($AE96<$J$20+$K$20,$H$20+((I$20-H$20)*($AE96-J$20)/K$20),$I$20)),$H$20)","v":0.94399999999999862},{"$f":"IF($L$22>0,IF($AE96<$J$22,$H$22,IF($AE96<$J$22+$K$22,$H$22+((I$22-H$22)*($AE96-J$22)/K$22),$I$22)),$H$22)","v":0.94399999999999862},null,1.8800000000000012,7.9357038820581935E-106,0,0,0,0,0,0,0,0,0,0,0,{"$f":"IF($O$20<>0,SUM(AJ96:AU96)*$O$20+$N$20,-1)","v":11},null,7.9357038820581935E-106,0,0,0,0,0,0,0,0,0,0,0,{"$f":"IF($O$22<>0,SUM(AX96:BI96)*$O$22+$N$22,-1)","v":15},null,7.9357038820581935E-106,0,0,0,0,0,0,0,0,0,0,0,{"$f":"IF($O$24<>0,SUM(BL96:BW96)*$O$24+$N$24,-1)","v":10},null,7.9357038820581935E-106,0,0,0,0,0,0,0,0,0,0,0,{"$f":"IF($O$21<>0,SUM(BZ96:CK96)*$O$21+$N$21,-1)","v":-1},null,7.9357038820581935E-106,0,0,0,0,0,0,0,0,0,0,0,{"$f":"IF($O$23<>0,SUM(CN96:CY96)*$O$23+$N$23,-1)","v":-1}]
[1,{"$f":"IF(B6>0,IF($L$22>0,$B$20*$L$22*M97/$K$22,0),\"\")","v":4.9050824000000007E-2},{"$f":"IF(B6>0,K97*10^(-M97*$H$22),\"\")","v":3.1856909370422648},{"$f":"IF(B6>0,IF($D$96=\"k'\",C97,C97/(LN(10)*B97*(C97/2-$J$22/$B$20)+1)),\"\")","v":2.6999626491225541},{"$f":"IF(AND(B6>0,B97>0),1/(1.15*B97),\"\")","v":17.727841175334881},{"$f":"IF(B6>0,K97*10^(-M97*$I$22),\"\")","v":3.4767277181260388E-2},{"$f":"IF(B6>0,IF(B97>0,IF($J$22<$B$20*C97,($B$20/B97)*LOG(LN(10)*C97*B97*(1-$J$22/($B$20*C97))+1)+$B$20+$J$22,$B$20*(1+C97)),$B$20*(1+D97)),\"\")","v":3.7211820434064493},{"$f":"IF(B6>0,IF(G97>$K$22+$J$22,G97-$K$22-$J$22,0),\"\")","v":0},{"$f":"IF(AND(B6>0,B97>0),(1+F97)*MIN(H97*B97/(LOG(LN(10)*F97*B97+1)+B97),$K$6),\"\")","v":0},null,{"$f":"IF($B6>0,10^L97,\"\")","v":9.856253842852853},{"$f":"IF(C6<>\"\",SPmodel!O7+LOG($G$22),\"\")","v":0.99371188000000032},{"$f":"SPmodel!P7","v":2.4525412000000002},null,null,null,null,null,null,null,null,null,null,null,null,null,null,null,null,null,37.59999999999993,{"$f":"IF($L$20>0,IF($AE97<$J$20,$H$20,IF($AE97<$J$20+$K$20,$H$20+((I$20-H$20)*($AE97-J$20)/K$20),$I$20)),$H$20)","v":0.95199999999999863},{"$f":"IF($L$22>0,IF($AE97<$J$22,$H$22,IF($AE97<$J$22+$K$22,$H$22+((I$22-H$22)*($AE97-J$22)/K$22),$I$22)),$H$22)","v":0.95199999999999863},null,1.9000000000000012,1.1696592043116805E-110,0,0,0,0,0,0,0,0,0,0,0,{"$f":"IF($O$20<>0,SUM(AJ97:AU97)*$O$20+$N$20,-1)","v":11},null,1.1696592043116805E-110,0,0,0,0,0,0,0,0,0,0,0,{"$f":"IF($O$22<>0,SUM(AX97:BI97)*$O$22+$N$22,-1)","v":15},null,1.1696592043116805E-110,0,0,0,0,0,0,0,0,0,0,0,{"$f":"IF($O$24<>0,SUM(BL97:BW97)*$O$24+$N$24,-1)","v":10},null,1.1696592043116805E-110,1.6495008466922365E-296,0,0,0,0,0,0,0,0,0,0,{"$f":"IF($O$21<>0,SUM(BZ97:CK97)*$O$21+$N$21,-1)","v":-1},null,1.1696592043116805E-110,0,0,0,0,0,0,0,0,0,0,0,{"$f":"IF($O$23<>0,SUM(CN97:CY97)*$O$23+$N$23,-1)","v":-1}]
[2,{"$f":"IF(B7>0,IF($L$22>0,$B$20*$L$22*M98/$K$22,0),\"\")","v":6.3419808000000008E-2},{"$f":"IF(B7>0,K98*10^(-M98*$H$22),\"\")","v":13.731945781140508},{"$f":"IF(B7>0,IF($D$96=\"k'\",C98,C98/(LN(10)*B98*(C98/2-$J$22/$B$20)+1)),\"\")","v":6.8569401776887906},13.71125591221128,{"$f":"IF(B7>0,K98*10^(-M98*$I$22),\"\")","v":3.9896955836372566E-2},{"$f":"IF(B7>0,IF(B98>0,IF($J$22<$B$20*C98,($B$20/B98)*LOG(LN(10)*C98*B98*(1-$J$22/($B$20*C98))+1)+$B$20+$J$22,$B$20*(1+C98)),$B$20*(1+D98)),\"\")","v":8.535238611468305},{"$f":"IF(B7>0,IF(G98>$K$22+$J$22,G98-$K$22-$J$22,0),\"\")","v":0},0,null,59.146651129348491,{"$f":"IF(C7<>\"\",SPmodel!O8+LOG($G$22),\"\")","v":1.7719301600000001},{"$f":"SPmodel!P8","v":3.1709904000000004},null,null,null,null,null,null,null,null,null,null,null,null,null,null,null,null,null,37.999999999999929,{"$f":"IF($L$20>0,IF($AE98<$J$20,$H$20,IF($AE98<$J$20+$K$20,$H$20+((I$20-H$20)*($AE98-J$20)/K$20),$I$20)),$H$20)","v":0.95999999999999863},{"$f":"IF($L$22>0,IF($AE98<$J$22,$H$22,IF($AE98<$J$22+$K$22,$H$22+((I$22-H$22)*($AE98-J$22)/K$22),$I$22)),$H$22)","v":0.95999999999999863},null,1.9200000000000013,1.3426400912541558E-115,0,0,0,0,0,0,0,0,0,0,0,{"$f":"IF($O$20<>0,SUM(AJ98:AU98)*$O$20+$N$20,-1)","v":11},null,1.3426400912541558E-115,0,0,0,0,0,0,0,0,0,0,0,{"$f":"IF($O$22<>0,SUM(AX98:BI98)*$O$22+$N$22,-1)","v":15},null,1.3426400912541558E-115,0,0,0,0,0,0,0,0,0,0,0,{"$f":"IF($O$24<>0,SUM(BL98:BW98)*$O$24+$N$24,-1)","v":10},null,1.3426400912541558E-115,8.9605171373495693E-280,0,0,0,0,0,0,0,0,0,0,{"$f":"IF($O$21<>0,SUM(BZ98:CK98)*$O$21+$N$21,-1)","v":-1},null,1.3426400912541558E-115,0,0,0,0,0,0,0,0,0,0,0,{"$f":"IF($O$23<>0,SUM(CN98:CY98)*$O$23+$N$23,-1)","v":-1}]
[3,{"$f":"IF(B8>0,IF($L$22>0,$B$20*$L$22*M99/$K$22,0),\"\")","v":6.2417876000000004E-2},{"$f":"IF(B8>0,K99*10^(-M99*$H$22),\"\")","v":46.701352695221956},{"$f":"IF(B8>0,IF($D$96=\"k'\",C99,C99/(LN(10)*B99*(C99/2-$J$22/$B$20)+1)),\"\")","v":10.721113753431679},13.931349048008368,{"$f":"IF(B8>0,K99*10^(-M99*$I$22),\"\")","v":0.14880393639490291},{"$f":"IF(B8>0,IF(B99>0,IF($J$22<$B$20*C99,($B$20/B99)*LOG(LN(10)*C99*B99*(1-$J$22/($B$20*C99))+1)+$B$20+$J$22,$B$20*(1+C99)),$B$20*(1+D99)),\"\")","v":15.213378941179245},{"$f":"IF(B8>0,IF(G99>$K$22+$J$22,G99-$K$22-$J$22,0),\"\")","v":0},0,null,196.56591847500337,{"$f":"IF(C8<>\"\",SPmodel!O9+LOG($G$22),\"\")","v":2.2935082200000001},{"$f":"SPmodel!P9","v":3.1208938000000002},null,null,null,null,null,null,null,null,null,null,null,null,null,null,null,null,null,38.399999999999928,{"$f":"IF($L$20>0,IF($AE99<$J$20,$H$20,IF($AE99<$J$20+$K$20,$H$20+((I$20-H$20)*($AE99-J$20)/K$20),$I$20)),$H$20)","v":0.96799999999999864},{"$f":"IF($L$22>0,IF($AE99<$J$22,$H$22,IF($AE99<$J$22+$K$22,$H$22+((I$22-H$22)*($AE99-J$22)/K$22),$I$22)),$H$22)","v":0.96799999999999864},null,1.9400000000000013,1.2002901964758334E-120,0,0,0,0,0,0,0,0,0,0,0,{"$f":"IF($O$20<>0,SUM(AJ99:AU99)*$O$20+$N$20,-1)","v":11},null,1.2002901964758334E-120,0,0,0,0,0,0,0,0,0,0,0,{"$f":"IF($O$22<>0,SUM(AX99:BI99)*$O$22+$N$22,-1)","v":15},null,1.2002901964758334E-120,0,0,0,0,0,0,0,0,0,0,0,{"$f":"IF($O$24<>0,SUM(BL99:BW99)*$O$24+$N$24,-1)","v":10},null,1.2002901964758334E-120,1.593095119928982E-263,0,0,0,0,0,0,0,0,0,0,{"$f":"IF($O$21<>0,SUM(BZ99:CK99)*$O$21+$N$21,-1)","v":-1},null,1.2002901964758334E-120,0,0,0,0,0,0,0,0,0,0,0,{"$f":"IF($O$23<>0,SUM(CN99:CY99)*$O$23+$N$23,-1)","v":-1}]
[4,{"$f":"IF(B9>0,IF($L$22>0,$B$20*$L$22*M100/$K$22,0),\"\")","v":6.8903263999999992E-2},{"$f":"IF(B9>0,K100*10^(-M100*$H$22),\"\")","v":74.60477759000652},{"$f":"IF(B9>0,IF($D$96=\"k'\",C100,C100/(LN(10)*B100*(C100/2-$J$22/$B$20)+1)),\"\")","v":10.783789364686939},12.620087451754165,{"$f":"IF(B9>0,K100*10^(-M100*$I$22),\"\")","v":0.13080853446545293},{"$f":"IF(B9>0,IF(B100>0,IF($J$22<$B$20*C100,($B$20/B100)*LOG(LN(10)*C100*B100*(1-$J$22/($B$20*C100))+1)+$B$20+$J$22,$B$20*(1+C100)),$B$20*(1+D100)),\"\")","v":17.086981575600419},{"$f":"IF(B9>0,IF(G100>$K$22+$J$22,G100-$K$22-$J$22,0),\"\")","v":0},0,null,364.58540576475235,{"$f":"IF(C9<>\"\",SPmodel!O10+LOG($G$22),\"\")","v":2.5617992799999998},{"$f":"SPmodel!P10","v":3.4451631999999992},null,null,null,null,null,null,null,null,null,null,null,null,null,null,null,null,null,38.799999999999926,{"$f":"IF($L$20>0,IF($AE100<$J$20,$H$20,IF($AE100<$J$20+$K$20,$H$20+((I$20-H$20)*($AE100-J$20)/K$20),$I$20)),$H$20)","v":0.97599999999999865},{"$f":"IF($L$22>0,IF($AE100<$J$22,$H$22,IF($AE100<$J$22+$K$22,$H$22+((I$22-H$22)*($AE100-J$22)/K$22),$I$22)),$H$22)","v":0.97599999999999865},null,1.9600000000000013,8.3567861044794938E-126,0,0,0,0,0,0,0,0,0,0,0,{"$f":"IF($O$20<>0,SUM(AJ100:AU100)*$O$20+$N$20,-1)","v":11},null,8.3567861044794938E-126,0,0,0,0,0,0,0,0,0,0,0,{"$f":"IF($O$22<>0,SUM(AX100:BI100)*$O$22+$N$22,-1)","v":15},null,8.3567861044794938E-126,0,0,0,0,0,0,0,0,0,0,0,{"$f":"IF($O$24<>0,SUM(BL100:BW100)*$O$24+$N$24,-1)","v":10},null,8.3567861044794938E-126,9.269972382621404E-248,0,0,0,0,0,0,0,0,0,0,{"$f":"IF($O$21<>0,SUM(BZ100:CK100)*$O$21+$N$21,-1)","v":-1},null,8.3567861044794938E-126,0,0,0,0,0,0,0,0,0,0,0,{"$f":"IF($O$23<>0,SUM(CN100:CY100)*$O$23+$N$23,-1)","v":-1}]
[5,{"$f":"IF(B10>0,IF($L$22>0,$B$20*$L$22*M101/$K$22,0),\"\")","v":0.10626432799999996},{"$f":"IF(B10>0,K101*10^(-M101*$H$22),\"\")","v":2024.9191145869468},{"$f":"IF(B10>0,IF($D$96=\"k'\",C101,C101/(LN(10)*B101*(C101/2-$J$22/$B$20)+1)),\"\")","v":8.1409905146032777},8.1830397251588014,{"$f":"IF(B10>0,K101*10^(-M101*$I$22),\"\")","v":0.11371940009846646},{"$f":"IF(B10>0,IF(B101>0,IF($J$22<$B$20*C101,($B$20/B101)*LOG(LN(10)*C101*B101*(1-$J$22/($B$20*C101))+1)+$B$20+$J$22,$B$20*(1+C101)),$B$20*(1+D101)),\"\")","v":26.369628544636949},{"$f":"IF(B10>0,IF(G101>$K$22+$J$22,G101-$K$22-$J$22,0),\"\")","v":0},0,null,23391.116933061803,{"$f":"IF(C10<>\"\",SPmodel!O11+LOG($G$22),\"\")","v":4.3690509599999992},{"$f":"SPmodel!P11","v":5.3132163999999982},null,null,null,null,null,null,null,null,null,null,null,null,null,null,null,null,null,39.199999999999925,{"$f":"IF($L$20>0,IF($AE101<$J$20,$H$20,IF($AE101<$J$20+$K$20,$H$20+((I$20-H$20)*($AE101-J$20)/K$20),$I$20)),$H$20)","v":0.98399999999999865},{"$f":"IF($L$22>0,IF($AE101<$J$22,$H$22,IF($AE101<$J$22+$K$22,$H$22+((I$22-H$22)*($AE101-J$22)/K$22),$I$22)),$H$22)","v":0.98399999999999865},null,1.9800000000000013,4.5312569838752063E-131,0,0,0,0,0,0,0,0,0,0,0,{"$f":"IF($O$20<>0,SUM(AJ101:AU101)*$O$20+$N$20,-1)","v":11},null,4.5312569838752063E-131,0,0,0,0,0,0,0,0,0,0,0,{"$f":"IF($O$22<>0,SUM(AX101:BI101)*$O$22+$N$22,-1)","v":15},null,4.5312569838752063E-131,0,0,0,0,0,0,0,0,0,0,0,{"$f":"IF($O$24<>0,SUM(BL101:BW101)*$O$24+$N$24,-1)","v":10},null,4.5312569838752063E-131,1.7654006161289864E-232,0,0,0,0,0,0,0,0,0,0,{"$f":"IF($O$21<>0,SUM(BZ101:CK101)*$O$21+$N$21,-1)","v":-1},null,4.5312569838752063E-131,0,0,0,0,0,0,0,0,0,0,0,{"$f":"IF($O$23<>0,SUM(CN101:CY101)*$O$23+$N$23,-1)","v":-1}]
[6,{"$f":"IF(B11>0,IF($L$22>0,$B$20*$L$22*M102/$K$22,0),\"\")","v":0.115781552},{"$f":"IF(B11>0,K102*10^(-M102*$H$22),\"\")","v":4467.3061887982212},{"$f":"IF(B11>0,IF($D$96=\"k'\",C102,C102/(LN(10)*B102*(C102/2-$J$22/$B$20)+1)),\"\")","v":7.4893864317497441},7.5103952432016499,{"$f":"IF(B11>0,K102*10^(-M102*$I$22),\"\")","v":0.10441998824876719},{"$f":"IF(B11>0,IF(B102>0,IF($J$22<$B$20*C102,($B$20/B102)*LOG(LN(10)*C102*B102*(1-$J$22/($B$20*C102))+1)+$B$20+$J$22,$B$20*(1+C102)),$B$20*(1+D102)),\"\")","v":27.569563332773807},{"$f":"IF(B11>0,IF(G102>$K$22+$J$22,G102-$K$22-$J$22,0),\"\")","v":0},0,null,64248.240708125231,{"$f":"IF(C11<>\"\",SPmodel!O12+LOG($G$22),\"\")","v":4.8078612400000003},{"$f":"SPmodel!P12","v":5.7890775999999997},null,null,null,null,null,null,null,null,null,null,null,null,null,null,null,null,null,39.599999999999923,{"$f":"IF($L$20>0,IF($AE102<$J$20,$H$20,IF($AE102<$J$20+$K$20,$H$20+((I$20-H$20)*($AE102-J$20)/K$20),$I$20)),$H$20)","v":0.99199999999999844},{"$f":"IF($L$22>0,IF($AE102<$J$22,$H$22,IF($AE102<$J$22+$K$22,$H$22+((I$22-H$22)*($AE102-J$22)/K$22),$I$22)),$H$22)","v":0.99199999999999844},null,2.0000000000000013,1.9134824341033255E-136,0,0,0,0,0,0,0,0,0,0,0,{"$f":"IF($O$20<>0,SUM(AJ102:AU102)*$O$20+$N$20,-1)","v":11},null,1.9134824341033255E-136,0,0,0,0,0,0,0,0,0,0,0,{"$f":"IF($O$22<>0,SUM(AX102:BI102)*$O$22+$N$22,-1)","v":15},null,1.9134824341033255E-136,0,0,0,0,0,0,0,0,0,0,0,{"$f":"IF($O$24<>0,SUM(BL102:BW102)*$O$24+$N$24,-1)","v":10},null,1.9134824341033255E-136,1.100363580685313E-217,0,0,0,0,0,0,0,0,0,0,{"$f":"IF($O$21<>0,SUM(BZ102:CK102)*$O$21+$N$21,-1)","v":-1},null,1.9134824341033255E-136,0,0,0,0,0,0,0,0,0,0,0,{"$f":"IF($O$23<>0,SUM(CN102:CY102)*$O$23+$N$23,-1)","v":-1}]
[7,{"$f":"IF(B12>0,IF($L$22>0,$B$20*$L$22*M103/$K$22,0),\"\")","v":0.11710323199999999},{"$f":"IF(B12>0,K103*10^(-M103*$H$22),\"\")","v":21786.221761822617},{"$f":"IF(B12>0,IF($D$96=\"k'\",C103,C103/(LN(10)*B103*(C103/2-$J$22/$B$20)+1)),\"\")","v":7.4147684191702874},7.4256295282379954,{"$f":"IF(B12>0,K103*10^(-M103*$I$22),\"\")","v":0.45087135048003024},{"$f":"IF(B12>0,IF(B103>0,IF($J$22<$B$20*C103,($B$20/B103)*LOG(LN(10)*C103*B103*(1-$J$22/($B$20*C103))+1)+$B$20+$J$22,$B$20*(1+C103)),$B$20*(1+D103)),\"\")","v":33.185622455745388},{"$f":"IF(B12>0,IF(G103>$K$22+$J$22,G103-$K$22-$J$22,0),\"\")","v":0},0,null,323008.71495787083,{"$f":"IF(C12<>\"\",SPmodel!O13+LOG($G$22),\"\")","v":5.5092142400000004},{"$f":"SPmodel!P13","v":5.8551615999999997},null,null,null,null,null,null,null,null,null,null,null,null,null,null,null,null,null,39.999999999999922,{"$f":"IF($L$20>0,IF($AE103<$J$20,$H$20,IF($AE103<$J$20+$K$20,$H$20+((I$20-H$20)*($AE103-J$20)/K$20),$I$20)),$H$20)","v":0.99999999999999845},{"$f":"IF($L$22>0,IF($AE103<$J$22,$H$22,IF($AE103<$J$22+$K$22,$H$22+((I$22-H$22)*($AE103-J$22)/K$22),$I$22)),$H$22)","v":0.99999999999999845},null,2.0200000000000014,6.2929842629785042E-142,0,0,0,0,0,0,0,0,0,0,0,{"$f":"IF($O$20<>0,SUM(AJ103:AU103)*$O$20+$N$20,-1)","v":11},null,6.2929842629785042E-142,0,0,0,0,0,0,0,0,0,0,0,{"$f":"IF($O$22<>0,SUM(AX103:BI103)*$O$22+$N$22,-1)","v":15},null,6.2929842629785042E-142,0,0,0,0,0,0,0,0,0,0,0,{"$f":"IF($O$24<>0,SUM(BL103:BW103)*$O$24+$N$24,-1)","v":10},null,6.2929842629785042E-142,2.2446945000892339E-203,0,0,0,0,0,0,0,0,0,0,{"$f":"IF($O$21<>0,SUM(BZ103:CK103)*$O$21+$N$21,-1)","v":-1},null,6.2929842629785042E-142,0,0,0,0,0,0,0,0,0,0,0,{"$f":"IF($O$23<>0,SUM(CN103:CY103)*$O$23+$N$23,-1)","v":-1}]
[8,{"$f":"IF(B13>0,IF($L$22>0,$B$20*$L$22*M104/$K$22,0),\"\")","v":0.16011718400000002},{"$f":"IF(B13>0,K104*10^(-M104*$H$22),\"\")","v":1649441.9662878991},{"$f":"IF(B13>0,IF($D$96=\"k'\",C104,C104/(LN(10)*B104*(C104/2-$J$22/$B$20)+1)),\"\")","v":5.4246901268778371},5.4308050870498965,{"$f":"IF(B13>0,K104*10^(-M104*$I$22),\"\")","v":0.64960548013641495},{"$f":"IF(B13>0,IF(B104>0,IF($J$22<$B$20*C104,($B$20/B104)*LOG(LN(10)*C104*B104*(1-$J$22/($B$20*C104))+1)+$B$20+$J$22,$B$20*(1+C104)),$B$20*(1+D104)),\"\")","v":37.123489321216098},{"$f":"IF(B13>0,IF(G104>$K$22+$J$22,G104-$K$22-$J$22,0),\"\")","v":0},0,null,65842889.26720985,{"$f":"IF(C13<>\"\",SPmodel!O14+LOG($G$22),\"\")","v":7.8185088799999996},{"$f":"SPmodel!P14","v":8.0058591999999997},null,null,null,null,null,null,null,null,null,null,null,null,null,null,null,null,null,null,null,null,null,2.0400000000000014,1.6118149928480888E-147,1.9968660045251545E-296,0,0,0,0,0,0,0,0,0,0,{"$f":"IF($O$20<>0,SUM(AJ104:AU104)*$O$20+$N$20,-1)","v":11},null,1.6118149928480888E-147,0,0,0,0,0,0,0,0,0,0,0,{"$f":"IF($O$22<>0,SUM(AX104:BI104)*$O$22+$N$22,-1)","v":15},null,1.6118149928480888E-147,1.9968660045251545E-296,0,0,0,0,0,0,0,0,0,0,{"$f":"IF($O$24<>0,SUM(BL104:BW104)*$O$24+$N$24,-1)","v":10},null,1.6118149928480888E-147,1.49867125531242E-189,0,0,0,0,0,0,0,0,0,0,{"$f":"IF($O$21<>0,SUM(BZ104:CK104)*$O$21+$N$21,-1)","v":-1},null,1.6118149928480888E-147,0,0,0,0,0,0,0,0,0,0,0,{"$f":"IF($O$23<>0,SUM(CN104:CY104)*$O$23+$N$23,-1)","v":-1}]
[9,{"$f":"IF(B14>0,IF($L$22>0,$B$20*$L$22*M105/$K$22,0),\"\")","v":""},{"$f":"IF(B14>0,K105*10^(-M105*$H$22),\"\")","v":""},{"$f":"IF(B14>0,IF($D$96=\"k'\",C105,C105/(LN(10)*B105*(C105/2-$J$22/$B$20)+1)),\"\")","v":""},"",{"$f":"IF(B14>0,K105*10^(-M105*$I$22),\"\")","v":""},{"$f":"IF(B14>0,IF(B105>0,IF($J$22<$B$20*C105,($B$20/B105)*LOG(LN(10)*C105*B105*(1-$J$22/($B$20*C105))+1)+$B$20+$J$22,$B$20*(1+C105)),$B$20*(1+D105)),\"\")","v":""},{"$f":"IF(B14>0,IF(G105>$K$22+$J$22,G105-$K$22-$J$22,0),\"\")","v":""},"",null,"",{"$f":"IF(C14<>\"\",SPmodel!O15+LOG($G$22),\"\")","v":{"$error":"#N/A"}},{"$f":"SPmodel!P15","v":{"$error":"#N/A"}},null,null,null,null,null,null,null,null,null,null,null,null,null,null,null,null,null,null,null,null,null,2.0600000000000014,3.2151416851753165E-153,2.0098576205463009E-279,0,0,0,0,0,0,0,0,0,0,{"$f":"IF($O$20<>0,SUM(AJ105:AU105)*$O$20+$N$20,-1)","v":11},null,3.2151416851753165E-153,0,0,0,0,0,0,0,0,0,0,0,{"$f":"IF($O$22<>0,SUM(AX105:BI105)*$O$22+$N$22,-1)","v":15},null,3.2151416851753165E-153,2.0098576205463009E-279,0,0,0,0,0,0,0,0,0,0,{"$f":"IF($O$24<>0,SUM(BL105:BW105)*$O$24+$N$24,-1)","v":10},null,3.2151416851753165E-153,3.274791188787539E-176,0,0,0,0,0,0,0,0,0,0,{"$f":"IF($O$21<>0,SUM(BZ105:CK105)*$O$21+$N$21,-1)","v":-1},null,3.2151416851753165E-153,0,0,0,0,0,0,0,0,0,0,0,{"$f":"IF($O$23<>0,SUM(CN105:CY105)*$O$23+$N$23,-1)","v":-1}]
[10,{"$f":"IF(B15>0,IF($L$22>0,$B$20*$L$22*M106/$K$22,0),\"\")","v":""},{"$f":"IF(B15>0,K106*10^(-M106*$H$22),\"\")","v":""},{"$f":"IF(B15>0,IF($D$96=\"k'\",C106,C106/(LN(10)*B106*(C106/2-$J$22/$B$20)+1)),\"\")","v":""},"",{"$f":"IF(B15>0,K106*10^(-M106*$I$22),\"\")","v":""},{"$f":"IF(B15>0,IF(B106>0,IF($J$22<$B$20*C106,($B$20/B106)*LOG(LN(10)*C106*B106*(1-$J$22/($B$20*C106))+1)+$B$20+$J$22,$B$20*(1+C106)),$B$20*(1+D106)),\"\")","v":""},{"$f":"IF(B15>0,IF(G106>$K$22+$J$22,G106-$K$22-$J$22,0),\"\")","v":""},"",null,"",{"$f":"IF(C15<>\"\",SPmodel!O16+LOG($G$22),\"\")","v":""},{"$f":"SPmodel!P16","v":""},null,null,null,null,null,null,null,null,null,null,null,null,null,null,null,null,null,null,null,null,null,2.0800000000000014,4.9947231479158716E-159,6.3810338326663859E-263,0,0,0,0,0,0,0,0,0,0,{"$f":"IF($O$20<>0,SUM(AJ106:AU106)*$O$20+$N$20,-1)","v":11},null,4.9947231479158716E-159,0,0,0,0,0,0,0,0,0,0,0,{"$f":"IF($O$22<>0,SUM(AX106:BI106)*$O$22+$N$22,-1)","v":15},null,4.9947231479158716E-159,6.3810338326663859E-263,0,0,0,0,0,0,0,0,0,0,{"$f":"IF($O$24<>0,SUM(BL106:BW106)*$O$24+$N$24,-1)","v":10},null,4.9947231479158716E-159,2.3420111014146136E-163,0,0,0,0,0,0,0,0,0,0,{"$f":"IF($O$21<>0,SUM(BZ106:CK106)*$O$21+$N$21,-1)","v":-1},null,4.9947231479158716E-159,0,0,0,0,0,0,0,0,0,0,0,{"$f":"IF($O$23<>0,SUM(CN106:CY106)*$O$23+$N$23,-1)","v":-1}]
[11,{"$f":"IF(B16>0,IF($L$22>0,$B$20*$L$22*M107/$K$22,0),\"\")","v":""},{"$f":"IF(B16>0,K107*10^(-M107*$H$22),\"\")","v":""},{"$f":"IF(B16>0,IF($D$96=\"k'\",C107,C107/(LN(10)*B107*(C107/2-$J$22/$B$20)+1)),\"\")","v":""},"",{"$f":"IF(B16>0,K107*10^(-M107*$I$22),\"\")","v":""},{"$f":"IF(B16>0,IF(B107>0,IF($J$22<$B$20*C107,($B$20/B107)*LOG(LN(10)*C107*B107*(1-$J$22/($B$20*C107))+1)+$B$20+$J$22,$B$20*(1+C107)),$B$20*(1+D107)),\"\")","v":""},{"$f":"IF(B16>0,IF(G107>$K$22+$J$22,G107-$K$22-$J$22,0),\"\")","v":""},"",null,"",{"$f":"IF(C16<>\"\",SPmodel!O17+LOG($G$22),\"\")","v":""},{"$f":"SPmodel!P17","v":""},null,null,null,null,null,null,null,null,null,null,null,null,null,null,null,null,null,null,null,null,null,2.1000000000000014,6.0429514465430357E-165,6.3903726838172347E-247,0,0,0,0,0,0,0,0,0,0,{"$f":"IF($O$20<>0,SUM(AJ107:AU107)*$O$20+$N$20,-1)","v":11},null,6.0429514465430357E-165,0,0,0,0,0,0,0,0,0,0,0,{"$f":"IF($O$22<>0,SUM(AX107:BI107)*$O$22+$N$22,-1)","v":15},null,6.0429514465430357E-165,6.3903726838172347E-247,0,0,0,0,0,0,0,0,0,0,{"$f":"IF($O$24<>0,SUM(BL107:BW107)*$O$24+$N$24,-1)","v":10},null,6.0429514465430357E-165,5.4817898957143447E-151,0,0,0,0,0,0,0,0,0,0,{"$f":"IF($O$21<>0,SUM(BZ107:CK107)*$O$21+$N$21,-1)","v":-1},null,6.0429514465430357E-165,0,0,0,0,0,0,0,0,0,0,0,{"$f":"IF($O$23<>0,SUM(CN107:CY107)*$O$23+$N$23,-1)","v":-1}]
[null,null,null,null,null,null,null,null,null,null,null,null,null,null,null,null,null,null,null,null,null,null,null,null,null,null,null,null,null,null,null,null,null,null,2.1200000000000014,5.6939436968358273E-171,2.0186950183122856E-231,0,0,0,0,0,0,0,0,0,0,{"$f":"IF($O$20<>0,SUM(AJ108:AU108)*$O$20+$N$20,-1)","v":11},null,5.6939436968358273E-171,0,0,0,0,0,0,0,0,0,0,0,{"$f":"IF($O$22<>0,SUM(AX108:BI108)*$O$22+$N$22,-1)","v":15},null,5.6939436968358273E-171,2.0186950183122856E-231,0,0,0,0,0,0,0,0,0,0,{"$f":"IF($O$24<>0,SUM(BL108:BW108)*$O$24+$N$24,-1)","v":10},null,5.6939436968358273E-171,4.1993678909053522E-139,0,0,0,0,0,0,0,0,0,0,{"$f":"IF($O$21<>0,SUM(BZ108:CK108)*$O$21+$N$21,-1)","v":-1},null,5.6939436968358273E-171,0,0,0,0,0,0,0,0,0,0,0,{"$f":"IF($O$23<>0,SUM(CN108:CY108)*$O$23+$N$23,-1)","v":-1}]
[null,null,null,null,null,null,null,null,null,null,null,null,null,null,null,null,null,null,null,null,null,"Copy for sorting Macro 4",null,null,null,null,null,null,null,null,null,null,null,null,2.1400000000000015,4.178338412820925E-177,2.0115212312528713E-216,0,0,0,0,0,0,0,0,0,0,{"$f":"IF($O$20<>0,SUM(AJ109:AU109)*$O$20+$N$20,-1)","v":11},null,4.178338412820925E-177,0,0,0,0,0,0,0,0,0,0,0,{"$f":"IF($O$22<>0,SUM(AX109:BI109)*$O$22+$N$22,-1)","v":15},null,4.178338412820925E-177,2.0115212312528713E-216,0,0,0,0,0,0,0,0,0,0,{"$f":"IF($O$24<>0,SUM(BL109:BW109)*$O$24+$N$24,-1)","v":10},null,4.178338412820925E-177,1.0528671142469851E-127,0,0,0,0,0,0,0,0,0,0,{"$f":"IF($O$21<>0,SUM(BZ109:CK109)*$O$21+$N$21,-1)","v":-1},null,4.178338412820925E-177,0,0,0,0,0,0,0,0,0,0,0,{"$f":"IF($O$23<>0,SUM(CN109:CY109)*$O$23+$N$23,-1)","v":-1}]
["What-If Analysis:",null,null,null,null,"Cells:",null,null,null,null,null,null,null,null,null,null,null,null,null,null,null,"Lin 1","tR ref","W ref","Nonlinear 1",null,"Nonlinear 2",null,null,null,null,null,null,null,2.1600000000000015,2.3879236354847665E-183,6.3224865687750041E-202,0,0,0,0,0,0,0,0,0,0,{"$f":"IF($O$20<>0,SUM(AJ110:AU110)*$O$20+$N$20,-1)","v":11},null,2.3879236354847665E-183,0,0,0,0,0,0,0,0,0,0,0,{"$f":"IF($O$22<>0,SUM(AX110:BI110)*$O$22+$N$22,-1)","v":15},null,2.3879236354847665E-183,6.3224865687750041E-202,0,0,0,0,0,0,0,0,0,0,{"$f":"IF($O$24<>0,SUM(BL110:BW110)*$O$24+$N$24,-1)","v":10},null,2.3879236354847665E-183,8.6395535170021064E-117,0,0,0,0,0,0,0,0,0,0,{"$f":"IF($O$21<>0,SUM(BZ110:CK110)*$O$21+$N$21,-1)","v":-1},null,2.3879236354847665E-183,0,0,0,0,0,0,0,0,0,0,0,{"$f":"IF($O$23<>0,SUM(CN110:CY110)*$O$23+$N$23,-1)","v":-1}]
["0) If the table exists, just correct the input as wanted",null,null,null,null,null,null,null,null,null,null,null,null,null,null,null,null,null,null,null,null,"Aniline",2.7286324014718528,7.4477314456849478E-2,1.3800000000000001,3.0038520866038552E-2,1.7750000000000001,4.9263174220303137E-2,null,null,null,null,null,null,2.1800000000000015,1.0628295883808001E-189,6.2684561914572967E-188,0,0,0,0,0,0,0,0,0,0,{"$f":"IF($O$20<>0,SUM(AJ111:AU111)*$O$20+$N$20,-1)","v":11},null,1.0628295883808001E-189,0,0,0,0,0,0,0,0,0,0,0,{"$f":"IF($O$22<>0,SUM(AX111:BI111)*$O$22+$N$22,-1)","v":15},null,1.0628295883808001E-189,6.2684561914572967E-188,0,0,0,0,0,0,0,0,0,0,{"$f":"IF($O$24<>0,SUM(BL111:BW111)*$O$24+$N$24,-1)","v":10},null,1.0628295883808001E-189,2.3202625903353462E-106,0,0,0,0,0,0,0,0,0,0,{"$f":"IF($O$21<>0,SUM(BZ111:CK111)*$O$21+$N$21,-1)","v":-1},null,1.0628295883808001E-189,0,0,0,0,0,0,0,0,0,0,0,{"$f":"IF($O$23<>0,SUM(CN111:CY111)*$O$23+$N$23,-1)","v":-1}]
["1) Type the input values in a column",null,null,null,null,"B124:B131",null,null,null,null,null,null,null,null,null,null,null,null,null,null,null,"Indole",6.8792994967858796,0.15012164135919503,10.06,0.20065731938513773,13.005000000000001,4.9263174220303137E-2,null,null,null,null,null,null,2.2000000000000015,3.6841153371923895E-196,1.9603908179452908E-174,0,0,0,0,0,0,0,0,0,0,{"$f":"IF($O$20<>0,SUM(AJ112:AU112)*$O$20+$N$20,-1)","v":11},null,3.6841153371923895E-196,0,0,0,0,0,0,0,0,0,0,0,{"$f":"IF($O$22<>0,SUM(AX112:BI112)*$O$22+$N$22,-1)","v":15},null,3.6841153371923895E-196,1.9603908179452908E-174,0,0,0,0,0,0,0,0,0,0,{"$f":"IF($O$24<>0,SUM(BL112:BW112)*$O$24+$N$24,-1)","v":10},null,3.6841153371923895E-196,2.0394406774552045E-96,0,0,0,0,0,0,0,0,0,0,{"$f":"IF($O$21<>0,SUM(BZ112:CK112)*$O$21+$N$21,-1)","v":-1},null,3.6841153371923895E-196,0,0,0,0,0,0,0,0,0,0,0,{"$f":"IF($O$23<>0,SUM(CN112:CY112)*$O$23+$N$23,-1)","v":-1}]
["2) Type the formula for the output in a row starting one",null,null,null,null,"C123:E123",null,null,null,null,null,null,null,null,null,null,null,null,null,null,null,"toluene",11.465584835110867,0.21012644509342362,11.435,0.21267272773155246,15.64,4.9263174220303137E-2,null,null,null,null,null,null,2.2200000000000015,9.9455585681934284E-203,1.9339004274607856E-161,0,0,0,0,0,0,0,0,0,0,{"$f":"IF($O$20<>0,SUM(AJ113:AU113)*$O$20+$N$20,-1)","v":11},null,9.9455585681934284E-203,0,0,0,0,0,0,0,0,0,0,0,{"$f":"IF($O$22<>0,SUM(AX113:BI113)*$O$22+$N$22,-1)","v":15},null,9.9455585681934284E-203,1.9339004274607856E-161,0,0,0,0,0,0,0,0,0,0,{"$f":"IF($O$24<>0,SUM(BL113:BW113)*$O$24+$N$24,-1)","v":10},null,9.9455585681934284E-203,5.8669598617009794E-87,0,0,0,0,0,0,0,0,0,0,{"$f":"IF($O$21<>0,SUM(BZ113:CK113)*$O$21+$N$21,-1)","v":-1},null,9.9455585681934284E-203,0,0,0,0,0,0,0,0,0,0,0,{"$f":"IF($O$23<>0,SUM(CN113:CY113)*$O$23+$N$23,-1)","v":-1}]
["    column to the right and one row higher than the input",null,null,null,null,null,null,null,null,null,null,null,null,null,null,null,null,null,null,null,null,"Styrene",12.732329050512124,0.2146153631838677,12.705,0.20546348272370379,17.145,0.23910662609366626,null,null,null,null,null,null,2.2400000000000015,2.0909879014616195E-209,6.0177611208184778E-149,0,0,0,0,0,0,0,0,0,0,{"$f":"IF($O$20<>0,SUM(AJ114:AU114)*$O$20+$N$20,-1)","v":11},null,2.0909879014616195E-209,0,0,0,0,0,0,0,0,0,0,0,{"$f":"IF($O$22<>0,SUM(AX114:BI114)*$O$22+$N$22,-1)","v":15},null,2.0909879014616195E-209,6.0177611208184778E-149,0,0,0,0,0,0,0,0,0,0,{"$f":"IF($O$24<>0,SUM(BL114:BW114)*$O$24+$N$24,-1)","v":10},null,2.0909879014616195E-209,5.52386755953651E-78,0,0,0,0,0,0,0,0,0,0,{"$f":"IF($O$21<>0,SUM(BZ114:CK114)*$O$21+$N$21,-1)","v":-1},null,2.0909879014616195E-209,0,0,0,0,0,0,0,0,0,0,0,{"$f":"IF($O$23<>0,SUM(CN114:CY114)*$O$23+$N$23,-1)","v":-1}]
["3) Write the target cell name for your own information",null,null,null,null,"B123",null,null,null,null,null,null,null,null,null,null,null,null,null,null,null,"Anthracene",19.477716559770098,0.17935109730444701,1.3800000000000001,3.0038520866038552E-2,1.7750000000000001,0.26313744278649742,null,null,null,null,null,null,2.2600000000000016,3.4237357701951367E-216,5.9067034028484317E-137,0,0,0,0,0,0,0,0,0,0,{"$f":"IF($O$20<>0,SUM(AJ115:AU115)*$O$20+$N$20,-1)","v":11},null,3.4237357701951367E-216,0,0,0,0,0,0,0,0,0,0,0,{"$f":"IF($O$22<>0,SUM(AX115:BI115)*$O$22+$N$22,-1)","v":15},null,3.4237357701951367E-216,5.9067034028484317E-137,0,0,0,0,0,0,0,0,0,0,{"$f":"IF($O$24<>0,SUM(BL115:BW115)*$O$24+$N$24,-1)","v":10},null,3.4237357701951367E-216,1.7021643804928578E-69,0,0,0,0,0,0,0,0,0,0,{"$f":"IF($O$21<>0,SUM(BZ115:CK115)*$O$21+$N$21,-1)","v":-1},null,3.4237357701951367E-216,0,0,0,0,0,0,0,0,0,0,0,{"$f":"IF($O$23<>0,SUM(CN115:CY115)*$O$23+$N$23,-1)","v":-1}]
["4) Mark the whole rectangle",null,null,null,null,"B122:E131",null,null,null,null,null,null,null,null,null,null,null,null,null,null,null,"Pyrene",20.512408419205713,0.16828615157098814,20.495000000000001,0.13817719598377631,26.925000000000001,0.25352511610936529,null,null,null,null,null,null,2.2800000000000016,4.3659156418919789E-223,1.8287939178729566E-125,0,0,0,0,0,0,0,0,0,0,{"$f":"IF($O$20<>0,SUM(AJ116:AU116)*$O$20+$N$20,-1)","v":11},null,4.3659156418919789E-223,0,0,0,0,0,0,0,0,0,0,0,{"$f":"IF($O$22<>0,SUM(AX116:BI116)*$O$22+$N$22,-1)","v":15},null,4.3659156418919789E-223,1.8287939178729566E-125,0,0,0,0,0,0,0,0,0,0,{"$f":"IF($O$24<>0,SUM(BL116:BW116)*$O$24+$N$24,-1)","v":10},null,4.3659156418919789E-223,1.7166740397063482E-61,0,0,0,0,0,0,0,0,0,0,{"$f":"IF($O$21<>0,SUM(BZ116:CK116)*$O$21+$N$21,-1)","v":-1},null,4.3659156418919789E-223,0,0,0,0,0,0,0,0,0,0,0,{"$f":"IF($O$23<>0,SUM(CN116:CY116)*$O$23+$N$23,-1)","v":-1}]
["5) Klik on Data->What-If-Analysis->Data Table",null,null,null,null,null,null,null,null,null,null,null,null,null,null,null,null,null,null,null,null,"Decane",25.179569581441449,0.16366785714907126,1.3800000000000001,3.0038520866038552E-2,1.7750000000000001,0.17182033935373964,null,null,null,null,null,null,2.3000000000000016,4.3358756590101739E-230,1.7860505998138549E-114,0,0,0,0,0,0,0,0,0,0,{"$f":"IF($O$20<>0,SUM(AJ117:AU117)*$O$20+$N$20,-1)","v":11},null,4.3358756590101739E-230,0,0,0,0,0,0,0,0,0,0,0,{"$f":"IF($O$22<>0,SUM(AX117:BI117)*$O$22+$N$22,-1)","v":15},null,4.3358756590101739E-230,1.7860505998138549E-114,0,0,0,0,0,0,0,0,0,0,{"$f":"IF($O$24<>0,SUM(BL117:BW117)*$O$24+$N$24,-1)","v":10},null,4.3358756590101739E-230,5.6663354512597407E-54,0,0,0,0,0,0,0,0,0,0,{"$f":"IF($O$21<>0,SUM(BZ117:CK117)*$O$21+$N$21,-1)","v":-1},null,4.3358756590101739E-230,0,0,0,0,0,0,0,0,0,0,0,{"$f":"IF($O$23<>0,SUM(CN117:CY117)*$O$23+$N$23,-1)","v":-1}]
["6) Set the Column Cell to the target cell for the input values",null,null,null,null,null,null,null,null,null,null,null,null,null,null,null,null,null,null,null,null,"Tetradecane",28.046562531809982,0.13014137623580449,28.035,9.9727889275247783E-2,33.125,8.5309399259550445E-2,null,null,null,null,null,null,2.3200000000000016,3.3535491683690149E-237,5.5021462933132095E-104,0,0,0,0,0,0,0,0,0,0,{"$f":"IF($O$20<>0,SUM(AJ118:AU118)*$O$20+$N$20,-1)","v":11},null,3.3535491683690149E-237,0,0,0,0,0,0,0,0,0,0,0,{"$f":"IF($O$22<>0,SUM(AX118:BI118)*$O$22+$N$22,-1)","v":15},null,3.3535491683690149E-237,5.5021462933132095E-104,0,0,0,0,0,0,0,0,0,0,{"$f":"IF($O$24<>0,SUM(BL118:BW118)*$O$24+$N$24,-1)","v":10},null,3.3535491683690149E-237,6.1213163426513728E-47,0,0,0,0,0,0,0,0,0,0,{"$f":"IF($O$21<>0,SUM(BZ118:CK118)*$O$21+$N$21,-1)","v":-1},null,3.3535491683690149E-237,0,0,0,0,0,0,0,0,0,0,0,{"$f":"IF($O$23<>0,SUM(CN118:CY118)*$O$23+$N$23,-1)","v":-1}]
["7) Write the name of the output variables",null,null,null,null,"C122:E122",null,null,null,null,null,null,null,null,null,null,null,null,null,null,null,"Pyren","","",null,null,null,null,null,null,null,null,null,null,2.3400000000000016,2.0200351034651268E-244,5.346627075211002E-94,0,0,0,0,0,0,0,0,0,0,{"$f":"IF($O$20<>0,SUM(AJ119:AU119)*$O$20+$N$20,-1)","v":11},null,2.0200351034651268E-244,0,0,0,0,0,0,0,0,0,0,0,{"$f":"IF($O$22<>0,SUM(AX119:BI119)*$O$22+$N$22,-1)","v":15},null,2.0200351034651268E-244,5.346627075211002E-94,0,0,0,0,0,0,0,0,0,0,{"$f":"IF($O$24<>0,SUM(BL119:BW119)*$O$24+$N$24,-1)","v":10},null,2.0200351034651268E-244,2.1642900700446066E-40,0,0,0,0,0,0,0,0,0,0,{"$f":"IF($O$21<>0,SUM(BZ119:CK119)*$O$21+$N$21,-1)","v":-1},null,2.0200351034651268E-244,0,0,0,0,0,0,0,0,0,0,0,{"$f":"IF($O$23<>0,SUM(CN119:CY119)*$O$23+$N$23,-1)","v":-1}]
["8) Formula and input valuescan be changed without calling the function again",null,null,null,null,null,null,null,null,null,null,null,null,null,null,null,null,null,null,null,null,null,"","",null,null,null,null,null,null,null,null,null,null,2.3600000000000017,9.476316000218167E-252,1.6388418218960831E-84,0,0,0,0,0,0,0,0,0,0,{"$f":"IF($O$20<>0,SUM(AJ120:AU120)*$O$20+$N$20,-1)","v":11},null,9.476316000218167E-252,0,0,0,0,0,0,0,0,0,0,0,{"$f":"IF($O$22<>0,SUM(AX120:BI120)*$O$22+$N$22,-1)","v":15},null,9.476316000218167E-252,1.6388418218960831E-84,0,0,0,0,0,0,0,0,0,0,{"$f":"IF($O$24<>0,SUM(BL120:BW120)*$O$24+$N$24,-1)","v":10},null,9.476316000218167E-252,2.5044606377511672E-34,0,0,0,0,0,0,0,0,0,0,{"$f":"IF($O$21<>0,SUM(BZ120:CK120)*$O$21+$N$21,-1)","v":-1},null,9.476316000218167E-252,0,0,0,0,0,0,0,0,0,0,0,{"$f":"IF($O$23<>0,SUM(CN120:CY120)*$O$23+$N$23,-1)","v":-1}]
[null,null,null,null,null,null,null,null,null,null,null,null,null,null,null,null,null,null,null,null,null,null,"","",null,null,null,null,null,null,null,null,null,null,2.3800000000000017,3.4621551958397223E-259,1.5845413181518155E-75,0,0,0,0,0,0,0,0,0,0,{"$f":"IF($O$20<>0,SUM(AJ121:AU121)*$O$20+$N$20,-1)","v":11},null,3.4621551958397223E-259,0,0,0,0,0,0,0,0,0,0,0,{"$f":"IF($O$22<>0,SUM(AX121:BI121)*$O$22+$N$22,-1)","v":15},null,3.4621551958397223E-259,1.5845413181518155E-75,0,0,0,0,0,0,0,0,0,0,{"$f":"IF($O$24<>0,SUM(BL121:BW121)*$O$24+$N$24,-1)","v":10},null,3.4621551958397223E-259,9.4850812255720488E-29,0,0,0,0,0,0,0,0,0,0,{"$f":"IF($O$21<>0,SUM(BZ121:CK121)*$O$21+$N$21,-1)","v":-1},null,3.4621551958397223E-259,0,0,0,0,0,0,0,0,0,0,0,{"$f":"IF($O$23<>0,SUM(CN121:CY121)*$O$23+$N$23,-1)","v":-1}]
[null,null,"tR(1)","tR(5)","tR(4)",null,null,null,null,null,null,null,null,null,null,null,null,null,null,null,null,null,null,null,null,null,null,null,null,null,null,null,null,null,2.4000000000000017,9.8509906928255029E-267,4.8325847965376148E-67,0,0,0,0,0,0,0,0,0,0,{"$f":"IF($O$20<>0,SUM(AJ122:AU122)*$O$20+$N$20,-1)","v":11},null,9.8509906928255029E-267,0,0,0,0,0,0,0,0,0,0,0,{"$f":"IF($O$22<>0,SUM(AX122:BI122)*$O$22+$N$22,-1)","v":15},null,9.8509906928255029E-267,4.8325847965376148E-67,0,0,0,0,0,0,0,0,0,0,{"$f":"IF($O$24<>0,SUM(BL122:BW122)*$O$24+$N$24,-1)","v":10},null,9.8509906928255029E-267,1.1756985940153128E-23,0,0,0,0,0,0,0,0,0,0,{"$f":"IF($O$21<>0,SUM(BZ122:CK122)*$O$21+$N$21,-1)","v":-1},null,9.8509906928255029E-267,0,0,0,0,0,0,0,0,0,0,0,{"$f":"IF($O$23<>0,SUM(CN122:CY122)*$O$23+$N$23,-1)","v":-1}]
["Input cell:","To, =G20",{"$f":"B53","v":2.7286324014718528},{"$f":"B57","v":19.477716559770098},{"$f":"B56","v":12.732329050512124},null,null,null,null,null,null,null,null,null,null,null,null,null,null,null,null,null,null,null,null,null,null,null,null,null,null,null,null,null,2.4200000000000017,2.1829292751519018E-274,4.6490560623140262E-59,0,0,0,0,0,0,0,0,0,0,{"$f":"IF($O$20<>0,SUM(AJ123:AU123)*$O$20+$N$20,-1)","v":11},null,2.1829292751519018E-274,0,0,0,0,0,0,0,0,0,0,0,{"$f":"IF($O$22<>0,SUM(AX123:BI123)*$O$22+$N$22,-1)","v":15},null,2.1829292751519018E-274,4.6490560623140262E-59,0,0,0,0,0,0,0,0,0,0,{"$f":"IF($O$24<>0,SUM(BL123:BW123)*$O$24+$N$24,-1)","v":10},null,2.1829292751519018E-274,4.7695679884058457E-19,0,0,0,0,0,0,0,0,0,0,{"$f":"IF($O$21<>0,SUM(BZ123:CK123)*$O$21+$N$21,-1)","v":-1},null,2.1829292751519018E-274,0,0,0,0,0,0,0,0,0,0,0,{"$f":"IF($O$23<>0,SUM(CN123:CY123)*$O$23+$N$23,-1)","v":-1}]
[null,0.1,3.721424350649106,22.224732564559833,16.055489329043986,null,null,null,null,null,null,null,null,null,null,null,null,null,null,null,null,null,null,null,null,null,null,null,null,null,null,null,null,null,2.4400000000000017,3.7672617940449906E-282,1.4107805657471911E-51,0,0,0,0,0,0,0,0,0,0,{"$f":"IF($O$20<>0,SUM(AJ124:AU124)*$O$20+$N$20,-1)","v":11},null,3.7672617940449906E-282,0,0,0,0,0,0,0,0,0,0,0,{"$f":"IF($O$22<>0,SUM(AX124:BI124)*$O$22+$N$22,-1)","v":15},null,3.7672617940449906E-282,1.4107805657471911E-51,0,0,0,0,0,0,0,0,0,0,{"$f":"IF($O$24<>0,SUM(BL124:BW124)*$O$24+$N$24,-1)","v":10},null,3.7672617940449906E-282,6.3327185888771531E-15,0,0,0,0,0,0,0,0,0,0,{"$f":"IF($O$21<>0,SUM(BZ124:CK124)*$O$21+$N$21,-1)","v":-1},null,3.7672617940449906E-282,0,0,0,0,0,0,0,0,0,0,0,{"$f":"IF($O$23<>0,SUM(CN124:CY124)*$O$23+$N$23,-1)","v":-1}]
[null,0.15,3.178939200623176,20.935242309759413,14.451315138262062,null,null,null,null,null,null,null,null,null,null,null,null,null,null,null,null,null,null,null,null,null,null,null,null,null,null,null,null,null,2.4600000000000017,5.0633542905213066E-290,1.3504034490924845E-44,0,0,0,0,0,0,0,0,0,0,{"$f":"IF($O$20<>0,SUM(AJ125:AU125)*$O$20+$N$20,-1)","v":11},null,5.0633542905213066E-290,0,0,0,0,0,0,0,0,0,0,0,{"$f":"IF($O$22<>0,SUM(AX125:BI125)*$O$22+$N$22,-1)","v":15},null,5.0633542905213066E-290,1.3504034490924845E-44,0,0,0,0,0,0,0,0,0,0,{"$f":"IF($O$24<>0,SUM(BL125:BW125)*$O$24+$N$24,-1)","v":10},null,5.0633542905213066E-290,2.7518796427501638E-11,0,0,0,0,0,0,0,0,0,0,{"$f":"IF($O$21<>0,SUM(BZ125:CK125)*$O$21+$N$21,-1)","v":-1},null,5.0633542905213066E-290,0,0,0,0,0,0,0,0,0,0,0,{"$f":"IF($O$23<>0,SUM(CN125:CY125)*$O$23+$N$23,-1)","v":-1}]
[null,0.2,2.7286324014718528,19.477716559770098,12.732329050512124,null,null,null,null,null,null,null,null,null,null,null,null,null,null,null,null,null,null,null,null,null,null,null,null,null,null,null,null,null,2.4800000000000018,5.3000163788030794E-298,4.0773406187299329E-38,0,0,0,0,0,0,0,0,0,0,{"$f":"IF($O$20<>0,SUM(AJ126:AU126)*$O$20+$N$20,-1)","v":11},null,5.3000163788030794E-298,0,0,0,0,0,0,0,0,0,0,0,{"$f":"IF($O$22<>0,SUM(AX126:BI126)*$O$22+$N$22,-1)","v":15},null,5.3000163788030794E-298,4.0773406187299329E-38,0,0,0,0,0,0,0,0,0,0,{"$f":"IF($O$24<>0,SUM(BL126:BW126)*$O$24+$N$24,-1)","v":10},null,5.3000163788030794E-298,3.9137833570075096E-8,0,0,0,0,0,0,0,0,0,0,{"$f":"IF($O$21<>0,SUM(BZ126:CK126)*$O$21+$N$21,-1)","v":-1},null,5.3000163788030794E-298,0,0,0,0,0,0,0,0,0,0,0,{"$f":"IF($O$23<>0,SUM(CN126:CY126)*$O$23+$N$23,-1)","v":-1}]
[null,0.25,2.3611072285280992,17.823553586855912,10.931605976914772,null,null,null,null,null,null,null,null,null,null,null,null,null,null,null,null,null,null,null,null,null,null,null,null,null,null,null,null,null,2.5000000000000018,4.3205843307033868E-306,3.8832900846593069E-32,0,0,0,0,0,0,0,0,0,0,{"$f":"IF($O$20<>0,SUM(AJ127:AU127)*$O$20+$N$20,-1)","v":11},null,4.3205843307033868E-306,0,0,0,0,0,0,0,0,0,0,0,{"$f":"IF($O$22<>0,SUM(AX127:BI127)*$O$22+$N$22,-1)","v":15},null,4.3205843307033868E-306,3.8832900846593069E-32,0,0,0,0,0,0,0,0,0,0,{"$f":"IF($O$24<>0,SUM(BL127:BW127)*$O$24+$N$24,-1)","v":10},null,4.3205843307033868E-306,1.8217644762652369E-5,0,0,0,0,0,0,0,0,0,0,{"$f":"IF($O$21<>0,SUM(BZ127:CK127)*$O$21+$N$21,-1)","v":-1},null,4.3205843307033868E-306,0,0,0,0,0,0,0,0,0,0,0,{"$f":"IF($O$23<>0,SUM(CN127:CY127)*$O$23+$N$23,-1)","v":-1}]
[null,0.3,2.0653037592990673,15.943930426723755,9.10990755175653,null,null,null,null,null,null,null,null,null,null,null,null,null,null,null,null,null,null,null,null,null,null,null,null,null,null,null,null,null,2.5200000000000018,0,1.1666270960152802E-26,0,0,0,0,0,0,0,0,0,0,{"$f":"IF($O$20<>0,SUM(AJ128:AU128)*$O$20+$N$20,-1)","v":11},null,0,0,0,0,0,0,0,0,0,0,0,0,{"$f":"IF($O$22<>0,SUM(AX128:BI128)*$O$22+$N$22,-1)","v":15},null,0,1.1666270960152802E-26,0,0,0,0,0,0,0,0,0,0,{"$f":"IF($O$24<>0,SUM(BL128:BW128)*$O$24+$N$24,-1)","v":10},null,0,2.7753373277243205E-3,0,0,0,0,0,0,0,0,0,0,{"$f":"IF($O$21<>0,SUM(BZ128:CK128)*$O$21+$N$21,-1)","v":-1},null,0,0,0,0,0,0,0,0,0,0,0,0,{"$f":"IF($O$23<>0,SUM(CN128:CY128)*$O$23+$N$23,-1)","v":-1}]
[null,0.35,1.8298813275254808,13.819403432070693,7.3553557837844306,null,null,null,null,null,null,null,null,null,null,null,null,null,null,null,null,null,null,null,null,null,null,null,null,null,null,null,null,null,2.5400000000000018,0,1.1055379858986198E-21,0,0,0,0,0,0,0,0,0,0,{"$f":"IF($O$20<>0,SUM(AJ129:AU129)*$O$20+$N$20,-1)","v":11},null,0,0,0,0,0,0,0,0,0,0,0,0,{"$f":"IF($O$22<>0,SUM(AX129:BI129)*$O$22+$N$22,-1)","v":15},null,0,1.1055379858986198E-21,0,0,0,0,0,0,0,0,0,0,{"$f":"IF($O$24<>0,SUM(BL129:BW129)*$O$24+$N$24,-1)","v":10},null,0,0.13837811970042077,0,0,0,0,0,0,0,0,0,0,{"$f":"IF($O$21<>0,SUM(BZ129:CK129)*$O$21+$N$21,-1)","v":-1},null,0,0,0,0,0,0,0,0,0,0,0,0,{"$f":"IF($O$23<>0,SUM(CN129:CY129)*$O$23+$N$23,-1)","v":-1}]
[null,0.4,1.644158886457002,11.463060545622087,5.7680127018331335,null,null,null,null,null,null,null,null,null,null,null,null,null,null,null,null,null,null,null,null,null,null,null,null,null,null,null,null,null,2.5600000000000018,{"$f":"$B$23*NORMDIST($AI130,$B$20,$B$24*$B$20,FALSE)","v":0},{"$f":"B$6*IF(B$6>0,NORMDIST($AI130,B$53,C$53/4,FALSE),0)","v":3.3046438756790474E-17},{"$f":"B$7*IF(B$7>0,NORMDIST($AI130,B$54,C$54/4,FALSE),0)","v":0},{"$f":"B$8*IF(B$8>0,NORMDIST($AI130,B$55,C$55/4,FALSE),0)","v":0},{"$f":"B$9*IF(B$9>0,NORMDIST($AI130,B$56,C$56/4,FALSE),0)","v":0},{"$f":"B$10*IF(B$10>0,NORMDIST($AI130,B$57,C$57/4,FALSE),0)","v":0},{"$f":"B$11*IF(B$11>0,NORMDIST($AI130,B$58,$C$58/4,FALSE),0)","v":0},{"$f":"$B$12*IF($B$12>0,NORMDIST($AI130,B$59,$C$59/4,FALSE),0)","v":0},{"$f":"$B$13*IF($B$13>0,NORMDIST($AI130,B$60,$C$60/4,FALSE),0)","v":0},{"$f":"$B$14*IF($B$14>0,NORMDIST($AI130,$B$61,$C$61/4,FALSE),0)","v":0},{"$f":"$B$15*IF($B$15>0,NORMDIST($AI130,$B$62,$C$62/4,FALSE),0)","v":0},{"$f":"$B$16*IF($B$16>0,NORMDIST($AI130,$B$63,$C$63/4,FALSE),0)","v":0},{"$f":"IF($O$20<>0,SUM(AJ130:AU130)*$O$20+$N$20,-1)","v":11},null,0,{"$f":"IF(B$6>0,B$6*NORMDIST($AI130,F$53,G$53/4,FALSE),0)","v":0},{"$f":"IF(B$7>0,B$7*NORMDIST($AI130,F$54,G$54/4,FALSE),0)","v":0},{"$f":"IF(B$8>0,B$8*NORMDIST($AI130,F$55,G$55/4,FALSE),0)","v":0},{"$f":"IF(B$9>0,B$9*NORMDIST($AI130,F$56,G$56/4,FALSE),0)","v":0},{"$f":"IF(B$10>0,B$10*NORMDIST($AI130,F$57,G$57/4,FALSE),0)","v":0},{"$f":"IF(B$11>0,B$11*NORMDIST($AI130,F$58,G$58/4,FALSE),0)","v":0},{"$f":"IF($B$12>0,$B$12*NORMDIST($AI130,$F$59,$G$59/4,FALSE),0)","v":0},{"$f":"IF($B$13>0,$B$13*NORMDIST($AI130,$F$60,$G$60/4,FALSE),0)","v":0},{"$f":"IF($B$14>0,$B$14*NORMDIST($AI130,$F$61,$G$61/4,FALSE),0)","v":0},{"$f":"IF($B$15>0,$B$15*NORMDIST($AI130,$F$62,$G$62/4,FALSE),0)","v":0},{"$f":"IF($B$16>0,$B$16*NORMDIST($AI130,$F$63,$G$63/4,FALSE),0)","v":0},{"$f":"IF($O$22<>0,SUM(AX130:BI130)*$O$22+$N$22,-1)","v":15},null,{"$f":"$B$23*NORMDIST($AI130,$B$20,$B$20*$B$24,FALSE)","v":0},{"$f":"IF($B$6>0,$B$6*NORMDIST($AI130,$J$53,$K$53/4,FALSE),0)","v":3.3046438756790474E-17},{"$f":"IF($B$7>0,$B$7*NORMDIST($AI130,$J$54,$K$54/4,FALSE),0)","v":0},{"$f":"IF($B$8>0,$B$8*NORMDIST($AI130,$J$55,$K$55/4,FALSE),0)","v":0},{"$f":"IF($B$9>0,$B$9*NORMDIST($AI130,$J$56,$K$56/4,FALSE),0)","v":0},{"$f":"IF($B$10>0,$B$10*NORMDIST($AI130,$J$57,$K$57/4,FALSE),0)","v":0},{"$f":"IF($B$11>0,$B$11*NORMDIST($AI130,$J$58,$K$58/4,FALSE),0)","v":0},{"$f":"IF($B$12>0,$B$12*NORMDIST($AI130,$J$59,$K$59/4,FALSE),0)","v":0},{"$f":"IF($B$13>0,$B$13*NORMDIST($AI130,$J$60,$K$60/4,FALSE),0)","v":0},{"$f":"IF($B$14>0,$B$14*NORMDIST($AI130,$J$61,$K$61/4,FALSE),0)","v":0},{"$f":"IF($B$15>0,$B$15*NORMDIST($AI130,$J$62,$K$62/4,FALSE),0)","v":0},{"$f":"IF($B$16>0,$B$16*NORMDIST($AI130,$J$63,$K$63/4,FALSE),0)","v":0},{"$f":"IF($O$24<>0,SUM(BL130:BW130)*$O$24+$N$24,-1)","v":10},null,{"$f":"$B$23*NORMDIST($AI130,$B$20,$B$20*$B$24,FALSE)","v":0},{"$f":"IF($B$6>0,$B$6*NORMDIST($AI130,$B$68,$C$68/4,FALSE),0)","v":2.258120813554219},{"$f":"IF($B$7>0,$B$7*NORMDIST($AI130,$B$69,$C$69/4,FALSE),0)","v":0},{"$f":"IF($B$8>0,$B$8*NORMDIST($AI130,$B$70,$C$70/4,FALSE),0)","v":0},{"$f":"IF($B$9>0,$B$9*NORMDIST($AI130,$B$71,$C$71/4,FALSE),0)","v":0},{"$f":"IF($B$10>0,$B$10*NORMDIST($AI130,$B$72,$C$72/4,FALSE),0)","v":0},{"$f":"IF($B$11>0,$B$11*NORMDIST($AI130,$B$73,$C$73/4,FALSE),0)","v":0},{"$f":"IF($B$12>0,$B$12*NORMDIST($AI130,$B$74,$C$74/4,FALSE),0)","v":0},{"$f":"IF($B$13>0,$B$13*NORMDIST($AI130,$B$75,$C$75/4,FALSE),0)","v":0},{"$f":"IF($B$14>0,$B$14*NORMDIST($AI130,$B$76,$C$76/4,FALSE),0)","v":0},{"$f":"IF($B$15>0,$B$15*NORMDIST($AI130,$B$77,$C$77/4,FALSE),0)","v":0},{"$f":"IF($B$16>0,$B$16*NORMDIST($AI130,$B$78,$C$78/4,FALSE),0)","v":0},{"$f":"IF($O$21<>0,SUM(BZ130:CK130)*$O$21+$N$21,-1)","v":-1},null,{"$f":"$B$23*NORMDIST($AI130,$B$20,$B$20*$B$24,FALSE)","v":0},{"$f":"IF($B$6>0,$B$6*NORMDIST($AI130,$F$68,$G$68/4,FALSE),0)","v":0},{"$f":"IF($B$7>0,$B$7*NORMDIST($AI130,$F$69,$G$69/4,FALSE),0)","v":0},{"$f":"IF($B$8>0,$B$8*NORMDIST($AI130,$F$70,$G$70/4,FALSE),0)","v":0},{"$f":"IF($B$9>0,$B$9*NORMDIST($AI130,$F$71,$G$71/4,FALSE),0)","v":0},{"$f":"IF($B$10>0,$B$10*NORMDIST($AI130,$F$72,$G$72/4,FALSE),0)","v":0},{"$f":"IF($B$11>0,$B$11*NORMDIST($AI130,$F$73,$G$73/4,FALSE),0)","v":0},{"$f":"IF($B$12>0,$B$12*NORMDIST($AI130,$F$74,$G$74/4,FALSE),0)","v":0},{"$f":"IF($B$13>0,$B$13*NORMDIST($AI130,$F$75,$G$75/4,FALSE),0)","v":0},{"$f":"IF($B$14>0,$B$14*NORMDIST($AI130,$F$76,$G$76/4,FALSE),0)","v":0},{"$f":"IF($B$15>0,$B$15*NORMDIST($AI130,$F$77,$G$77/4,FALSE),0)","v":0},{"$f":"IF($B$16>0,$B$16*NORMDIST($AI130,$F$78,$G$78/4,FALSE),0)","v":0},{"$f":"IF($O$23<>0,SUM(CN130:CY130)*$O$23+$N$23,-1)","v":-1}]
[null,0.45,1.4986374207344131,8.9637279799228615,4.4303158336571773,null,null,null,null,null,null,null,null,null,null,null,null,null,null,null,null,null,null,null,null,null,null,null,null,null,null,null,null,null,{"$f":"AI130+$B$25","v":2.5800000000000018},0,3.1159110045046686E-13,0,0,0,0,0,0,0,0,0,0,{"$f":"IF($O$20<>0,SUM(AJ131:AU131)*$O$20+$N$20,-1)","v":11.000000000000311},null,{"$f":"$B$23*NORMDIST($AI131,$B$20,$B$24*$B$20,FALSE)","v":0},0,0,0,0,0,0,0,0,0,0,0,{"$f":"IF($O$22<>0,SUM(AX131:BI131)*$O$22+$N$22,-1)","v":15},null,0,3.1159110045046686E-13,0,0,0,0,0,0,0,0,0,0,{"$f":"IF($O$24<>0,SUM(BL131:BW131)*$O$24+$N$24,-1)","v":9.9999999999996891},null,0,12.060214245651219,0,0,0,0,0,0,0,0,0,0,{"$f":"IF($O$21<>0,SUM(BZ131:CK131)*$O$21+$N$21,-1)","v":-1},null,0,7.1120890068624768E-305,0,0,0,0,0,0,0,0,0,0,{"$f":"IF($O$23<>0,SUM(CN131:CY131)*$O$23+$N$23,-1)","v":-1}]
[null,null,null,null,null,null,null,null,null,null,null,null,null,null,null,null,null,null,null,null,null,null,null,null,null,null,null,null,null,null,null,null,null,null,2.6000000000000019,0,9.2673338905415037E-10,0,0,0,0,0,0,0,0,0,0,{"$f":"IF($O$20<>0,SUM(AJ132:AU132)*$O$20+$N$20,-1)","v":11.000000000926734},null,0,0,0,0,0,0,0,0,0,0,0,0,{"$f":"IF($O$22<>0,SUM(AX132:BI132)*$O$22+$N$22,-1)","v":15},null,0,9.2673338905415037E-10,0,0,0,0,0,0,0,0,0,0,{"$f":"IF($O$24<>0,SUM(BL132:BW132)*$O$24+$N$24,-1)","v":9.9999999990732658},null,0,21.080988566213023,0,0,0,0,0,0,0,0,0,0,{"$f":"IF($O$21<>0,SUM(BZ132:CK132)*$O$21+$N$21,-1)","v":-1},null,0,1.4393838832246198E-293,0,0,0,0,0,0,0,0,0,0,{"$f":"IF($O$23<>0,SUM(CN132:CY132)*$O$23+$N$23,-1)","v":-1}]
[null,null,null,null,null,null,null,null,null,null,null,null,null,null,null,null,null,null,null,null,null,null,null,null,null,null,null,null,null,null,null,null,null,null,2.6200000000000019,0,8.694286771244835E-7,0,0,0,0,0,0,0,0,0,0,{"$f":"IF($O$20<>0,SUM(AJ133:AU133)*$O$20+$N$20,-1)","v":11.000000869428677},null,0,0,0,0,0,0,0,0,0,0,0,0,{"$f":"IF($O$22<>0,SUM(AX133:BI133)*$O$22+$N$22,-1)","v":15},null,0,8.694286771244835E-7,0,0,0,0,0,0,0,0,0,0,{"$f":"IF($O$24<>0,SUM(BL133:BW133)*$O$24+$N$24,-1)","v":9.9999991305713234},null,0,12.060214245648826,0,0,0,0,0,0,0,0,0,0,{"$f":"IF($O$21<>0,SUM(BZ133:CK133)*$O$21+$N$21,-1)","v":-1},null,0,1.7825098870128042E-282,0,0,0,0,0,0,0,0,0,0,{"$f":"IF($O$23<>0,SUM(CN133:CY133)*$O$23+$N$23,-1)","v":-1}]
[null,null,null,null,null,null,null,null,null,null,null,null,null,null,null,null,null,null,null,null,null,null,null,null,null,null,null,null,null,null,null,null,null,null,2.6400000000000019,0,2.5728975667859832E-4,0,0,0,0,0,0,0,0,0,0,{"$f":"IF($O$20<>0,SUM(AJ134:AU134)*$O$20+$N$20,-1)","v":11.000257289756679},null,0,0,0,0,0,0,0,0,0,0,0,0,{"$f":"IF($O$22<>0,SUM(AX134:BI134)*$O$22+$N$22,-1)","v":15},null,0,2.5728975667859832E-4,0,0,0,0,0,0,0,0,0,0,{"$f":"IF($O$24<>0,SUM(BL134:BW134)*$O$24+$N$24,-1)","v":9.9997427102433214},null,0,2.2581208135533228,0,0,0,0,0,0,0,0,0,0,{"$f":"IF($O$21<>0,SUM(BZ134:CK134)*$O$21+$N$21,-1)","v":-1},null,0,1.3507131209146892E-271,0,0,0,0,0,0,0,0,0,0,{"$f":"IF($O$23<>0,SUM(CN134:CY134)*$O$23+$N$23,-1)","v":-1}]
[null,null,null,null,null,null,null,null,null,null,null,null,null,null,null,null,null,null,null,null,null,null,null,null,null,null,null,null,null,null,null,null,null,null,2.6600000000000019,0,2.401709172619293E-2,0,0,0,0,0,0,0,0,0,0,{"$f":"IF($O$20<>0,SUM(AJ135:AU135)*$O$20+$N$20,-1)","v":11.024017091726193},null,0,0,0,0,0,0,0,0,0,0,0,0,{"$f":"IF($O$22<>0,SUM(AX135:BI135)*$O$22+$N$22,-1)","v":15},null,0,2.401709172619293E-2,0,0,0,0,0,0,0,0,0,0,{"$f":"IF($O$24<>0,SUM(BL135:BW135)*$O$24+$N$24,-1)","v":9.9759829082738065},null,0,0.13837811970033831,0,0,0,0,0,0,0,0,0,0,{"$f":"IF($O$21<>0,SUM(BZ135:CK135)*$O$21+$N$21,-1)","v":-1},null,0,6.2628231647602908E-261,0,0,0,0,0,0,0,0,0,0,{"$f":"IF($O$23<>0,SUM(CN135:CY135)*$O$23+$N$23,-1)","v":-1}]
[null,null,null,null,null,null,null,null,null,null,null,null,null,null,null,null,null,null,null,null,null,null,null,null,null,null,null,null,null,null,null,null,null,null,2.6800000000000019,0,0.70717634031622856,0,0,0,0,0,0,0,0,0,0,{"$f":"IF($O$20<>0,SUM(AJ136:AU136)*$O$20+$N$20,-1)","v":11.707176340316229},null,0,0,0,0,0,0,0,0,0,0,0,0,{"$f":"IF($O$22<>0,SUM(AX136:BI136)*$O$22+$N$22,-1)","v":15},null,0,0.70717634031622856,0,0,0,0,0,0,0,0,0,0,{"$f":"IF($O$24<>0,SUM(BL136:BW136)*$O$24+$N$24,-1)","v":9.292823659683771},null,0,2.7753373277221217E-3,0,0,0,0,0,0,0,0,0,0,{"$f":"IF($O$21<>0,SUM(BZ136:CK136)*$O$21+$N$21,-1)","v":-1},null,0,1.7768592981926891E-250,0,0,0,0,0,0,0,0,0,0,{"$f":"IF($O$23<>0,SUM(CN136:CY136)*$O$23+$N$23,-1)","v":-1}]
[null,null,null,null,null,null,null,null,null,null,null,null,null,null,null,null,null,null,null,null,null,null,null,null,null,null,null,null,null,null,null,null,null,null,2.700000000000002,0,6.5681704229304092,0,0,0,0,0,0,0,0,0,0,{"$f":"IF($O$20<>0,SUM(AJ137:AU137)*$O$20+$N$20,-1)","v":17.568170422930407},null,0,0,0,0,0,0,0,0,0,0,0,0,{"$f":"IF($O$22<>0,SUM(AX137:BI137)*$O$22+$N$22,-1)","v":15},null,0,6.5681704229304092,0,0,0,0,0,0,0,0,0,0,{"$f":"IF($O$24<>0,SUM(BL137:BW137)*$O$24+$N$24,-1)","v":3.4318295770695908},null,0,1.8217644762634344E-5,0,0,0,0,0,0,0,0,0,0,{"$f":"IF($O$21<>0,SUM(BZ137:CK137)*$O$21+$N$21,-1)","v":-1},null,0,3.0846918686596137E-240,0,0,0,0,0,0,0,0,0,0,{"$f":"IF($O$23<>0,SUM(CN137:CY137)*$O$23+$N$23,-1)","v":-1}]
[null,null,null,null,null,null,null,null,null,null,null,null,null,null,null,null,null,null,null,null,null,null,null,null,null,null,null,null,null,null,null,null,null,null,2.720000000000002,0,19.242898468625668,0,0,0,0,0,0,0,0,0,0,{"$f":"IF($O$20<>0,SUM(AJ138:AU138)*$O$20+$N$20,-1)","v":30.242898468625668},null,0,0,0,0,0,0,0,0,0,0,0,0,{"$f":"IF($O$22<>0,SUM(AX138:BI138)*$O$22+$N$22,-1)","v":15},null,0,19.242898468625668,0,0,0,0,0,0,0,0,0,0,{"$f":"IF($O$24<>0,SUM(BL138:BW138)*$O$24+$N$24,-1)","v":-9.2428984686256683},null,0,3.9137833570028516E-8,0,0,0,0,0,0,0,0,0,0,{"$f":"IF($O$21<>0,SUM(BZ138:CK138)*$O$21+$N$21,-1)","v":-1},null,0,3.2767733090540341E-230,0,0,0,0,0,0,0,0,0,0,{"$f":"IF($O$23<>0,SUM(CN138:CY138)*$O$23+$N$23,-1)","v":-1}]
[null,null,null,null,null,null,null,null,null,null,null,null,null,null,null,null,null,null,null,null,null,null,null,null,null,null,null,null,null,null,null,null,null,null,2.740000000000002,0,17.783037692970098,0,0,0,0,0,0,0,0,0,0,{"$f":"IF($O$20<>0,SUM(AJ139:AU139)*$O$20+$N$20,-1)","v":28.783037692970098},null,0,0,0,0,0,0,0,0,0,0,0,0,{"$f":"IF($O$22<>0,SUM(AX139:BI139)*$O$22+$N$22,-1)","v":15},null,0,17.783037692970098,0,0,0,0,0,0,0,0,0,0,{"$f":"IF($O$24<>0,SUM(BL139:BW139)*$O$24+$N$24,-1)","v":-7.7830376929700975},null,0,2.7518796427463316E-11,0,0,0,0,0,0,0,0,0,0,{"$f":"IF($O$21<>0,SUM(BZ139:CK139)*$O$21+$N$21,-1)","v":-1},null,0,2.1298884850197034E-220,0,0,0,0,0,0,0,0,0,0,{"$f":"IF($O$23<>0,SUM(CN139:CY139)*$O$23+$N$23,-1)","v":-1}]
[null,null,null,null,null,null,null,null,null,null,null,null,null,null,null,null,null,null,null,null,null,null,null,null,null,null,null,null,null,null,null,null,null,null,2.760000000000002,0,5.1838305247357832,0,0,0,0,0,0,0,0,0,0,{"$f":"IF($O$20<>0,SUM(AJ140:AU140)*$O$20+$N$20,-1)","v":16.183830524735782},null,0,0,0,0,0,0,0,0,0,0,0,0,{"$f":"IF($O$22<>0,SUM(AX140:BI140)*$O$22+$N$22,-1)","v":15},null,0,5.1838305247357832,0,0,0,0,0,0,0,0,0,0,{"$f":"IF($O$24<>0,SUM(BL140:BW140)*$O$24+$N$24,-1)","v":4.8161694752642168},null,0,6.3327185888670738E-15,0,0,0,0,0,0,0,0,0,0,{"$f":"IF($O$21<>0,SUM(BZ140:CK140)*$O$21+$N$21,-1)","v":-1},null,0,8.4711660182774873E-211,0,0,0,0,0,0,0,0,0,0,{"$f":"IF($O$23<>0,SUM(CN140:CY140)*$O$23+$N$23,-1)","v":-1}]
[null,null,null,null,null,null,null,null,null,null,null,null,null,null,null,null,null,null,null,null,null,null,null,null,null,null,null,null,null,null,null,null,null,null,2.780000000000002,0,0.47665595743596523,0,0,0,0,0,0,0,0,0,0,{"$f":"IF($O$20<>0,SUM(AJ141:AU141)*$O$20+$N$20,-1)","v":11.476655957435966},null,0,0,0,0,0,0,0,0,0,0,0,0,{"$f":"IF($O$22<>0,SUM(AX141:BI141)*$O$22+$N$22,-1)","v":15},null,0,0.47665595743596523,0,0,0,0,0,0,0,0,0,0,{"$f":"IF($O$24<>0,SUM(BL141:BW141)*$O$24+$N$24,-1)","v":9.5233440425640339},null,0,4.7695679883973052E-19,0,0,0,0,0,0,0,0,0,0,{"$f":"IF($O$21<>0,SUM(BZ141:CK141)*$O$21+$N$21,-1)","v":-1},null,0,2.0616046261734612E-201,0,0,0,0,0,0,0,0,0,0,{"$f":"IF($O$23<>0,SUM(CN141:CY141)*$O$23+$N$23,-1)","v":-1}]
[null,null,null,null,null,null,null,null,null,null,null,null,null,null,null,null,null,null,null,null,null,null,null,null,null,null,null,null,null,null,null,null,null,null,2.800000000000002,0,1.382511145286551E-2,0,0,0,0,0,0,0,0,0,0,{"$f":"IF($O$20<>0,SUM(AJ142:AU142)*$O$20+$N$20,-1)","v":11.013825111452865},null,0,0,0,0,0,0,0,0,0,0,0,0,{"$f":"IF($O$22<>0,SUM(AX142:BI142)*$O$22+$N$22,-1)","v":15},null,0,1.382511145286551E-2,0,0,0,0,0,0,0,0,0,0,{"$f":"IF($O$24<>0,SUM(BL142:BW142)*$O$24+$N$24,-1)","v":9.9861748885471346},null,0,1.1756985940129987E-23,0,0,0,0,0,0,0,0,0,0,{"$f":"IF($O$21<>0,SUM(BZ142:CK142)*$O$21+$N$21,-1)","v":-1},null,0,3.0700357049599025E-192,0,0,0,0,0,0,0,0,0,0,{"$f":"IF($O$23<>0,SUM(CN142:CY142)*$O$23+$N$23,-1)","v":-1}]
[null,null,null,null,null,null,null,null,null,null,null,null,null,null,null,null,null,null,null,null,null,null,null,null,null,null,null,null,null,null,null,null,null,null,2.8200000000000021,0,1.2648576212258338E-4,0,0,0,0,0,0,0,0,0,0,{"$f":"IF($O$20<>0,SUM(AJ143:AU143)*$O$20+$N$20,-1)","v":11.000126485762122},null,0,0,0,0,0,0,0,0,0,0,0,0,{"$f":"IF($O$22<>0,SUM(AX143:BI143)*$O$22+$N$22,-1)","v":15},null,0,1.2648576212258338E-4,0,0,0,0,0,0,0,0,0,0,{"$f":"IF($O$24<>0,SUM(BL143:BW143)*$O$24+$N$24,-1)","v":9.9998735142378781},null,0,9.4850812255514239E-29,0,0,0,0,0,0,0,0,0,0,{"$f":"IF($O$21<>0,SUM(BZ143:CK143)*$O$21+$N$21,-1)","v":-1},null,0,2.7974177881203022E-183,0,0,0,0,0,0,0,0,0,0,{"$f":"IF($O$23<>0,SUM(CN143:CY143)*$O$23+$N$23,-1)","v":-1}]
[null,null,null,null,null,null,null,null,null,null,null,null,null,null,null,null,null,null,null,null,null,null,null,null,null,null,null,null,null,null,null,null,null,null,2.8400000000000021,0,3.650261918726156E-7,0,0,0,0,0,0,0,0,0,0,{"$f":"IF($O$20<>0,SUM(AJ144:AU144)*$O$20+$N$20,-1)","v":11.000000365026192},null,0,8.1054846892306032E-305,0,0,0,0,0,0,0,0,0,0,{"$f":"IF($O$22<>0,SUM(AX144:BI144)*$O$22+$N$22,-1)","v":15},null,0,3.650261918726156E-7,0,0,0,0,0,0,0,0,0,0,{"$f":"IF($O$24<>0,SUM(BL144:BW144)*$O$24+$N$24,-1)","v":9.9999996349738076},null,0,2.5044606377451883E-34,0,0,0,0,0,0,0,0,0,0,{"$f":"IF($O$21<>0,SUM(BZ144:CK144)*$O$21+$N$21,-1)","v":-1},null,0,1.5597216382711841E-174,0,0,0,0,0,0,0,0,0,0,{"$f":"IF($O$23<>0,SUM(CN144:CY144)*$O$23+$N$23,-1)","v":-1}]
[null,null,null,null,null,null,null,null,null,null,null,null,null,null,null,null,null,null,null,null,null,null,null,null,null,null,null,null,null,null,null,null,null,null,2.8600000000000021,0,3.3228887281089748E-10,0,0,0,0,0,0,0,0,0,0,{"$f":"IF($O$20<>0,SUM(AJ145:AU145)*$O$20+$N$20,-1)","v":11.000000000332289},null,0,4.0842121009764041E-291,0,0,0,0,0,0,0,0,0,0,{"$f":"IF($O$22<>0,SUM(AX145:BI145)*$O$22+$N$22,-1)","v":15},null,0,3.3228887281089748E-10,0,0,0,0,0,0,0,0,0,0,{"$f":"IF($O$24<>0,SUM(BL145:BW145)*$O$24+$N$24,-1)","v":9.9999999996677111},null,0,2.1642900700390091E-40,0,0,0,0,0,0,0,0,0,0,{"$f":"IF($O$21<>0,SUM(BZ145:CK145)*$O$21+$N$21,-1)","v":-1},null,0,5.3212384646320964E-166,0,0,0,0,0,0,0,0,0,0,{"$f":"IF($O$23<>0,SUM(CN145:CY145)*$O$23+$N$23,-1)","v":-1}]
[null,null,null,null,null,null,null,null,null,null,null,null,null,null,null,null,null,null,null,null,null,null,null,null,null,null,null,null,null,null,null,null,null,null,2.8800000000000021,0,9.5415065859094615E-14,0,0,0,0,0,0,0,0,0,0,{"$f":"IF($O$20<>0,SUM(AJ146:AU146)*$O$20+$N$20,-1)","v":11.000000000000096},null,0,9.9739894641708182E-278,0,0,0,0,0,0,0,0,0,0,{"$f":"IF($O$22<>0,SUM(AX146:BI146)*$O$22+$N$22,-1)","v":15},null,0,9.5415065859094615E-14,0,0,0,0,0,0,0,0,0,0,{"$f":"IF($O$24<>0,SUM(BL146:BW146)*$O$24+$N$24,-1)","v":9.9999999999999041},null,0,6.1213163426343237E-47,0,0,0,0,0,0,0,0,0,0,{"$f":"IF($O$21<>0,SUM(BZ146:CK146)*$O$21+$N$21,-1)","v":-1},null,0,1.1108468954133367E-157,0,0,0,0,0,0,0,0,0,0,{"$f":"IF($O$23<>0,SUM(CN146:CY146)*$O$23+$N$23,-1)","v":-1}]
[null,null,null,null,null,null,null,null,null,null,null,null,null,null,null,null,null,null,null,null,null,null,null,null,null,null,null,null,null,null,null,null,null,null,2.9000000000000021,0,8.6422633333615855E-18,0,0,0,0,0,0,0,0,0,0,{"$f":"IF($O$20<>0,SUM(AJ147:AU147)*$O$20+$N$20,-1)","v":11},null,0,1.1804860026579996E-264,0,0,0,0,0,0,0,0,0,0,{"$f":"IF($O$22<>0,SUM(AX147:BI147)*$O$22+$N$22,-1)","v":15},null,0,8.6422633333615855E-18,0,0,0,0,0,0,0,0,0,0,{"$f":"IF($O$24<>0,SUM(BL147:BW147)*$O$24+$N$24,-1)","v":10},null,0,5.6663354512428313E-54,0,0,0,0,0,0,0,0,0,0,{"$f":"IF($O$21<>0,SUM(BZ147:CK147)*$O$21+$N$21,-1)","v":-1},null,0,1.4189645606424838E-149,0,0,0,0,0,0,0,0,0,0,{"$f":"IF($O$23<>0,SUM(CN147:CY147)*$O$23+$N$23,-1)","v":-1}]
[null,null,null,null,null,null,null,null,null,null,null,null,null,null,null,null,null,null,null,null,null,null,null,null,null,null,null,null,null,null,null,null,null,null,2.9200000000000021,0,2.4691497003014019E-22,0,0,0,0,0,0,0,0,0,0,{"$f":"IF($O$20<>0,SUM(AJ148:AU148)*$O$20+$N$20,-1)","v":11},null,0,6.7714877645008297E-252,0,0,0,0,0,0,0,0,0,0,{"$f":"IF($O$22<>0,SUM(AX148:BI148)*$O$22+$N$22,-1)","v":15},null,0,2.4691497003014019E-22,0,0,0,0,0,0,0,0,0,0,{"$f":"IF($O$24<>0,SUM(BL148:BW148)*$O$24+$N$24,-1)","v":10},null,0,1.7166740397008836E-61,0,0,0,0,0,0,0,0,0,0,{"$f":"IF($O$21<>0,SUM(BZ148:CK148)*$O$21+$N$21,-1)","v":-1},null,0,1.1090847953832251E-141,0,0,0,0,0,0,0,0,0,0,{"$f":"IF($O$23<>0,SUM(CN148:CY148)*$O$23+$N$23,-1)","v":-1}]
[null,null,null,null,null,null,null,null,null,null,null,null,null,null,null,null,null,null,null,null,null,null,null,null,null,null,null,null,null,null,null,null,null,null,2.9400000000000022,0,2.2252393554413267E-27,0,0,0,0,0,0,0,0,0,0,{"$f":"IF($O$20<>0,SUM(AJ149:AU149)*$O$20+$N$20,-1)","v":11},null,0,1.8825159894431243E-239,0,0,0,0,0,0,0,0,0,0,{"$f":"IF($O$22<>0,SUM(AX149:BI149)*$O$22+$N$22,-1)","v":15},null,0,2.2252393554413267E-27,0,0,0,0,0,0,0,0,0,0,{"$f":"IF($O$24<>0,SUM(BL149:BW149)*$O$24+$N$24,-1)","v":10},null,0,1.702164380487101E-69,0,0,0,0,0,0,0,0,0,0,{"$f":"IF($O$21<>0,SUM(BZ149:CK149)*$O$21+$N$21,-1)","v":-1},null,0,5.3043700417436993E-134,0,0,0,0,0,0,0,0,0,0,{"$f":"IF($O$23<>0,SUM(CN149:CY149)*$O$23+$N$23,-1)","v":-1}]
[null,null,null,null,null,null,null,null,null,null,null,null,null,null,null,null,null,null,null,null,null,null,null,null,null,null,null,null,null,null,null,null,null,null,2.9600000000000022,0,6.3257995828187789E-33,0,0,0,0,0,0,0,0,0,0,{"$f":"IF($O$20<>0,SUM(AJ150:AU150)*$O$20+$N$20,-1)","v":11},null,0,2.536439854862922E-227,0,0,0,0,0,0,0,0,0,0,{"$f":"IF($O$22<>0,SUM(AX150:BI150)*$O$22+$N$22,-1)","v":15},null,0,6.3257995828187789E-33,0,0,0,0,0,0,0,0,0,0,{"$f":"IF($O$24<>0,SUM(BL150:BW150)*$O$24+$N$24,-1)","v":10},null,0,5.5238675595167279E-78,0,0,0,0,0,0,0,0,0,0,{"$f":"IF($O$21<>0,SUM(BZ150:CK150)*$O$21+$N$21,-1)","v":-1},null,0,1.5523109999870138E-126,0,0,0,0,0,0,0,0,0,0,{"$f":"IF($O$23<>0,SUM(CN150:CY150)*$O$23+$N$23,-1)","v":-1}]
[null,null,null,null,null,null,null,null,null,null,null,null,null,null,null,null,null,null,null,null,null,null,null,null,null,null,null,null,null,null,null,null,null,null,2.9800000000000022,0,5.6723563884129704E-39,0,0,0,0,0,0,0,0,0,0,{"$f":"IF($O$20<>0,SUM(AJ151:AU151)*$O$20+$N$20,-1)","v":11},null,0,1.6563106065213093E-215,0,0,0,0,0,0,0,0,0,0,{"$f":"IF($O$22<>0,SUM(AX151:BI151)*$O$22+$N$22,-1)","v":15},null,0,5.6723563884129704E-39,0,0,0,0,0,0,0,0,0,0,{"$f":"IF($O$24<>0,SUM(BL151:BW151)*$O$24+$N$24,-1)","v":10},null,0,5.8669598616788019E-87,0,0,0,0,0,0,0,0,0,0,{"$f":"IF($O$21<>0,SUM(BZ151:CK151)*$O$21+$N$21,-1)","v":-1},null,0,2.7797101686976426E-119,0,0,0,0,0,0,0,0,0,0,{"$f":"IF($O$23<>0,SUM(CN151:CY151)*$O$23+$N$23,-1)","v":-1}]
[null,null,null,null,null,null,null,null,null,null,null,null,null,null,null,null,null,null,null,null,null,null,null,null,null,null,null,null,null,null,null,null,null,null,3.0000000000000022,0,1.604430744344202E-45,0,0,0,0,0,0,0,0,0,0,{"$f":"IF($O$20<>0,SUM(AJ152:AU152)*$O$20+$N$20,-1)","v":11},null,0,5.2419191319250226E-204,0,0,0,0,0,0,0,0,0,0,{"$f":"IF($O$22<>0,SUM(AX152:BI152)*$O$22+$N$22,-1)","v":15},null,0,1.604430744344202E-45,0,0,0,0,0,0,0,0,0,0,{"$f":"IF($O$24<>0,SUM(BL152:BW152)*$O$24+$N$24,-1)","v":10},null,0,2.0394406774470894E-96,0,0,0,0,0,0,0,0,0,0,{"$f":"IF($O$21<>0,SUM(BZ152:CK152)*$O$21+$N$21,-1)","v":-1},null,0,3.0457633468982805E-112,0,0,0,0,0,0,0,0,0,0,{"$f":"IF($O$23<>0,SUM(CN152:CY152)*$O$23+$N$23,-1)","v":-1}]
[null,null,null,null,null,null,null,null,null,null,null,null,null,null,null,null,null,null,null,null,null,null,null,null,null,null,null,null,null,null,null,null,null,null,3.0200000000000022,0,1.4314883783959105E-52,0,0,0,0,0,0,0,0,0,0,{"$f":"IF($O$20<>0,SUM(AJ153:AU153)*$O$20+$N$20,-1)","v":11},null,0,8.0402614255969506E-193,0,0,0,0,0,0,0,0,0,0,{"$f":"IF($O$22<>0,SUM(AX153:BI153)*$O$22+$N$22,-1)","v":15},null,0,1.4314883783959105E-52,0,0,0,0,0,0,0,0,0,0,{"$f":"IF($O$24<>0,SUM(BL153:BW153)*$O$24+$N$24,-1)","v":10},null,0,2.3202625903256517E-106,0,0,0,0,0,0,0,0,0,0,{"$f":"IF($O$21<>0,SUM(BZ153:CK153)*$O$21+$N$21,-1)","v":-1},null,0,2.0420607391050594E-105,0,0,0,0,0,0,0,0,0,0,{"$f":"IF($O$23<>0,SUM(CN153:CY153)*$O$23+$N$23,-1)","v":-1}]
[null,null,null,null,null,null,null,null,null,null,null,null,null,null,null,null,null,null,null,null,null,null,null,null,null,null,null,null,null,null,null,null,null,null,3.0400000000000023,0,4.0286919680007589E-60,0,0,0,0,0,0,0,0,0,0,{"$f":"IF($O$20<>0,SUM(AJ154:AU154)*$O$20+$N$20,-1)","v":11},null,0,5.9769736666747276E-182,0,0,0,0,0,0,0,0,0,0,{"$f":"IF($O$22<>0,SUM(AX154:BI154)*$O$22+$N$22,-1)","v":15},null,0,4.0286919680007589E-60,0,0,0,0,0,0,0,0,0,0,{"$f":"IF($O$24<>0,SUM(BL154:BW154)*$O$24+$N$24,-1)","v":10},null,0,8.6395535169642917E-117,0,0,0,0,0,0,0,0,0,0,{"$f":"IF($O$21<>0,SUM(BZ154:CK154)*$O$21+$N$21,-1)","v":-1},null,0,8.3775497311070644E-99,0,0,0,0,0,0,0,0,0,0,{"$f":"IF($O$23<>0,SUM(CN154:CY154)*$O$23+$N$23,-1)","v":-1}]
[null,null,null,null,null,null,null,null,null,null,null,null,null,null,null,null,null,null,null,null,null,null,null,null,null,null,null,null,null,null,null,null,null,null,3.0600000000000023,0,3.5764296269282273E-68,0,0,0,0,0,0,0,0,0,0,{"$f":"IF($O$20<>0,SUM(AJ155:AU155)*$O$20+$N$20,-1)","v":11},null,0,2.1533956646699646E-171,0,0,0,0,0,0,0,0,0,0,{"$f":"IF($O$22<>0,SUM(AX155:BI155)*$O$22+$N$22,-1)","v":15},null,0,3.5764296269282273E-68,0,0,0,0,0,0,0,0,0,0,{"$f":"IF($O$24<>0,SUM(BL155:BW155)*$O$24+$N$24,-1)","v":10},null,0,1.0528671142421972E-127,0,0,0,0,0,0,0,0,0,0,{"$f":"IF($O$21<>0,SUM(BZ155:CK155)*$O$21+$N$21,-1)","v":-1},null,0,2.1030094923134122E-92,0,0,0,0,0,0,0,0,0,0,{"$f":"IF($O$23<>0,SUM(CN155:CY155)*$O$23+$N$23,-1)","v":-1}]
[null,null,null,null,null,null,null,null,null,null,null,null,null,null,null,null,null,null,null,null,null,null,null,null,null,null,null,null,null,null,null,null,null,null,3.0800000000000023,0,1.0014855562217071E-76,0,0,0,0,0,0,0,0,0,0,{"$f":"IF($O$20<>0,SUM(AJ156:AU156)*$O$20+$N$20,-1)","v":11},null,0,3.7600848534544973E-161,0,0,0,0,0,0,0,0,0,0,{"$f":"IF($O$22<>0,SUM(AX156:BI156)*$O$22+$N$22,-1)","v":15},null,0,1.0014855562217071E-76,0,0,0,0,0,0,0,0,0,0,{"$f":"IF($O$24<>0,SUM(BL156:BW156)*$O$24+$N$24,-1)","v":10},null,0,4.1993678908853012E-139,0,0,0,0,0,0,0,0,0,0,{"$f":"IF($O$21<>0,SUM(BZ156:CK156)*$O$21+$N$21,-1)","v":-1},null,0,3.2302884956510907E-86,0,0,0,0,0,0,0,0,0,0,{"$f":"IF($O$23<>0,SUM(CN156:CY156)*$O$23+$N$23,-1)","v":-1}]
[null,null,null,null,null,null,null,null,null,null,null,null,null,null,null,null,null,null,null,null,null,null,null,null,null,null,null,null,null,null,null,null,null,null,3.1000000000000023,0,8.8460437186517785E-86,0,0,0,0,0,0,0,0,0,0,{"$f":"IF($O$20<>0,SUM(AJ157:AU157)*$O$20+$N$20,-1)","v":11},null,0,3.1820190582212461E-151,0,0,0,0,0,0,0,0,0,0,{"$f":"IF($O$22<>0,SUM(AX157:BI157)*$O$22+$N$22,-1)","v":15},null,0,8.8460437186517785E-86,0,0,0,0,0,0,0,0,0,0,{"$f":"IF($O$24<>0,SUM(BL157:BW157)*$O$24+$N$24,-1)","v":10},null,0,5.4817898956872352E-151,0,0,0,0,0,0,0,0,0,0,{"$f":"IF($O$21<>0,SUM(BZ157:CK157)*$O$21+$N$21,-1)","v":-1},null,0,3.0361082215929149E-80,0,0,0,0,0,0,0,0,0,0,{"$f":"IF($O$23<>0,SUM(CN157:CY157)*$O$23+$N$23,-1)","v":-1}]
[null,null,null,null,null,null,null,null,null,null,null,null,null,null,null,null,null,null,null,null,null,null,null,null,null,null,null,null,null,null,null,null,null,null,3.1200000000000023,0,2.464693147892292E-95,0,0,0,0,0,0,0,0,0,0,{"$f":"IF($O$20<>0,SUM(AJ158:AU158)*$O$20+$N$20,-1)","v":11},null,0,1.3050862875661371E-141,0,0,0,0,0,0,0,0,0,0,{"$f":"IF($O$22<>0,SUM(AX158:BI158)*$O$22+$N$22,-1)","v":15},null,0,2.464693147892292E-95,0,0,0,0,0,0,0,0,0,0,{"$f":"IF($O$24<>0,SUM(BL158:BW158)*$O$24+$N$24,-1)","v":10},null,0,2.3420111014026318E-163,0,0,0,0,0,0,0,0,0,0,{"$f":"IF($O$21<>0,SUM(BZ158:CK158)*$O$21+$N$21,-1)","v":-1},null,0,1.7460997268009633E-74,0,0,0,0,0,0,0,0,0,0,{"$f":"IF($O$23<>0,SUM(CN158:CY158)*$O$23+$N$23,-1)","v":-1}]
[null,null,null,null,null,null,null,null,null,null,null,null,null,null,null,null,null,null,null,null,null,null,null,null,null,null,null,null,null,null,null,null,null,null,3.1400000000000023,0,2.1661374907707282E-105,0,0,0,0,0,0,0,0,0,0,{"$f":"IF($O$20<>0,SUM(AJ159:AU159)*$O$20+$N$20,-1)","v":11},null,0,2.5942211525854556E-132,0,0,0,0,0,0,0,0,0,0,{"$f":"IF($O$22<>0,SUM(AX159:BI159)*$O$22+$N$22,-1)","v":15},null,0,2.1661374907707282E-105,0,0,0,0,0,0,0,0,0,0,{"$f":"IF($O$24<>0,SUM(BL159:BW159)*$O$24+$N$24,-1)","v":10},null,0,3.2747911887702269E-176,0,0,0,0,0,0,0,0,0,0,{"$f":"IF($O$21<>0,SUM(BZ159:CK159)*$O$21+$N$21,-1)","v":-1},null,0,6.1446436309627021E-69,0,0,0,0,0,0,0,0,0,0,{"$f":"IF($O$23<>0,SUM(CN159:CY159)*$O$23+$N$23,-1)","v":-1}]
[null,null,null,null,null,null,null,null,null,null,null,null,null,null,null,null,null,null,null,null,null,null,null,null,null,null,null,null,null,null,null,null,null,null,3.1600000000000024,0,6.005076791366664E-116,0,0,0,0,0,0,0,0,0,0,{"$f":"IF($O$20<>0,SUM(AJ160:AU160)*$O$20+$N$20,-1)","v":11},null,0,2.499229192596894E-123,0,0,0,0,0,0,0,0,0,0,{"$f":"IF($O$22<>0,SUM(AX160:BI160)*$O$22+$N$22,-1)","v":15},null,0,6.005076791366664E-116,0,0,0,0,0,0,0,0,0,0,{"$f":"IF($O$24<>0,SUM(BL160:BW160)*$O$24+$N$24,-1)","v":10},null,0,1.4986712553040715E-189,0,0,0,0,0,0,0,0,0,0,{"$f":"IF($O$21<>0,SUM(BZ160:CK160)*$O$21+$N$21,-1)","v":-1},null,0,1.3231229900034796E-63,0,0,0,0,0,0,0,0,0,0,{"$f":"IF($O$23<>0,SUM(CN160:CY160)*$O$23+$N$23,-1)","v":-1}]
[null,null,null,null,null,null,null,null,null,null,null,null,null,null,null,null,null,null,null,null,null,null,null,null,null,null,null,null,null,null,null,null,null,null,3.1800000000000024,0,5.2512234265250231E-127,0,0,0,0,0,0,0,0,0,0,{"$f":"IF($O$20<>0,SUM(AJ161:AU161)*$O$20+$N$20,-1)","v":11},null,0,1.1669076671919599E-114,0,0,0,0,0,0,0,0,0,0,{"$f":"IF($O$22<>0,SUM(AX161:BI161)*$O$22+$N$22,-1)","v":15},null,0,5.2512234265250231E-127,0,0,0,0,0,0,0,0,0,0,{"$f":"IF($O$24<>0,SUM(BL161:BW161)*$O$24+$N$24,-1)","v":10},null,0,2.2446945000762193E-203,0,0,0,0,0,0,0,0,0,0,{"$f":"IF($O$21<>0,SUM(BZ161:CK161)*$O$21+$N$21,-1)","v":-1},null,0,1.7433299460201528E-58,0,0,0,0,0,0,0,0,0,0,{"$f":"IF($O$23<>0,SUM(CN161:CY161)*$O$23+$N$23,-1)","v":-1}]
[null,null,null,null,null,null,null,null,null,null,null,null,null,null,null,null,null,null,null,null,null,null,null,null,null,null,null,null,null,null,null,null,null,null,3.2000000000000024,0,1.4484776995303827E-138,0,0,0,0,0,0,0,0,0,0,{"$f":"IF($O$20<>0,SUM(AJ162:AU162)*$O$20+$N$20,-1)","v":11},null,0,2.640573260431465E-106,0,0,0,0,0,0,0,0,0,0,{"$f":"IF($O$22<>0,SUM(AX162:BI162)*$O$22+$N$22,-1)","v":15},null,0,1.4484776995303827E-138,0,0,0,0,0,0,0,0,0,0,{"$f":"IF($O$24<>0,SUM(BL162:BW162)*$O$24+$N$24,-1)","v":10},null,0,1.1003635806787453E-217,0,0,0,0,0,0,0,0,0,0,{"$f":"IF($O$21<>0,SUM(BZ162:CK162)*$O$21+$N$21,-1)","v":-1},null,0,1.4055128624963887E-53,0,0,0,0,0,0,0,0,0,0,{"$f":"IF($O$23<>0,SUM(CN162:CY162)*$O$23+$N$23,-1)","v":-1}]
[null,null,null,null,null,null,null,null,null,null,null,null,null,null,null,null,null,null,null,null,null,null,null,null,null,null,null,null,null,null,null,null,null,null,3.2200000000000024,0,1.260295874911022E-150,0,0,0,0,0,0,0,0,0,0,{"$f":"IF($O$20<>0,SUM(AJ163:AU163)*$O$20+$N$20,-1)","v":11},null,0,2.8959513933677961E-98,0,0,0,0,0,0,0,0,0,0,{"$f":"IF($O$22<>0,SUM(AX163:BI163)*$O$22+$N$22,-1)","v":15},null,0,1.260295874911022E-150,0,0,0,0,0,0,0,0,0,0,{"$f":"IF($O$24<>0,SUM(BL163:BW163)*$O$24+$N$24,-1)","v":10},null,0,1.7654006161183491E-232,0,0,0,0,0,0,0,0,0,0,{"$f":"IF($O$21<>0,SUM(BZ163:CK163)*$O$21+$N$21,-1)","v":-1},null,0,6.9337139015685352E-49,0,0,0,0,0,0,0,0,0,0,{"$f":"IF($O$23<>0,SUM(CN163:CY163)*$O$23+$N$23,-1)","v":-1}]
[null,null,null,null,null,null,null,null,null,null,null,null,null,null,null,null,null,null,null,null,null,null,null,null,null,null,null,null,null,null,null,null,null,null,3.2400000000000024,0,3.4589365962302145E-163,0,0,0,0,0,0,0,0,0,0,{"$f":"IF($O$20<>0,SUM(AJ164:AU164)*$O$20+$N$20,-1)","v":11},null,0,1.539272940339106E-90,0,0,0,0,0,0,0,0,0,0,{"$f":"IF($O$22<>0,SUM(AX164:BI164)*$O$22+$N$22,-1)","v":15},null,0,3.4589365962302145E-163,0,0,0,0,0,0,0,0,0,0,{"$f":"IF($O$24<>0,SUM(BL164:BW164)*$O$24+$N$24,-1)","v":10},null,0,9.2699723825644933E-248,0,0,0,0,0,0,0,0,0,0,{"$f":"IF($O$21<>0,SUM(BZ164:CK164)*$O$21+$N$21,-1)","v":-1},null,0,2.0930175538327313E-44,0,0,0,0,0,0,0,0,0,0,{"$f":"IF($O$23<>0,SUM(CN164:CY164)*$O$23+$N$23,-1)","v":-1}]
[null,null,null,null,null,null,null,null,null,null,null,null,null,null,null,null,null,null,null,null,null,null,null,null,null,null,null,null,null,null,null,null,null,null,3.2600000000000025,0,2.9944845234685396E-176,0,0,0,0,0,0,0,0,0,0,{"$f":"IF($O$20<>0,SUM(AJ165:AU165)*$O$20+$N$20,-1)","v":11},null,0,3.9652568192407944E-83,0,0,0,0,0,0,0,0,0,0,{"$f":"IF($O$22<>0,SUM(AX165:BI165)*$O$22+$N$22,-1)","v":15},null,0,2.9944845234685396E-176,0,0,0,0,0,0,0,0,0,0,{"$f":"IF($O$24<>0,SUM(BL165:BW165)*$O$24+$N$24,-1)","v":10},null,0,1.5930951199186585E-263,0,0,0,0,0,0,0,0,0,0,{"$f":"IF($O$21<>0,SUM(BZ165:CK165)*$O$21+$N$21,-1)","v":-1},null,0,3.8659451054410988E-40,0,0,0,0,0,0,0,0,0,0,{"$f":"IF($O$23<>0,SUM(CN165:CY165)*$O$23+$N$23,-1)","v":-1}]
[null,null,null,null,null,null,null,null,null,null,null,null,null,null,null,null,null,null,null,null,null,null,null,null,null,null,null,null,null,null,null,null,null,null,3.2800000000000025,0,8.1773187999522112E-190,0,0,0,0,0,0,0,0,0,0,{"$f":"IF($O$20<>0,SUM(AJ166:AU166)*$O$20+$N$20,-1)","v":11},null,0,4.9506055683623234E-76,0,0,0,0,0,0,0,0,0,0,{"$f":"IF($O$22<>0,SUM(AX166:BI166)*$O$22+$N$22,-1)","v":15},null,0,8.1773187999522112E-190,0,0,0,0,0,0,0,0,0,0,{"$f":"IF($O$24<>0,SUM(BL166:BW166)*$O$24+$N$24,-1)","v":10},null,0,8.9605171372904854E-280,0,0,0,0,0,0,0,0,0,0,{"$f":"IF($O$21<>0,SUM(BZ166:CK166)*$O$21+$N$21,-1)","v":-1},null,0,4.369325049373114E-36,0,0,0,0,0,0,0,0,0,0,{"$f":"IF($O$23<>0,SUM(CN166:CY166)*$O$23+$N$23,-1)","v":-1}]
[null,null,null,null,null,null,null,null,null,null,null,null,null,null,null,null,null,null,null,null,null,null,null,null,null,null,null,null,null,null,null,null,null,null,3.3000000000000025,0,7.0438349494313855E-204,0,0,0,0,0,0,0,0,0,0,{"$f":"IF($O$20<>0,SUM(AJ167:AU167)*$O$20+$N$20,-1)","v":11},null,0,2.9955505360374871E-69,0,0,0,0,0,0,0,0,0,0,{"$f":"IF($O$22<>0,SUM(AX167:BI167)*$O$22+$N$22,-1)","v":15},null,0,7.0438349494313855E-204,0,0,0,0,0,0,0,0,0,0,{"$f":"IF($O$24<>0,SUM(BL167:BW167)*$O$24+$N$24,-1)","v":10},null,0,1.649500846680422E-296,0,0,0,0,0,0,0,0,0,0,{"$f":"IF($O$21<>0,SUM(BZ167:CK167)*$O$21+$N$21,-1)","v":-1},null,0,3.0216828912831858E-32,0,0,0,0,0,0,0,0,0,0,{"$f":"IF($O$23<>0,SUM(CN167:CY167)*$O$23+$N$23,-1)","v":-1}]
[null,null,null,null,null,null,null,null,null,null,null,null,null,null,null,null,null,null,null,null,null,null,null,null,null,null,null,null,null,null,null,null,null,null,3.3200000000000025,0,1.91388922638875E-218,0,0,0,0,0,0,0,0,0,0,{"$f":"IF($O$20<>0,SUM(AJ168:AU168)*$O$20+$N$20,-1)","v":11},null,0,8.7846870543292782E-63,0,0,0,0,0,0,0,0,0,0,{"$f":"IF($O$22<>0,SUM(AX168:BI168)*$O$22+$N$22,-1)","v":15},null,0,1.91388922638875E-218,0,0,0,0,0,0,0,0,0,0,{"$f":"IF($O$24<>0,SUM(BL168:BW168)*$O$24+$N$24,-1)","v":10},null,0,0,0,0,0,0,0,0,0,0,0,0,{"$f":"IF($O$21<>0,SUM(BZ168:CK168)*$O$21+$N$21,-1)","v":-1},null,0,1.2786723556772778E-28,0,0,0,0,0,0,0,0,0,0,{"$f":"IF($O$23<>0,SUM(CN168:CY168)*$O$23+$N$23,-1)","v":-1}]
[null,null,null,null,null,null,null,null,null,null,null,null,null,null,null,null,null,null,null,null,null,null,null,null,null,null,null,null,null,null,null,null,null,null,3.3400000000000025,0,1.6403397508950131E-233,0,0,0,0,0,0,0,0,0,0,{"$f":"IF($O$20<>0,SUM(AJ169:AU169)*$O$20+$N$20,-1)","v":11},null,0,1.2485537928925136E-56,0,0,0,0,0,0,0,0,0,0,{"$f":"IF($O$22<>0,SUM(AX169:BI169)*$O$22+$N$22,-1)","v":15},null,0,1.6403397508950131E-233,0,0,0,0,0,0,0,0,0,0,{"$f":"IF($O$24<>0,SUM(BL169:BW169)*$O$24+$N$24,-1)","v":10},null,0,0,0,0,0,0,0,0,0,0,0,0,{"$f":"IF($O$21<>0,SUM(BZ169:CK169)*$O$21+$N$21,-1)","v":-1},null,0,3.3108958983775157E-25,0,0,0,0,0,0,0,0,0,0,{"$f":"IF($O$23<>0,SUM(CN169:CY169)*$O$23+$N$23,-1)","v":-1}]
[null,null,null,null,null,null,null,null,null,null,null,null,null,null,null,null,null,null,null,null,null,null,null,null,null,null,null,null,null,null,null,null,null,null,3.3600000000000025,0,4.4346587495982893E-249,0,0,0,0,0,0,0,0,0,0,{"$f":"IF($O$20<>0,SUM(AJ170:AU170)*$O$20+$N$20,-1)","v":11},null,0,8.600417638406227E-51,0,0,0,0,0,0,0,0,0,0,{"$f":"IF($O$22<>0,SUM(AX170:BI170)*$O$22+$N$22,-1)","v":15},null,0,4.4346587495982893E-249,0,0,0,0,0,0,0,0,0,0,{"$f":"IF($O$24<>0,SUM(BL170:BW170)*$O$24+$N$24,-1)","v":10},null,0,0,0,0,0,0,0,0,0,0,0,0,{"$f":"IF($O$21<>0,SUM(BZ170:CK170)*$O$21+$N$21,-1)","v":-1},null,0,5.2457505520486439E-22,0,0,0,0,0,0,0,0,0,0,{"$f":"IF($O$23<>0,SUM(CN170:CY170)*$O$23+$N$23,-1)","v":-1}]
[null,null,null,null,null,null,null,null,null,null,null,null,null,null,null,null,null,null,null,null,null,null,null,null,null,null,null,null,null,null,null,null,null,null,3.3800000000000026,0,3.7817776243847082E-265,0,0,0,0,0,0,0,0,0,0,{"$f":"IF($O$20<>0,SUM(AJ171:AU171)*$O$20+$N$20,-1)","v":11},null,0,2.8711980045728077E-45,0,0,0,0,0,0,0,0,0,0,{"$f":"IF($O$22<>0,SUM(AX171:BI171)*$O$22+$N$22,-1)","v":15},null,0,3.7817776243847082E-265,0,0,0,0,0,0,0,0,0,0,{"$f":"IF($O$24<>0,SUM(BL171:BW171)*$O$24+$N$24,-1)","v":10},null,0,0,0,0,0,0,0,0,0,0,0,0,{"$f":"IF($O$21<>0,SUM(BZ171:CK171)*$O$21+$N$21,-1)","v":-1},null,0,5.0856398746263535E-19,0,0,0,0,0,0,0,0,0,0,{"$f":"IF($O$23<>0,SUM(CN171:CY171)*$O$23+$N$23,-1)","v":-1}]
[null,null,null,null,null,null,null,null,null,null,null,null,null,null,null,null,null,null,null,null,null,null,null,null,null,null,null,null,null,null,null,null,null,null,3.4000000000000026,0,1.0172815190347774E-281,0,0,0,0,0,0,0,0,0,0,{"$f":"IF($O$20<>0,SUM(AJ172:AU172)*$O$20+$N$20,-1)","v":11},null,0,4.6455599100124348E-40,0,0,0,0,0,0,0,0,0,0,{"$f":"IF($O$22<>0,SUM(AX172:BI172)*$O$22+$N$22,-1)","v":15},null,0,1.0172815190347774E-281,0,0,0,0,0,0,0,0,0,0,{"$f":"IF($O$24<>0,SUM(BL172:BW172)*$O$24+$N$24,-1)","v":10},null,0,0,0,0,0,0,0,0,0,0,0,0,{"$f":"IF($O$21<>0,SUM(BZ172:CK172)*$O$21+$N$21,-1)","v":-1},null,0,3.0168896947262229E-16,0,0,0,0,0,0,0,0,0,0,{"$f":"IF($O$23<>0,SUM(CN172:CY172)*$O$23+$N$23,-1)","v":-1}]
[null,null,null,null,null,null,null,null,null,null,null,null,null,null,null,null,null,null,null,null,null,null,null,null,null,null,null,null,null,null,null,null,null,null,3.4200000000000026,0,8.6316874549961565E-299,0,0,0,0,0,0,0,0,0,0,{"$f":"IF($O$20<>0,SUM(AJ173:AU173)*$O$20+$N$20,-1)","v":11},null,0,3.6428753101240086E-35,0,0,0,0,0,0,0,0,0,0,{"$f":"IF($O$22<>0,SUM(AX173:BI173)*$O$22+$N$22,-1)","v":15},null,0,8.6316874549961565E-299,0,0,0,0,0,0,0,0,0,0,{"$f":"IF($O$24<>0,SUM(BL173:BW173)*$O$24+$N$24,-1)","v":10},null,0,0,0,0,0,0,0,0,0,0,0,0,{"$f":"IF($O$21<>0,SUM(BZ173:CK173)*$O$21+$N$21,-1)","v":-1},null,0,1.0950882493964464E-13,0,0,0,0,0,0,0,0,0,0,{"$f":"IF($O$23<>0,SUM(CN173:CY173)*$O$23+$N$23,-1)","v":-1}]
[null,null,null,null,null,null,null,null,null,null,null,null,null,null,null,null,null,null,null,null,null,null,null,null,null,null,null,null,null,null,null,null,null,null,3.4400000000000026,0,0,0,0,0,0,0,0,0,0,0,0,{"$f":"IF($O$20<>0,SUM(AJ174:AU174)*$O$20+$N$20,-1)","v":11},null,0,1.3844646357530694E-30,0,0,0,0,0,0,0,0,0,0,{"$f":"IF($O$22<>0,SUM(AX174:BI174)*$O$22+$N$22,-1)","v":15},null,0,0,0,0,0,0,0,0,0,0,0,0,{"$f":"IF($O$24<>0,SUM(BL174:BW174)*$O$24+$N$24,-1)","v":10},null,0,0,0,0,0,0,0,0,0,0,0,0,{"$f":"IF($O$21<>0,SUM(BZ174:CK174)*$O$21+$N$21,-1)","v":-1},null,0,2.4322861431654525E-11,0,0,0,0,0,0,0,0,0,0,{"$f":"IF($O$23<>0,SUM(CN174:CY174)*$O$23+$N$23,-1)","v":-1}]
[null,null,null,null,null,null,null,null,null,null,null,null,null,null,null,null,null,null,null,null,null,null,null,null,null,null,null,null,null,null,null,null,null,null,3.4600000000000026,0,0,0,0,0,0,0,0,0,0,0,0,{"$f":"IF($O$20<>0,SUM(AJ175:AU175)*$O$20+$N$20,-1)","v":11},null,0,2.5500620412665643E-26,0,0,0,0,0,0,0,0,0,0,{"$f":"IF($O$22<>0,SUM(AX175:BI175)*$O$22+$N$22,-1)","v":15},null,0,0,0,0,0,0,0,0,0,0,0,0,{"$f":"IF($O$24<>0,SUM(BL175:BW175)*$O$24+$N$24,-1)","v":10},null,0,0,0,0,0,0,0,0,0,0,0,0,{"$f":"IF($O$21<>0,SUM(BZ175:CK175)*$O$21+$N$21,-1)","v":-1},null,0,3.3056439327039741E-9,0,0,0,0,0,0,0,0,0,0,{"$f":"IF($O$23<>0,SUM(CN175:CY175)*$O$23+$N$23,-1)","v":-1}]
[null,null,null,null,null,null,null,null,null,null,null,null,null,null,null,null,null,null,null,null,null,null,null,null,null,null,null,null,null,null,null,null,null,null,3.4800000000000026,0,0,0,0,0,0,0,0,0,0,0,0,{"$f":"IF($O$20<>0,SUM(AJ176:AU176)*$O$20+$N$20,-1)","v":11},null,0,2.2764124173631596E-22,0,0,0,0,0,0,0,0,0,0,{"$f":"IF($O$22<>0,SUM(AX176:BI176)*$O$22+$N$22,-1)","v":15},null,0,0,0,0,0,0,0,0,0,0,0,0,{"$f":"IF($O$24<>0,SUM(BL176:BW176)*$O$24+$N$24,-1)","v":10},null,0,0,0,0,0,0,0,0,0,0,0,0,{"$f":"IF($O$21<>0,SUM(BZ176:CK176)*$O$21+$N$21,-1)","v":-1},null,0,2.7489911218908556E-7,0,0,0,0,0,0,0,0,0,0,{"$f":"IF($O$23<>0,SUM(CN176:CY176)*$O$23+$N$23,-1)","v":-1}]
[null,null,null,null,null,null,null,null,null,null,null,null,null,null,null,null,null,null,null,null,null,null,null,null,null,null,null,null,null,null,null,null,null,null,3.5000000000000027,0,0,0,0,0,0,0,0,0,0,0,0,{"$f":"IF($O$20<>0,SUM(AJ177:AU177)*$O$20+$N$20,-1)","v":11},null,0,9.8487806401697574E-19,0,0,0,0,0,0,0,0,0,0,{"$f":"IF($O$22<>0,SUM(AX177:BI177)*$O$22+$N$22,-1)","v":15},null,0,0,0,0,0,0,0,0,0,0,0,0,{"$f":"IF($O$24<>0,SUM(BL177:BW177)*$O$24+$N$24,-1)","v":10},null,0,0,0,0,0,0,0,0,0,0,0,0,{"$f":"IF($O$21<>0,SUM(BZ177:CK177)*$O$21+$N$21,-1)","v":-1},null,0,1.3988349097299305E-5,0,0,0,0,0,0,0,0,0,0,{"$f":"IF($O$23<>0,SUM(CN177:CY177)*$O$23+$N$23,-1)","v":-1}]
[null,null,null,null,null,null,null,null,null,null,null,null,null,null,null,null,null,null,null,null,null,null,null,null,null,null,null,null,null,null,null,null,null,null,3.5200000000000027,0,0,0,0,0,0,0,0,0,0,0,0,{"$f":"IF($O$20<>0,SUM(AJ178:AU178)*$O$20+$N$20,-1)","v":11},null,0,2.0651200474034189E-15,0,0,0,0,0,0,0,0,0,0,{"$f":"IF($O$22<>0,SUM(AX178:BI178)*$O$22+$N$22,-1)","v":15.000000000000002},null,0,0,0,0,0,0,0,0,0,0,0,0,{"$f":"IF($O$24<>0,SUM(BL178:BW178)*$O$24+$N$24,-1)","v":10},null,0,0,0,0,0,0,0,0,0,0,0,0,{"$f":"IF($O$21<>0,SUM(BZ178:CK178)*$O$21+$N$21,-1)","v":-1},null,0,4.3554742093526602E-4,0,0,0,0,0,0,0,0,0,0,{"$f":"IF($O$23<>0,SUM(CN178:CY178)*$O$23+$N$23,-1)","v":-1}]
[null,null,null,null,null,null,null,null,null,null,null,null,null,null,null,null,null,null,null,null,null,null,null,null,null,null,null,null,null,null,null,null,null,null,3.5400000000000027,0,0,0,0,0,0,0,0,0,0,0,0,{"$f":"IF($O$20<>0,SUM(AJ179:AU179)*$O$20+$N$20,-1)","v":11},null,0,2.0986473156651006E-12,0,0,0,0,0,0,0,0,0,0,{"$f":"IF($O$22<>0,SUM(AX179:BI179)*$O$22+$N$22,-1)","v":15.000000000002098},null,0,0,0,0,0,0,0,0,0,0,0,0,{"$f":"IF($O$24<>0,SUM(BL179:BW179)*$O$24+$N$24,-1)","v":10},null,0,0,0,0,0,0,0,0,0,0,0,0,{"$f":"IF($O$21<>0,SUM(BZ179:CK179)*$O$21+$N$21,-1)","v":-1},null,0,8.2981310667366564E-3,0,0,0,0,0,0,0,0,0,0,{"$f":"IF($O$23<>0,SUM(CN179:CY179)*$O$23+$N$23,-1)","v":-1}]
[null,null,null,null,null,null,null,null,null,null,null,null,null,null,null,null,null,null,null,null,null,null,null,null,null,null,null,null,null,null,null,null,null,null,3.5600000000000027,0,0,0,0,0,0,0,0,0,0,0,0,{"$f":"IF($O$20<>0,SUM(AJ180:AU180)*$O$20+$N$20,-1)","v":11},null,0,1.0336295983761487E-9,0,0,0,0,0,0,0,0,0,0,{"$f":"IF($O$22<>0,SUM(AX180:BI180)*$O$22+$N$22,-1)","v":15.00000000103363},null,0,0,0,0,0,0,0,0,0,0,0,0,{"$f":"IF($O$24<>0,SUM(BL180:BW180)*$O$24+$N$24,-1)","v":10},null,0,0,0,0,0,0,0,0,0,0,0,0,{"$f":"IF($O$21<>0,SUM(BZ180:CK180)*$O$21+$N$21,-1)","v":-1},null,0,9.6738866225264925E-2,0,0,0,0,0,0,0,0,0,0,{"$f":"IF($O$23<>0,SUM(CN180:CY180)*$O$23+$N$23,-1)","v":-1}]
[null,null,null,null,null,null,null,null,null,null,null,null,null,null,null,null,null,null,null,null,null,null,null,null,null,null,null,null,null,null,null,null,null,null,3.5800000000000027,0,0,0,0,0,0,0,0,0,0,0,0,{"$f":"IF($O$20<>0,SUM(AJ181:AU181)*$O$20+$N$20,-1)","v":11},null,0,2.4672987191172741E-7,0,0,0,0,0,0,0,0,0,0,{"$f":"IF($O$22<>0,SUM(AX181:BI181)*$O$22+$N$22,-1)","v":15.000000246729872},null,0,0,0,0,0,0,0,0,0,0,0,0,{"$f":"IF($O$24<>0,SUM(BL181:BW181)*$O$24+$N$24,-1)","v":10},null,0,0,0,0,0,0,0,0,0,0,0,0,{"$f":"IF($O$21<>0,SUM(BZ181:CK181)*$O$21+$N$21,-1)","v":-1},null,0,0.69007700451526266,0,0,0,0,0,0,0,0,0,0,{"$f":"IF($O$23<>0,SUM(CN181:CY181)*$O$23+$N$23,-1)","v":-1}]
[null,null,null,null,null,null,null,null,null,null,null,null,null,null,null,null,null,null,null,null,null,null,null,null,null,null,null,null,null,null,null,null,null,null,3.6000000000000028,0,0,0,0,0,0,0,0,0,0,0,0,{"$f":"IF($O$20<>0,SUM(AJ182:AU182)*$O$20+$N$20,-1)","v":11},null,0,2.8543672444582684E-5,0,0,0,0,0,0,0,0,0,0,{"$f":"IF($O$22<>0,SUM(AX182:BI182)*$O$22+$N$22,-1)","v":15.000028543672444},null,0,0,0,0,0,0,0,0,0,0,0,0,{"$f":"IF($O$24<>0,SUM(BL182:BW182)*$O$24+$N$24,-1)","v":10},null,0,0,0,0,0,0,0,0,0,0,0,0,{"$f":"IF($O$21<>0,SUM(BZ182:CK182)*$O$21+$N$21,-1)","v":-1},null,0,3.0121041014588075,0,0,0,0,0,0,0,0,0,0,{"$f":"IF($O$23<>0,SUM(CN182:CY182)*$O$23+$N$23,-1)","v":-1}]
[null,null,null,null,null,null,null,null,null,null,null,null,null,null,null,null,null,null,null,null,null,null,null,null,null,null,null,null,null,null,null,null,null,null,3.6200000000000028,0,0,0,0,0,0,0,0,0,0,0,0,{"$f":"IF($O$20<>0,SUM(AJ183:AU183)*$O$20+$N$20,-1)","v":11},null,0,1.6004027316991174E-3,0,0,0,0,0,0,0,0,0,0,{"$f":"IF($O$22<>0,SUM(AX183:BI183)*$O$22+$N$22,-1)","v":15.001600402731698},null,0,0,0,0,0,0,0,0,0,0,0,0,{"$f":"IF($O$24<>0,SUM(BL183:BW183)*$O$24+$N$24,-1)","v":10},null,0,0,0,0,0,0,0,0,0,0,0,0,{"$f":"IF($O$21<>0,SUM(BZ183:CK183)*$O$21+$N$21,-1)","v":-1},null,0,8.0448557016082329,0,0,0,0,0,0,0,0,0,0,{"$f":"IF($O$23<>0,SUM(CN183:CY183)*$O$23+$N$23,-1)","v":-1}]
[null,null,null,null,null,null,null,null,null,null,null,null,null,null,null,null,null,null,null,null,null,null,null,null,null,null,null,null,null,null,null,null,null,null,3.6400000000000028,0,0,0,0,0,0,0,0,0,0,0,0,{"$f":"IF($O$20<>0,SUM(AJ184:AU184)*$O$20+$N$20,-1)","v":11},null,0,4.3489061782364918E-2,0,0,0,0,0,0,0,0,0,0,{"$f":"IF($O$22<>0,SUM(AX184:BI184)*$O$22+$N$22,-1)","v":15.043489061782365},null,0,0,0,0,0,0,0,0,0,0,0,0,{"$f":"IF($O$24<>0,SUM(BL184:BW184)*$O$24+$N$24,-1)","v":10},null,0,0,0,0,0,0,0,0,0,0,0,0,{"$f":"IF($O$21<>0,SUM(BZ184:CK184)*$O$21+$N$21,-1)","v":-1},null,0,13.147476381128515,0,0,0,0,0,0,0,0,0,0,{"$f":"IF($O$23<>0,SUM(CN184:CY184)*$O$23+$N$23,-1)","v":-1}]
[null,null,null,null,null,null,null,null,null,null,null,null,null,null,null,null,null,null,null,null,null,null,null,null,null,null,null,null,null,null,null,null,null,null,3.6600000000000028,0,0,0,0,0,0,0,0,0,0,0,0,{"$f":"IF($O$20<>0,SUM(AJ185:AU185)*$O$20+$N$20,-1)","v":11},null,0,0.57274606264012007,0,0,0,0,0,0,0,0,0,0,{"$f":"IF($O$22<>0,SUM(AX185:BI185)*$O$22+$N$22,-1)","v":15.572746062640119},null,0,0,0,0,0,0,0,0,0,0,0,0,{"$f":"IF($O$24<>0,SUM(BL185:BW185)*$O$24+$N$24,-1)","v":10},null,0,0,0,0,0,0,0,0,0,0,0,0,{"$f":"IF($O$21<>0,SUM(BZ185:CK185)*$O$21+$N$21,-1)","v":-1},null,0,13.147476381127582,0,0,0,0,0,0,0,0,0,0,{"$f":"IF($O$23<>0,SUM(CN185:CY185)*$O$23+$N$23,-1)","v":-1}]
[null,null,null,null,null,null,null,null,null,null,null,null,null,null,null,null,null,null,null,null,null,null,null,null,null,null,null,null,null,null,null,null,null,null,3.6800000000000028,0,0,0,0,0,0,0,0,0,0,0,0,{"$f":"IF($O$20<>0,SUM(AJ186:AU186)*$O$20+$N$20,-1)","v":11},null,0,3.6557417244406296,0,0,0,0,0,0,0,0,0,0,{"$f":"IF($O$22<>0,SUM(AX186:BI186)*$O$22+$N$22,-1)","v":18.655741724440631},null,0,0,0,0,0,0,0,0,0,0,0,0,{"$f":"IF($O$24<>0,SUM(BL186:BW186)*$O$24+$N$24,-1)","v":10},null,0,0,0,0,0,0,0,0,0,0,0,0,{"$f":"IF($O$21<>0,SUM(BZ186:CK186)*$O$21+$N$21,-1)","v":-1},null,0,8.0448557016065223,0,0,0,0,0,0,0,0,0,0,{"$f":"IF($O$23<>0,SUM(CN186:CY186)*$O$23+$N$23,-1)","v":-1}]
[null,null,null,null,null,null,null,null,null,null,null,null,null,null,null,null,null,null,null,null,null,null,null,null,null,null,null,null,null,null,null,null,null,null,3.7000000000000028,0,0,0,0,0,0,0,0,0,0,0,0,{"$f":"IF($O$20<>0,SUM(AJ187:AU187)*$O$20+$N$20,-1)","v":11},null,0,11.308896208503199,0,0,0,0,0,0,0,0,0,0,{"$f":"IF($O$22<>0,SUM(AX187:BI187)*$O$22+$N$22,-1)","v":26.308896208503199},null,0,0,0,0,0,0,0,0,0,0,0,0,{"$f":"IF($O$24<>0,SUM(BL187:BW187)*$O$24+$N$24,-1)","v":10},null,0,0,0,0,0,0,0,0,0,0,0,0,{"$f":"IF($O$21<>0,SUM(BZ187:CK187)*$O$21+$N$21,-1)","v":-1},null,0,3.0121041014577394,0,0,0,0,0,0,0,0,0,0,{"$f":"IF($O$23<>0,SUM(CN187:CY187)*$O$23+$N$23,-1)","v":-1}]
[null,null,null,null,null,null,null,null,null,null,null,null,null,null,null,null,null,null,null,null,null,null,null,null,null,null,null,null,null,null,null,null,null,null,3.7200000000000029,0,0,0,0,0,0,0,0,0,0,0,0,{"$f":"IF($O$20<>0,SUM(AJ188:AU188)*$O$20+$N$20,-1)","v":11},null,0,16.954939726487201,0,0,0,0,0,0,0,0,0,0,{"$f":"IF($O$22<>0,SUM(AX188:BI188)*$O$22+$N$22,-1)","v":31.954939726487201},null,0,0,0,0,0,0,0,0,0,0,0,0,{"$f":"IF($O$24<>0,SUM(BL188:BW188)*$O$24+$N$24,-1)","v":10},null,0,0,0,0,0,0,0,0,0,0,0,0,{"$f":"IF($O$21<>0,SUM(BZ188:CK188)*$O$21+$N$21,-1)","v":-1},null,0,0.69007700451491971,0,0,0,0,0,0,0,0,0,0,{"$f":"IF($O$23<>0,SUM(CN188:CY188)*$O$23+$N$23,-1)","v":-1}]
[null,null,null,null,null,null,null,null,null,null,null,null,null,null,null,null,null,null,null,null,null,null,null,null,null,null,null,null,null,null,null,null,null,null,3.7400000000000029,0,0,0,0,0,0,0,0,0,0,0,0,{"$f":"IF($O$20<>0,SUM(AJ189:AU189)*$O$20+$N$20,-1)","v":11},null,0,12.319798415244174,0,0,0,0,0,0,0,0,0,0,{"$f":"IF($O$22<>0,SUM(AX189:BI189)*$O$22+$N$22,-1)","v":27.319798415244172},null,0,0,0,0,0,0,0,0,0,0,0,0,{"$f":"IF($O$24<>0,SUM(BL189:BW189)*$O$24+$N$24,-1)","v":10},null,0,0,0,0,0,0,0,0,0,0,0,0,{"$f":"IF($O$21<>0,SUM(BZ189:CK189)*$O$21+$N$21,-1)","v":-1},null,0,9.6738866225203127E-2,0,0,0,0,0,0,0,0,0,0,{"$f":"IF($O$23<>0,SUM(CN189:CY189)*$O$23+$N$23,-1)","v":-1}]
[null,null,null,null,null,null,null,null,null,null,null,null,null,null,null,null,null,null,null,null,null,null,null,null,null,null,null,null,null,null,null,null,null,null,3.7600000000000029,0,0,0,0,0,0,0,0,0,0,0,0,{"$f":"IF($O$20<>0,SUM(AJ190:AU190)*$O$20+$N$20,-1)","v":11},null,0,4.3385266799188598,0,0,0,0,0,0,0,0,0,0,{"$f":"IF($O$22<>0,SUM(AX190:BI190)*$O$22+$N$22,-1)","v":19.338526679918861},null,0,0,0,0,0,0,0,0,0,0,0,0,{"$f":"IF($O$24<>0,SUM(BL190:BW190)*$O$24+$N$24,-1)","v":10},null,0,0,0,0,0,0,0,0,0,0,0,0,{"$f":"IF($O$21<>0,SUM(BZ190:CK190)*$O$21+$N$21,-1)","v":-1},null,0,8.2981310667301772E-3,0,0,0,0,0,0,0,0,0,0,{"$f":"IF($O$23<>0,SUM(CN190:CY190)*$O$23+$N$23,-1)","v":-1}]
[null,null,null,null,null,null,null,null,null,null,null,null,null,null,null,null,null,null,null,null,null,null,null,null,null,null,null,null,null,null,null,null,null,null,3.7800000000000029,0,0,0,0,0,0,0,0,0,0,0,0,{"$f":"IF($O$20<>0,SUM(AJ191:AU191)*$O$20+$N$20,-1)","v":11},null,0,0.74047817529208337,0,0,0,0,0,0,0,0,0,0,{"$f":"IF($O$22<>0,SUM(AX191:BI191)*$O$22+$N$22,-1)","v":15.740478175292083},null,0,0,0,0,0,0,0,0,0,0,0,0,{"$f":"IF($O$24<>0,SUM(BL191:BW191)*$O$24+$N$24,-1)","v":10},null,0,0,0,0,0,0,0,0,0,0,0,0,{"$f":"IF($O$21<>0,SUM(BZ191:CK191)*$O$21+$N$21,-1)","v":-1},null,0,4.3554742093486454E-4,0,0,0,0,0,0,0,0,0,0,{"$f":"IF($O$23<>0,SUM(CN191:CY191)*$O$23+$N$23,-1)","v":-1}]
[null,null,null,null,null,null,null,null,null,null,null,null,null,null,null,null,null,null,null,null,null,null,null,null,null,null,null,null,null,null,null,null,null,null,3.8000000000000029,0,0,0,0,0,0,0,0,0,0,0,0,{"$f":"IF($O$20<>0,SUM(AJ192:AU192)*$O$20+$N$20,-1)","v":11},null,0,6.1251054843522064E-2,0,0,0,0,0,0,0,0,0,0,{"$f":"IF($O$22<>0,SUM(AX192:BI192)*$O$22+$N$22,-1)","v":15.061251054843522},null,0,0,0,0,0,0,0,0,0,0,0,0,{"$f":"IF($O$24<>0,SUM(BL192:BW192)*$O$24+$N$24,-1)","v":10},null,0,0,0,0,0,0,0,0,0,0,0,0,{"$f":"IF($O$21<>0,SUM(BZ192:CK192)*$O$21+$N$21,-1)","v":-1},null,0,1.3988349097284397E-5,0,0,0,0,0,0,0,0,0,0,{"$f":"IF($O$23<>0,SUM(CN192:CY192)*$O$23+$N$23,-1)","v":-1}]
[null,null,null,null,null,null,null,null,null,null,null,null,null,null,null,null,null,null,null,null,null,null,null,null,null,null,null,null,null,null,null,null,null,null,3.8200000000000029,0,0,0,0,0,0,0,0,0,0,0,0,{"$f":"IF($O$20<>0,SUM(AJ193:AU193)*$O$20+$N$20,-1)","v":11},null,0,2.4555354107925905E-3,0,0,0,0,0,0,0,0,0,0,{"$f":"IF($O$22<>0,SUM(AX193:BI193)*$O$22+$N$22,-1)","v":15.002455535410792},null,0,0,0,0,0,0,0,0,0,0,0,0,{"$f":"IF($O$24<>0,SUM(BL193:BW193)*$O$24+$N$24,-1)","v":10},null,0,0,0,0,0,0,0,0,0,0,0,0,{"$f":"IF($O$21<>0,SUM(BZ193:CK193)*$O$21+$N$21,-1)","v":-1},null,0,2.7489911218875347E-7,0,0,0,0,0,0,0,0,0,0,{"$f":"IF($O$23<>0,SUM(CN193:CY193)*$O$23+$N$23,-1)","v":-1}]
[null,null,null,null,null,null,null,null,null,null,null,null,null,null,null,null,null,null,null,null,null,null,null,null,null,null,null,null,null,null,null,null,null,null,3.840000000000003,{"$f":"$B$23*NORMDIST($AI194,$B$20,$B$24*$B$20,FALSE)","v":0},{"$f":"B$6*IF(B$6>0,NORMDIST($AI194,B$53,C$53/4,FALSE),0)","v":0},{"$f":"B$7*IF(B$7>0,NORMDIST($AI194,B$54,C$54/4,FALSE),0)","v":0},{"$f":"B$8*IF(B$8>0,NORMDIST($AI194,B$55,C$55/4,FALSE),0)","v":0},{"$f":"B$9*IF(B$9>0,NORMDIST($AI194,B$56,C$56/4,FALSE),0)","v":0},{"$f":"B$10*IF(B$10>0,NORMDIST($AI194,B$57,C$57/4,FALSE),0)","v":0},{"$f":"B$11*IF(B$11>0,NORMDIST($AI194,B$58,$C$58/4,FALSE),0)","v":0},{"$f":"$B$12*IF($B$12>0,NORMDIST($AI194,B$59,$C$59/4,FALSE),0)","v":0},{"$f":"$B$13*IF($B$13>0,NORMDIST($AI194,B$60,$C$60/4,FALSE),0)","v":0},{"$f":"$B$14*IF($B$14>0,NORMDIST($AI194,$B$61,$C$61/4,FALSE),0)","v":0},{"$f":"$B$15*IF($B$15>0,NORMDIST($AI194,$B$62,$C$62/4,FALSE),0)","v":0},{"$f":"$B$16*IF($B$16>0,NORMDIST($AI194,$B$63,$C$63/4,FALSE),0)","v":0},{"$f":"IF($O$20<>0,SUM(AJ194:AU194)*$O$20+$N$20,-1)","v":11},null,0,{"$f":"IF(B$6>0,B$6*NORMDIST($AI194,F$53,G$53/4,FALSE),0)","v":4.7710080552253055E-5},{"$f":"IF(B$7>0,B$7*NORMDIST($AI194,F$54,G$54/4,FALSE),0)","v":0},{"$f":"IF(B$8>0,B$8*NORMDIST($AI194,F$55,G$55/4,FALSE),0)","v":0},{"$f":"IF(B$9>0,B$9*NORMDIST($AI194,F$56,G$56/4,FALSE),0)","v":0},{"$f":"IF(B$10>0,B$10*NORMDIST($AI194,F$57,G$57/4,FALSE),0)","v":0},{"$f":"IF(B$11>0,B$11*NORMDIST($AI194,F$58,G$58/4,FALSE),0)","v":0},{"$f":"IF($B$12>0,$B$12*NORMDIST($AI194,$F$59,$G$59/4,FALSE),0)","v":0},{"$f":"IF($B$13>0,$B$13*NORMDIST($AI194,$F$60,$G$60/4,FALSE),0)","v":0},{"$f":"IF($B$14>0,$B$14*NORMDIST($AI194,$F$61,$G$61/4,FALSE),0)","v":0},{"$f":"IF($B$15>0,$B$15*NORMDIST($AI194,$F$62,$G$62/4,FALSE),0)","v":0},{"$f":"IF($B$16>0,$B$16*NORMDIST($AI194,$F$63,$G$63/4,FALSE),0)","v":0},{"$f":"IF($O$22<>0,SUM(AX194:BI194)*$O$22+$N$22,-1)","v":15.000047710080553},null,{"$f":"$B$23*NORMDIST($AI194,$B$20,$B$20*$B$24,FALSE)","v":0},{"$f":"IF($B$6>0,$B$6*NORMDIST($AI194,$J$53,$K$53/4,FALSE),0)","v":0},{"$f":"IF($B$7>0,$B$7*NORMDIST($AI194,$J$54,$K$54/4,FALSE),0)","v":0},{"$f":"IF($B$8>0,$B$8*NORMDIST($AI194,$J$55,$K$55/4,FALSE),0)","v":0},{"$f":"IF($B$9>0,$B$9*NORMDIST($AI194,$J$56,$K$56/4,FALSE),0)","v":0},{"$f":"IF($B$10>0,$B$10*NORMDIST($AI194,$J$57,$K$57/4,FALSE),0)","v":0},{"$f":"IF($B$11>0,$B$11*NORMDIST($AI194,$J$58,$K$58/4,FALSE),0)","v":0},{"$f":"IF($B$12>0,$B$12*NORMDIST($AI194,$J$59,$K$59/4,FALSE),0)","v":0},{"$f":"IF($B$13>0,$B$13*NORMDIST($AI194,$J$60,$K$60/4,FALSE),0)","v":0},{"$f":"IF($B$14>0,$B$14*NORMDIST($AI194,$J$61,$K$61/4,FALSE),0)","v":0},{"$f":"IF($B$15>0,$B$15*NORMDIST($AI194,$J$62,$K$62/4,FALSE),0)","v":0},{"$f":"IF($B$16>0,$B$16*NORMDIST($AI194,$J$63,$K$63/4,FALSE),0)","v":0},{"$f":"IF($O$24<>0,SUM(BL194:BW194)*$O$24+$N$24,-1)","v":10},null,{"$f":"$B$23*NORMDIST($AI194,$B$20,$B$20*$B$24,FALSE)","v":0},{"$f":"IF($B$6>0,$B$6*NORMDIST($AI194,$B$68,$C$68/4,FALSE),0)","v":0},{"$f":"IF($B$7>0,$B$7*NORMDIST($AI194,$B$69,$C$69/4,FALSE),0)","v":0},{"$f":"IF($B$8>0,$B$8*NORMDIST($AI194,$B$70,$C$70/4,FALSE),0)","v":0},{"$f":"IF($B$9>0,$B$9*NORMDIST($AI194,$B$71,$C$71/4,FALSE),0)","v":0},{"$f":"IF($B$10>0,$B$10*NORMDIST($AI194,$B$72,$C$72/4,FALSE),0)","v":0},{"$f":"IF($B$11>0,$B$11*NORMDIST($AI194,$B$73,$C$73/4,FALSE),0)","v":0},{"$f":"IF($B$12>0,$B$12*NORMDIST($AI194,$B$74,$C$74/4,FALSE),0)","v":0},{"$f":"IF($B$13>0,$B$13*NORMDIST($AI194,$B$75,$C$75/4,FALSE),0)","v":0},{"$f":"IF($B$14>0,$B$14*NORMDIST($AI194,$B$76,$C$76/4,FALSE),0)","v":0},{"$f":"IF($B$15>0,$B$15*NORMDIST($AI194,$B$77,$C$77/4,FALSE),0)","v":0},{"$f":"IF($B$16>0,$B$16*NORMDIST($AI194,$B$78,$C$78/4,FALSE),0)","v":0},{"$f":"IF($O$21<>0,SUM(BZ194:CK194)*$O$21+$N$21,-1)","v":-1},null,{"$f":"$B$23*NORMDIST($AI194,$B$20,$B$20*$B$24,FALSE)","v":0},{"$f":"IF($B$6>0,$B$6*NORMDIST($AI194,$F$68,$G$68/4,FALSE),0)","v":3.3056439326995111E-9},{"$f":"IF($B$7>0,$B$7*NORMDIST($AI194,$F$69,$G$69/4,FALSE),0)","v":0},{"$f":"IF($B$8>0,$B$8*NORMDIST($AI194,$F$70,$G$70/4,FALSE),0)","v":0},{"$f":"IF($B$9>0,$B$9*NORMDIST($AI194,$F$71,$G$71/4,FALSE),0)","v":0},{"$f":"IF($B$10>0,$B$10*NORMDIST($AI194,$F$72,$G$72/4,FALSE),0)","v":0},{"$f":"IF($B$11>0,$B$11*NORMDIST($AI194,$F$73,$G$73/4,FALSE),0)","v":0},{"$f":"IF($B$12>0,$B$12*NORMDIST($AI194,$F$74,$G$74/4,FALSE),0)","v":0},{"$f":"IF($B$13>0,$B$13*NORMDIST($AI194,$F$75,$G$75/4,FALSE),0)","v":0},{"$f":"IF($B$14>0,$B$14*NORMDIST($AI194,$F$76,$G$76/4,FALSE),0)","v":0},{"$f":"IF($B$15>0,$B$15*NORMDIST($AI194,$F$77,$G$77/4,FALSE),0)","v":0},{"$f":"IF($B$16>0,$B$16*NORMDIST($AI194,$F$78,$G$78/4,FALSE),0)","v":0},{"$f":"IF($O$23<>0,SUM(CN194:CY194)*$O$23+$N$23,-1)","v":-1}]
[null,null,null,null,null,null,null,null,null,null,null,null,null,null,null,null,null,null,null,null,null,null,null,null,null,null,null,null,null,null,null,null,null,null,{"$f":"AI194+$B$25","v":3.860000000000003},0,0,0,0,0,0,0,0,0,0,0,0,{"$f":"IF($O$20<>0,SUM(AJ195:AU195)*$O$20+$N$20,-1)","v":11},null,{"$f":"$B$23*NORMDIST($AI195,$B$20,$B$24*$B$20,FALSE)","v":0},4.4926792904944021E-7,0,0,0,0,0,0,0,0,0,0,{"$f":"IF($O$22<>0,SUM(AX195:BI195)*$O$22+$N$22,-1)","v":15.00000044926793},null,0,0,0,0,0,0,0,0,0,0,0,0,{"$f":"IF($O$24<>0,SUM(BL195:BW195)*$O$24+$N$24,-1)","v":10},null,0,0,0,0,0,0,0,0,0,0,0,0,{"$f":"IF($O$21<>0,SUM(BZ195:CK195)*$O$21+$N$21,-1)","v":-1},null,0,2.432286143161832E-11,0,0,0,0,0,0,0,0,0,0,{"$f":"IF($O$23<>0,SUM(CN195:CY195)*$O$23+$N$23,-1)","v":-1}]
[null,null,null,null,null,null,null,null,null,null,null,null,null,null,null,null,null,null,null,null,null,null,null,null,null,null,null,null,null,null,null,null,null,null,3.880000000000003,0,0,0,0,0,0,0,0,0,0,0,0,{"$f":"IF($O$20<>0,SUM(AJ196:AU196)*$O$20+$N$20,-1)","v":11},null,0,2.0503688952568226E-9,0,0,0,0,0,0,0,0,0,0,{"$f":"IF($O$22<>0,SUM(AX196:BI196)*$O$22+$N$22,-1)","v":15.000000002050369},null,0,0,0,0,0,0,0,0,0,0,0,0,{"$f":"IF($O$24<>0,SUM(BL196:BW196)*$O$24+$N$24,-1)","v":10},null,0,0,0,0,0,0,0,0,0,0,0,0,{"$f":"IF($O$21<>0,SUM(BZ196:CK196)*$O$21+$N$21,-1)","v":-1},null,0,1.0950882493946569E-13,0,0,0,0,0,0,0,0,0,0,{"$f":"IF($O$23<>0,SUM(CN196:CY196)*$O$23+$N$23,-1)","v":-1}]
[null,null,null,null,null,null,null,null,null,null,null,null,null,null,null,null,null,null,null,null,null,null,null,null,null,null,null,null,null,null,null,null,null,null,3.900000000000003,0,0,0,0,0,0,0,0,0,0,0,0,{"$f":"IF($O$20<>0,SUM(AJ197:AU197)*$O$20+$N$20,-1)","v":11},null,0,4.5351317833707888E-12,0,0,0,0,0,0,0,0,0,0,{"$f":"IF($O$22<>0,SUM(AX197:BI197)*$O$22+$N$22,-1)","v":15.000000000004535},null,0,0,0,0,0,0,0,0,0,0,0,0,{"$f":"IF($O$24<>0,SUM(BL197:BW197)*$O$24+$N$24,-1)","v":10},null,0,0,0,0,0,0,0,0,0,0,0,0,{"$f":"IF($O$21<>0,SUM(BZ197:CK197)*$O$21+$N$21,-1)","v":-1},null,0,3.0168896947208646E-16,0,0,0,0,0,0,0,0,0,0,{"$f":"IF($O$23<>0,SUM(CN197:CY197)*$O$23+$N$23,-1)","v":-1}]
[null,null,null,null,null,null,null,null,null,null,null,null,null,null,null,null,null,null,null,null,null,null,null,null,null,null,null,null,null,null,null,null,null,null,3.920000000000003,0,0,0,0,0,0,0,0,0,0,0,0,{"$f":"IF($O$20<>0,SUM(AJ198:AU198)*$O$20+$N$20,-1)","v":11},null,0,4.8615990386627515E-15,0,0,0,0,0,0,0,0,0,0,{"$f":"IF($O$22<>0,SUM(AX198:BI198)*$O$22+$N$22,-1)","v":15.000000000000005},null,0,0,0,0,0,0,0,0,0,0,0,0,{"$f":"IF($O$24<>0,SUM(BL198:BW198)*$O$24+$N$24,-1)","v":10},null,0,0,0,0,0,0,0,0,0,0,0,0,{"$f":"IF($O$21<>0,SUM(BZ198:CK198)*$O$21+$N$21,-1)","v":-1},null,0,5.0856398746167046E-19,0,0,0,0,0,0,0,0,0,0,{"$f":"IF($O$23<>0,SUM(CN198:CY198)*$O$23+$N$23,-1)","v":-1}]
[null,null,null,null,null,null,null,null,null,null,null,null,null,null,null,null,null,null,null,null,null,null,null,null,null,null,null,null,null,null,null,null,null,null,3.9400000000000031,0,0,0,0,0,0,0,0,0,0,0,0,{"$f":"IF($O$20<>0,SUM(AJ199:AU199)*$O$20+$N$20,-1)","v":11},null,0,2.5258042104206058E-18,0,0,0,0,0,0,0,0,0,0,{"$f":"IF($O$22<>0,SUM(AX199:BI199)*$O$22+$N$22,-1)","v":15},null,0,0,0,0,0,0,0,0,0,0,0,0,{"$f":"IF($O$24<>0,SUM(BL199:BW199)*$O$24+$N$24,-1)","v":10},null,0,0,0,0,0,0,0,0,0,0,0,0,{"$f":"IF($O$21<>0,SUM(BZ199:CK199)*$O$21+$N$21,-1)","v":-1},null,0,5.2457505520378332E-22,0,0,0,0,0,0,0,0,0,0,{"$f":"IF($O$23<>0,SUM(CN199:CY199)*$O$23+$N$23,-1)","v":-1}]
[null,null,null,null,null,null,null,null,null,null,null,null,null,null,null,null,null,null,null,null,null,null,null,null,null,null,null,null,null,null,null,null,null,null,3.9600000000000031,0,0,0,0,0,0,0,0,0,0,0,0,{"$f":"IF($O$20<>0,SUM(AJ200:AU200)*$O$20+$N$20,-1)","v":11},null,0,6.3599184605622766E-22,0,0,0,0,0,0,0,0,0,0,{"$f":"IF($O$22<>0,SUM(AX200:BI200)*$O$22+$N$22,-1)","v":15},null,0,0,0,0,0,0,0,0,0,0,0,0,{"$f":"IF($O$24<>0,SUM(BL200:BW200)*$O$24+$N$24,-1)","v":10},null,0,0,0,0,0,0,0,0,0,0,0,0,{"$f":"IF($O$21<>0,SUM(BZ200:CK200)*$O$21+$N$21,-1)","v":-1},null,0,3.3108958983702225E-25,0,0,0,0,0,0,0,0,0,0,{"$f":"IF($O$23<>0,SUM(CN200:CY200)*$O$23+$N$23,-1)","v":-1}]
[null,null,null,null,null,null,null,null,null,null,null,null,null,null,null,null,null,null,null,null,null,null,null,null,null,null,null,null,null,null,null,null,null,null,3.9800000000000031,0,0,0,0,0,0,0,0,0,0,0,0,{"$f":"IF($O$20<>0,SUM(AJ201:AU201)*$O$20+$N$20,-1)","v":11},null,0,7.7613046676168378E-26,0,0,0,0,0,0,0,0,0,0,{"$f":"IF($O$22<>0,SUM(AX201:BI201)*$O$22+$N$22,-1)","v":15},null,0,0,0,0,0,0,0,0,0,0,0,0,{"$f":"IF($O$24<>0,SUM(BL201:BW201)*$O$24+$N$24,-1)","v":10},null,0,0,0,0,0,0,0,0,0,0,0,0,{"$f":"IF($O$21<>0,SUM(BZ201:CK201)*$O$21+$N$21,-1)","v":-1},null,0,1.2786723556742795E-28,0,0,0,0,0,0,0,0,0,0,{"$f":"IF($O$23<>0,SUM(CN201:CY201)*$O$23+$N$23,-1)","v":-1}]
[null,null,null,null,null,null,null,null,null,null,null,null,null,null,null,null,null,null,null,null,null,null,null,null,null,null,null,null,null,null,null,null,null,null,4.0000000000000027,0,0,0,0,0,0,0,0,0,0,0,0,{"$f":"IF($O$20<>0,SUM(AJ202:AU202)*$O$20+$N$20,-1)","v":11},null,0,4.590386307494933E-30,0,0,0,0,0,0,0,0,0,0,{"$f":"IF($O$22<>0,SUM(AX202:BI202)*$O$22+$N$22,-1)","v":15},null,0,0,0,0,0,0,0,0,0,0,0,0,{"$f":"IF($O$24<>0,SUM(BL202:BW202)*$O$24+$N$24,-1)","v":10},null,0,0,0,0,0,0,0,0,0,0,0,0,{"$f":"IF($O$21<>0,SUM(BZ202:CK202)*$O$21+$N$21,-1)","v":-1},null,0,3.0216828912762724E-32,0,0,0,0,0,0,0,0,0,0,{"$f":"IF($O$23<>0,SUM(CN202:CY202)*$O$23+$N$23,-1)","v":-1}]
[null,null,null,null,null,null,null,null,null,null,null,null,null,null,null,null,null,null,null,null,null,null,null,null,null,null,null,null,null,null,null,null,null,null,4.0200000000000022,0,0,0,0,0,0,0,0,0,0,0,0,{"$f":"IF($O$20<>0,SUM(AJ203:AU203)*$O$20+$N$20,-1)","v":11},null,0,1.3158156832250767E-34,0,0,0,0,0,0,0,0,0,0,{"$f":"IF($O$22<>0,SUM(AX203:BI203)*$O$22+$N$22,-1)","v":15},null,0,0,0,0,0,0,0,0,0,0,0,0,{"$f":"IF($O$24<>0,SUM(BL203:BW203)*$O$24+$N$24,-1)","v":10},null,0,0,0,0,0,0,0,0,0,0,0,0,{"$f":"IF($O$21<>0,SUM(BZ203:CK203)*$O$21+$N$21,-1)","v":-1},null,0,4.369325049363303E-36,0,0,0,0,0,0,0,0,0,0,{"$f":"IF($O$23<>0,SUM(CN203:CY203)*$O$23+$N$23,-1)","v":-1}]
[null,null,null,null,null,null,null,null,null,null,null,null,null,null,null,null,null,null,null,null,null,null,null,null,null,null,null,null,null,null,null,null,null,null,4.0400000000000018,0,0,0,0,0,0,0,0,0,0,0,0,{"$f":"IF($O$20<>0,SUM(AJ204:AU204)*$O$20+$N$20,-1)","v":11},null,0,1.8279832033296026E-39,0,0,0,0,0,0,0,0,0,0,{"$f":"IF($O$22<>0,SUM(AX204:BI204)*$O$22+$N$22,-1)","v":15},null,0,0,0,0,0,0,0,0,0,0,0,0,{"$f":"IF($O$24<>0,SUM(BL204:BW204)*$O$24+$N$24,-1)","v":10},null,0,0,0,0,0,0,0,0,0,0,0,0,{"$f":"IF($O$21<>0,SUM(BZ204:CK204)*$O$21+$N$21,-1)","v":-1},null,0,3.8659451054329675E-40,0,0,0,0,0,0,0,0,0,0,{"$f":"IF($O$23<>0,SUM(CN204:CY204)*$O$23+$N$23,-1)","v":-1}]
[null,null,null,null,null,null,null,null,null,null,null,null,null,null,null,null,null,null,null,null,null,null,null,null,null,null,null,null,null,null,null,null,null,null,4.0600000000000014,0,0,0,0,0,0,0,0,0,0,0,0,{"$f":"IF($O$20<>0,SUM(AJ205:AU205)*$O$20+$N$20,-1)","v":11},null,0,1.2307806581033929E-44,0,0,0,0,0,0,0,0,0,0,{"$f":"IF($O$22<>0,SUM(AX205:BI205)*$O$22+$N$22,-1)","v":15},null,0,0,0,0,0,0,0,0,0,0,0,0,{"$f":"IF($O$24<>0,SUM(BL205:BW205)*$O$24+$N$24,-1)","v":10},null,0,0,0,0,0,0,0,0,0,0,0,0,{"$f":"IF($O$21<>0,SUM(BZ205:CK205)*$O$21+$N$21,-1)","v":-1},null,0,2.0930175538285077E-44,0,0,0,0,0,0,0,0,0,0,{"$f":"IF($O$23<>0,SUM(CN205:CY205)*$O$23+$N$23,-1)","v":-1}]
[null,null,null,null,null,null,null,null,null,null,null,null,null,null,null,null,null,null,null,null,null,null,null,null,null,null,null,null,null,null,null,null,null,null,4.080000000000001,0,0,0,0,0,0,0,0,0,0,0,0,{"$f":"IF($O$20<>0,SUM(AJ206:AU206)*$O$20+$N$20,-1)","v":11},null,0,4.0162472742338453E-50,0,0,0,0,0,0,0,0,0,0,{"$f":"IF($O$22<>0,SUM(AX206:BI206)*$O$22+$N$22,-1)","v":15},null,0,0,0,0,0,0,0,0,0,0,0,0,{"$f":"IF($O$24<>0,SUM(BL206:BW206)*$O$24+$N$24,-1)","v":10},null,0,0,0,0,0,0,0,0,0,0,0,0,{"$f":"IF($O$21<>0,SUM(BZ206:CK206)*$O$21+$N$21,-1)","v":-1},null,0,6.9337139015555286E-49,0,0,0,0,0,0,0,0,0,0,{"$f":"IF($O$23<>0,SUM(CN206:CY206)*$O$23+$N$23,-1)","v":-1}]
[null,null,null,null,null,null,null,null,null,null,null,null,null,null,null,null,null,null,null,null,null,null,null,null,null,null,null,null,null,null,null,null,null,null,4.1000000000000005,0,0,0,0,0,0,0,0,0,0,0,0,{"$f":"IF($O$20<>0,SUM(AJ207:AU207)*$O$20+$N$20,-1)","v":11},null,0,6.3517229156556133E-56,0,0,0,0,0,0,0,0,0,0,{"$f":"IF($O$22<>0,SUM(AX207:BI207)*$O$22+$N$22,-1)","v":15},null,0,0,0,0,0,0,0,0,0,0,0,0,{"$f":"IF($O$24<>0,SUM(BL207:BW207)*$O$24+$N$24,-1)","v":10},null,0,0,0,0,0,0,0,0,0,0,0,0,{"$f":"IF($O$21<>0,SUM(BZ207:CK207)*$O$21+$N$21,-1)","v":-1},null,0,1.405512862493992E-53,0,0,0,0,0,0,0,0,0,0,{"$f":"IF($O$23<>0,SUM(CN207:CY207)*$O$23+$N$23,-1)","v":-1}]
[null,null,null,null,null,null,null,null,null,null,null,null,null,null,null,null,null,null,null,null,null,null,null,null,null,null,null,null,null,null,null,null,null,null,4.12,0,0,0,0,0,0,0,0,0,0,0,0,{"$f":"IF($O$20<>0,SUM(AJ208:AU208)*$O$20+$N$20,-1)","v":11},null,0,4.8684864360151126E-62,0,0,0,0,0,0,0,0,0,0,{"$f":"IF($O$22<>0,SUM(AX208:BI208)*$O$22+$N$22,-1)","v":15},null,0,0,0,0,0,0,0,0,0,0,0,0,{"$f":"IF($O$24<>0,SUM(BL208:BW208)*$O$24+$N$24,-1)","v":10},null,0,0,0,0,0,0,0,0,0,0,0,0,{"$f":"IF($O$21<>0,SUM(BZ208:CK208)*$O$21+$N$21,-1)","v":-1},null,0,1.7433299460175271E-58,0,0,0,0,0,0,0,0,0,0,{"$f":"IF($O$23<>0,SUM(CN208:CY208)*$O$23+$N$23,-1)","v":-1}]
[null,null,null,null,null,null,null,null,null,null,null,null,null,null,null,null,null,null,null,null,null,null,null,null,null,null,null,null,null,null,null,null,null,null,4.1399999999999997,0,0,0,0,0,0,0,0,0,0,0,0,{"$f":"IF($O$20<>0,SUM(AJ209:AU209)*$O$20+$N$20,-1)","v":11},null,0,1.808538272301299E-68,0,0,0,0,0,0,0,0,0,0,{"$f":"IF($O$22<>0,SUM(AX209:BI209)*$O$22+$N$22,-1)","v":15},null,0,0,0,0,0,0,0,0,0,0,0,0,{"$f":"IF($O$24<>0,SUM(BL209:BW209)*$O$24+$N$24,-1)","v":10},null,0,0,0,0,0,0,0,0,0,0,0,0,{"$f":"IF($O$21<>0,SUM(BZ209:CK209)*$O$21+$N$21,-1)","v":-1},null,0,1.3231229900017124E-63,0,0,0,0,0,0,0,0,0,0,{"$f":"IF($O$23<>0,SUM(CN209:CY209)*$O$23+$N$23,-1)","v":-1}]
[null,null,null,null,null,null,null,null,null,null,null,null,null,null,null,null,null,null,null,null,null,null,null,null,null,null,null,null,null,null,null,null,null,null,4.1599999999999993,0,0,0,0,0,0,0,0,0,0,0,0,{"$f":"IF($O$20<>0,SUM(AJ210:AU210)*$O$20+$N$20,-1)","v":11},null,0,3.2560627244991874E-75,0,0,0,0,0,0,0,0,0,0,{"$f":"IF($O$22<>0,SUM(AX210:BI210)*$O$22+$N$22,-1)","v":15},null,0,0,0,0,0,0,0,0,0,0,0,0,{"$f":"IF($O$24<>0,SUM(BL210:BW210)*$O$24+$N$24,-1)","v":10},null,0,0,0,0,0,0,0,0,0,0,0,0,{"$f":"IF($O$21<>0,SUM(BZ210:CK210)*$O$21+$N$21,-1)","v":-1},null,0,6.1446436309560648E-69,0,0,0,0,0,0,0,0,0,0,{"$f":"IF($O$23<>0,SUM(CN210:CY210)*$O$23+$N$23,-1)","v":-1}]
[null,null,null,null,null,null,null,null,null,null,null,null,null,null,null,null,null,null,null,null,null,null,null,null,null,null,null,null,null,null,null,null,null,null,4.1799999999999988,0,0,0,0,0,0,0,0,0,0,0,0,{"$f":"IF($O$20<>0,SUM(AJ211:AU211)*$O$20+$N$20,-1)","v":11},null,0,2.8411171433164956E-82,0,0,0,0,0,0,0,0,0,0,{"$f":"IF($O$22<>0,SUM(AX211:BI211)*$O$22+$N$22,-1)","v":15},null,0,0,0,0,0,0,0,0,0,0,0,0,{"$f":"IF($O$24<>0,SUM(BL211:BW211)*$O$24+$N$24,-1)","v":10},null,0,0,0,0,0,0,0,0,0,0,0,0,{"$f":"IF($O$21<>0,SUM(BZ211:CK211)*$O$21+$N$21,-1)","v":-1},null,0,1.7460997267994742E-74,0,0,0,0,0,0,0,0,0,0,{"$f":"IF($O$23<>0,SUM(CN211:CY211)*$O$23+$N$23,-1)","v":-1}]
[null,null,null,null,null,null,null,null,null,null,null,null,null,null,null,null,null,null,null,null,null,null,null,null,null,null,null,null,null,null,null,null,null,null,4.1999999999999984,0,0,0,0,0,0,0,0,0,0,0,0,{"$f":"IF($O$20<>0,SUM(AJ212:AU212)*$O$20+$N$20,-1)","v":11},null,0,1.2014808088218776E-89,0,0,0,0,0,0,0,0,0,0,{"$f":"IF($O$22<>0,SUM(AX212:BI212)*$O$22+$N$22,-1)","v":15},null,0,0,0,0,0,0,0,0,0,0,0,0,{"$f":"IF($O$24<>0,SUM(BL212:BW212)*$O$24+$N$24,-1)","v":10},null,0,0,0,0,0,0,0,0,0,0,0,0,{"$f":"IF($O$21<>0,SUM(BZ212:CK212)*$O$21+$N$21,-1)","v":-1},null,0,3.0361082215910172E-80,0,0,0,0,0,0,0,0,0,0,{"$f":"IF($O$23<>0,SUM(CN212:CY212)*$O$23+$N$23,-1)","v":-1}]
[null,null,null,null,null,null,null,null,null,null,null,null,null,null,null,null,null,null,null,null,null,null,null,null,null,null,null,null,null,null,null,null,null,null,4.219999999999998,0,0,0,0,0,0,0,0,0,0,0,0,{"$f":"IF($O$20<>0,SUM(AJ213:AU213)*$O$20+$N$20,-1)","v":11},null,0,2.4624978228274903E-97,0,0,0,0,0,0,0,0,0,0,{"$f":"IF($O$22<>0,SUM(AX213:BI213)*$O$22+$N$22,-1)","v":15},null,0,0,0,0,0,0,0,0,0,0,0,0,{"$f":"IF($O$24<>0,SUM(BL213:BW213)*$O$24+$N$24,-1)","v":10},null,0,0,0,0,0,0,0,0,0,0,0,0,{"$f":"IF($O$21<>0,SUM(BZ213:CK213)*$O$21+$N$21,-1)","v":-1},null,0,3.2302884956501728E-86,0,0,0,0,0,0,0,0,0,0,{"$f":"IF($O$23<>0,SUM(CN213:CY213)*$O$23+$N$23,-1)","v":-1}]
[null,null,null,null,null,null,null,null,null,null,null,null,null,null,null,null,null,null,null,null,null,null,null,null,null,null,null,null,null,null,null,null,null,null,4.2399999999999975,0,0,0,0,0,0,0,0,0,0,0,0,{"$f":"IF($O$20<>0,SUM(AJ214:AU214)*$O$20+$N$20,-1)","v":11},null,0,2.4460548510312567E-105,0,0,0,0,0,0,0,0,0,0,{"$f":"IF($O$22<>0,SUM(AX214:BI214)*$O$22+$N$22,-1)","v":15},null,0,0,0,0,0,0,0,0,0,0,0,0,{"$f":"IF($O$24<>0,SUM(BL214:BW214)*$O$24+$N$24,-1)","v":10},null,0,0,0,0,0,0,0,0,0,0,0,0,{"$f":"IF($O$21<>0,SUM(BZ214:CK214)*$O$21+$N$21,-1)","v":-1},null,0,2.1030094923134122E-92,0,0,0,0,0,0,0,0,0,0,{"$f":"IF($O$23<>0,SUM(CN214:CY214)*$O$23+$N$23,-1)","v":-1}]
[null,null,null,null,null,null,null,null,null,null,null,null,null,null,null,null,null,null,null,null,null,null,null,null,null,null,null,null,null,null,null,null,null,null,4.2599999999999971,0,0,0,0,0,0,0,0,0,0,0,0,{"$f":"IF($O$20<>0,SUM(AJ215:AU215)*$O$20+$N$20,-1)","v":11},null,0,1.1775730214905397E-113,0,0,0,0,0,0,0,0,0,0,{"$f":"IF($O$22<>0,SUM(AX215:BI215)*$O$22+$N$22,-1)","v":15},null,0,0,0,0,0,0,0,0,0,0,0,0,{"$f":"IF($O$24<>0,SUM(BL215:BW215)*$O$24+$N$24,-1)","v":10},null,0,0,0,0,0,0,0,0,0,0,0,0,{"$f":"IF($O$21<>0,SUM(BZ215:CK215)*$O$21+$N$21,-1)","v":-1},null,0,8.3775497311094456E-99,0,0,0,0,0,0,0,0,0,0,{"$f":"IF($O$23<>0,SUM(CN215:CY215)*$O$23+$N$23,-1)","v":-1}]
[null,null,null,null,null,null,null,null,null,null,null,null,null,null,null,null,null,null,null,null,null,null,null,null,null,null,null,null,null,null,null,null,null,null,4.2799999999999967,0,0,0,0,0,0,0,0,0,0,0,0,{"$f":"IF($O$20<>0,SUM(AJ216:AU216)*$O$20+$N$20,-1)","v":11},null,0,2.7475197468969867E-122,0,0,0,0,0,0,0,0,0,0,{"$f":"IF($O$22<>0,SUM(AX216:BI216)*$O$22+$N$22,-1)","v":15},null,0,0,0,0,0,0,0,0,0,0,0,0,{"$f":"IF($O$24<>0,SUM(BL216:BW216)*$O$24+$N$24,-1)","v":10},null,0,0,0,0,0,0,0,0,0,0,0,0,{"$f":"IF($O$21<>0,SUM(BZ216:CK216)*$O$21+$N$21,-1)","v":-1},null,0,2.0420607391064523E-105,0,0,0,0,0,0,0,0,0,0,{"$f":"IF($O$23<>0,SUM(CN216:CY216)*$O$23+$N$23,-1)","v":-1}]
[null,null,null,null,null,null,null,null,null,null,null,null,null,null,null,null,null,null,null,null,null,null,null,null,null,null,null,null,null,null,null,null,null,null,4.2999999999999963,0,0,0,0,0,0,0,0,0,0,0,0,{"$f":"IF($O$20<>0,SUM(AJ217:AU217)*$O$20+$N$20,-1)","v":11},null,0,3.1068845612669796E-131,0,0,0,0,0,0,0,0,0,0,{"$f":"IF($O$22<>0,SUM(AX217:BI217)*$O$22+$N$22,-1)","v":15},null,0,0,0,0,0,0,0,0,0,0,0,0,{"$f":"IF($O$24<>0,SUM(BL217:BW217)*$O$24+$N$24,-1)","v":10},null,0,0,0,0,0,0,0,0,0,0,0,0,{"$f":"IF($O$21<>0,SUM(BZ217:CK217)*$O$21+$N$21,-1)","v":-1},null,0,3.0457633469015702E-112,0,0,0,0,0,0,0,0,0,0,{"$f":"IF($O$23<>0,SUM(CN217:CY217)*$O$23+$N$23,-1)","v":-1}]
[null,null,null,null,null,null,null,null,null,null,null,null,null,null,null,null,null,null,null,null,null,null,null,null,null,null,null,null,null,null,null,null,null,null,4.3199999999999958,0,0,0,0,0,0,0,0,0,0,0,0,{"$f":"IF($O$20<>0,SUM(AJ218:AU218)*$O$20+$N$20,-1)","v":11},null,0,1.702710173689728E-140,0,0,0,0,0,0,0,0,0,0,{"$f":"IF($O$22<>0,SUM(AX218:BI218)*$O$22+$N$22,-1)","v":15},null,0,0,0,0,0,0,0,0,0,0,0,0,{"$f":"IF($O$24<>0,SUM(BL218:BW218)*$O$24+$N$24,-1)","v":10},null,0,0,0,0,0,0,0,0,0,0,0,0,{"$f":"IF($O$21<>0,SUM(BZ218:CK218)*$O$21+$N$21,-1)","v":-1},null,0,2.7797101687015929E-119,0,0,0,0,0,0,0,0,0,0,{"$f":"IF($O$23<>0,SUM(CN218:CY218)*$O$23+$N$23,-1)","v":-1}]
[null,null,null,null,null,null,null,null,null,null,null,null,null,null,null,null,null,null,null,null,null,null,null,null,null,null,null,null,null,null,null,null,null,null,4.3399999999999954,0,0,0,0,0,0,0,0,0,0,0,0,{"$f":"IF($O$20<>0,SUM(AJ219:AU219)*$O$20+$N$20,-1)","v":11},null,0,4.5225946461997319E-150,0,0,0,0,0,0,0,0,0,0,{"$f":"IF($O$22<>0,SUM(AX219:BI219)*$O$22+$N$22,-1)","v":15},null,0,0,0,0,0,0,0,0,0,0,0,0,{"$f":"IF($O$24<>0,SUM(BL219:BW219)*$O$24+$N$24,-1)","v":10},null,0,0,0,0,0,0,0,0,0,0,0,0,{"$f":"IF($O$21<>0,SUM(BZ219:CK219)*$O$21+$N$21,-1)","v":-1},null,0,1.5523109999899257E-126,0,0,0,0,0,0,0,0,0,0,{"$f":"IF($O$23<>0,SUM(CN219:CY219)*$O$23+$N$23,-1)","v":-1}]
[null,null,null,null,null,null,null,null,null,null,null,null,null,null,null,null,null,null,null,null,null,null,null,null,null,null,null,null,null,null,null,null,null,null,4.359999999999995,0,0,0,0,0,0,0,0,0,0,0,0,{"$f":"IF($O$20<>0,SUM(AJ220:AU220)*$O$20+$N$20,-1)","v":11},null,0,5.8219157584374869E-160,0,0,0,0,0,0,0,0,0,0,{"$f":"IF($O$22<>0,SUM(AX220:BI220)*$O$22+$N$22,-1)","v":15},null,0,0,0,0,0,0,0,0,0,0,0,0,{"$f":"IF($O$24<>0,SUM(BL220:BW220)*$O$24+$N$24,-1)","v":10},null,0,0,0,0,0,0,0,0,0,0,0,0,{"$f":"IF($O$21<>0,SUM(BZ220:CK220)*$O$21+$N$21,-1)","v":-1},null,0,5.3043700417557607E-134,0,0,0,0,0,0,0,0,0,0,{"$f":"IF($O$23<>0,SUM(CN220:CY220)*$O$23+$N$23,-1)","v":-1}]
[null,null,null,null,null,null,null,null,null,null,null,null,null,null,null,null,null,null,null,null,null,null,null,null,null,null,null,null,null,null,null,null,null,null,4.3799999999999946,0,0,0,0,0,0,0,0,0,0,0,0,{"$f":"IF($O$20<>0,SUM(AJ221:AU221)*$O$20+$N$20,-1)","v":11},null,0,3.6322479653033467E-170,0,0,0,0,0,0,0,0,0,0,{"$f":"IF($O$22<>0,SUM(AX221:BI221)*$O$22+$N$22,-1)","v":15},null,0,0,0,0,0,0,0,0,0,0,0,0,{"$f":"IF($O$24<>0,SUM(BL221:BW221)*$O$24+$N$24,-1)","v":10},null,0,0,0,0,0,0,0,0,0,0,0,0,{"$f":"IF($O$21<>0,SUM(BZ221:CK221)*$O$21+$N$21,-1)","v":-1},null,0,1.1090847953863144E-141,0,0,0,0,0,0,0,0,0,0,{"$f":"IF($O$23<>0,SUM(CN221:CY221)*$O$23+$N$23,-1)","v":-1}]
[null,null,null,null,null,null,null,null,null,null,null,null,null,null,null,null,null,null,null,null,null,null,null,null,null,null,null,null,null,null,null,null,null,null,4.3999999999999941,0,0,0,0,0,0,0,0,0,0,0,0,{"$f":"IF($O$20<>0,SUM(AJ222:AU222)*$O$20+$N$20,-1)","v":11},null,0,1.0982883596192329E-180,0,0,0,0,0,0,0,0,0,0,{"$f":"IF($O$22<>0,SUM(AX222:BI222)*$O$22+$N$22,-1)","v":15},null,0,0,0,0,0,0,0,0,0,0,0,0,{"$f":"IF($O$24<>0,SUM(BL222:BW222)*$O$24+$N$24,-1)","v":10},null,0,0,0,0,0,0,0,0,0,0,0,0,{"$f":"IF($O$21<>0,SUM(BZ222:CK222)*$O$21+$N$21,-1)","v":-1},null,0,1.4189645606470813E-149,0,0,0,0,0,0,0,0,0,0,{"$f":"IF($O$23<>0,SUM(CN222:CY222)*$O$23+$N$23,-1)","v":-1}]
[null,null,null,null,null,null,null,null,null,null,null,null,null,null,null,null,null,null,null,null,null,null,null,null,null,null,null,null,null,null,null,null,null,null,4.4199999999999937,0,0,0,0,0,0,0,0,0,0,0,0,{"$f":"IF($O$20<>0,SUM(AJ223:AU223)*$O$20+$N$20,-1)","v":11},null,0,1.6094911448577061E-191,0,0,0,0,0,0,0,0,0,0,{"$f":"IF($O$22<>0,SUM(AX223:BI223)*$O$22+$N$22,-1)","v":15},null,0,0,0,0,0,0,0,0,0,0,0,0,{"$f":"IF($O$24<>0,SUM(BL223:BW223)*$O$24+$N$24,-1)","v":10},null,0,0,0,0,0,0,0,0,0,0,0,0,{"$f":"IF($O$21<>0,SUM(BZ223:CK223)*$O$21+$N$21,-1)","v":-1},null,0,1.1108468954175042E-157,0,0,0,0,0,0,0,0,0,0,{"$f":"IF($O$23<>0,SUM(CN223:CY223)*$O$23+$N$23,-1)","v":-1}]
[null,null,null,null,null,null,null,null,null,null,null,null,null,null,null,null,null,null,null,null,null,null,null,null,null,null,null,null,null,null,null,null,null,null,4.4399999999999933,0,0,0,0,0,0,0,0,0,0,0,0,{"$f":"IF($O$20<>0,SUM(AJ224:AU224)*$O$20+$N$20,-1)","v":11},null,0,1.1431207862595119E-202,0,0,0,0,0,0,0,0,0,0,{"$f":"IF($O$22<>0,SUM(AX224:BI224)*$O$22+$N$22,-1)","v":15},null,0,0,0,0,0,0,0,0,0,0,0,0,{"$f":"IF($O$24<>0,SUM(BL224:BW224)*$O$24+$N$24,-1)","v":10},null,0,0,0,0,0,0,0,0,0,0,0,0,{"$f":"IF($O$21<>0,SUM(BZ224:CK224)*$O$21+$N$21,-1)","v":-1},null,0,5.3212384646550852E-166,0,0,0,0,0,0,0,0,0,0,{"$f":"IF($O$23<>0,SUM(CN224:CY224)*$O$23+$N$23,-1)","v":-1}]
[null,null,null,null,null,null,null,null,null,null,null,null,null,null,null,null,null,null,null,null,null,null,null,null,null,null,null,null,null,null,null,null,null,null,4.4599999999999929,0,0,0,0,0,0,0,0,0,0,0,0,{"$f":"IF($O$20<>0,SUM(AJ225:AU225)*$O$20+$N$20,-1)","v":11},null,0,3.9348390401289283E-214,0,0,0,0,0,0,0,0,0,0,{"$f":"IF($O$22<>0,SUM(AX225:BI225)*$O$22+$N$22,-1)","v":15},null,0,0,0,0,0,0,0,0,0,0,0,0,{"$f":"IF($O$24<>0,SUM(BL225:BW225)*$O$24+$N$24,-1)","v":10},null,0,0,0,0,0,0,0,0,0,0,0,0,{"$f":"IF($O$21<>0,SUM(BZ225:CK225)*$O$21+$N$21,-1)","v":-1},null,0,1.5597216382788089E-174,0,0,0,0,0,0,0,0,0,0,{"$f":"IF($O$23<>0,SUM(CN225:CY225)*$O$23+$N$23,-1)","v":-1}]
[null,null,null,null,null,null,null,null,null,null,null,null,null,null,null,null,null,null,null,null,null,null,null,null,null,null,null,null,null,null,null,null,null,null,4.4799999999999924,0,0,0,0,0,0,0,0,0,0,0,0,{"$f":"IF($O$20<>0,SUM(AJ226:AU226)*$O$20+$N$20,-1)","v":11},null,0,6.5643713413877626E-226,0,0,0,0,0,0,0,0,0,0,{"$f":"IF($O$22<>0,SUM(AX226:BI226)*$O$22+$N$22,-1)","v":15},null,0,0,0,0,0,0,0,0,0,0,0,0,{"$f":"IF($O$24<>0,SUM(BL226:BW226)*$O$24+$N$24,-1)","v":10},null,0,0,0,0,0,0,0,0,0,0,0,0,{"$f":"IF($O$21<>0,SUM(BZ226:CK226)*$O$21+$N$21,-1)","v":-1},null,0,2.7974177881355674E-183,0,0,0,0,0,0,0,0,0,0,{"$f":"IF($O$23<>0,SUM(CN226:CY226)*$O$23+$N$23,-1)","v":-1}]
[null,null,null,null,null,null,null,null,null,null,null,null,null,null,null,null,null,null,null,null,null,null,null,null,null,null,null,null,null,null,null,null,null,null,4.499999999999992,0,0,0,0,0,0,0,0,0,0,0,0,{"$f":"IF($O$20<>0,SUM(AJ227:AU227)*$O$20+$N$20,-1)","v":11},null,0,5.3075076558775848E-238,0,0,0,0,0,0,0,0,0,0,{"$f":"IF($O$22<>0,SUM(AX227:BI227)*$O$22+$N$22,-1)","v":15},null,0,0,0,0,0,0,0,0,0,0,0,0,{"$f":"IF($O$24<>0,SUM(BL227:BW227)*$O$24+$N$24,-1)","v":10},null,0,0,0,0,0,0,0,0,0,0,0,0,{"$f":"IF($O$21<>0,SUM(BZ227:CK227)*$O$21+$N$21,-1)","v":-1},null,0,3.0700357049784002E-192,0,0,0,0,0,0,0,0,0,0,{"$f":"IF($O$23<>0,SUM(CN227:CY227)*$O$23+$N$23,-1)","v":-1}]
[null,null,null,null,null,null,null,null,null,null,null,null,null,null,null,null,null,null,null,null,null,null,null,null,null,null,null,null,null,null,null,null,null,null,4.5199999999999916,0,0,0,0,0,0,0,0,0,0,0,0,{"$f":"IF($O$20<>0,SUM(AJ228:AU228)*$O$20+$N$20,-1)","v":11},null,0,2.079789767704011E-250,0,0,0,0,0,0,0,0,0,0,{"$f":"IF($O$22<>0,SUM(AX228:BI228)*$O$22+$N$22,-1)","v":15},null,0,0,0,0,0,0,0,0,0,0,0,0,{"$f":"IF($O$24<>0,SUM(BL228:BW228)*$O$24+$N$24,-1)","v":10},null,0,0,0,0,0,0,0,0,0,0,0,0,{"$f":"IF($O$21<>0,SUM(BZ228:CK228)*$O$21+$N$21,-1)","v":-1},null,0,2.0616046261870549E-201,0,0,0,0,0,0,0,0,0,0,{"$f":"IF($O$23<>0,SUM(CN228:CY228)*$O$23+$N$23,-1)","v":-1}]
[null,null,null,null,null,null,null,null,null,null,null,null,null,null,null,null,null,null,null,null,null,null,null,null,null,null,null,null,null,null,null,null,null,null,4.5399999999999912,0,0,0,0,0,0,0,0,0,0,0,0,{"$f":"IF($O$20<>0,SUM(AJ229:AU229)*$O$20+$N$20,-1)","v":11},null,0,3.949840554019472E-263,0,0,0,0,0,0,0,0,0,0,{"$f":"IF($O$22<>0,SUM(AX229:BI229)*$O$22+$N$22,-1)","v":15},null,0,0,0,0,0,0,0,0,0,0,0,0,{"$f":"IF($O$24<>0,SUM(BL229:BW229)*$O$24+$N$24,-1)","v":10},null,0,0,0,0,0,0,0,0,0,0,0,0,{"$f":"IF($O$21<>0,SUM(BZ229:CK229)*$O$21+$N$21,-1)","v":-1},null,0,8.4711660183396059E-211,0,0,0,0,0,0,0,0,0,0,{"$f":"IF($O$23<>0,SUM(CN229:CY229)*$O$23+$N$23,-1)","v":-1}]
[null,null,null,null,null,null,null,null,null,null,null,null,null,null,null,null,null,null,null,null,null,null,null,null,null,null,null,null,null,null,null,null,null,null,4.5599999999999907,0,0,0,0,0,0,0,0,0,0,0,0,{"$f":"IF($O$20<>0,SUM(AJ230:AU230)*$O$20+$N$20,-1)","v":11},null,0,3.6355574445578865E-276,0,0,0,0,0,0,0,0,0,0,{"$f":"IF($O$22<>0,SUM(AX230:BI230)*$O$22+$N$22,-1)","v":15},null,0,0,0,0,0,0,0,0,0,0,0,0,{"$f":"IF($O$24<>0,SUM(BL230:BW230)*$O$24+$N$24,-1)","v":10},null,0,0,0,0,0,0,0,0,0,0,0,0,{"$f":"IF($O$21<>0,SUM(BZ230:CK230)*$O$21+$N$21,-1)","v":-1},null,0,2.1298884850365324E-220,0,0,0,0,0,0,0,0,0,0,{"$f":"IF($O$23<>0,SUM(CN230:CY230)*$O$23+$N$23,-1)","v":-1}]
[null,null,null,null,null,null,null,null,null,null,null,null,null,null,null,null,null,null,null,null,null,null,null,null,null,null,null,null,null,null,null,null,null,null,4.5799999999999903,0,0,0,0,0,0,0,0,0,0,0,0,{"$f":"IF($O$20<>0,SUM(AJ231:AU231)*$O$20+$N$20,-1)","v":11},null,0,1.6217868598125274E-289,0,0,0,0,0,0,0,0,0,0,{"$f":"IF($O$22<>0,SUM(AX231:BI231)*$O$22+$N$22,-1)","v":15},null,0,0,0,0,0,0,0,0,0,0,0,0,{"$f":"IF($O$24<>0,SUM(BL231:BW231)*$O$24+$N$24,-1)","v":10},null,0,0,0,0,0,0,0,0,0,0,0,0,{"$f":"IF($O$21<>0,SUM(BZ231:CK231)*$O$21+$N$21,-1)","v":-1},null,0,3.2767733090823465E-230,0,0,0,0,0,0,0,0,0,0,{"$f":"IF($O$23<>0,SUM(CN231:CY231)*$O$23+$N$23,-1)","v":-1}]
[null,null,null,null,null,null,null,null,null,null,null,null,null,null,null,null,null,null,null,null,null,null,null,null,null,null,null,null,null,null,null,null,null,null,4.5999999999999899,0,0,0,0,0,0,0,0,0,0,0,0,{"$f":"IF($O$20<>0,SUM(AJ232:AU232)*$O$20+$N$20,-1)","v":11},null,0,3.5062902399847791E-303,0,0,0,0,0,0,0,0,0,0,{"$f":"IF($O$22<>0,SUM(AX232:BI232)*$O$22+$N$22,-1)","v":15},null,0,0,0,0,0,0,0,0,0,0,0,0,{"$f":"IF($O$24<>0,SUM(BL232:BW232)*$O$24+$N$24,-1)","v":10},null,0,0,0,0,0,0,0,0,0,0,0,0,{"$f":"IF($O$21<>0,SUM(BZ232:CK232)*$O$21+$N$21,-1)","v":-1},null,0,3.0846918686887216E-240,0,0,0,0,0,0,0,0,0,0,{"$f":"IF($O$23<>0,SUM(CN232:CY232)*$O$23+$N$23,-1)","v":-1}]
[null,null,null,null,null,null,null,null,null,null,null,null,null,null,null,null,null,null,null,null,null,null,null,null,null,null,null,null,null,null,null,null,null,null,4.6199999999999894,0,0,0,0,0,0,0,0,0,0,0,0,{"$f":"IF($O$20<>0,SUM(AJ233:AU233)*$O$20+$N$20,-1)","v":11},null,0,0,0,0,0,0,0,0,0,0,0,0,{"$f":"IF($O$22<>0,SUM(AX233:BI233)*$O$22+$N$22,-1)","v":15},null,0,0,0,0,0,0,0,0,0,0,0,0,{"$f":"IF($O$24<>0,SUM(BL233:BW233)*$O$24+$N$24,-1)","v":10},null,0,0,0,0,0,0,0,0,0,0,0,0,{"$f":"IF($O$21<>0,SUM(BZ233:CK233)*$O$21+$N$21,-1)","v":-1},null,0,1.7768592982106676E-250,0,0,0,0,0,0,0,0,0,0,{"$f":"IF($O$23<>0,SUM(CN233:CY233)*$O$23+$N$23,-1)","v":-1}]
[null,null,null,null,null,null,null,null,null,null,null,null,null,null,null,null,null,null,null,null,null,null,null,null,null,null,null,null,null,null,null,null,null,null,4.639999999999989,0,0,0,0,0,0,0,0,0,0,0,0,{"$f":"IF($O$20<>0,SUM(AJ234:AU234)*$O$20+$N$20,-1)","v":11},null,0,0,0,0,0,0,0,0,0,0,0,0,{"$f":"IF($O$22<>0,SUM(AX234:BI234)*$O$22+$N$22,-1)","v":15},null,0,0,0,0,0,0,0,0,0,0,0,0,{"$f":"IF($O$24<>0,SUM(BL234:BW234)*$O$24+$N$24,-1)","v":10},null,0,0,0,0,0,0,0,0,0,0,0,0,{"$f":"IF($O$21<>0,SUM(BZ234:CK234)*$O$21+$N$21,-1)","v":-1},null,0,6.2628231648286427E-261,0,0,0,0,0,0,0,0,0,0,{"$f":"IF($O$23<>0,SUM(CN234:CY234)*$O$23+$N$23,-1)","v":-1}]
[null,null,null,null,null,null,null,null,null,null,null,null,null,null,null,null,null,null,null,null,null,null,null,null,null,null,null,null,null,null,null,null,null,null,4.6599999999999886,0,0,0,0,0,0,0,0,0,0,0,0,{"$f":"IF($O$20<>0,SUM(AJ235:AU235)*$O$20+$N$20,-1)","v":11},null,0,0,0,0,0,0,0,0,0,0,0,0,{"$f":"IF($O$22<>0,SUM(AX235:BI235)*$O$22+$N$22,-1)","v":15},null,0,0,0,0,0,0,0,0,0,0,0,0,{"$f":"IF($O$24<>0,SUM(BL235:BW235)*$O$24+$N$24,-1)","v":10},null,0,0,0,0,0,0,0,0,0,0,0,0,{"$f":"IF($O$21<>0,SUM(BZ235:CK235)*$O$21+$N$21,-1)","v":-1},null,0,1.3507131209303523E-271,0,0,0,0,0,0,0,0,0,0,{"$f":"IF($O$23<>0,SUM(CN235:CY235)*$O$23+$N$23,-1)","v":-1}]
[null,null,null,null,null,null,null,null,null,null,null,null,null,null,null,null,null,null,null,null,null,null,null,null,null,null,null,null,null,null,null,null,null,null,4.6799999999999882,0,0,0,0,0,0,0,0,0,0,0,0,{"$f":"IF($O$20<>0,SUM(AJ236:AU236)*$O$20+$N$20,-1)","v":11},null,0,0,0,0,0,0,0,0,0,0,0,0,{"$f":"IF($O$22<>0,SUM(AX236:BI236)*$O$22+$N$22,-1)","v":15},null,0,0,0,0,0,0,0,0,0,0,0,0,{"$f":"IF($O$24<>0,SUM(BL236:BW236)*$O$24+$N$24,-1)","v":10},null,0,0,0,0,0,0,0,0,0,0,0,0,{"$f":"IF($O$21<>0,SUM(BZ236:CK236)*$O$21+$N$21,-1)","v":-1},null,0,1.7825098870348926E-282,0,0,0,0,0,0,0,0,0,0,{"$f":"IF($O$23<>0,SUM(CN236:CY236)*$O$23+$N$23,-1)","v":-1}]
[null,null,null,null,null,null,null,null,null,null,null,null,null,null,null,null,null,null,null,null,null,null,null,null,null,null,null,null,null,null,null,null,null,null,4.6999999999999877,0,0,0,0,0,0,0,0,0,0,0,0,{"$f":"IF($O$20<>0,SUM(AJ237:AU237)*$O$20+$N$20,-1)","v":11},null,0,0,0,0,0,0,0,0,0,0,0,0,{"$f":"IF($O$22<>0,SUM(AX237:BI237)*$O$22+$N$22,-1)","v":15},null,0,0,0,0,0,0,0,0,0,0,0,0,{"$f":"IF($O$24<>0,SUM(BL237:BW237)*$O$24+$N$24,-1)","v":10},null,0,0,0,0,0,0,0,0,0,0,0,0,{"$f":"IF($O$21<>0,SUM(BZ237:CK237)*$O$21+$N$21,-1)","v":-1},null,0,1.4393838832434384E-293,0,0,0,0,0,0,0,0,0,0,{"$f":"IF($O$23<>0,SUM(CN237:CY237)*$O$23+$N$23,-1)","v":-1}]
[null,null,null,null,null,null,null,null,null,null,null,null,null,null,null,null,null,null,null,null,null,null,null,null,null,null,null,null,null,null,null,null,null,null,4.7199999999999873,0,0,0,0,0,0,0,0,0,0,0,0,{"$f":"IF($O$20<>0,SUM(AJ238:AU238)*$O$20+$N$20,-1)","v":11},null,0,0,0,0,0,0,0,0,0,0,0,0,{"$f":"IF($O$22<>0,SUM(AX238:BI238)*$O$22+$N$22,-1)","v":15},null,0,0,0,0,0,0,0,0,0,0,0,0,{"$f":"IF($O$24<>0,SUM(BL238:BW238)*$O$24+$N$24,-1)","v":10},null,0,0,0,0,0,0,0,0,0,0,0,0,{"$f":"IF($O$21<>0,SUM(BZ238:CK238)*$O$21+$N$21,-1)","v":-1},null,0,7.1120890069635471E-305,0,0,0,0,0,0,0,0,0,0,{"$f":"IF($O$23<>0,SUM(CN238:CY238)*$O$23+$N$23,-1)","v":-1}]
[null,null,null,null,null,null,null,null,null,null,null,null,null,null,null,null,null,null,null,null,null,null,null,null,null,null,null,null,null,null,null,null,null,null,4.7399999999999869,0,0,0,0,0,0,0,0,0,0,0,0,{"$f":"IF($O$20<>0,SUM(AJ239:AU239)*$O$20+$N$20,-1)","v":11},null,0,0,0,0,0,0,0,0,0,0,0,0,{"$f":"IF($O$22<>0,SUM(AX239:BI239)*$O$22+$N$22,-1)","v":15},null,0,0,0,0,0,0,0,0,0,0,0,0,{"$f":"IF($O$24<>0,SUM(BL239:BW239)*$O$24+$N$24,-1)","v":10},null,0,0,0,0,0,0,0,0,0,0,0,0,{"$f":"IF($O$21<>0,SUM(BZ239:CK239)*$O$21+$N$21,-1)","v":-1},null,0,0,0,0,0,0,0,0,0,0,0,0,{"$f":"IF($O$23<>0,SUM(CN239:CY239)*$O$23+$N$23,-1)","v":-1}]
[null,null,null,null,null,null,null,null,null,null,null,null,null,null,null,null,null,null,null,null,null,null,null,null,null,null,null,null,null,null,null,null,null,null,4.7599999999999865,0,0,0,0,0,0,0,0,0,0,0,0,{"$f":"IF($O$20<>0,SUM(AJ240:AU240)*$O$20+$N$20,-1)","v":11},null,0,0,0,0,0,0,0,0,0,0,0,0,{"$f":"IF($O$22<>0,SUM(AX240:BI240)*$O$22+$N$22,-1)","v":15},null,0,0,0,0,0,0,0,0,0,0,0,0,{"$f":"IF($O$24<>0,SUM(BL240:BW240)*$O$24+$N$24,-1)","v":10},null,0,0,0,0,0,0,0,0,0,0,0,0,{"$f":"IF($O$21<>0,SUM(BZ240:CK240)*$O$21+$N$21,-1)","v":-1},null,0,0,0,0,0,0,0,0,0,0,0,0,{"$f":"IF($O$23<>0,SUM(CN240:CY240)*$O$23+$N$23,-1)","v":-1}]
[null,null,null,null,null,null,null,null,null,null,null,null,null,null,null,null,null,null,null,null,null,null,null,null,null,null,null,null,null,null,null,null,null,null,4.779999999999986,0,0,0,0,0,0,0,0,0,0,0,0,{"$f":"IF($O$20<>0,SUM(AJ241:AU241)*$O$20+$N$20,-1)","v":11},null,0,0,0,0,0,0,0,0,0,0,0,0,{"$f":"IF($O$22<>0,SUM(AX241:BI241)*$O$22+$N$22,-1)","v":15},null,0,0,0,0,0,0,0,0,0,0,0,0,{"$f":"IF($O$24<>0,SUM(BL241:BW241)*$O$24+$N$24,-1)","v":10},null,0,0,0,0,0,0,0,0,0,0,0,0,{"$f":"IF($O$21<>0,SUM(BZ241:CK241)*$O$21+$N$21,-1)","v":-1},null,0,0,0,0,0,0,0,0,0,0,0,0,{"$f":"IF($O$23<>0,SUM(CN241:CY241)*$O$23+$N$23,-1)","v":-1}]
[null,null,null,null,null,null,null,null,null,null,null,null,null,null,null,null,null,null,null,null,null,null,null,null,null,null,null,null,null,null,null,null,null,null,4.7999999999999856,0,0,0,0,0,0,0,0,0,0,0,0,{"$f":"IF($O$20<>0,SUM(AJ242:AU242)*$O$20+$N$20,-1)","v":11},null,0,0,0,0,0,0,0,0,0,0,0,0,{"$f":"IF($O$22<>0,SUM(AX242:BI242)*$O$22+$N$22,-1)","v":15},null,0,0,0,0,0,0,0,0,0,0,0,0,{"$f":"IF($O$24<>0,SUM(BL242:BW242)*$O$24+$N$24,-1)","v":10},null,0,0,0,0,0,0,0,0,0,0,0,0,{"$f":"IF($O$21<>0,SUM(BZ242:CK242)*$O$21+$N$21,-1)","v":-1},null,0,0,0,0,0,0,0,0,0,0,0,0,{"$f":"IF($O$23<>0,SUM(CN242:CY242)*$O$23+$N$23,-1)","v":-1}]
[null,null,null,null,null,null,null,null,null,null,null,null,null,null,null,null,null,null,null,null,null,null,null,null,null,null,null,null,null,null,null,null,null,null,4.8199999999999852,0,0,0,0,0,0,0,0,0,0,0,0,{"$f":"IF($O$20<>0,SUM(AJ243:AU243)*$O$20+$N$20,-1)","v":11},null,0,0,0,0,0,0,0,0,0,0,0,0,{"$f":"IF($O$22<>0,SUM(AX243:BI243)*$O$22+$N$22,-1)","v":15},null,0,0,0,0,0,0,0,0,0,0,0,0,{"$f":"IF($O$24<>0,SUM(BL243:BW243)*$O$24+$N$24,-1)","v":10},null,0,0,0,0,0,0,0,0,0,0,0,0,{"$f":"IF($O$21<>0,SUM(BZ243:CK243)*$O$21+$N$21,-1)","v":-1},null,0,0,0,0,0,0,0,0,0,0,0,0,{"$f":"IF($O$23<>0,SUM(CN243:CY243)*$O$23+$N$23,-1)","v":-1}]
[null,null,null,null,null,null,null,null,null,null,null,null,null,null,null,null,null,null,null,null,null,null,null,null,null,null,null,null,null,null,null,null,null,null,4.8399999999999848,0,0,0,0,0,0,0,0,0,0,0,0,{"$f":"IF($O$20<>0,SUM(AJ244:AU244)*$O$20+$N$20,-1)","v":11},null,0,0,0,0,0,0,0,0,0,0,0,0,{"$f":"IF($O$22<>0,SUM(AX244:BI244)*$O$22+$N$22,-1)","v":15},null,0,0,0,0,0,0,0,0,0,0,0,0,{"$f":"IF($O$24<>0,SUM(BL244:BW244)*$O$24+$N$24,-1)","v":10},null,0,0,0,0,0,0,0,0,0,0,0,0,{"$f":"IF($O$21<>0,SUM(BZ244:CK244)*$O$21+$N$21,-1)","v":-1},null,0,0,0,0,0,0,0,0,0,0,0,0,{"$f":"IF($O$23<>0,SUM(CN244:CY244)*$O$23+$N$23,-1)","v":-1}]
[null,null,null,null,null,null,null,null,null,null,null,null,null,null,null,null,null,null,null,null,null,null,null,null,null,null,null,null,null,null,null,null,null,null,4.8599999999999843,0,0,0,0,0,0,0,0,0,0,0,0,{"$f":"IF($O$20<>0,SUM(AJ245:AU245)*$O$20+$N$20,-1)","v":11},null,0,0,0,0,0,0,0,0,0,0,0,0,{"$f":"IF($O$22<>0,SUM(AX245:BI245)*$O$22+$N$22,-1)","v":15},null,0,0,0,0,0,0,0,0,0,0,0,0,{"$f":"IF($O$24<>0,SUM(BL245:BW245)*$O$24+$N$24,-1)","v":10},null,0,0,0,0,0,0,0,0,0,0,0,0,{"$f":"IF($O$21<>0,SUM(BZ245:CK245)*$O$21+$N$21,-1)","v":-1},null,0,0,0,0,0,0,0,0,0,0,0,0,{"$f":"IF($O$23<>0,SUM(CN245:CY245)*$O$23+$N$23,-1)","v":-1}]
[null,null,null,null,null,null,null,null,null,null,null,null,null,null,null,null,null,null,null,null,null,null,null,null,null,null,null,null,null,null,null,null,null,null,4.8799999999999839,0,0,0,0,0,0,0,0,0,0,0,0,{"$f":"IF($O$20<>0,SUM(AJ246:AU246)*$O$20+$N$20,-1)","v":11},null,0,0,0,0,0,0,0,0,0,0,0,0,{"$f":"IF($O$22<>0,SUM(AX246:BI246)*$O$22+$N$22,-1)","v":15},null,0,0,0,0,0,0,0,0,0,0,0,0,{"$f":"IF($O$24<>0,SUM(BL246:BW246)*$O$24+$N$24,-1)","v":10},null,0,0,0,0,0,0,0,0,0,0,0,0,{"$f":"IF($O$21<>0,SUM(BZ246:CK246)*$O$21+$N$21,-1)","v":-1},null,0,0,0,0,0,0,0,0,0,0,0,0,{"$f":"IF($O$23<>0,SUM(CN246:CY246)*$O$23+$N$23,-1)","v":-1}]
[null,null,null,null,null,null,null,null,null,null,null,null,null,null,null,null,null,null,null,null,null,null,null,null,null,null,null,null,null,null,null,null,null,null,4.8999999999999835,0,0,0,0,0,0,0,0,0,0,0,0,{"$f":"IF($O$20<>0,SUM(AJ247:AU247)*$O$20+$N$20,-1)","v":11},null,0,0,0,0,0,0,0,0,0,0,0,0,{"$f":"IF($O$22<>0,SUM(AX247:BI247)*$O$22+$N$22,-1)","v":15},null,0,0,0,0,0,0,0,0,0,0,0,0,{"$f":"IF($O$24<>0,SUM(BL247:BW247)*$O$24+$N$24,-1)","v":10},null,0,0,0,0,0,0,0,0,0,0,0,0,{"$f":"IF($O$21<>0,SUM(BZ247:CK247)*$O$21+$N$21,-1)","v":-1},null,0,0,0,0,0,0,0,0,0,0,0,0,{"$f":"IF($O$23<>0,SUM(CN247:CY247)*$O$23+$N$23,-1)","v":-1}]
[null,null,null,null,null,null,null,null,null,null,null,null,null,null,null,null,null,null,null,null,null,null,null,null,null,null,null,null,null,null,null,null,null,null,4.9199999999999831,0,0,0,0,0,0,0,0,0,0,0,0,{"$f":"IF($O$20<>0,SUM(AJ248:AU248)*$O$20+$N$20,-1)","v":11},null,0,0,0,0,0,0,0,0,0,0,0,0,{"$f":"IF($O$22<>0,SUM(AX248:BI248)*$O$22+$N$22,-1)","v":15},null,0,0,0,0,0,0,0,0,0,0,0,0,{"$f":"IF($O$24<>0,SUM(BL248:BW248)*$O$24+$N$24,-1)","v":10},null,0,0,0,0,0,0,0,0,0,0,0,0,{"$f":"IF($O$21<>0,SUM(BZ248:CK248)*$O$21+$N$21,-1)","v":-1},null,0,0,0,0,0,0,0,0,0,0,0,0,{"$f":"IF($O$23<>0,SUM(CN248:CY248)*$O$23+$N$23,-1)","v":-1}]
[null,null,null,null,null,null,null,null,null,null,null,null,null,null,null,null,null,null,null,null,null,null,null,null,null,null,null,null,null,null,null,null,null,null,4.9399999999999826,0,0,0,0,0,0,0,0,0,0,0,0,{"$f":"IF($O$20<>0,SUM(AJ249:AU249)*$O$20+$N$20,-1)","v":11},null,0,0,0,0,0,0,0,0,0,0,0,0,{"$f":"IF($O$22<>0,SUM(AX249:BI249)*$O$22+$N$22,-1)","v":15},null,0,0,0,0,0,0,0,0,0,0,0,0,{"$f":"IF($O$24<>0,SUM(BL249:BW249)*$O$24+$N$24,-1)","v":10},null,0,0,0,0,0,0,0,0,0,0,0,0,{"$f":"IF($O$21<>0,SUM(BZ249:CK249)*$O$21+$N$21,-1)","v":-1},null,0,0,0,0,0,0,0,0,0,0,0,0,{"$f":"IF($O$23<>0,SUM(CN249:CY249)*$O$23+$N$23,-1)","v":-1}]
[null,null,null,null,null,null,null,null,null,null,null,null,null,null,null,null,null,null,null,null,null,null,null,null,null,null,null,null,null,null,null,null,null,null,4.9599999999999822,0,0,0,0,0,0,0,0,0,0,0,0,{"$f":"IF($O$20<>0,SUM(AJ250:AU250)*$O$20+$N$20,-1)","v":11},null,0,0,0,0,0,0,0,0,0,0,0,0,{"$f":"IF($O$22<>0,SUM(AX250:BI250)*$O$22+$N$22,-1)","v":15},null,0,0,0,0,0,0,0,0,0,0,0,0,{"$f":"IF($O$24<>0,SUM(BL250:BW250)*$O$24+$N$24,-1)","v":10},null,0,0,0,0,0,0,0,0,0,0,0,0,{"$f":"IF($O$21<>0,SUM(BZ250:CK250)*$O$21+$N$21,-1)","v":-1},null,0,0,0,0,0,0,0,0,0,0,0,0,{"$f":"IF($O$23<>0,SUM(CN250:CY250)*$O$23+$N$23,-1)","v":-1}]
[null,null,null,null,null,null,null,null,null,null,null,null,null,null,null,null,null,null,null,null,null,null,null,null,null,null,null,null,null,null,null,null,null,null,5.0399999999999805,0,0,0,0,0,0,0,0,0,0,0,0,{"$f":"IF($O$20<>0,SUM(AJ254:AU254)*$O$20+$N$20,-1)","v":11},null,0,0,0,0,0,0,0,0,0,0,0,0,{"$f":"IF($O$22<>0,SUM(AX254:BI254)*$O$22+$N$22,-1)","v":15},null,0,0,0,0,0,0,0,0,0,0,0,0,{"$f":"IF($O$24<>0,SUM(BL254:BW254)*$O$24+$N$24,-1)","v":10},null,0,0,3.6671372153136094E-283,0,0,0,0,0,0,0,0,0,{"$f":"IF($O$21<>0,SUM(BZ254:CK254)*$O$21+$N$21,-1)","v":-1},null,0,0,0,0,0,0,0,0,0,0,0,0,{"$f":"IF($O$23<>0,SUM(CN254:CY254)*$O$23+$N$23,-1)","v":-1}]
[null,null,null,null,null,null,null,null,null,null,null,null,null,null,null,null,null,null,null,null,null,null,null,null,null,null,null,null,null,null,null,null,null,null,{"$f":"AI258+$B$25","v":5.1399999999999784},0,0,0,0,0,0,0,0,0,0,0,0,{"$f":"IF($O$20<>0,SUM(AJ259:AU259)*$O$20+$N$20,-1)","v":11},null,{"$f":"$B$23*NORMDIST($AI259,$B$20,$B$24*$B$20,FALSE)","v":0},0,0,0,0,0,0,0,0,0,0,0,{"$f":"IF($O$22<>0,SUM(AX259:BI259)*$O$22+$N$22,-1)","v":15},null,0,0,0,0,0,0,0,0,0,0,0,0,{"$f":"IF($O$24<>0,SUM(BL259:BW259)*$O$24+$N$24,-1)","v":10},null,0,0,4.0811134574826934E-244,0,0,0,0,0,0,0,0,0,{"$f":"IF($O$21<>0,SUM(BZ259:CK259)*$O$21+$N$21,-1)","v":-1},null,0,0,0,0,0,0,0,0,0,0,0,0,{"$f":"IF($O$23<>0,SUM(CN259:CY259)*$O$23+$N$23,-1)","v":-1}]
[null,null,null,null,null,null,null,null,null,null,null,null,null,null,null,null,null,null,null,null,null,null,null,null,null,null,null,null,null,null,null,null,null,null,5.299999999999975,0,0,0,0,0,0,0,0,0,0,0,0,{"$f":"IF($O$20<>0,SUM(AJ267:AU267)*$O$20+$N$20,-1)","v":11},null,0,0,0,0,0,0,0,0,0,0,0,0,{"$f":"IF($O$22<>0,SUM(AX267:BI267)*$O$22+$N$22,-1)","v":15},null,0,0,0,0,0,0,0,0,0,0,0,0,{"$f":"IF($O$24<>0,SUM(BL267:BW267)*$O$24+$N$24,-1)","v":10},null,0,0,1.172344417008993E-187,0,0,0,0,0,0,0,0,0,{"$f":"IF($O$21<>0,SUM(BZ267:CK267)*$O$21+$N$21,-1)","v":-1},null,0,0,0,0,0,0,0,0,0,0,0,0,{"$f":"IF($O$23<>0,SUM(CN267:CY267)*$O$23+$N$23,-1)","v":-1}]
[null,null,null,null,null,null,null,null,null,null,null,null,null,null,null,null,null,null,null,null,null,null,null,null,null,null,null,null,null,null,null,null,null,null,5.3999999999999728,0,0,0,0,0,0,0,0,0,0,0,0,{"$f":"IF($O$20<>0,SUM(AJ272:AU272)*$O$20+$N$20,-1)","v":11},null,0,0,0,0,0,0,0,0,0,0,0,0,{"$f":"IF($O$22<>0,SUM(AX272:BI272)*$O$22+$N$22,-1)","v":15},null,0,0,0,0,0,0,0,0,0,0,0,0,{"$f":"IF($O$24<>0,SUM(BL272:BW272)*$O$24+$N$24,-1)","v":10},null,0,0,3.9395752481537371E-156,0,0,0,0,0,0,0,0,0,{"$f":"IF($O$21<>0,SUM(BZ272:CK272)*$O$21+$N$21,-1)","v":-1},null,0,0,0,0,0,0,0,0,0,0,0,0,{"$f":"IF($O$23<>0,SUM(CN272:CY272)*$O$23+$N$23,-1)","v":-1}]
[null,null,null,null,null,null,null,null,null,null,null,null,null,null,null,null,null,null,null,null,null,null,null,null,null,null,null,null,null,null,null,null,null,null,5.6199999999999681,0,0,3.5088800578105251E-244,0,0,0,0,0,0,0,0,0,{"$f":"IF($O$20<>0,SUM(AJ283:AU283)*$O$20+$N$20,-1)","v":11},null,0,0,0,0,0,0,0,0,0,0,0,0,{"$f":"IF($O$22<>0,SUM(AX283:BI283)*$O$22+$N$22,-1)","v":15},null,0,0,3.5088800578105251E-244,0,0,0,0,0,0,0,0,0,{"$f":"IF($O$24<>0,SUM(BL283:BW283)*$O$24+$N$24,-1)","v":10},null,0,0,5.9226478084512629E-97,0,0,0,0,0,0,0,0,0,{"$f":"IF($O$21<>0,SUM(BZ283:CK283)*$O$21+$N$21,-1)","v":-1},null,0,0,0,0,0,0,0,0,0,0,0,0,{"$f":"IF($O$23<>0,SUM(CN283:CY283)*$O$23+$N$23,-1)","v":-1}]
[null,null,null,null,null,null,null,null,null,null,null,null,null,null,null,null,null,null,null,null,null,null,null,null,null,null,null,null,null,null,null,null,null,null,5.6999999999999664,0,0,4.1785865396694511E-214,0,0,0,0,0,0,0,0,0,{"$f":"IF($O$20<>0,SUM(AJ287:AU287)*$O$20+$N$20,-1)","v":11},null,0,0,0,0,0,0,0,0,0,0,0,0,{"$f":"IF($O$22<>0,SUM(AX287:BI287)*$O$22+$N$22,-1)","v":15},null,0,0,4.1785865396694511E-214,0,0,0,0,0,0,0,0,0,{"$f":"IF($O$24<>0,SUM(BL287:BW287)*$O$24+$N$24,-1)","v":10},null,0,0,6.6168835859403862E-79,0,0,0,0,0,0,0,0,0,{"$f":"IF($O$21<>0,SUM(BZ287:CK287)*$O$21+$N$21,-1)","v":-1},null,0,0,0,0,0,0,0,0,0,0,0,0,{"$f":"IF($O$23<>0,SUM(CN287:CY287)*$O$23+$N$23,-1)","v":-1}]
[null,null,null,null,null,null,null,null,null,null,null,null,null,null,null,null,null,null,null,null,null,null,null,null,null,null,null,null,null,null,null,null,null,null,5.7999999999999643,0,0,2.7597728650301291E-179,0,0,0,0,0,0,0,0,0,{"$f":"IF($O$20<>0,SUM(AJ292:AU292)*$O$20+$N$20,-1)","v":11},null,0,0,0,0,0,0,0,0,0,0,0,0,{"$f":"IF($O$22<>0,SUM(AX292:BI292)*$O$22+$N$22,-1)","v":15},null,0,0,2.7597728650301291E-179,0,0,0,0,0,0,0,0,0,{"$f":"IF($O$24<>0,SUM(BL292:BW292)*$O$24+$N$24,-1)","v":10},null,0,0,5.9941652167828974E-59,0,0,0,0,0,0,0,0,0,{"$f":"IF($O$21<>0,SUM(BZ292:CK292)*$O$21+$N$21,-1)","v":-1},null,0,0,0,0,0,0,0,0,0,0,0,0,{"$f":"IF($O$23<>0,SUM(CN292:CY292)*$O$23+$N$23,-1)","v":-1}]
[null,null,null,null,null,null,null,null,null,null,null,null,null,null,null,null,null,null,null,null,null,null,null,null,null,null,null,null,null,null,null,null,null,null,5.9599999999999609,0,0,5.4869568478870285E-130,0,0,0,0,0,0,0,0,0,{"$f":"IF($O$20<>0,SUM(AJ300:AU300)*$O$20+$N$20,-1)","v":11},null,0,0,0,0,0,0,0,0,0,0,0,0,{"$f":"IF($O$22<>0,SUM(AX300:BI300)*$O$22+$N$22,-1)","v":15},null,0,0,5.4869568478870285E-130,0,0,0,0,0,0,0,0,0,{"$f":"IF($O$24<>0,SUM(BL300:BW300)*$O$24+$N$24,-1)","v":10},null,0,0,4.931774282856482E-33,0,0,0,0,0,0,0,0,0,{"$f":"IF($O$21<>0,SUM(BZ300:CK300)*$O$21+$N$21,-1)","v":-1},null,0,0,0,0,0,0,0,0,0,0,0,0,{"$f":"IF($O$23<>0,SUM(CN300:CY300)*$O$23+$N$23,-1)","v":-1}]
[null,null,null,null,null,null,null,null,null,null,null,null,null,null,null,null,null,null,null,null,null,null,null,null,null,null,null,null,null,null,null,null,null,null,6.0799999999999583,0,0,3.4135675649269036E-98,0,0,0,0,0,0,0,0,0,{"$f":"IF($O$20<>0,SUM(AJ306:AU306)*$O$20+$N$20,-1)","v":11},null,0,0,0,0,0,0,0,0,0,0,0,0,{"$f":"IF($O$22<>0,SUM(AX306:BI306)*$O$22+$N$22,-1)","v":15},null,0,0,3.4135675649269036E-98,0,0,0,0,0,0,0,0,0,{"$f":"IF($O$24<>0,SUM(BL306:BW306)*$O$24+$N$24,-1)","v":10},null,0,0,1.8635673287076828E-18,0,0,0,0,0,0,0,0,0,{"$f":"IF($O$21<>0,SUM(BZ306:CK306)*$O$21+$N$21,-1)","v":-1},null,0,0,0,0,0,0,0,0,0,0,0,0,{"$f":"IF($O$23<>0,SUM(CN306:CY306)*$O$23+$N$23,-1)","v":-1}]
[null,null,null,null,null,null,null,null,null,null,null,null,null,null,null,null,null,null,null,null,null,null,null,null,null,null,null,null,null,null,null,null,null,null,6.1999999999999558,0,0,7.7110587001985388E-71,0,0,0,0,0,0,0,0,0,{"$f":"IF($O$20<>0,SUM(AJ312:AU312)*$O$20+$N$20,-1)","v":11},null,0,0,0,0,0,0,0,0,0,0,0,0,{"$f":"IF($O$22<>0,SUM(AX312:BI312)*$O$22+$N$22,-1)","v":15},null,0,0,7.7110587001985388E-71,0,0,0,0,0,0,0,0,0,{"$f":"IF($O$24<>0,SUM(BL312:BW312)*$O$24+$N$24,-1)","v":10},null,0,0,4.8165065674708825E-8,0,0,0,0,0,0,0,0,0,{"$f":"IF($O$21<>0,SUM(BZ312:CK312)*$O$21+$N$21,-1)","v":-1},null,0,0,0,0,0,0,0,0,0,0,0,0,{"$f":"IF($O$23<>0,SUM(CN312:CY312)*$O$23+$N$23,-1)","v":-1}]
[null,null,null,null,null,null,null,null,null,null,null,null,null,null,null,null,null,null,null,null,null,null,null,null,null,null,null,null,null,null,null,null,null,null,6.3599999999999524,0,0,2.8337775628800369E-41,0,0,0,0,0,0,0,0,0,{"$f":"IF($O$20<>0,SUM(AJ320:AU320)*$O$20+$N$20,-1)","v":11},null,0,0,0,0,0,0,0,0,0,0,0,0,{"$f":"IF($O$22<>0,SUM(AX320:BI320)*$O$22+$N$22,-1)","v":15},null,0,0,2.8337775628800369E-41,0,0,0,0,0,0,0,0,0,{"$f":"IF($O$24<>0,SUM(BL320:BW320)*$O$24+$N$24,-1)","v":10},null,0,0,1.2220705956632036,0,0,0,0,0,0,0,0,0,{"$f":"IF($O$21<>0,SUM(BZ320:CK320)*$O$21+$N$21,-1)","v":-1},null,0,0,0,0,0,0,0,0,0,0,0,0,{"$f":"IF($O$23<>0,SUM(CN320:CY320)*$O$23+$N$23,-1)","v":-1}]
[null,null,null,null,null,null,null,null,null,null,null,null,null,null,null,null,null,null,null,null,null,null,null,null,null,null,null,null,null,null,null,null,null,null,6.4599999999999502,0,0,8.3625848726216039E-27,0,0,0,0,0,0,0,0,0,{"$f":"IF($O$20<>0,SUM(AJ325:AU325)*$O$20+$N$20,-1)","v":11},null,0,0,0,0,0,0,0,0,0,0,0,0,{"$f":"IF($O$22<>0,SUM(AX325:BI325)*$O$22+$N$22,-1)","v":15},null,0,0,8.3625848726216039E-27,0,0,0,0,0,0,0,0,0,{"$f":"IF($O$24<>0,SUM(BL325:BW325)*$O$24+$N$24,-1)","v":10},null,0,0,9.0114611979624524,0,0,0,0,0,0,0,0,0,{"$f":"IF($O$21<>0,SUM(BZ325:CK325)*$O$21+$N$21,-1)","v":-1},null,0,0,0,0,0,0,0,0,0,0,0,0,{"$f":"IF($O$23<>0,SUM(CN325:CY325)*$O$23+$N$23,-1)","v":-1}]
[null,null,null,null,null,null,null,null,null,null,null,null,null,null,null,null,null,null,null,null,null,null,null,null,null,null,null,null,null,null,null,null,null,null,6.6999999999999451,0,0,1.1758742968428334E-4,0,0,0,0,0,0,0,0,0,{"$f":"IF($O$20<>0,SUM(AJ337:AU337)*$O$20+$N$20,-1)","v":11.000117587429685},null,0,0,0,0,0,0,0,0,0,0,0,0,{"$f":"IF($O$22<>0,SUM(AX337:BI337)*$O$22+$N$22,-1)","v":15},null,0,0,1.1758742968428334E-4,0,0,0,0,0,0,0,0,0,{"$f":"IF($O$24<>0,SUM(BL337:BW337)*$O$24+$N$24,-1)","v":9.9998824125703152},null,0,0,1.7241191916585287E-9,0,0,0,0,0,0,0,0,0,{"$f":"IF($O$21<>0,SUM(BZ337:CK337)*$O$21+$N$21,-1)","v":-1},null,0,0,1.8145540089160272E-297,0,0,0,0,0,0,0,0,0,{"$f":"IF($O$23<>0,SUM(CN337:CY337)*$O$23+$N$23,-1)","v":-1}]
[null,null,null,null,null,null,null,null,null,null,null,null,null,null,null,null,null,null,null,null,null,null,null,null,null,null,null,null,null,null,null,null,null,null,6.7599999999999438,0,0,6.7980417758789338E-2,0,0,0,0,0,0,0,0,0,{"$f":"IF($O$20<>0,SUM(AJ340:AU340)*$O$20+$N$20,-1)","v":11.06798041775879},null,0,0,0,0,0,0,0,0,0,0,0,0,{"$f":"IF($O$22<>0,SUM(AX340:BI340)*$O$22+$N$22,-1)","v":15},null,0,0,6.7980417758789338E-2,0,0,0,0,0,0,0,0,0,{"$f":"IF($O$24<>0,SUM(BL340:BW340)*$O$24+$N$24,-1)","v":9.9320195822412103},null,0,0,1.5992396039090034E-14,0,0,0,0,0,0,0,0,0,{"$f":"IF($O$21<>0,SUM(BZ340:CK340)*$O$21+$N$21,-1)","v":-1},null,0,0,2.5421383887709848E-278,0,0,0,0,0,0,0,0,0,{"$f":"IF($O$23<>0,SUM(CN340:CY340)*$O$23+$N$23,-1)","v":-1}]
[null,null,null,null,null,null,null,null,null,null,null,null,null,null,null,null,null,null,null,null,null,null,null,null,null,null,null,null,null,null,null,null,null,null,6.8599999999999417,0,0,9.3133210667867949,0,0,0,0,0,0,0,0,0,{"$f":"IF($O$20<>0,SUM(AJ345:AU345)*$O$20+$N$20,-1)","v":20.313321066786795},null,0,0,0,0,0,0,0,0,0,0,0,0,{"$f":"IF($O$22<>0,SUM(AX345:BI345)*$O$22+$N$22,-1)","v":15},null,0,0,9.3133210667867949,0,0,0,0,0,0,0,0,0,{"$f":"IF($O$24<>0,SUM(BL345:BW345)*$O$24+$N$24,-1)","v":0.68667893321320506},null,0,0,3.1790217060608059E-25,0,0,0,0,0,0,0,0,0,{"$f":"IF($O$21<>0,SUM(BZ345:CK345)*$O$21+$N$21,-1)","v":-1},null,0,0,7.9724046159662048E-248,0,0,0,0,0,0,0,0,0,{"$f":"IF($O$23<>0,SUM(CN345:CY345)*$O$23+$N$23,-1)","v":-1}]
[null,null,null,null,null,null,null,null,null,null,null,null,null,null,null,null,null,null,null,null,null,null,null,null,null,null,null,null,null,null,null,null,null,null,7.0199999999999383,0,0,9.4311721065778002E-3,0,0,0,0,0,0,0,0,0,{"$f":"IF($O$20<>0,SUM(AJ353:AU353)*$O$20+$N$20,-1)","v":11.009431172106577},null,0,0,5.4338650469554495E-254,0,0,0,0,0,0,0,0,0,{"$f":"IF($O$22<>0,SUM(AX353:BI353)*$O$22+$N$22,-1)","v":15},null,0,0,9.4311721065778002E-3,0,0,0,0,0,0,0,0,0,{"$f":"IF($O$24<>0,SUM(BL353:BW353)*$O$24+$N$24,-1)","v":9.9905688278934228},null,0,0,2.3102318264304555E-48,0,0,0,0,0,0,0,0,0,{"$f":"IF($O$21<>0,SUM(BZ353:CK353)*$O$21+$N$21,-1)","v":-1},null,0,0,1.0436807584295412E-202,0,0,0,0,0,0,0,0,0,{"$f":"IF($O$23<>0,SUM(CN353:CY353)*$O$23+$N$23,-1)","v":-1}]
[null,null,null,null,null,null,null,null,null,null,null,null,null,null,null,null,null,null,null,null,null,null,null,null,null,null,null,null,null,null,null,null,null,null,7.1599999999999353,0,0,7.5750544692911163E-12,0,0,0,0,0,0,0,0,0,{"$f":"IF($O$20<>0,SUM(AJ360:AU360)*$O$20+$N$20,-1)","v":11.000000000007574},null,0,0,3.4830911811416195E-209,0,0,0,0,0,0,0,0,0,{"$f":"IF($O$22<>0,SUM(AX360:BI360)*$O$22+$N$22,-1)","v":15},null,0,0,7.5750544692911163E-12,0,0,0,0,0,0,0,0,0,{"$f":"IF($O$24<>0,SUM(BL360:BW360)*$O$24+$N$24,-1)","v":9.9999999999924256},null,0,0,1.105235730036363E-74,0,0,0,0,0,0,0,0,0,{"$f":"IF($O$21<>0,SUM(BZ360:CK360)*$O$21+$N$21,-1)","v":-1},null,0,0,6.0718315028755815E-167,0,0,0,0,0,0,0,0,0,{"$f":"IF($O$23<>0,SUM(CN360:CY360)*$O$23+$N$23,-1)","v":-1}]
[null,null,null,null,null,null,null,null,null,null,null,null,null,null,null,null,null,null,null,null,null,null,null,null,null,null,null,null,null,null,null,null,null,null,7.2599999999999332,0,0,4.8178410840970345E-22,0,0,0,0,0,0,0,0,0,{"$f":"IF($O$20<>0,SUM(AJ365:AU365)*$O$20+$N$20,-1)","v":11},null,0,0,7.7527301753381647E-180,0,0,0,0,0,0,0,0,0,{"$f":"IF($O$22<>0,SUM(AX365:BI365)*$O$22+$N$22,-1)","v":15},null,0,0,4.8178410840970345E-22,0,0,0,0,0,0,0,0,0,{"$f":"IF($O$24<>0,SUM(BL365:BW365)*$O$24+$N$24,-1)","v":10},null,0,0,5.9226478087731131E-97,0,0,0,0,0,0,0,0,0,{"$f":"IF($O$21<>0,SUM(BZ365:CK365)*$O$21+$N$21,-1)","v":-1},null,0,0,1.6146676872740816E-143,0,0,0,0,0,0,0,0,0,{"$f":"IF($O$23<>0,SUM(CN365:CY365)*$O$23+$N$23,-1)","v":-1}]
[null,null,null,null,null,null,null,null,null,null,null,null,null,null,null,null,null,null,null,null,null,null,null,null,null,null,null,null,null,null,null,null,null,null,7.4199999999999298,0,0,9.0179351855630736E-45,0,0,0,0,0,0,0,0,0,{"$f":"IF($O$20<>0,SUM(AJ373:AU373)*$O$20+$N$20,-1)","v":11},null,0,0,1.7348651063486365E-137,0,0,0,0,0,0,0,0,0,{"$f":"IF($O$22<>0,SUM(AX373:BI373)*$O$22+$N$22,-1)","v":15},null,0,0,9.0179351855630736E-45,0,0,0,0,0,0,0,0,0,{"$f":"IF($O$24<>0,SUM(BL373:BW373)*$O$24+$N$24,-1)","v":10},null,0,0,1.3272955328079042E-138,0,0,0,0,0,0,0,0,0,{"$f":"IF($O$21<>0,SUM(BZ373:CK373)*$O$21+$N$21,-1)","v":-1},null,0,0,1.0243745482709927E-109,0,0,0,0,0,0,0,0,0,{"$f":"IF($O$23<>0,SUM(CN373:CY373)*$O$23+$N$23,-1)","v":-1}]
[null,null,null,null,null,null,null,null,null,null,null,null,null,null,null,null,null,null,null,null,null,null,null,null,null,null,null,null,null,null,null,null,null,null,7.6599999999999246,0,0,1.1576685245864293E-93,0,0,0,0,0,0,0,0,0,{"$f":"IF($O$20<>0,SUM(AJ385:AU385)*$O$20+$N$20,-1)","v":11},null,0,0,1.3625517945380788E-84,0,0,0,0,0,0,0,0,0,{"$f":"IF($O$22<>0,SUM(AX385:BI385)*$O$22+$N$22,-1)","v":15},null,0,0,1.1576685245864293E-93,0,0,0,0,0,0,0,0,0,{"$f":"IF($O$24<>0,SUM(BL385:BW385)*$O$24+$N$24,-1)","v":10},null,0,0,5.8272340436611328E-215,0,0,0,0,0,0,0,0,0,{"$f":"IF($O$21<>0,SUM(BZ385:CK385)*$O$21+$N$21,-1)","v":-1},null,0,0,1.6907141108050253E-67,0,0,0,0,0,0,0,0,0,{"$f":"IF($O$23<>0,SUM(CN385:CY385)*$O$23+$N$23,-1)","v":-1}]
[null,null,null,null,null,null,null,null,null,null,null,null,null,null,null,null,null,null,null,null,null,null,null,null,null,null,null,null,null,null,null,null,null,null,7.7799999999999221,0,0,9.075396422912382E-125,0,0,0,0,0,0,0,0,0,{"$f":"IF($O$20<>0,SUM(AJ391:AU391)*$O$20+$N$20,-1)","v":11},null,0,0,6.2887381017146601E-63,0,0,0,0,0,0,0,0,0,{"$f":"IF($O$22<>0,SUM(AX391:BI391)*$O$22+$N$22,-1)","v":15},null,0,0,9.075396422912382E-125,0,0,0,0,0,0,0,0,0,{"$f":"IF($O$24<>0,SUM(BL391:BW391)*$O$24+$N$24,-1)","v":10},null,0,0,2.184125726403836E-259,0,0,0,0,0,0,0,0,0,{"$f":"IF($O$21<>0,SUM(BZ391:CK391)*$O$21+$N$21,-1)","v":-1},null,0,0,3.2975960816001115E-50,0,0,0,0,0,0,0,0,0,{"$f":"IF($O$23<>0,SUM(CN391:CY391)*$O$23+$N$23,-1)","v":-1}]
[null,null,null,null,null,null,null,null,null,null,null,null,null,null,null,null,null,null,null,null,null,null,null,null,null,null,null,null,null,null,null,null,null,null,7.8999999999999195,0,0,2.5833040859794438E-160,0,0,0,0,0,0,0,0,0,{"$f":"IF($O$20<>0,SUM(AJ397:AU397)*$O$20+$N$20,-1)","v":11},null,0,0,1.8788201978138977E-44,0,0,0,0,0,0,0,0,0,{"$f":"IF($O$22<>0,SUM(AX397:BI397)*$O$22+$N$22,-1)","v":15},null,0,0,2.5833040859794438E-160,0,0,0,0,0,0,0,0,0,{"$f":"IF($O$24<>0,SUM(BL397:BW397)*$O$24+$N$24,-1)","v":10},null,0,0,5.5993547052404285E-308,0,0,0,0,0,0,0,0,0,{"$f":"IF($O$21<>0,SUM(BZ397:CK397)*$O$21+$N$21,-1)","v":-1},null,0,0,1.8303710050788101E-35,0,0,0,0,0,0,0,0,0,{"$f":"IF($O$23<>0,SUM(CN397:CY397)*$O$23+$N$23,-1)","v":-1}]
[null,null,null,null,null,null,null,null,null,null,null,null,null,null,null,null,null,null,null,null,null,null,null,null,null,null,null,null,null,null,null,null,null,null,8.059999999999917,0,0,1.2921110470689784E-214,0,0,0,0,0,0,0,0,0,{"$f":"IF($O$20<>0,SUM(AJ405:AU405)*$O$20+$N$20,-1)","v":11},null,0,0,8.8542921904170403E-25,0,0,0,0,0,0,0,0,0,{"$f":"IF($O$22<>0,SUM(AX405:BI405)*$O$22+$N$22,-1)","v":15},null,0,0,1.2921110470689784E-214,0,0,0,0,0,0,0,0,0,{"$f":"IF($O$24<>0,SUM(BL405:BW405)*$O$24+$N$24,-1)","v":10},null,0,0,0,0,0,0,0,0,0,0,0,0,{"$f":"IF($O$21<>0,SUM(BZ405:CK405)*$O$21+$N$21,-1)","v":-1},null,0,0,9.152724730830795E-20,0,0,0,0,0,0,0,0,0,{"$f":"IF($O$23<>0,SUM(CN405:CY405)*$O$23+$N$23,-1)","v":-1}]
[null,null,null,null,null,null,null,null,null,null,null,null,null,null,null,null,null,null,null,null,null,null,null,null,null,null,null,null,null,null,null,null,null,null,8.0799999999999166,0,0,5.870754863457754E-222,0,0,0,0,0,0,0,0,0,{"$f":"IF($O$20<>0,SUM(AJ406:AU406)*$O$20+$N$20,-1)","v":11},null,0,0,1.0178911327550475E-22,0,0,0,0,0,0,0,0,0,{"$f":"IF($O$22<>0,SUM(AX406:BI406)*$O$22+$N$22,-1)","v":15},null,0,0,5.870754863457754E-222,0,0,0,0,0,0,0,0,0,{"$f":"IF($O$24<>0,SUM(BL406:BW406)*$O$24+$N$24,-1)","v":10},null,0,0,0,0,0,0,0,0,0,0,0,0,{"$f":"IF($O$21<>0,SUM(BZ406:CK406)*$O$21+$N$21,-1)","v":-1},null,0,0,4.0337001271997376E-18,0,0,0,0,0,0,0,0,0,{"$f":"IF($O$23<>0,SUM(CN406:CY406)*$O$23+$N$23,-1)","v":-1}]
[null,null,null,null,null,null,null,null,null,null,null,null,null,null,null,null,null,null,null,null,null,null,null,null,null,null,null,null,null,null,null,null,null,null,8.3199999999999115,0,0,0,0,0,0,0,0,0,0,0,0,{"$f":"IF($O$20<>0,SUM(AJ418:AU418)*$O$20+$N$20,-1)","v":11},null,0,0,6.6836252770530982E-5,0,0,0,0,0,0,0,0,0,{"$f":"IF($O$22<>0,SUM(AX418:BI418)*$O$22+$N$22,-1)","v":15.00006683625277},null,0,0,0,0,0,0,0,0,0,0,0,0,{"$f":"IF($O$24<>0,SUM(BL418:BW418)*$O$24+$N$24,-1)","v":10},null,0,0,0,0,0,0,0,0,0,0,0,0,{"$f":"IF($O$21<>0,SUM(BZ418:CK418)*$O$21+$N$21,-1)","v":-1},null,0,0,6.6019658793318222E-4,0,0,0,0,0,0,0,0,0,{"$f":"IF($O$23<>0,SUM(CN418:CY418)*$O$23+$N$23,-1)","v":-1}]
[null,null,null,null,null,null,null,null,null,null,null,null,null,null,null,null,null,null,null,null,null,null,null,null,null,null,null,null,null,null,null,null,null,null,8.4399999999999089,0,0,0,0,0,0,0,0,0,0,0,0,{"$f":"IF($O$20<>0,SUM(AJ424:AU424)*$O$20+$N$20,-1)","v":11},null,0,0,0.89193726345708813,0,0,0,0,0,0,0,0,0,{"$f":"IF($O$22<>0,SUM(AX424:BI424)*$O$22+$N$22,-1)","v":15.891937263457088},null,0,0,0,0,0,0,0,0,0,0,0,0,{"$f":"IF($O$24<>0,SUM(BL424:BW424)*$O$24+$N$24,-1)","v":10},null,0,0,0,0,0,0,0,0,0,0,0,0,{"$f":"IF($O$21<>0,SUM(BZ424:CK424)*$O$21+$N$21,-1)","v":-1},null,0,0,1.2822706177965419,0,0,0,0,0,0,0,0,0,{"$f":"IF($O$23<>0,SUM(CN424:CY424)*$O$23+$N$23,-1)","v":-1}]
[null,null,null,null,null,null,null,null,null,null,null,null,null,null,null,null,null,null,null,null,null,null,null,null,null,null,null,null,null,null,null,null,null,null,8.4799999999999081,0,0,0,0,0,0,0,0,0,0,0,0,{"$f":"IF($O$20<>0,SUM(AJ426:AU426)*$O$20+$N$20,-1)","v":11},null,0,0,4.1380883903386341,0,0,0,0,0,0,0,0,0,{"$f":"IF($O$22<>0,SUM(AX426:BI426)*$O$22+$N$22,-1)","v":19.138088390338634},null,0,0,0,0,0,0,0,0,0,0,0,0,{"$f":"IF($O$24<>0,SUM(BL426:BW426)*$O$24+$N$24,-1)","v":10},null,0,0,0,0,0,0,0,0,0,0,0,0,{"$f":"IF($O$21<>0,SUM(BZ426:CK426)*$O$21+$N$21,-1)","v":-1},null,0,0,4.3486223474966463,0,0,0,0,0,0,0,0,0,{"$f":"IF($O$23<>0,SUM(CN426:CY426)*$O$23+$N$23,-1)","v":-1}]
[null,null,null,null,null,null,null,null,null,null,null,null,null,null,null,null,null,null,null,null,null,null,null,null,null,null,null,null,null,null,null,null,null,null,8.7199999999999029,0,0,0,0,0,0,0,0,0,0,0,0,{"$f":"IF($O$20<>0,SUM(AJ438:AU438)*$O$20+$N$20,-1)","v":11},null,0,0,1.4957258929710617E-3,0,0,0,0,0,0,0,0,0,{"$f":"IF($O$22<>0,SUM(AX438:BI438)*$O$22+$N$22,-1)","v":15.001495725892971},null,0,0,0,0,0,0,0,0,0,0,0,0,{"$f":"IF($O$24<>0,SUM(BL438:BW438)*$O$24+$N$24,-1)","v":10},null,0,0,0,0,0,0,0,0,0,0,0,0,{"$f":"IF($O$21<>0,SUM(BZ438:CK438)*$O$21+$N$21,-1)","v":-1},null,0,0,7.5930678461031791E-3,0,0,0,0,0,0,0,0,0,{"$f":"IF($O$23<>0,SUM(CN438:CY438)*$O$23+$N$23,-1)","v":-1}]
[null,null,null,null,null,null,null,null,null,null,null,null,null,null,null,null,null,null,null,null,null,null,null,null,null,null,null,null,null,null,null,null,null,null,8.8799999999998995,0,0,0,0,0,0,0,0,0,0,0,0,{"$f":"IF($O$20<>0,SUM(AJ446:AU446)*$O$20+$N$20,-1)","v":11},null,0,0,6.2201473597587701E-13,0,0,0,0,0,0,0,0,0,{"$f":"IF($O$22<>0,SUM(AX446:BI446)*$O$22+$N$22,-1)","v":15.000000000000622},null,0,0,0,0,0,0,0,0,0,0,0,0,{"$f":"IF($O$24<>0,SUM(BL446:BW446)*$O$24+$N$24,-1)","v":10},null,0,0,0,0,0,0,0,0,0,0,0,0,{"$f":"IF($O$21<>0,SUM(BZ446:CK446)*$O$21+$N$21,-1)","v":-1},null,0,0,2.4237787782629153E-10,0,0,0,0,0,0,0,0,0,{"$f":"IF($O$23<>0,SUM(CN446:CY446)*$O$23+$N$23,-1)","v":-1}]
[null,null,null,null,null,null,null,null,null,null,null,null,null,null,null,null,null,null,null,null,null,null,null,null,null,null,null,null,null,null,null,null,null,null,8.8999999999998991,0,0,0,0,0,0,0,0,0,0,0,0,{"$f":"IF($O$20<>0,SUM(AJ447:AU447)*$O$20+$N$20,-1)","v":11},null,0,0,1.6693913511051823E-14,0,0,0,0,0,0,0,0,0,{"$f":"IF($O$22<>0,SUM(AX447:BI447)*$O$22+$N$22,-1)","v":15.000000000000016},null,0,0,0,0,0,0,0,0,0,0,0,0,{"$f":"IF($O$24<>0,SUM(BL447:BW447)*$O$24+$N$24,-1)","v":10},null,0,0,0,0,0,0,0,0,0,0,0,0,{"$f":"IF($O$21<>0,SUM(BZ447:CK447)*$O$21+$N$21,-1)","v":-1},null,0,0,1.3467259835156145E-11,0,0,0,0,0,0,0,0,0,{"$f":"IF($O$23<>0,SUM(CN447:CY447)*$O$23+$N$23,-1)","v":-1}]
[null,null,null,null,null,null,null,null,null,null,null,null,null,null,null,null,null,null,null,null,null,null,null,null,null,null,null,null,null,null,null,null,null,null,9.1199999999998944,0,0,0,0,0,0,0,0,0,0,0,0,{"$f":"IF($O$20<>0,SUM(AJ458:AU458)*$O$20+$N$20,-1)","v":11},null,0,0,1.2376402064608256E-37,0,0,0,0,0,0,0,0,0,{"$f":"IF($O$22<>0,SUM(AX458:BI458)*$O$22+$N$22,-1)","v":15},null,0,0,0,0,0,0,0,0,0,0,0,0,{"$f":"IF($O$24<>0,SUM(BL458:BW458)*$O$24+$N$24,-1)","v":10},null,0,0,0,1.6008805547382472E-279,0,0,0,0,0,0,0,0,{"$f":"IF($O$21<>0,SUM(BZ458:CK458)*$O$21+$N$21,-1)","v":-1},null,0,0,4.5149660201133414E-30,0,0,0,0,0,0,0,0,0,{"$f":"IF($O$23<>0,SUM(CN458:CY458)*$O$23+$N$23,-1)","v":-1}]
[null,null,null,null,null,null,null,null,null,null,null,null,null,null,null,null,null,null,null,null,null,null,null,null,null,null,null,null,null,null,null,null,null,null,9.279999999999891,0,0,0,0,0,0,0,0,0,0,0,0,{"$f":"IF($O$20<>0,SUM(AJ466:AU466)*$O$20+$N$20,-1)","v":11},null,0,0,3.4570372778033963E-61,0,0,0,0,0,0,0,0,0,{"$f":"IF($O$22<>0,SUM(AX466:BI466)*$O$22+$N$22,-1)","v":15},null,0,0,0,0,0,0,0,0,0,0,0,0,{"$f":"IF($O$24<>0,SUM(BL466:BW466)*$O$24+$N$24,-1)","v":10},null,0,0,0,1.3615008135182513E-233,0,0,0,0,0,0,0,0,{"$f":"IF($O$21<>0,SUM(BZ466:CK466)*$O$21+$N$21,-1)","v":-1},null,0,0,6.9843736406385774E-49,0,0,0,0,0,0,0,0,0,{"$f":"IF($O$23<>0,SUM(CN466:CY466)*$O$23+$N$23,-1)","v":-1}]
[null,null,null,null,null,null,null,null,null,null,null,null,null,null,null,null,null,null,null,null,null,null,null,null,null,null,null,null,null,null,null,null,null,null,9.3799999999998889,0,0,0,0,0,0,0,0,0,0,0,0,{"$f":"IF($O$20<>0,SUM(AJ471:AU471)*$O$20+$N$20,-1)","v":11},null,0,0,8.6828974578739925E-79,0,0,0,0,0,0,0,0,0,{"$f":"IF($O$22<>0,SUM(AX471:BI471)*$O$22+$N$22,-1)","v":15},null,0,0,0,0,0,0,0,0,0,0,0,0,{"$f":"IF($O$24<>0,SUM(BL471:BW471)*$O$24+$N$24,-1)","v":10},null,0,0,0,5.6158956218191998E-207,0,0,0,0,0,0,0,0,{"$f":"IF($O$21<>0,SUM(BZ471:CK471)*$O$21+$N$21,-1)","v":-1},null,0,0,6.1555859361474568E-63,0,0,0,0,0,0,0,0,0,{"$f":"IF($O$23<>0,SUM(CN471:CY471)*$O$23+$N$23,-1)","v":-1}]
[null,null,null,null,null,null,null,null,null,null,null,null,null,null,null,null,null,null,null,null,null,null,null,null,null,null,null,null,null,null,null,null,null,null,9.5199999999998859,0,0,0,1.0466024981930265E-297,0,0,0,0,0,0,0,0,{"$f":"IF($O$20<>0,SUM(AJ478:AU478)*$O$20+$N$20,-1)","v":11},null,0,0,3.7865115491011753E-107,0,0,0,0,0,0,0,0,0,{"$f":"IF($O$22<>0,SUM(AX478:BI478)*$O$22+$N$22,-1)","v":15},null,0,0,0,1.0466024981930265E-297,0,0,0,0,0,0,0,0,{"$f":"IF($O$24<>0,SUM(BL478:BW478)*$O$24+$N$24,-1)","v":10},null,0,0,0,2.038149105616727E-172,0,0,0,0,0,0,0,0,{"$f":"IF($O$21<>0,SUM(BZ478:CK478)*$O$21+$N$21,-1)","v":-1},null,0,0,1.38798538305619E-85,0,0,0,0,0,0,0,0,0,{"$f":"IF($O$23<>0,SUM(CN478:CY478)*$O$23+$N$23,-1)","v":-1}]
[null,null,null,null,null,null,null,null,null,null,null,null,null,null,null,null,null,null,null,null,null,null,null,null,null,null,null,null,null,null,null,null,null,null,9.6799999999998825,0,0,0,9.9078297040996461E-251,0,0,0,0,0,0,0,0,{"$f":"IF($O$20<>0,SUM(AJ486:AU486)*$O$20+$N$20,-1)","v":11},null,0,0,7.1041141357686774E-145,0,0,0,0,0,0,0,0,0,{"$f":"IF($O$22<>0,SUM(AX486:BI486)*$O$22+$N$22,-1)","v":15},null,0,0,0,9.9078297040996461E-251,0,0,0,0,0,0,0,0,{"$f":"IF($O$24<>0,SUM(BL486:BW486)*$O$24+$N$24,-1)","v":10},null,0,0,0,8.841671466416558E-137,0,0,0,0,0,0,0,0,{"$f":"IF($O$21<>0,SUM(BZ486:CK486)*$O$21+$N$21,-1)","v":-1},null,0,0,1.0405313064126208E-115,0,0,0,0,0,0,0,0,0,{"$f":"IF($O$23<>0,SUM(CN486:CY486)*$O$23+$N$23,-1)","v":-1}]
[null,null,null,null,null,null,null,null,null,null,null,null,null,null,null,null,null,null,null,null,null,null,null,null,null,null,null,null,null,null,null,null,null,null,9.7799999999998803,0,0,0,2.0426452584913907E-223,0,0,0,0,0,0,0,0,{"$f":"IF($O$20<>0,SUM(AJ491:AU491)*$O$20+$N$20,-1)","v":11},null,0,0,2.4742647016617906E-171,0,0,0,0,0,0,0,0,0,{"$f":"IF($O$22<>0,SUM(AX491:BI491)*$O$22+$N$22,-1)","v":15},null,0,0,0,2.0426452584913907E-223,0,0,0,0,0,0,0,0,{"$f":"IF($O$24<>0,SUM(BL491:BW491)*$O$24+$N$24,-1)","v":10},null,0,0,0,1.3465117545997578E-116,0,0,0,0,0,0,0,0,{"$f":"IF($O$21<>0,SUM(BZ491:CK491)*$O$21+$N$21,-1)","v":-1},null,0,0,7.7762530668936017E-137,0,0,0,0,0,0,0,0,0,{"$f":"IF($O$23<>0,SUM(CN491:CY491)*$O$23+$N$23,-1)","v":-1}]
[null,null,null,null,null,null,null,null,null,null,null,null,null,null,null,null,null,null,null,null,null,null,null,null,null,null,null,null,null,null,null,null,null,null,9.9399999999998769,0,0,0,5.4888620785978925E-183,0,0,0,0,0,0,0,0,{"$f":"IF($O$20<>0,SUM(AJ499:AU499)*$O$20+$N$20,-1)","v":11},null,0,0,2.8468949913705709E-218,0,0,0,0,0,0,0,0,0,{"$f":"IF($O$22<>0,SUM(AX499:BI499)*$O$22+$N$22,-1)","v":15},null,0,0,0,5.4888620785978925E-183,0,0,0,0,0,0,0,0,{"$f":"IF($O$24<>0,SUM(BL499:BW499)*$O$24+$N$24,-1)","v":10},null,0,0,0,1.1925434443403161E-87,0,0,0,0,0,0,0,0,{"$f":"IF($O$21<>0,SUM(BZ499:CK499)*$O$21+$N$21,-1)","v":-1},null,0,0,2.5772044739418597E-174,0,0,0,0,0,0,0,0,0,{"$f":"IF($O$23<>0,SUM(CN499:CY499)*$O$23+$N$23,-1)","v":-1}]
[null,null,null,null,null,null,null,null,null,null,null,null,null,null,null,null,null,null,null,null,null,null,null,null,null,null,null,null,null,null,null,null,null,null,9.9799999999998761,0,0,0,1.649279775429492E-173,0,0,0,0,0,0,0,0,{"$f":"IF($O$20<>0,SUM(AJ501:AU501)*$O$20+$N$20,-1)","v":11},null,0,0,6.820250601332989E-231,0,0,0,0,0,0,0,0,0,{"$f":"IF($O$22<>0,SUM(AX501:BI501)*$O$22+$N$22,-1)","v":15},null,0,0,0,1.649279775429492E-173,0,0,0,0,0,0,0,0,{"$f":"IF($O$24<>0,SUM(BL501:BW501)*$O$24+$N$24,-1)","v":10},null,0,0,0,4.677541935363459E-81,0,0,0,0,0,0,0,0,{"$f":"IF($O$21<>0,SUM(BZ501:CK501)*$O$21+$N$21,-1)","v":-1},null,0,0,2.1581460382927804E-184,0,0,0,0,0,0,0,0,0,{"$f":"IF($O$23<>0,SUM(CN501:CY501)*$O$23+$N$23,-1)","v":-1}]
[null,null,null,null,null,null,null,null,null,null,null,null,null,null,null,null,null,null,null,null,null,null,null,null,null,null,null,null,null,null,null,null,null,null,10.179999999999872,0,0,0,6.7498240007228178E-130,0,0,0,0,0,0,0,0,{"$f":"IF($O$20<>0,SUM(AJ511:AU511)*$O$20+$N$20,-1)","v":11},null,0,0,2.6069345344830969E-299,0,0,0,0,0,0,0,0,0,{"$f":"IF($O$22<>0,SUM(AX511:BI511)*$O$22+$N$22,-1)","v":15},null,0,0,0,6.7498240007228178E-130,0,0,0,0,0,0,0,0,{"$f":"IF($O$24<>0,SUM(BL511:BW511)*$O$24+$N$24,-1)","v":10},null,0,0,0,5.9992903857227645E-52,1.6410838233887682E-281,0,0,0,0,0,0,0,{"$f":"IF($O$21<>0,SUM(BZ511:CK511)*$O$21+$N$21,-1)","v":-1},null,0,0,5.0788404900423297E-239,0,0,0,0,0,0,0,0,0,{"$f":"IF($O$23<>0,SUM(CN511:CY511)*$O$23+$N$23,-1)","v":-1}]
[null,null,null,null,null,null,null,null,null,null,null,null,null,null,null,null,null,null,null,null,null,null,null,null,null,null,null,null,null,null,null,null,null,null,10.339999999999868,0,0,0,1.5360897407838789E-99,0,0,0,0,0,0,0,0,{"$f":"IF($O$20<>0,SUM(AJ519:AU519)*$O$20+$N$20,-1)","v":11},null,0,0,0,0,0,0,0,0,0,0,0,0,{"$f":"IF($O$22<>0,SUM(AX519:BI519)*$O$22+$N$22,-1)","v":15},null,0,0,0,1.5360897407838789E-99,0,0,0,0,0,0,0,0,{"$f":"IF($O$24<>0,SUM(BL519:BW519)*$O$24+$N$24,-1)","v":10},null,0,0,0,2.7102127827211881E-33,6.7671520607843043E-235,0,0,0,0,0,0,0,{"$f":"IF($O$21<>0,SUM(BZ519:CK519)*$O$21+$N$21,-1)","v":-1},null,0,0,8.1571856114882202E-288,0,0,0,0,0,0,0,0,0,{"$f":"IF($O$23<>0,SUM(CN519:CY519)*$O$23+$N$23,-1)","v":-1}]
[null,null,null,null,null,null,null,null,null,null,null,null,null,null,null,null,null,null,null,null,null,null,null,null,null,null,null,null,null,null,null,null,null,null,10.439999999999866,0,0,0,1.2993035167621364E-82,0,0,0,0,0,0,0,0,{"$f":"IF($O$20<>0,SUM(AJ524:AU524)*$O$20+$N$20,-1)","v":11},null,0,0,0,0,0,0,0,0,0,0,0,0,{"$f":"IF($O$22<>0,SUM(AX524:BI524)*$O$22+$N$22,-1)","v":15},null,0,0,0,1.2993035167621364E-82,0,0,0,0,0,0,0,0,{"$f":"IF($O$24<>0,SUM(BL524:BW524)*$O$24+$N$24,-1)","v":10},null,0,0,0,1.0038812495568468E-23,6.6854005477267356E-208,0,0,0,0,0,0,0,{"$f":"IF($O$21<>0,SUM(BZ524:CK524)*$O$21+$N$21,-1)","v":-1},null,0,0,0,0,0,0,0,0,0,0,0,0,{"$f":"IF($O$23<>0,SUM(CN524:CY524)*$O$23+$N$23,-1)","v":-1}]
[null,null,null,null,null,null,null,null,null,null,null,null,null,null,null,null,null,null,null,null,null,null,null,null,null,null,null,null,null,null,null,null,null,null,10.599999999999863,0,0,0,8.3931958126527818E-59,0,0,0,0,0,0,0,0,{"$f":"IF($O$20<>0,SUM(AJ532:AU532)*$O$20+$N$20,-1)","v":11},null,0,0,0,0,0,0,0,0,0,0,0,0,{"$f":"IF($O$22<>0,SUM(AX532:BI532)*$O$22+$N$22,-1)","v":15},null,0,0,0,8.3931958126527818E-59,0,0,0,0,0,0,0,0,{"$f":"IF($O$24<>0,SUM(BL532:BW532)*$O$24+$N$24,-1)","v":10},null,0,0,0,9.2587314493908171E-12,3.9170674768037468E-168,0,0,0,0,0,0,0,{"$f":"IF($O$21<>0,SUM(BZ532:CK532)*$O$21+$N$21,-1)","v":-1},null,0,0,0,0,0,0,0,0,0,0,0,0,{"$f":"IF($O$23<>0,SUM(CN532:CY532)*$O$23+$N$23,-1)","v":-1}]
[null,null,null,null,null,null,null,null,null,null,null,null,null,null,null,null,null,null,null,null,null,null,null,null,null,null,null,null,null,null,null,null,null,null,10.679999999999861,0,0,0,2.0807070646254508E-48,0,0,0,0,0,0,0,0,{"$f":"IF($O$20<>0,SUM(AJ536:AU536)*$O$20+$N$20,-1)","v":11},null,0,0,0,0,0,0,0,0,0,0,0,0,{"$f":"IF($O$22<>0,SUM(AX536:BI536)*$O$22+$N$22,-1)","v":15},null,0,0,0,2.0807070646254508E-48,0,0,0,0,0,0,0,0,{"$f":"IF($O$24<>0,SUM(BL536:BW536)*$O$24+$N$24,-1)","v":10},null,0,0,0,2.5417449933424653E-7,7.8831364474071024E-150,0,0,0,0,0,0,0,{"$f":"IF($O$21<>0,SUM(BZ536:CK536)*$O$21+$N$21,-1)","v":-1},null,0,0,0,0,0,0,0,0,0,0,0,0,{"$f":"IF($O$23<>0,SUM(CN536:CY536)*$O$23+$N$23,-1)","v":-1}]
[null,null,null,null,null,null,null,null,null,null,null,null,null,null,null,null,null,null,null,null,null,null,null,null,null,null,null,null,null,null,null,null,null,null,10.839999999999858,0,0,0,1.2165460309459753E-30,5.7278566560090247E-270,0,0,0,0,0,0,0,{"$f":"IF($O$20<>0,SUM(AJ544:AU544)*$O$20+$N$20,-1)","v":11},null,0,0,0,0,0,0,0,0,0,0,0,0,{"$f":"IF($O$22<>0,SUM(AX544:BI544)*$O$22+$N$22,-1)","v":15},null,0,0,0,1.2165460309459753E-30,5.7278566560090247E-270,0,0,0,0,0,0,0,{"$f":"IF($O$24<>0,SUM(BL544:BW544)*$O$24+$N$24,-1)","v":10},null,0,0,0,0.15652538794126741,2.2070765002073798E-116,0,0,0,0,0,0,0,{"$f":"IF($O$21<>0,SUM(BZ544:CK544)*$O$21+$N$21,-1)","v":-1},null,0,0,0,0,0,0,0,0,0,0,0,0,{"$f":"IF($O$23<>0,SUM(CN544:CY544)*$O$23+$N$23,-1)","v":-1}]
[null,null,null,null,null,null,null,null,null,null,null,null,null,null,null,null,null,null,null,null,null,null,null,null,null,null,null,null,null,null,null,null,null,null,10.999999999999854,0,0,0,6.6554903685245153E-17,3.1924904974329566E-226,0,0,0,0,0,0,0,{"$f":"IF($O$20<>0,SUM(AJ552:AU552)*$O$20+$N$20,-1)","v":11},null,0,0,0,0,0,0,0,0,0,0,0,0,{"$f":"IF($O$22<>0,SUM(AX552:BI552)*$O$22+$N$22,-1)","v":15},null,0,0,0,6.6554903685245153E-17,3.1924904974329566E-226,0,0,0,0,0,0,0,{"$f":"IF($O$24<>0,SUM(BL552:BW552)*$O$24+$N$24,-1)","v":10},null,0,0,0,7.3636540866918985,3.7768135421096542E-87,0,0,0,0,0,0,0,{"$f":"IF($O$21<>0,SUM(BZ552:CK552)*$O$21+$N$21,-1)","v":-1},null,0,0,0,0,0,0,0,0,0,0,0,0,{"$f":"IF($O$23<>0,SUM(CN552:CY552)*$O$23+$N$23,-1)","v":-1}]
[null,null,null,null,null,null,null,null,null,null,null,null,null,null,null,null,null,null,null,null,null,null,null,null,null,null,null,null,null,null,null,null,null,null,11.059999999999853,0,0,0,8.6349004998567976E-13,8.1890873768172987E-211,0,0,0,0,0,0,0,{"$f":"IF($O$20<>0,SUM(AJ555:AU555)*$O$20+$N$20,-1)","v":11.000000000000863},null,0,0,0,0,0,0,0,0,0,0,0,0,{"$f":"IF($O$22<>0,SUM(AX555:BI555)*$O$22+$N$22,-1)","v":15},null,0,0,0,8.6349004998567976E-13,8.1890873768172987E-211,0,0,0,0,0,0,0,{"$f":"IF($O$24<>0,SUM(BL555:BW555)*$O$24+$N$24,-1)","v":9.9999999999991367},null,0,0,0,2.7094704451003691,2.8395084509431267E-77,0,0,0,0,0,0,0,{"$f":"IF($O$21<>0,SUM(BZ555:CK555)*$O$21+$N$21,-1)","v":-1},null,0,0,0,0,0,0,0,0,0,0,0,0,{"$f":"IF($O$23<>0,SUM(CN555:CY555)*$O$23+$N$23,-1)","v":-1}]
[null,null,null,null,null,null,null,null,null,null,null,null,null,null,null,null,null,null,null,null,null,null,null,null,null,null,null,null,null,null,null,null,null,null,11.239999999999849,0,0,0,7.5185381513710183E-4,7.6192607658422286E-168,0,0,0,0,0,0,0,{"$f":"IF($O$20<>0,SUM(AJ564:AU564)*$O$20+$N$20,-1)","v":11.000751853815137},null,0,0,0,0,0,0,0,0,0,0,0,0,{"$f":"IF($O$22<>0,SUM(AX564:BI564)*$O$22+$N$22,-1)","v":15},null,0,0,0,7.5185381513710183E-4,7.6192607658422286E-168,0,0,0,0,0,0,0,{"$f":"IF($O$24<>0,SUM(BL564:BW564)*$O$24+$N$24,-1)","v":9.999248146184863},null,0,0,0,4.5350893523195732E-5,3.3588737850357589E-51,0,0,0,0,0,0,0,{"$f":"IF($O$21<>0,SUM(BZ564:CK564)*$O$21+$N$21,-1)","v":-1},null,0,0,0,0,0,0,0,0,0,0,0,0,{"$f":"IF($O$23<>0,SUM(CN564:CY564)*$O$23+$N$23,-1)","v":-1}]
[null,null,null,null,null,null,null,null,null,null,null,null,null,null,null,null,null,null,null,null,null,null,null,null,null,null,null,null,null,null,null,null,null,null,11.399999999999846,0,0,0,3.4835311045546891,9.3933318145451668E-134,0,0,0,0,0,0,0,{"$f":"IF($O$20<>0,SUM(AJ572:AU572)*$O$20+$N$20,-1)","v":14.48353110455469},null,0,0,0,0,0,0,0,0,0,0,0,0,{"$f":"IF($O$22<>0,SUM(AX572:BI572)*$O$22+$N$22,-1)","v":15},null,0,0,0,3.4835311045546891,9.3933318145451668E-134,0,0,0,0,0,0,0,{"$f":"IF($O$24<>0,SUM(BL572:BW572)*$O$24+$N$24,-1)","v":6.5164688954453105},null,0,0,0,1.0882630494317948E-13,1.678712717314238E-32,0,0,0,0,0,0,0,{"$f":"IF($O$21<>0,SUM(BZ572:CK572)*$O$21+$N$21,-1)","v":-1},null,0,0,0,0,0,0,0,0,0,0,0,0,{"$f":"IF($O$23<>0,SUM(CN572:CY572)*$O$23+$N$23,-1)","v":-1}]
[null,null,null,null,null,null,null,null,null,null,null,null,null,null,null,null,null,null,null,null,null,null,null,null,null,null,null,null,null,null,null,null,null,null,11.499999999999844,0,0,0,6.1275950801320773,2.0816979063879688E-114,0,0,0,0,0,0,0,{"$f":"IF($O$20<>0,SUM(AJ577:AU577)*$O$20+$N$20,-1)","v":17.127595080132078},null,0,0,0,0,0,0,0,0,0,0,0,0,{"$f":"IF($O$22<>0,SUM(AX577:BI577)*$O$22+$N$22,-1)","v":15},null,0,0,0,6.1275950801320773,2.0816979063879688E-114,0,0,0,0,0,0,0,{"$f":"IF($O$24<>0,SUM(BL577:BW577)*$O$24+$N$24,-1)","v":3.8724049198679227},null,0,0,0,3.6198507784785082E-21,5.9141192978973352E-23,0,0,0,0,0,0,0,{"$f":"IF($O$21<>0,SUM(BZ577:CK577)*$O$21+$N$21,-1)","v":-1},null,0,0,0,0,0,0,0,0,0,0,0,0,{"$f":"IF($O$23<>0,SUM(CN577:CY577)*$O$23+$N$23,-1)","v":-1}]
[null,null,null,null,null,null,null,null,null,null,null,null,null,null,null,null,null,null,null,null,null,null,null,null,null,null,null,null,null,null,null,null,null,null,11.65999999999984,0,0,0,8.0587734202311537E-3,1.359642126433523E-86,0,0,0,0,0,0,0,{"$f":"IF($O$20<>0,SUM(AJ585:AU585)*$O$20+$N$20,-1)","v":11.008058773420231},null,0,0,0,0,0,0,0,0,0,0,0,0,{"$f":"IF($O$22<>0,SUM(AX585:BI585)*$O$22+$N$22,-1)","v":15},null,0,0,0,8.0587734202311537E-3,1.359642126433523E-86,0,0,0,0,0,0,0,{"$f":"IF($O$24<>0,SUM(BL585:BW585)*$O$24+$N$24,-1)","v":9.9919412265797689},null,0,0,0,1.7733903573368813E-36,4.1998253041690966E-11,0,0,0,0,0,0,0,{"$f":"IF($O$21<>0,SUM(BZ585:CK585)*$O$21+$N$21,-1)","v":-1},null,0,0,0,0,0,0,0,0,0,0,0,0,{"$f":"IF($O$23<>0,SUM(CN585:CY585)*$O$23+$N$23,-1)","v":-1}]
[null,null,null,null,null,null,null,null,null,null,null,null,null,null,null,null,null,null,null,null,null,null,null,null,null,null,null,null,null,null,null,null,null,null,11.839999999999836,0,0,0,7.0691336568799774E-11,6.4402129742608687E-60,0,0,0,0,0,0,0,{"$f":"IF($O$20<>0,SUM(AJ594:AU594)*$O$20+$N$20,-1)","v":11.000000000070692},null,0,0,0,0,0,0,0,0,0,0,0,0,{"$f":"IF($O$22<>0,SUM(AX594:BI594)*$O$22+$N$22,-1)","v":15},null,0,0,0,7.0691336568799774E-11,6.4402129742608687E-60,0,0,0,0,0,0,0,{"$f":"IF($O$24<>0,SUM(BL594:BW594)*$O$24+$N$24,-1)","v":9.9999999999293081},null,0,0,0,1.2710052268759902E-58,8.3017571993957515E-3,0,0,0,0,0,0,0,{"$f":"IF($O$21<>0,SUM(BZ594:CK594)*$O$21+$N$21,-1)","v":-1},null,0,0,0,0,0,0,0,0,0,0,0,0,{"$f":"IF($O$23<>0,SUM(CN594:CY594)*$O$23+$N$23,-1)","v":-1}]
[null,null,null,null,null,null,null,null,null,null,null,null,null,null,null,null,null,null,null,null,null,null,null,null,null,null,null,null,null,null,null,null,null,null,11.899999999999835,0,0,0,1.0730336809071523E-14,4.1163470929250179E-52,0,0,0,0,0,0,0,{"$f":"IF($O$20<>0,SUM(AJ597:AU597)*$O$20+$N$20,-1)","v":11.000000000000011},null,0,0,0,0,0,0,0,0,0,0,0,0,{"$f":"IF($O$22<>0,SUM(AX597:BI597)*$O$22+$N$22,-1)","v":15},null,0,0,0,1.0730336809071523E-14,4.1163470929250179E-52,0,0,0,0,0,0,0,{"$f":"IF($O$24<>0,SUM(BL597:BW597)*$O$24+$N$24,-1)","v":9.9999999999999893},null,0,0,0,3.6703242975596546E-67,0.31575398972831414,0,0,0,0,0,0,0,{"$f":"IF($O$21<>0,SUM(BZ597:CK597)*$O$21+$N$21,-1)","v":-1},null,0,0,0,0,0,0,0,0,0,0,0,0,{"$f":"IF($O$23<>0,SUM(CN597:CY597)*$O$23+$N$23,-1)","v":-1}]
[null,null,null,null,null,null,null,null,null,null,null,null,null,null,null,null,null,null,null,null,null,null,null,null,null,null,null,null,null,null,null,null,null,null,12.059999999999832,0,0,0,1.1951626494643315E-27,5.9468673098529964E-34,0,0,0,0,0,0,0,{"$f":"IF($O$20<>0,SUM(AJ605:AU605)*$O$20+$N$20,-1)","v":11},null,0,0,0,0,0,0,0,0,0,0,0,0,{"$f":"IF($O$22<>0,SUM(AX605:BI605)*$O$22+$N$22,-1)","v":15},null,0,0,0,1.1951626494643315E-27,5.9468673098529964E-34,0,0,0,0,0,0,0,{"$f":"IF($O$24<>0,SUM(BL605:BW605)*$O$24+$N$24,-1)","v":10},null,0,0,0,9.1718629932041537E-93,6.5488422566551838,0,0,0,0,0,0,0,{"$f":"IF($O$21<>0,SUM(BZ605:CK605)*$O$21+$N$21,-1)","v":-1},null,0,0,0,0,0,0,0,0,0,0,0,0,{"$f":"IF($O$23<>0,SUM(CN605:CY605)*$O$23+$N$23,-1)","v":-1}]
[null,null,null,null,null,null,null,null,null,null,null,null,null,null,null,null,null,null,null,null,null,null,null,null,null,null,null,null,null,null,null,null,null,null,12.15999999999983,0,0,0,8.6253551618859531E-38,1.4552234563462826E-24,0,0,0,0,0,0,0,{"$f":"IF($O$20<>0,SUM(AJ610:AU610)*$O$20+$N$20,-1)","v":11},null,0,0,0,0,0,0,0,0,0,0,0,0,{"$f":"IF($O$22<>0,SUM(AX610:BI610)*$O$22+$N$22,-1)","v":15},null,0,0,0,8.6253551618859531E-38,1.4552234563462826E-24,0,0,0,0,0,0,0,{"$f":"IF($O$24<>0,SUM(BL610:BW610)*$O$24+$N$24,-1)","v":10},null,0,0,0,7.4202326312367889E-111,0.31575398973356511,0,0,0,0,0,0,0,{"$f":"IF($O$21<>0,SUM(BZ610:CK610)*$O$21+$N$21,-1)","v":-1},null,0,0,0,0,0,0,0,0,0,0,0,0,{"$f":"IF($O$23<>0,SUM(CN610:CY610)*$O$23+$N$23,-1)","v":-1}]
[null,null,null,null,null,null,null,null,null,null,null,null,null,null,null,null,null,null,null,null,null,null,null,null,null,null,null,null,null,null,null,null,null,null,12.339999999999826,0,0,0,5.1867089960488542E-60,1.8227923951764383E-11,0,0,0,0,0,0,0,{"$f":"IF($O$20<>0,SUM(AJ619:AU619)*$O$20+$N$20,-1)","v":11.000000000018227},null,0,0,0,0,0,0,0,0,0,0,0,0,{"$f":"IF($O$22<>0,SUM(AX619:BI619)*$O$22+$N$22,-1)","v":15},null,0,0,0,5.1867089960488542E-60,1.8227923951764383E-11,0,0,0,0,0,0,0,{"$f":"IF($O$24<>0,SUM(BL619:BW619)*$O$24+$N$24,-1)","v":9.9999999999817728},null,0,0,0,1.7870161800342688E-147,9.5743922728476851E-8,0,0,0,0,0,0,0,{"$f":"IF($O$21<>0,SUM(BZ619:CK619)*$O$21+$N$21,-1)","v":-1},null,0,0,0,0,0,0,0,0,0,0,0,0,{"$f":"IF($O$23<>0,SUM(CN619:CY619)*$O$23+$N$23,-1)","v":-1}]
[null,null,null,null,null,null,null,null,null,null,null,null,null,null,null,null,null,null,null,null,null,null,null,null,null,null,null,null,null,null,null,null,null,null,12.399999999999824,0,0,0,1.4955866937800988E-68,3.4710398593873843E-8,0,0,0,0,0,0,0,{"$f":"IF($O$20<>0,SUM(AJ622:AU622)*$O$20+$N$20,-1)","v":11.000000034710398},null,0,0,0,0,0,0,0,0,0,0,0,0,{"$f":"IF($O$22<>0,SUM(AX622:BI622)*$O$22+$N$22,-1)","v":15},null,0,0,0,1.4955866937800988E-68,3.4710398593873843E-8,0,0,0,0,0,0,0,{"$f":"IF($O$24<>0,SUM(BL622:BW622)*$O$24+$N$24,-1)","v":9.9999999652896019},null,0,0,0,7.7293251445789073E-161,4.1998253043678855E-11,0,0,0,0,0,0,0,{"$f":"IF($O$21<>0,SUM(BZ622:CK622)*$O$21+$N$21,-1)","v":-1},null,0,0,0,0,0,0,0,0,0,0,0,0,{"$f":"IF($O$23<>0,SUM(CN622:CY622)*$O$23+$N$23,-1)","v":-1}]
[null,null,null,null,null,null,null,null,null,null,null,null,null,null,null,null,null,null,null,null,null,null,null,null,null,null,null,null,null,null,null,null,null,null,12.559999999999821,0,0,0,4.2797531045065584E-94,4.2775742255910541E-2,0,0,0,0,0,0,0,{"$f":"IF($O$20<>0,SUM(AJ630:AU630)*$O$20+$N$20,-1)","v":11.042775742255911},null,0,0,0,0,0,0,0,0,0,0,0,0,{"$f":"IF($O$22<>0,SUM(AX630:BI630)*$O$22+$N$22,-1)","v":15},null,0,0,0,4.2797531045065584E-94,4.2775742255910541E-2,0,0,0,0,0,0,0,{"$f":"IF($O$24<>0,SUM(BL630:BW630)*$O$24+$N$24,-1)","v":9.9572242577440893},null,0,0,0,2.6329584360235513E-199,5.9141192982983128E-23,0,0,0,0,0,0,0,{"$f":"IF($O$21<>0,SUM(BZ630:CK630)*$O$21+$N$21,-1)","v":-1},null,0,0,0,0,0,0,0,0,0,0,0,0,{"$f":"IF($O$23<>0,SUM(CN630:CY630)*$O$23+$N$23,-1)","v":-1}]
[null,null,null,null,null,null,null,null,null,null,null,null,null,null,null,null,null,null,null,null,null,null,null,null,null,null,null,null,null,null,null,null,null,null,12.719999999999818,0,0,0,1.1459343752485883E-123,7.2417453526506623,0,0,0,0,0,0,0,{"$f":"IF($O$20<>0,SUM(AJ638:AU638)*$O$20+$N$20,-1)","v":18.241745352650661},null,0,0,0,0,0,0,0,0,0,0,0,0,{"$f":"IF($O$22<>0,SUM(AX638:BI638)*$O$22+$N$22,-1)","v":15},null,0,0,0,1.1459343752485883E-123,7.2417453526506623,0,0,0,0,0,0,0,{"$f":"IF($O$24<>0,SUM(BL638:BW638)*$O$24+$N$24,-1)","v":2.7582546473493377},null,0,0,0,6.8517610357233578E-242,5.0902457586422796E-39,0,0,0,0,0,0,0,{"$f":"IF($O$21<>0,SUM(BZ638:CK638)*$O$21+$N$21,-1)","v":-1},null,0,0,0,0,0,0,0,0,0,0,0,0,{"$f":"IF($O$23<>0,SUM(CN638:CY638)*$O$23+$N$23,-1)","v":-1}]
[null,null,null,null,null,null,null,null,null,null,null,null,null,null,null,null,null,null,null,null,null,null,null,null,null,null,null,null,null,null,null,null,null,null,12.919999999999813,0,0,0,2.6806684084209484E-166,1.6390157608148725E-2,0,0,0,0,0,0,0,{"$f":"IF($O$20<>0,SUM(AJ648:AU648)*$O$20+$N$20,-1)","v":11.016390157608148},null,0,0,0,3.1210208117613485E-282,0,0,0,0,0,0,0,0,{"$f":"IF($O$22<>0,SUM(AX648:BI648)*$O$22+$N$22,-1)","v":15},null,0,0,0,2.6806684084209484E-166,1.6390157608148725E-2,0,0,0,0,0,0,0,{"$f":"IF($O$24<>0,SUM(BL648:BW648)*$O$24+$N$24,-1)","v":9.9836098423918518},null,0,0,0,6.5395392634660391E-301,5.0075929067649013E-65,0,0,0,0,0,0,0,{"$f":"IF($O$21<>0,SUM(BZ648:CK648)*$O$21+$N$21,-1)","v":-1},null,0,0,0,0,0,0,0,0,0,0,0,0,{"$f":"IF($O$23<>0,SUM(CN648:CY648)*$O$23+$N$23,-1)","v":-1}]
[null,null,null,null,null,null,null,null,null,null,null,null,null,null,null,null,null,null,null,null,null,null,null,null,null,null,null,null,null,null,null,null,null,null,12.959999999999813,0,0,0,1.4016751499424315E-175,9.1493197893263028E-4,0,0,0,0,0,0,0,{"$f":"IF($O$20<>0,SUM(AJ650:AU650)*$O$20+$N$20,-1)","v":11.000914931978933},null,0,0,0,1.8030410108512936E-272,0,0,0,0,0,0,0,0,{"$f":"IF($O$22<>0,SUM(AX650:BI650)*$O$22+$N$22,-1)","v":15},null,0,0,0,1.4016751499424315E-175,9.1493197893263028E-4,0,0,0,0,0,0,0,{"$f":"IF($O$24<>0,SUM(BL650:BW650)*$O$24+$N$24,-1)","v":9.999085068021067},null,0,0,0,0,5.1064332451610845E-71,0,0,0,0,0,0,0,{"$f":"IF($O$21<>0,SUM(BZ650:CK650)*$O$21+$N$21,-1)","v":-1},null,0,0,0,0,0,0,0,0,0,0,0,0,{"$f":"IF($O$23<>0,SUM(CN650:CY650)*$O$23+$N$23,-1)","v":-1}]
[null,null,null,null,null,null,null,null,null,null,null,null,null,null,null,null,null,null,null,null,null,null,null,null,null,null,null,null,null,null,null,null,null,null,13.119999999999809,0,0,0,3.1785070380888749E-215,3.4261301490636475E-11,0,0,0,0,0,0,0,{"$f":"IF($O$20<>0,SUM(AJ658:AU658)*$O$20+$N$20,-1)","v":11.000000000034261},null,0,0,0,3.8483368413103627E-235,0,0,0,0,0,0,0,0,{"$f":"IF($O$22<>0,SUM(AX658:BI658)*$O$22+$N$22,-1)","v":15},null,0,0,0,3.1785070380888749E-215,3.4261301490636475E-11,0,0,0,0,0,0,0,{"$f":"IF($O$24<>0,SUM(BL658:BW658)*$O$24+$N$24,-1)","v":9.9999999999657394},null,0,0,0,0,1.2836329791938851E-97,0,0,0,0,0,0,0,{"$f":"IF($O$21<>0,SUM(BZ658:CK658)*$O$21+$N$21,-1)","v":-1},null,0,0,0,0,0,0,0,0,0,0,0,0,{"$f":"IF($O$23<>0,SUM(CN658:CY658)*$O$23+$N$23,-1)","v":-1}]
[null,null,null,null,null,null,null,null,null,null,null,null,null,null,null,null,null,null,null,null,null,null,null,null,null,null,null,null,null,null,null,null,null,null,13.219999999999807,0,0,0,4.7703417432373318E-242,8.55006738151942E-18,0,0,0,0,0,0,0,{"$f":"IF($O$20<>0,SUM(AJ663:AU663)*$O$20+$N$20,-1)","v":11},null,0,0,0,3.3154387968482117E-213,0,0,0,0,0,0,0,0,{"$f":"IF($O$22<>0,SUM(AX663:BI663)*$O$22+$N$22,-1)","v":15},null,0,0,0,4.7703417432373318E-242,8.55006738151942E-18,0,0,0,0,0,0,0,{"$f":"IF($O$24<>0,SUM(BL663:BW663)*$O$24+$N$24,-1)","v":10},null,0,0,0,0,2.2070765005434816E-116,0,0,0,0,0,0,0,{"$f":"IF($O$21<>0,SUM(BZ663:CK663)*$O$21+$N$21,-1)","v":-1},null,0,0,0,2.5164057617113331E-289,0,0,0,0,0,0,0,0,{"$f":"IF($O$23<>0,SUM(CN663:CY663)*$O$23+$N$23,-1)","v":-1}]
[null,null,null,null,null,null,null,null,null,null,null,null,null,null,null,null,null,null,null,null,null,null,null,null,null,null,null,null,null,null,null,null,null,null,13.419999999999803,0,0,0,2.0411488299710691E-300,1.5863957350147786E-35,0,0,0,0,0,0,0,{"$f":"IF($O$20<>0,SUM(AJ673:AU673)*$O$20+$N$20,-1)","v":11},null,0,0,0,1.4812772359122616E-172,0,0,0,0,0,0,0,0,{"$f":"IF($O$22<>0,SUM(AX673:BI673)*$O$22+$N$22,-1)","v":15},null,0,0,0,2.0411488299710691E-300,1.5863957350147786E-35,0,0,0,0,0,0,0,{"$f":"IF($O$24<>0,SUM(BL673:BW673)*$O$24+$N$24,-1)","v":10},null,0,0,0,0,7.5250885831561654E-159,0,0,0,0,0,0,0,{"$f":"IF($O$21<>0,SUM(BZ673:CK673)*$O$21+$N$21,-1)","v":-1},null,0,0,0,1.4156798429498271E-240,0,0,0,0,0,0,0,0,{"$f":"IF($O$23<>0,SUM(CN673:CY673)*$O$23+$N$23,-1)","v":-1}]
[null,null,null,null,null,null,null,null,null,null,null,null,null,null,null,null,null,null,null,null,null,null,null,null,null,null,null,null,null,null,null,null,null,null,13.599999999999799,0,0,0,0,1.2091925251905696E-56,0,0,0,0,0,0,0,{"$f":"IF($O$20<>0,SUM(AJ682:AU682)*$O$20+$N$20,-1)","v":11},null,0,0,0,1.2145626819433111E-139,0,0,0,0,0,0,0,0,{"$f":"IF($O$22<>0,SUM(AX682:BI682)*$O$22+$N$22,-1)","v":15},null,0,0,0,0,1.2091925251905696E-56,0,0,0,0,0,0,0,{"$f":"IF($O$24<>0,SUM(BL682:BW682)*$O$24+$N$24,-1)","v":10},null,0,0,0,0,1.0630394450694543E-202,0,0,0,0,0,0,0,{"$f":"IF($O$21<>0,SUM(BZ682:CK682)*$O$21+$N$21,-1)","v":-1},null,0,0,0,1.5294194086693685E-200,0,0,0,0,0,0,0,0,{"$f":"IF($O$23<>0,SUM(CN682:CY682)*$O$23+$N$23,-1)","v":-1}]
[null,null,null,null,null,null,null,null,null,null,null,null,null,null,null,null,null,null,null,null,null,null,null,null,null,null,null,null,null,null,null,null,null,null,13.619999999999798,0,0,0,0,2.7185315413283036E-59,0,0,0,0,0,0,0,{"$f":"IF($O$20<>0,SUM(AJ683:AU683)*$O$20+$N$20,-1)","v":11},null,0,0,0,3.3636512580711155E-136,0,0,0,0,0,0,0,0,{"$f":"IF($O$22<>0,SUM(AX683:BI683)*$O$22+$N$22,-1)","v":15},null,0,0,0,0,2.7185315413283036E-59,0,0,0,0,0,0,0,{"$f":"IF($O$24<>0,SUM(BL683:BW683)*$O$24+$N$24,-1)","v":10},null,0,0,0,0,6.6854005490860709E-208,0,0,0,0,0,0,0,{"$f":"IF($O$21<>0,SUM(BZ683:CK683)*$O$21+$N$21,-1)","v":-1},null,0,0,0,2.5588502757180673E-196,0,0,0,0,0,0,0,0,{"$f":"IF($O$23<>0,SUM(CN683:CY683)*$O$23+$N$23,-1)","v":-1}]
[null,null,null,null,null,null,null,null,null,null,null,null,null,null,null,null,null,null,null,null,null,null,null,null,null,null,null,null,null,null,null,null,null,null,13.779999999999795,0,0,0,0,1.1929407104349432E-82,0,0,0,0,0,0,0,{"$f":"IF($O$20<>0,SUM(AJ691:AU691)*$O$20+$N$20,-1)","v":11},null,0,0,0,3.3122852763287299E-110,0,0,0,0,0,0,0,0,{"$f":"IF($O$22<>0,SUM(AX691:BI691)*$O$22+$N$22,-1)","v":15},null,0,0,0,0,1.1929407104349432E-82,0,0,0,0,0,0,0,{"$f":"IF($O$24<>0,SUM(BL691:BW691)*$O$24+$N$24,-1)","v":10},null,0,0,0,0,6.9740270488006637E-252,0,0,0,0,0,0,0,{"$f":"IF($O$21<>0,SUM(BZ691:CK691)*$O$21+$N$21,-1)","v":-1},null,0,0,0,3.7902989020396298E-164,0,0,0,0,0,0,0,0,{"$f":"IF($O$23<>0,SUM(CN691:CY691)*$O$23+$N$23,-1)","v":-1}]
[null,null,null,null,null,null,null,null,null,null,null,null,null,null,null,null,null,null,null,null,null,null,null,null,null,null,null,null,null,null,null,null,null,null,13.99999999999979,0,0,0,0,4.5049244158117782E-121,0,0,0,0,0,0,0,{"$f":"IF($O$20<>0,SUM(AJ702:AU702)*$O$20+$N$20,-1)","v":11},null,0,0,0,5.9400642586108547E-79,0,0,0,0,0,0,0,0,{"$f":"IF($O$22<>0,SUM(AX702:BI702)*$O$22+$N$22,-1)","v":15},null,0,0,0,0,4.5049244158117782E-121,0,0,0,0,0,0,0,{"$f":"IF($O$24<>0,SUM(BL702:BW702)*$O$24+$N$24,-1)","v":10},null,0,0,0,0,0,0,0,0,0,0,0,0,{"$f":"IF($O$21<>0,SUM(BZ702:CK702)*$O$21+$N$21,-1)","v":-1},null,0,0,0,1.3121802833469576E-124,0,0,0,0,0,0,0,0,{"$f":"IF($O$23<>0,SUM(CN702:CY702)*$O$23+$N$23,-1)","v":-1}]
[null,null,null,null,null,null,null,null,null,null,null,null,null,null,null,null,null,null,null,null,null,null,null,null,null,null,null,null,null,null,null,null,null,null,14.01999999999979,0,0,0,0,6.289593828496627E-125,0,0,0,0,0,0,0,{"$f":"IF($O$20<>0,SUM(AJ703:AU703)*$O$20+$N$20,-1)","v":11},null,0,0,0,2.2771834982757756E-76,0,0,0,0,0,0,0,0,{"$f":"IF($O$22<>0,SUM(AX703:BI703)*$O$22+$N$22,-1)","v":15},null,0,0,0,0,6.289593828496627E-125,0,0,0,0,0,0,0,{"$f":"IF($O$24<>0,SUM(BL703:BW703)*$O$24+$N$24,-1)","v":10},null,0,0,0,0,0,0,0,0,0,0,0,0,{"$f":"IF($O$21<>0,SUM(BZ703:CK703)*$O$21+$N$21,-1)","v":-1},null,0,0,0,2.7726233443679028E-121,0,0,0,0,0,0,0,0,{"$f":"IF($O$23<>0,SUM(CN703:CY703)*$O$23+$N$23,-1)","v":-1}]
[null,null,null,null,null,null,null,null,null,null,null,null,null,null,null,null,null,null,null,null,null,null,null,null,null,null,null,null,null,null,null,null,null,null,14.179999999999787,0,0,0,0,6.104870246851473E-158,0,0,0,0,0,0,0,{"$f":"IF($O$20<>0,SUM(AJ711:AU711)*$O$20+$N$20,-1)","v":11},null,0,0,0,3.0230243670262907E-57,0,0,0,0,0,0,0,0,{"$f":"IF($O$22<>0,SUM(AX711:BI711)*$O$22+$N$22,-1)","v":15},null,0,0,0,0,6.104870246851473E-158,0,0,0,0,0,0,0,{"$f":"IF($O$24<>0,SUM(BL711:BW711)*$O$24+$N$24,-1)","v":10},null,0,0,0,0,0,0,0,0,0,0,0,0,{"$f":"IF($O$21<>0,SUM(BZ711:CK711)*$O$21+$N$21,-1)","v":-1},null,0,0,0,2.6579828757816231E-96,0,0,0,0,0,0,0,0,{"$f":"IF($O$23<>0,SUM(CN711:CY711)*$O$23+$N$23,-1)","v":-1}]
[null,null,null,null,null,null,null,null,null,null,null,null,null,null,null,null,null,null,null,null,null,null,null,null,null,null,null,null,null,null,null,null,null,null,14.419999999999781,0,0,0,0,1.0588494363018535E-214,0,0,0,0,0,0,0,{"$f":"IF($O$20<>0,SUM(AJ723:AU723)*$O$20+$N$20,-1)","v":11},null,0,0,0,1.0287319146532536E-33,0,0,0,0,0,0,0,0,{"$f":"IF($O$22<>0,SUM(AX723:BI723)*$O$22+$N$22,-1)","v":15},null,0,0,0,0,1.0588494363018535E-214,0,0,0,0,0,0,0,{"$f":"IF($O$24<>0,SUM(BL723:BW723)*$O$24+$N$24,-1)","v":10},null,0,0,0,0,0,0,0,0,0,0,0,0,{"$f":"IF($O$21<>0,SUM(BZ723:CK723)*$O$21+$N$21,-1)","v":-1},null,0,0,0,3.2012432242861824E-64,0,0,0,0,0,0,0,0,{"$f":"IF($O$23<>0,SUM(CN723:CY723)*$O$23+$N$23,-1)","v":-1}]
[null,null,null,null,null,null,null,null,null,null,null,null,null,null,null,null,null,null,null,null,null,null,null,null,null,null,null,null,null,null,null,null,null,null,14.49999999999978,0,0,0,0,1.4911019489744787E-235,0,0,0,0,0,0,0,{"$f":"IF($O$20<>0,SUM(AJ727:AU727)*$O$20+$N$20,-1)","v":11},null,0,0,0,3.0352963849275617E-27,0,0,0,0,0,0,0,0,{"$f":"IF($O$22<>0,SUM(AX727:BI727)*$O$22+$N$22,-1)","v":15},null,0,0,0,0,1.4911019489744787E-235,0,0,0,0,0,0,0,{"$f":"IF($O$24<>0,SUM(BL727:BW727)*$O$24+$N$24,-1)","v":10},null,0,0,0,0,0,0,0,0,0,0,0,0,{"$f":"IF($O$21<>0,SUM(BZ727:CK727)*$O$21+$N$21,-1)","v":-1},null,0,0,0,5.7691794405442738E-55,0,0,0,0,0,0,0,0,{"$f":"IF($O$23<>0,SUM(CN727:CY727)*$O$23+$N$23,-1)","v":-1}]
[null,null,null,null,null,null,null,null,null,null,null,null,null,null,null,null,null,null,null,null,null,null,null,null,null,null,null,null,null,null,null,null,null,null,14.659999999999776,0,0,0,0,3.7521863596507261E-280,0,0,0,0,0,0,0,{"$f":"IF($O$20<>0,SUM(AJ735:AU735)*$O$20+$N$20,-1)","v":11},null,0,0,0,2.2957095544001974E-16,0,0,0,0,0,0,0,0,{"$f":"IF($O$22<>0,SUM(AX735:BI735)*$O$22+$N$22,-1)","v":15},null,0,0,0,0,3.7521863596507261E-280,0,0,0,0,0,0,0,{"$f":"IF($O$24<>0,SUM(BL735:BW735)*$O$24+$N$24,-1)","v":10},null,0,0,0,0,0,0,0,0,0,0,0,0,{"$f":"IF($O$21<>0,SUM(BZ735:CK735)*$O$21+$N$21,-1)","v":-1},null,0,0,0,1.3062148370770825E-38,0,0,0,0,0,0,0,0,{"$f":"IF($O$23<>0,SUM(CN735:CY735)*$O$23+$N$23,-1)","v":-1}]
[null,null,null,null,null,null,null,null,null,null,null,null,null,null,null,null,null,null,null,null,null,null,null,null,null,null,null,null,null,null,null,null,null,null,14.819999999999773,0,0,0,0,0,0,0,0,0,0,0,0,{"$f":"IF($O$20<>0,SUM(AJ743:AU743)*$O$20+$N$20,-1)","v":11},null,0,0,0,3.1011553170591158E-8,4.4838521321879289E-273,0,0,0,0,0,0,0,{"$f":"IF($O$22<>0,SUM(AX743:BI743)*$O$22+$N$22,-1)","v":15.000000031011552},null,0,0,0,0,0,0,0,0,0,0,0,0,{"$f":"IF($O$24<>0,SUM(BL743:BW743)*$O$24+$N$24,-1)","v":10},null,0,0,0,0,0,0,0,0,0,0,0,0,{"$f":"IF($O$21<>0,SUM(BZ743:CK743)*$O$21+$N$21,-1)","v":-1},null,0,0,0,3.9384765619725928E-25,0,0,0,0,0,0,0,0,{"$f":"IF($O$23<>0,SUM(CN743:CY743)*$O$23+$N$23,-1)","v":-1}]
[null,null,null,null,null,null,null,null,null,null,null,null,null,null,null,null,null,null,null,null,null,null,null,null,null,null,null,null,null,null,null,null,null,null,14.839999999999772,0,0,0,0,0,0,0,0,0,0,0,0,{"$f":"IF($O$20<>0,SUM(AJ744:AU744)*$O$20+$N$20,-1)","v":11},null,0,0,0,2.0635875898837717E-7,2.8177586827290549E-268,0,0,0,0,0,0,0,{"$f":"IF($O$22<>0,SUM(AX744:BI744)*$O$22+$N$22,-1)","v":15.000000206358759},null,0,0,0,0,0,0,0,0,0,0,0,0,{"$f":"IF($O$24<>0,SUM(BL744:BW744)*$O$24+$N$24,-1)","v":10},null,0,0,0,0,0,0,0,0,0,0,0,0,{"$f":"IF($O$21<>0,SUM(BZ744:CK744)*$O$21+$N$21,-1)","v":-1},null,0,0,0,1.1968859450407637E-23,0,0,0,0,0,0,0,0,{"$f":"IF($O$23<>0,SUM(CN744:CY744)*$O$23+$N$23,-1)","v":-1}]
[null,null,null,null,null,null,null,null,null,null,null,null,null,null,null,null,null,null,null,null,null,null,null,null,null,null,null,null,null,null,null,null,null,null,15.079999999999767,0,0,0,0,0,0,0,0,0,0,0,0,{"$f":"IF($O$20<>0,SUM(AJ756:AU756)*$O$20+$N$20,-1)","v":11},null,0,0,0,0.69591696042824203,5.1574662801753394E-214,0,0,0,0,0,0,0,{"$f":"IF($O$22<>0,SUM(AX756:BI756)*$O$22+$N$22,-1)","v":15.695916960428242},null,0,0,0,0,0,0,0,0,0,0,0,0,{"$f":"IF($O$24<>0,SUM(BL756:BW756)*$O$24+$N$24,-1)","v":10},null,0,0,0,0,0,0,0,0,0,0,0,0,{"$f":"IF($O$21<>0,SUM(BZ756:CK756)*$O$21+$N$21,-1)","v":-1},null,0,0,0,2.3234067089104335E-9,0,0,0,0,0,0,0,0,{"$f":"IF($O$23<>0,SUM(CN756:CY756)*$O$23+$N$23,-1)","v":-1}]
[null,null,null,null,null,null,null,null,null,null,null,null,null,null,null,null,null,null,null,null,null,null,null,null,null,null,null,null,null,null,null,null,null,null,15.159999999999766,0,0,0,0,0,0,0,0,0,0,0,0,{"$f":"IF($O$20<>0,SUM(AJ760:AU760)*$O$20+$N$20,-1)","v":11},null,0,0,0,4.4104302854064965,2.750001142139838E-197,0,0,0,0,0,0,0,{"$f":"IF($O$22<>0,SUM(AX760:BI760)*$O$22+$N$22,-1)","v":19.410430285406498},null,0,0,0,0,0,0,0,0,0,0,0,0,{"$f":"IF($O$24<>0,SUM(BL760:BW760)*$O$24+$N$24,-1)","v":10},null,0,0,0,0,0,0,0,0,0,0,0,0,{"$f":"IF($O$21<>0,SUM(BZ760:CK760)*$O$21+$N$21,-1)","v":-1},null,0,0,0,4.9093343051754273E-6,4.7580560276977016E-302,0,0,0,0,0,0,0,{"$f":"IF($O$23<>0,SUM(CN760:CY760)*$O$23+$N$23,-1)","v":-1}]
[null,null,null,null,null,null,null,null,null,null,null,null,null,null,null,null,null,null,null,null,null,null,null,null,null,null,null,null,null,null,null,null,null,null,15.319999999999762,0,0,0,0,0,0,0,0,0,0,0,0,{"$f":"IF($O$20<>0,SUM(AJ768:AU768)*$O$20+$N$20,-1)","v":11},null,0,0,0,1.5390264984345654,7.1154806739614832E-166,0,0,0,0,0,0,0,{"$f":"IF($O$22<>0,SUM(AX768:BI768)*$O$22+$N$22,-1)","v":16.539026498434566},null,0,0,0,0,0,0,0,0,0,0,0,0,{"$f":"IF($O$24<>0,SUM(BL768:BW768)*$O$24+$N$24,-1)","v":10},null,0,0,0,0,0,0,0,0,0,0,0,0,{"$f":"IF($O$21<>0,SUM(BZ768:CK768)*$O$21+$N$21,-1)","v":-1},null,0,0,0,0.15280133818834987,2.0364678835535415E-259,0,0,0,0,0,0,0,{"$f":"IF($O$23<>0,SUM(CN768:CY768)*$O$23+$N$23,-1)","v":-1}]
[null,null,null,null,null,null,null,null,null,null,null,null,null,null,null,null,null,null,null,null,null,null,null,null,null,null,null,null,null,null,null,null,null,null,15.479999999999759,0,0,0,0,0,0,0,0,0,0,0,0,{"$f":"IF($O$20<>0,SUM(AJ776:AU776)*$O$20+$N$20,-1)","v":11},null,0,0,0,9.5918410271785069E-4,3.4982177007378222E-137,0,0,0,0,0,0,0,{"$f":"IF($O$22<>0,SUM(AX776:BI776)*$O$22+$N$22,-1)","v":15.000959184102717},null,0,0,0,0,0,0,0,0,0,0,0,0,{"$f":"IF($O$24<>0,SUM(BL776:BW776)*$O$24+$N$24,-1)","v":10},null,0,0,0,0,0,0,0,0,0,0,0,0,{"$f":"IF($O$21<>0,SUM(BZ776:CK776)*$O$21+$N$21,-1)","v":-1},null,0,0,0,6.3335148915814763,5.0110701284641543E-220,0,0,0,0,0,0,0,{"$f":"IF($O$23<>0,SUM(CN776:CY776)*$O$23+$N$23,-1)","v":-1}]
[null,null,null,null,null,null,null,null,null,null,null,null,null,null,null,null,null,null,null,null,null,null,null,null,null,null,null,null,null,null,null,null,null,null,15.639999999999755,0,0,0,0,0,0,0,0,0,0,0,0,{"$f":"IF($O$20<>0,SUM(AJ784:AU784)*$O$20+$N$20,-1)","v":11},null,0,0,0,1.0676983858853332E-9,3.2678389341517097E-111,0,0,0,0,0,0,0,{"$f":"IF($O$22<>0,SUM(AX784:BI784)*$O$22+$N$22,-1)","v":15.000000001067699},null,0,0,0,0,0,0,0,0,0,0,0,0,{"$f":"IF($O$24<>0,SUM(BL784:BW784)*$O$24+$N$24,-1)","v":10},null,0,0,0,0,0,0,0,0,0,0,0,0,{"$f":"IF($O$21<>0,SUM(BZ784:CK784)*$O$21+$N$21,-1)","v":-1},null,0,0,0,0.34960329867603129,7.0890542102257504E-184,0,0,0,0,0,0,0,{"$f":"IF($O$23<>0,SUM(CN784:CY784)*$O$23+$N$23,-1)","v":-1}]
[null,null,null,null,null,null,null,null,null,null,null,null,null,null,null,null,null,null,null,null,null,null,null,null,null,null,null,null,null,null,null,null,null,null,15.739999999999753,0,0,0,0,0,0,0,0,0,0,0,0,{"$f":"IF($O$20<>0,SUM(AJ789:AU789)*$O$20+$N$20,-1)","v":11},null,0,0,0,8.1661242922583939E-15,2.3115073795375091E-96,0,0,0,0,0,0,0,{"$f":"IF($O$22<>0,SUM(AX789:BI789)*$O$22+$N$22,-1)","v":15.000000000000009},null,0,0,0,0,0,0,0,0,0,0,0,0,{"$f":"IF($O$24<>0,SUM(BL789:BW789)*$O$24+$N$24,-1)","v":10},null,0,0,0,0,0,0,0,0,0,0,0,0,{"$f":"IF($O$21<>0,SUM(BZ789:CK789)*$O$21+$N$21,-1)","v":-1},null,0,0,0,1.9816330930180113E-3,6.2984878658918353E-163,0,0,0,0,0,0,0,{"$f":"IF($O$23<>0,SUM(CN789:CY789)*$O$23+$N$23,-1)","v":-1}]
[null,null,null,null,null,null,null,null,null,null,null,null,null,null,null,null,null,null,null,null,null,null,null,null,null,null,null,null,null,null,null,null,null,null,15.87999999999975,0,0,0,0,0,0,0,0,0,0,0,0,{"$f":"IF($O$20<>0,SUM(AJ796:AU796)*$O$20+$N$20,-1)","v":11},null,0,0,0,8.8219307187581039E-24,2.3311885195845782E-77,0,0,0,0,0,0,0,{"$f":"IF($O$22<>0,SUM(AX796:BI796)*$O$22+$N$22,-1)","v":15},null,0,0,0,0,0,0,0,0,0,0,0,0,{"$f":"IF($O$24<>0,SUM(BL796:BW796)*$O$24+$N$24,-1)","v":10},null,0,0,0,0,0,0,0,0,0,0,0,0,{"$f":"IF($O$21<>0,SUM(BZ796:CK796)*$O$21+$N$21,-1)","v":-1},null,0,0,0,1.8396963608634989E-8,1.0019226926764014E-135,0,0,0,0,0,0,0,{"$f":"IF($O$23<>0,SUM(CN796:CY796)*$O$23+$N$23,-1)","v":-1}]
[null,null,null,null,null,null,null,null,null,null,null,null,null,null,null,null,null,null,null,null,null,null,null,null,null,null,null,null,null,null,null,null,null,null,16.039999999999747,0,0,0,0,0,0,0,0,0,0,0,0,{"$f":"IF($O$20<>0,SUM(AJ804:AU804)*$O$20+$N$20,-1)","v":11},null,0,0,0,1.323844893093465E-36,3.4270406533554856E-58,0,0,0,0,0,0,0,{"$f":"IF($O$22<>0,SUM(AX804:BI804)*$O$22+$N$22,-1)","v":15},null,0,0,0,0,0,0,0,0,0,0,0,0,{"$f":"IF($O$24<>0,SUM(BL804:BW804)*$O$24+$N$24,-1)","v":10},null,0,0,0,0,0,0,0,0,0,0,0,0,{"$f":"IF($O$21<>0,SUM(BZ804:CK804)*$O$21+$N$21,-1)","v":-1},null,0,0,0,6.5721821803124421E-17,1.1233220500229793E-107,0,0,0,0,0,0,0,{"$f":"IF($O$23<>0,SUM(CN804:CY804)*$O$23+$N$23,-1)","v":-1}]
[null,null,null,null,null,null,null,null,null,null,null,null,null,null,null,null,null,null,null,null,null,null,null,null,null,null,null,null,null,null,null,null,null,null,16.139999999999745,0,0,0,0,0,0,0,0,0,0,0,0,{"$f":"IF($O$20<>0,SUM(AJ809:AU809)*$O$20+$N$20,-1)","v":11},null,0,0,0,5.1461659137739619E-46,1.3571689950687785E-47,0,0,0,0,0,0,0,{"$f":"IF($O$22<>0,SUM(AX809:BI809)*$O$22+$N$22,-1)","v":15},null,0,0,0,0,0,0,0,0,0,0,0,0,{"$f":"IF($O$24<>0,SUM(BL809:BW809)*$O$24+$N$24,-1)","v":10},null,0,0,0,0,0,0,0,0,0,0,0,0,{"$f":"IF($O$21<>0,SUM(BZ809:CK809)*$O$21+$N$21,-1)","v":-1},null,0,0,0,1.1968859451379775E-23,8.6304798349197369E-92,0,0,0,0,0,0,0,{"$f":"IF($O$23<>0,SUM(CN809:CY809)*$O$23+$N$23,-1)","v":-1}]
[null,null,null,null,null,null,null,null,null,null,null,null,null,null,null,null,null,null,null,null,null,null,null,null,null,null,null,null,null,null,null,null,null,null,16.239999999999743,0,0,0,0,0,0,0,0,0,0,0,0,{"$f":"IF($O$20<>0,SUM(AJ814:AU814)*$O$20+$N$20,-1)","v":11},null,0,0,0,1.6890802477329205E-56,4.6490970335094155E-38,0,0,0,0,0,0,0,{"$f":"IF($O$22<>0,SUM(AX814:BI814)*$O$22+$N$22,-1)","v":15},null,0,0,0,0,0,0,0,0,0,0,0,0,{"$f":"IF($O$24<>0,SUM(BL814:BW814)*$O$24+$N$24,-1)","v":10},null,0,0,0,0,0,0,0,0,0,0,0,0,{"$f":"IF($O$21<>0,SUM(BZ814:CK814)*$O$21+$N$21,-1)","v":-1},null,0,0,0,1.6410424032803611E-31,3.5957233070909182E-77,0,0,0,0,0,0,0,{"$f":"IF($O$23<>0,SUM(CN814:CY814)*$O$23+$N$23,-1)","v":-1}]
[null,null,null,null,null,null,null,null,null,null,null,null,null,null,null,null,null,null,null,null,null,null,null,null,null,null,null,null,null,null,null,null,null,null,16.37999999999974,0,0,0,0,0,0,0,0,0,0,0,0,{"$f":"IF($O$20<>0,SUM(AJ821:AU821)*$O$20+$N$20,-1)","v":11},null,0,0,0,5.5826021686638146E-73,1.6989898235369672E-26,0,0,0,0,0,0,0,{"$f":"IF($O$22<>0,SUM(AX821:BI821)*$O$22+$N$22,-1)","v":15},null,0,0,0,0,0,0,0,0,0,0,0,0,{"$f":"IF($O$24<>0,SUM(BL821:BW821)*$O$24+$N$24,-1)","v":10},null,0,0,0,0,0,0,0,0,0,0,0,0,{"$f":"IF($O$21<>0,SUM(BZ821:CK821)*$O$21+$N$21,-1)","v":-1},null,0,0,0,2.0888619638474721E-44,7.8873086099143715E-59,0,0,0,0,0,0,0,{"$f":"IF($O$23<>0,SUM(CN821:CY821)*$O$23+$N$23,-1)","v":-1}]
[null,null,null,null,null,null,null,null,null,null,null,null,null,null,null,null,null,null,null,null,null,null,null,null,null,null,null,null,null,null,null,null,null,null,16.539999999999736,0,0,0,0,0,0,0,0,0,0,0,0,{"$f":"IF($O$20<>0,SUM(AJ829:AU829)*$O$20+$N$20,-1)","v":11},null,0,0,0,2.164057027622628E-94,7.8287549929152711E-16,0,0,0,0,0,0,0,{"$f":"IF($O$22<>0,SUM(AX829:BI829)*$O$22+$N$22,-1)","v":15},null,0,0,0,0,0,0,0,0,0,0,0,0,{"$f":"IF($O$24<>0,SUM(BL829:BW829)*$O$24+$N$24,-1)","v":10},null,0,0,0,0,0,0,0,0,0,0,0,0,{"$f":"IF($O$21<>0,SUM(BZ829:CK829)*$O$21+$N$21,-1)","v":-1},null,0,0,0,7.7030742544831143E-62,6.6124777262225025E-41,0,0,0,0,0,0,0,{"$f":"IF($O$23<>0,SUM(CN829:CY829)*$O$23+$N$23,-1)","v":-1}]
[null,null,null,null,null,null,null,null,null,null,null,null,null,null,null,null,null,null,null,null,null,null,null,null,null,null,null,null,null,null,null,null,null,null,16.699999999999733,0,0,0,0,0,0,0,0,0,0,0,0,{"$f":"IF($O$20<>0,SUM(AJ837:AU837)*$O$20+$N$20,-1)","v":11},null,0,0,0,1.4982747533585856E-118,6.8543432024741196E-8,0,0,0,0,0,0,0,{"$f":"IF($O$22<>0,SUM(AX837:BI837)*$O$22+$N$22,-1)","v":15.000000068543432},null,0,0,0,0,0,0,0,0,0,0,0,0,{"$f":"IF($O$24<>0,SUM(BL837:BW837)*$O$24+$N$24,-1)","v":10},null,0,0,0,0,0,0,0,0,0,0,0,0,{"$f":"IF($O$21<>0,SUM(BZ837:CK837)*$O$21+$N$21,-1)","v":-1},null,0,0,0,3.7829579523459325E-82,3.1871647383817311E-26,0,0,0,0,0,0,0,{"$f":"IF($O$23<>0,SUM(CN837:CY837)*$O$23+$N$23,-1)","v":-1}]
[null,null,null,null,null,null,null,null,null,null,null,null,null,null,null,null,null,null,null,null,null,null,null,null,null,null,null,null,null,null,null,null,null,null,16.81999999999973,0,0,0,0,0,0,0,0,0,0,0,0,{"$f":"IF($O$20<>0,SUM(AJ843:AU843)*$O$20+$N$20,-1)","v":11},null,0,0,0,1.7880795212818381E-138,1.0159312461460576E-3,0,0,0,0,0,0,0,{"$f":"IF($O$22<>0,SUM(AX843:BI843)*$O$22+$N$22,-1)","v":15.001015931246146},null,0,0,0,0,0,0,0,0,0,0,0,0,{"$f":"IF($O$24<>0,SUM(BL843:BW843)*$O$24+$N$24,-1)","v":10},null,0,0,0,0,0,0,0,0,0,0,0,0,{"$f":"IF($O$21<>0,SUM(BZ843:CK843)*$O$21+$N$21,-1)","v":-1},null,0,0,0,2.8780820779464605E-99,2.4500528119133732E-17,0,0,0,0,0,0,0,{"$f":"IF($O$23<>0,SUM(CN843:CY843)*$O$23+$N$23,-1)","v":-1}]
[null,null,null,null,null,null,null,null,null,null,null,null,null,null,null,null,null,null,null,null,null,null,null,null,null,null,null,null,null,null,null,null,null,null,16.939999999999728,0,0,0,0,0,0,0,0,0,0,0,0,{"$f":"IF($O$20<>0,SUM(AJ849:AU849)*$O$20+$N$20,-1)","v":11},null,0,0,0,6.0725449438100245E-160,0.44368178639542416,0,0,0,0,0,0,0,{"$f":"IF($O$22<>0,SUM(AX849:BI849)*$O$22+$N$22,-1)","v":15.443681786395425},null,0,0,0,0,0,0,0,0,0,0,0,0,{"$f":"IF($O$24<>0,SUM(BL849:BW849)*$O$24+$N$24,-1)","v":10},null,0,0,0,0,0,0,0,0,0,0,0,0,{"$f":"IF($O$21<>0,SUM(BZ849:CK849)*$O$21+$N$21,-1)","v":-1},null,0,0,0,5.2827151997419576E-118,2.8328536386166991E-10,0,0,0,0,0,0,0,{"$f":"IF($O$23<>0,SUM(CN849:CY849)*$O$23+$N$23,-1)","v":-1}]
[null,null,null,null,null,null,null,null,null,null,null,null,null,null,null,null,null,null,null,null,null,null,null,null,null,null,null,null,null,null,null,null,null,null,17.099999999999724,0,0,0,0,0,0,0,0,0,0,0,0,{"$f":"IF($O$20<>0,SUM(AJ857:AU857)*$O$20+$N$20,-1)","v":11},null,0,0,0,5.667876071341295E-191,6.1132590020090003,0,0,0,0,0,0,0,{"$f":"IF($O$22<>0,SUM(AX857:BI857)*$O$22+$N$22,-1)","v":21.113259002009002},null,0,0,0,0,0,0,0,0,0,0,0,0,{"$f":"IF($O$24<>0,SUM(BL857:BW857)*$O$24+$N$24,-1)","v":10},null,0,0,0,0,0,0,0,0,0,0,0,0,{"$f":"IF($O$21<>0,SUM(BZ857:CK857)*$O$21+$N$21,-1)","v":-1},null,0,0,0,1.6790257092251023E-145,1.0821231315540384E-3,0,0,0,0,0,0,0,{"$f":"IF($O$23<>0,SUM(CN857:CY857)*$O$23+$N$23,-1)","v":-1}]
[null,null,null,null,null,null,null,null,null,null,null,null,null,null,null,null,null,null,null,null,null,null,null,null,null,null,null,null,null,null,null,null,null,null,17.199999999999722,0,0,0,0,0,0,0,0,0,0,0,0,{"$f":"IF($O$20<>0,SUM(AJ862:AU862)*$O$20+$N$20,-1)","v":11},null,0,0,0,9.2082503191459187E-212,1.307373125642691,0,0,0,0,0,0,0,{"$f":"IF($O$22<>0,SUM(AX862:BI862)*$O$22+$N$22,-1)","v":16.307373125642691},null,0,0,0,0,0,0,0,0,0,0,0,0,{"$f":"IF($O$24<>0,SUM(BL862:BW862)*$O$24+$N$24,-1)","v":10},null,0,0,0,0,0,0,0,0,0,0,0,0,{"$f":"IF($O$21<>0,SUM(BZ862:CK862)*$O$21+$N$21,-1)","v":-1},null,0,0,0,3.7902989028495202E-164,0.31808734012669732,0,0,0,0,0,0,0,{"$f":"IF($O$23<>0,SUM(CN862:CY862)*$O$23+$N$23,-1)","v":-1}]
[null,null,null,null,null,null,null,null,null,null,null,null,null,null,null,null,null,null,null,null,null,null,null,null,null,null,null,null,null,null,null,null,null,null,17.31999999999972,0,0,0,0,0,0,0,0,0,0,0,0,{"$f":"IF($O$20<>0,SUM(AJ868:AU868)*$O$20+$N$20,-1)","v":11},null,0,0,0,3.9819096739525428E-238,8.1174210360294465E-3,0,0,0,0,0,0,0,{"$f":"IF($O$22<>0,SUM(AX868:BI868)*$O$22+$N$22,-1)","v":15.00811742103603},null,0,0,0,0,0,0,0,0,0,0,0,0,{"$f":"IF($O$24<>0,SUM(BL868:BW868)*$O$24+$N$24,-1)","v":10},null,0,0,0,0,0,0,0,0,0,0,0,0,{"$f":"IF($O$21<>0,SUM(BZ868:CK868)*$O$21+$N$21,-1)","v":-1},null,0,0,0,5.2515595480067513E-188,6.217865257720125,0,0,0,0,0,0,0,{"$f":"IF($O$23<>0,SUM(CN868:CY868)*$O$23+$N$23,-1)","v":-1}]
[null,null,null,null,null,null,null,null,null,null,null,null,null,null,null,null,null,null,null,null,null,null,null,null,null,null,null,null,null,null,null,null,null,null,17.439999999999717,0,0,0,0,0,0,0,0,0,0,0,0,{"$f":"IF($O$20<>0,SUM(AJ874:AU874)*$O$20+$N$20,-1)","v":11},null,0,0,0,4.8999791542842133E-266,1.4850647967134154E-6,0,0,0,0,0,0,0,{"$f":"IF($O$22<>0,SUM(AX874:BI874)*$O$22+$N$22,-1)","v":15.000001485064796},null,0,0,0,0,0,0,0,0,0,0,0,0,{"$f":"IF($O$24<>0,SUM(BL874:BW874)*$O$24+$N$24,-1)","v":10},null,0,0,0,0,0,1.073233788437607E-271,0,0,0,0,0,0,{"$f":"IF($O$21<>0,SUM(BZ874:CK874)*$O$21+$N$21,-1)","v":-1},null,0,0,0,1.7554379810777912E-213,1.8281590880403731,0,0,0,0,0,0,0,{"$f":"IF($O$23<>0,SUM(CN874:CY874)*$O$23+$N$23,-1)","v":-1}]
[null,null,null,null,null,null,null,null,null,null,null,null,null,null,null,null,null,null,null,null,null,null,null,null,null,null,null,null,null,null,null,null,null,null,17.599999999999714,0,0,0,0,0,0,0,0,0,0,0,0,{"$f":"IF($O$20<>0,SUM(AJ882:AU882)*$O$20+$N$20,-1)","v":11},null,0,0,0,1.1814147808737808E-305,6.4136707592580421E-14,0,0,0,0,0,0,0,{"$f":"IF($O$22<>0,SUM(AX882:BI882)*$O$22+$N$22,-1)","v":15.000000000000064},null,0,0,0,0,0,0,0,0,0,0,0,0,{"$f":"IF($O$24<>0,SUM(BL882:BW882)*$O$24+$N$24,-1)","v":10},null,0,0,0,0,0,6.8359944010995508E-225,0,0,0,0,0,0,{"$f":"IF($O$21<>0,SUM(BZ882:CK882)*$O$21+$N$21,-1)","v":-1},null,0,0,0,5.7593906514441156E-250,5.2219396315826246E-4,0,0,0,0,0,0,0,{"$f":"IF($O$23<>0,SUM(CN882:CY882)*$O$23+$N$23,-1)","v":-1}]
[null,null,null,null,null,null,null,null,null,null,null,null,null,null,null,null,null,null,null,null,null,null,null,null,null,null,null,null,null,null,null,null,null,null,17.75999999999971,0,0,0,0,0,0,0,0,0,0,0,0,{"$f":"IF($O$20<>0,SUM(AJ890:AU890)*$O$20+$N$20,-1)","v":11},null,0,0,0,0,5.2630699361654086E-24,0,0,0,0,0,0,0,{"$f":"IF($O$22<>0,SUM(AX890:BI890)*$O$22+$N$22,-1)","v":15},null,0,0,0,0,0,0,0,0,0,0,0,0,{"$f":"IF($O$24<>0,SUM(BL890:BW890)*$O$24+$N$24,-1)","v":10},null,0,0,0,0,0,1.662731900621163E-182,0,0,0,0,0,0,{"$f":"IF($O$21<>0,SUM(BZ890:CK890)*$O$21+$N$21,-1)","v":-1},null,0,0,0,2.5164057624253946E-289,8.5754043961344088E-11,0,0,0,0,0,0,0,{"$f":"IF($O$23<>0,SUM(CN890:CY890)*$O$23+$N$23,-1)","v":-1}]
[null,null,null,null,null,null,null,null,null,null,null,null,null,null,null,null,null,null,null,null,null,null,null,null,null,null,null,null,null,null,null,null,null,null,17.899999999999707,0,0,0,0,0,1.2317054856435749E-268,0,0,0,0,0,0,{"$f":"IF($O$20<>0,SUM(AJ897:AU897)*$O$20+$N$20,-1)","v":11},null,0,0,0,0,4.6115516461135336E-35,0,0,0,0,0,0,0,{"$f":"IF($O$22<>0,SUM(AX897:BI897)*$O$22+$N$22,-1)","v":15},null,0,0,0,0,0,1.2317054856435749E-268,0,0,0,0,0,0,{"$f":"IF($O$24<>0,SUM(BL897:BW897)*$O$24+$N$24,-1)","v":10},null,0,0,0,0,0,4.8347980725621649E-149,0,0,0,0,0,0,{"$f":"IF($O$21<>0,SUM(BZ897:CK897)*$O$21+$N$21,-1)","v":-1},null,0,0,0,0,2.1807853583732189E-19,0,0,0,0,0,0,0,{"$f":"IF($O$23<>0,SUM(CN897:CY897)*$O$23+$N$23,-1)","v":-1}]
[null,null,null,null,null,null,null,null,null,null,null,null,null,null,null,null,null,null,null,null,null,null,null,null,null,null,null,null,null,null,null,null,null,null,17.999999999999705,0,0,0,0,0,1.2371188680803553E-235,0,0,0,0,0,0,{"$f":"IF($O$20<>0,SUM(AJ902:AU902)*$O$20+$N$20,-1)","v":11},null,0,0,0,0,3.0912483502449407E-44,0,0,0,0,0,0,0,{"$f":"IF($O$22<>0,SUM(AX902:BI902)*$O$22+$N$22,-1)","v":15},null,0,0,0,0,0,1.2371188680803553E-235,0,0,0,0,0,0,{"$f":"IF($O$24<>0,SUM(BL902:BW902)*$O$24+$N$24,-1)","v":10},null,0,0,0,0,0,3.2805013280194307E-127,0,0,0,0,0,0,{"$f":"IF($O$21<>0,SUM(BZ902:CK902)*$O$21+$N$21,-1)","v":-1},null,0,0,0,0,4.7934471560541295E-27,0,0,0,0,0,0,0,{"$f":"IF($O$23<>0,SUM(CN902:CY902)*$O$23+$N$23,-1)","v":-1}]
[null,null,null,null,null,null,null,null,null,null,null,null,null,null,null,null,null,null,null,null,null,null,null,null,null,null,null,null,null,null,null,null,null,null,18.099999999999703,0,0,0,0,0,8.5922076517995164E-205,0,0,0,0,0,0,{"$f":"IF($O$20<>0,SUM(AJ907:AU907)*$O$20+$N$20,-1)","v":11},null,0,0,0,0,1.792423900866828E-54,0,0,0,0,0,0,0,{"$f":"IF($O$22<>0,SUM(AX907:BI907)*$O$22+$N$22,-1)","v":15},null,0,0,0,0,0,8.5922076517995164E-205,0,0,0,0,0,0,{"$f":"IF($O$24<>0,SUM(BL907:BW907)*$O$24+$N$24,-1)","v":10},null,0,0,0,0,0,4.1849177547453329E-107,0,0,0,0,0,0,{"$f":"IF($O$21<>0,SUM(BZ907:CK907)*$O$21+$N$21,-1)","v":-1},null,0,0,0,0,5.7135183950856193E-36,0,0,0,0,0,0,0,{"$f":"IF($O$23<>0,SUM(CN907:CY907)*$O$23+$N$23,-1)","v":-1}]
[null,null,null,null,null,null,null,null,null,null,null,null,null,null,null,null,null,null,null,null,null,null,null,null,null,null,null,null,null,null,null,null,null,null,18.2599999999997,0,0,0,0,0,6.1316133005951471E-160,0,0,0,0,0,0,{"$f":"IF($O$20<>0,SUM(AJ915:AU915)*$O$20+$N$20,-1)","v":11},null,0,0,0,0,4.6103433355256866E-73,0,0,0,0,0,0,0,{"$f":"IF($O$22<>0,SUM(AX915:BI915)*$O$22+$N$22,-1)","v":15},null,0,0,0,0,0,6.1316133005951471E-160,0,0,0,0,0,0,{"$f":"IF($O$24<>0,SUM(BL915:BW915)*$O$24+$N$24,-1)","v":10},null,0,0,0,0,0,1.5892276502829849E-78,0,0,0,0,0,0,{"$f":"IF($O$21<>0,SUM(BZ915:CK915)*$O$21+$N$21,-1)","v":-1},null,0,0,0,0,7.0160344052396547E-53,0,0,0,0,0,0,0,{"$f":"IF($O$23<>0,SUM(CN915:CY915)*$O$23+$N$23,-1)","v":-1}]
[null,null,null,null,null,null,null,null,null,null,null,null,null,null,null,null,null,null,null,null,null,null,null,null,null,null,null,null,null,null,null,null,null,null,18.419999999999696,0,0,0,0,0,1.290933955501749E-120,0,0,0,0,0,0,{"$f":"IF($O$20<>0,SUM(AJ923:AU923)*$O$20+$N$20,-1)","v":11},null,0,0,0,0,2.2531859351010252E-94,0,0,0,0,0,0,0,{"$f":"IF($O$22<>0,SUM(AX923:BI923)*$O$22+$N$22,-1)","v":15},null,0,0,0,0,0,1.290933955501749E-120,0,0,0,0,0,0,{"$f":"IF($O$24<>0,SUM(BL923:BW923)*$O$24+$N$24,-1)","v":10},null,0,0,0,0,0,2.3046154403037029E-54,0,0,0,0,0,0,{"$f":"IF($O$21<>0,SUM(BZ923:CK923)*$O$21+$N$21,-1)","v":-1},null,0,0,0,0,4.9531866271783108E-73,0,0,0,0,0,0,0,{"$f":"IF($O$23<>0,SUM(CN923:CY923)*$O$23+$N$23,-1)","v":-1}]
[null,null,null,null,null,null,null,null,null,null,null,null,null,null,null,null,null,null,null,null,null,null,null,null,null,null,null,null,null,null,null,null,null,null,18.559999999999693,0,0,0,0,0,9.6022623535532443E-91,0,0,0,0,0,0,{"$f":"IF($O$20<>0,SUM(AJ930:AU930)*$O$20+$N$20,-1)","v":11},null,0,0,0,0,2.9748826630165593E-115,0,0,0,0,0,0,0,{"$f":"IF($O$22<>0,SUM(AX930:BI930)*$O$22+$N$22,-1)","v":15},null,0,0,0,0,0,9.6022623535532443E-91,0,0,0,0,0,0,{"$f":"IF($O$24<>0,SUM(BL930:BW930)*$O$24+$N$24,-1)","v":10},null,0,0,0,0,0,7.5791835423842293E-37,0,0,0,0,0,0,{"$f":"IF($O$21<>0,SUM(BZ930:CK930)*$O$21+$N$21,-1)","v":-1},null,0,0,0,0,2.5377097397648615E-93,0,0,0,0,0,0,0,{"$f":"IF($O$23<>0,SUM(CN930:CY930)*$O$23+$N$23,-1)","v":-1}]
[null,null,null,null,null,null,null,null,null,null,null,null,null,null,null,null,null,null,null,null,null,null,null,null,null,null,null,null,null,null,null,null,null,null,18.659999999999691,0,0,0,0,0,5.3319253636528079E-72,0,0,0,0,0,0,{"$f":"IF($O$20<>0,SUM(AJ935:AU935)*$O$20+$N$20,-1)","v":11},null,0,0,0,0,1.9234846014404011E-131,0,0,0,0,0,0,0,{"$f":"IF($O$22<>0,SUM(AX935:BI935)*$O$22+$N$22,-1)","v":15},null,0,0,0,0,0,5.3319253636528079E-72,0,0,0,0,0,0,{"$f":"IF($O$24<>0,SUM(BL935:BW935)*$O$24+$N$24,-1)","v":10},null,0,0,0,0,0,2.0931685070484754E-26,0,0,0,0,0,0,{"$f":"IF($O$21<>0,SUM(BZ935:CK935)*$O$21+$N$21,-1)","v":-1},null,0,0,0,0,2.4679329402551213E-109,0,0,0,0,0,0,0,{"$f":"IF($O$23<>0,SUM(CN935:CY935)*$O$23+$N$23,-1)","v":-1}]
[null,null,null,null,null,null,null,null,null,null,null,null,null,null,null,null,null,null,null,null,null,null,null,null,null,null,null,null,null,null,null,null,null,null,18.819999999999688,0,0,0,0,0,1.6782687631344166E-46,0,0,0,0,0,0,{"$f":"IF($O$20<>0,SUM(AJ943:AU943)*$O$20+$N$20,-1)","v":11},null,0,0,0,0,1.4793826718699958E-159,0,0,0,0,0,0,0,{"$f":"IF($O$22<>0,SUM(AX943:BI943)*$O$22+$N$22,-1)","v":15},null,0,0,0,0,0,1.6782687631344166E-46,0,0,0,0,0,0,{"$f":"IF($O$24<>0,SUM(BL943:BW943)*$O$24+$N$24,-1)","v":10},null,0,0,0,0,0,2.735265389220903E-13,0,0,0,0,0,0,{"$f":"IF($O$21<>0,SUM(BZ943:CK943)*$O$21+$N$21,-1)","v":-1},null,0,0,0,0,1.3808248375081791E-137,0,0,0,0,0,0,0,{"$f":"IF($O$23<>0,SUM(CN943:CY943)*$O$23+$N$23,-1)","v":-1}]
[null,null,null,null,null,null,null,null,null,null,null,null,null,null,null,null,null,null,null,null,null,null,null,null,null,null,null,null,null,null,null,null,null,null,18.919999999999686,0,0,0,0,0,2.2533197832544822E-33,0,0,0,0,0,0,{"$f":"IF($O$20<>0,SUM(AJ948:AU948)*$O$20+$N$20,-1)","v":11},null,0,0,0,0,1.6479780439041076E-178,0,0,0,0,0,0,0,{"$f":"IF($O$22<>0,SUM(AX948:BI948)*$O$22+$N$22,-1)","v":15},null,0,0,0,0,0,2.2533197832544822E-33,0,0,0,0,0,0,{"$f":"IF($O$24<>0,SUM(BL948:BW948)*$O$24+$N$24,-1)","v":10},null,0,0,0,0,0,2.4607177411049614E-7,5.1939125819716345E-282,0,0,0,0,0,{"$f":"IF($O$21<>0,SUM(BZ948:CK948)*$O$21+$N$21,-1)","v":-1},null,0,0,0,0,6.8707433568145154E-157,0,0,0,0,0,0,0,{"$f":"IF($O$23<>0,SUM(CN948:CY948)*$O$23+$N$23,-1)","v":-1}]
[null,null,null,null,null,null,null,null,null,null,null,null,null,null,null,null,null,null,null,null,null,null,null,null,null,null,null,null,null,null,null,null,null,null,19.059999999999683,0,0,0,0,0,1.2671085558528001E-18,1.5219962579931238E-258,0,0,0,0,0,{"$f":"IF($O$20<>0,SUM(AJ955:AU955)*$O$20+$N$20,-1)","v":11},null,0,0,0,0,7.8843207861035396E-207,0,0,0,0,0,0,0,{"$f":"IF($O$22<>0,SUM(AX955:BI955)*$O$22+$N$22,-1)","v":15},null,0,0,0,0,0,1.2671085558528001E-18,1.5219962579931238E-258,0,0,0,0,0,{"$f":"IF($O$24<>0,SUM(BL955:BW955)*$O$24+$N$24,-1)","v":10},null,0,0,0,0,0,6.7201594884506388E-2,1.7339983873380535E-240,0,0,0,0,0,{"$f":"IF($O$21<>0,SUM(BZ955:CK955)*$O$21+$N$21,-1)","v":-1},null,0,0,0,0,4.8540655202403931E-186,0,0,0,0,0,0,0,{"$f":"IF($O$23<>0,SUM(CN955:CY955)*$O$23+$N$23,-1)","v":-1}]
[null,null,null,null,null,null,null,null,null,null,null,null,null,null,null,null,null,null,null,null,null,null,null,null,null,null,null,null,null,null,null,null,null,null,19.15999999999968,0,0,0,0,0,1.1124185196348554E-10,3.9102588356909931E-224,0,0,0,0,0,{"$f":"IF($O$20<>0,SUM(AJ960:AU960)*$O$20+$N$20,-1)","v":11.000000000111243},null,0,0,0,0,2.4687845950356921E-228,0,0,0,0,0,0,0,{"$f":"IF($O$22<>0,SUM(AX960:BI960)*$O$22+$N$22,-1)","v":15},null,0,0,0,0,0,1.1124185196348554E-10,3.9102588356909931E-224,0,0,0,0,0,{"$f":"IF($O$24<>0,SUM(BL960:BW960)*$O$24+$N$24,-1)","v":9.9999999998887574},null,0,0,0,0,0,4.3599901369539271,7.5245259947458085E-213,0,0,0,0,0,{"$f":"IF($O$21<>0,SUM(BZ960:CK960)*$O$21+$N$21,-1)","v":-1},null,0,0,0,0,2.2136062161846824E-208,0,0,0,0,0,0,0,{"$f":"IF($O$23<>0,SUM(CN960:CY960)*$O$23+$N$23,-1)","v":-1}]
[null,null,null,null,null,null,null,null,null,null,null,null,null,null,null,null,null,null,null,null,null,null,null,null,null,null,null,null,null,null,null,null,null,null,19.319999999999677,0,0,0,0,0,1.8304416500124241E-2,3.5021943367076788E-174,0,0,0,0,0,{"$f":"IF($O$20<>0,SUM(AJ968:AU968)*$O$20+$N$20,-1)","v":11.018304416500124},null,0,0,0,0,5.951618373542148E-265,0,0,0,0,0,0,0,{"$f":"IF($O$22<>0,SUM(AX968:BI968)*$O$22+$N$22,-1)","v":15},null,0,0,0,0,0,1.8304416500124241E-2,3.5021943367076788E-174,0,0,0,0,0,{"$f":"IF($O$24<>0,SUM(BL968:BW968)*$O$24+$N$24,-1)","v":9.9816955834998762},null,0,0,0,0,0,0.88952762409503705,3.9006123966727257E-172,0,0,0,0,0,{"$f":"IF($O$21<>0,SUM(BZ968:CK968)*$O$21+$N$21,-1)","v":-1},null,0,0,0,0,9.261277955634539E-247,0,0,0,0,0,0,0,{"$f":"IF($O$23<>0,SUM(CN968:CY968)*$O$23+$N$23,-1)","v":-1}]
[null,null,null,null,null,null,null,null,null,null,null,null,null,null,null,null,null,null,null,null,null,null,null,null,null,null,null,null,null,null,null,null,null,null,19.479999999999674,0,0,0,0,0,8.885929049244611,1.6413621182932842E-130,0,0,0,0,0,{"$f":"IF($O$20<>0,SUM(AJ976:AU976)*$O$20+$N$20,-1)","v":19.885929049244609},null,0,0,0,0,2.7262028859741649E-304,0,0,0,0,0,0,0,{"$f":"IF($O$22<>0,SUM(AX976:BI976)*$O$22+$N$22,-1)","v":15},null,0,0,0,0,0,8.885929049244611,1.6413621182932842E-130,0,0,0,0,0,{"$f":"IF($O$24<>0,SUM(BL976:BW976)*$O$24+$N$24,-1)","v":1.114070950755389},null,0,0,0,0,0,6.9302123436663046E-6,9.80959235671465E-136,0,0,0,0,0,{"$f":"IF($O$21<>0,SUM(BZ976:CK976)*$O$21+$N$21,-1)","v":-1},null,0,0,0,0,2.2276470054186736E-288,0,0,0,0,0,0,0,{"$f":"IF($O$23<>0,SUM(CN976:CY976)*$O$23+$N$23,-1)","v":-1}]
[null,null,null,null,null,null,null,null,null,null,null,null,null,null,null,null,null,null,null,null,null,null,null,null,null,null,null,null,null,null,null,null,null,null,19.63999999999967,0,0,0,0,0,1.2726502482707442E-2,4.0252976488697197E-93,0,0,0,0,0,{"$f":"IF($O$20<>0,SUM(AJ984:AU984)*$O$20+$N$20,-1)","v":11.012726502482707},null,0,0,0,0,0,0,0,0,0,0,0,0,{"$f":"IF($O$22<>0,SUM(AX984:BI984)*$O$22+$N$22,-1)","v":15},null,0,0,0,0,0,1.2726502482707442E-2,4.0252976488697197E-93,0,0,0,0,0,{"$f":"IF($O$24<>0,SUM(BL984:BW984)*$O$24+$N$24,-1)","v":9.9872734975172932},null,0,0,0,0,0,2.0618013199625562E-15,1.1968332278071234E-103,0,0,0,0,0,{"$f":"IF($O$21<>0,SUM(BZ984:CK984)*$O$21+$N$21,-1)","v":-1},null,0,0,0,0,0,0,0,0,0,0,0,0,{"$f":"IF($O$23<>0,SUM(CN984:CY984)*$O$23+$N$23,-1)","v":-1}]
[null,null,null,null,null,null,null,null,null,null,null,null,null,null,null,null,null,null,null,null,null,null,null,null,null,null,null,null,null,null,null,null,null,null,19.719999999999668,0,0,0,0,0,4.0635855442483209E-6,8.792620570467948E-77,0,0,0,0,0,{"$f":"IF($O$20<>0,SUM(AJ988:AU988)*$O$20+$N$20,-1)","v":11.000004063585545},null,0,0,0,0,0,0,0,0,0,0,0,0,{"$f":"IF($O$22<>0,SUM(AX988:BI988)*$O$22+$N$22,-1)","v":15},null,0,0,0,0,0,4.0635855442483209E-6,8.792620570467948E-77,0,0,0,0,0,{"$f":"IF($O$24<>0,SUM(BL988:BW988)*$O$24+$N$24,-1)","v":9.9999959364144555},null,0,0,0,0,0,7.8381647501752033E-22,3.1873090040123652E-89,0,0,0,0,0,{"$f":"IF($O$21<>0,SUM(BZ988:CK988)*$O$21+$N$21,-1)","v":-1},null,0,0,0,0,0,0,0,0,0,0,0,0,{"$f":"IF($O$23<>0,SUM(CN988:CY988)*$O$23+$N$23,-1)","v":-1}]
[null,null,null,null,null,null,null,null,null,null,null,null,null,null,null,null,null,null,null,null,null,null,null,null,null,null,null,null,null,null,null,null,null,null,19.959999999999663,0,0,0,0,0,6.7034648584892118E-25,3.4687537854059324E-37,0,0,0,0,0,{"$f":"IF($O$20<>0,SUM(AJ1000:AU1000)*$O$20+$N$20,-1)","v":11},null,0,0,0,0,0,0,0,0,0,0,0,0,{"$f":"IF($O$22<>0,SUM(AX1000:BI1000)*$O$22+$N$22,-1)","v":15},null,0,0,0,0,0,6.7034648584892118E-25,3.4687537854059324E-37,0,0,0,0,0,{"$f":"IF($O$24<>0,SUM(BL1000:BW1000)*$O$24+$N$24,-1)","v":10},null,0,0,0,0,0,1.0162179570502781E-47,2.0341947782555927E-52,0,0,0,0,0,{"$f":"IF($O$21<>0,SUM(BZ1000:CK1000)*$O$21+$N$21,-1)","v":-1},null,0,0,0,0,0,0,0,0,0,0,0,0,{"$f":"IF($O$23<>0,SUM(CN1000:CY1000)*$O$23+$N$23,-1)","v":-1}]
[null,null,null,null,null,null,null,null,null,null,null,null,null,null,null,null,null,null,null,null,null,null,null,null,null,null,null,null,null,null,null,null,null,null,19.979999999999663,0,0,0,0,0,5.0052631310987557E-27,1.5918538564267962E-34,0,0,0,0,0,{"$f":"IF($O$20<>0,SUM(AJ1001:AU1001)*$O$20+$N$20,-1)","v":11},null,0,0,0,0,0,0,0,0,0,0,0,0,{"$f":"IF($O$22<>0,SUM(AX1001:BI1001)*$O$22+$N$22,-1)","v":15},null,0,0,0,0,0,5.0052631310987557E-27,1.5918538564267962E-34,0,0,0,0,0,{"$f":"IF($O$24<>0,SUM(BL1001:BW1001)*$O$24+$N$24,-1)","v":10},null,0,0,0,0,0,2.5177114841159504E-50,8.6560318742651215E-50,0,0,0,0,0,{"$f":"IF($O$21<>0,SUM(BZ1001:CK1001)*$O$21+$N$21,-1)","v":-1},null,0,0,0,0,0,0,0,0,0,0,0,0,{"$f":"IF($O$23<>0,SUM(CN1001:CY1001)*$O$23+$N$23,-1)","v":-1}]
[null,null,null,null,null,null,null,null,null,null,null,null,null,null,null,null,null,null,null,null,null,null,null,null,null,null,null,null,null,null,null,null,null,null,20.13999999999966,0,0,0,0,0,3.7475148973645167E-47,9.1733138757984446E-17,0,0,0,0,0,{"$f":"IF($O$20<>0,SUM(AJ1009:AU1009)*$O$20+$N$20,-1)","v":11},null,0,0,0,0,0,0,0,0,0,0,0,0,{"$f":"IF($O$22<>0,SUM(AX1009:BI1009)*$O$22+$N$22,-1)","v":15},null,0,0,0,0,0,3.7475148973645167E-47,9.1733138757984446E-17,0,0,0,0,0,{"$f":"IF($O$24<>0,SUM(BL1009:BW1009)*$O$24+$N$24,-1)","v":10},null,0,0,0,0,0,1.1694586942192635E-73,3.4835987870443831E-31,0,0,0,0,0,{"$f":"IF($O$21<>0,SUM(BZ1009:CK1009)*$O$21+$N$21,-1)","v":-1},null,0,0,0,0,0,0,0,0,0,0,0,0,{"$f":"IF($O$23<>0,SUM(CN1009:CY1009)*$O$23+$N$23,-1)","v":-1}]
[null,null,null,null,null,null,null,null,null,null,null,null,null,null,null,null,null,null,null,null,null,null,null,null,null,null,null,null,null,null,null,null,null,null,20.359999999999655,0,0,0,0,0,7.4343942332014986E-84,1.3404353016703761E-2,0,0,0,0,0,{"$f":"IF($O$20<>0,SUM(AJ1020:AU1020)*$O$20+$N$20,-1)","v":11.013404353016703},null,0,0,0,0,0,0,0,0,0,0,0,0,{"$f":"IF($O$22<>0,SUM(AX1020:BI1020)*$O$22+$N$22,-1)","v":15},null,0,0,0,0,0,7.4343942332014986E-84,1.3404353016703761E-2,0,0,0,0,0,{"$f":"IF($O$24<>0,SUM(BL1020:BW1020)*$O$24+$N$24,-1)","v":9.9865956469832966},null,0,0,0,0,0,5.9043692163120504E-113,1.2004084596798841E-12,0,0,0,0,0,{"$f":"IF($O$21<>0,SUM(BZ1020:CK1020)*$O$21+$N$21,-1)","v":-1},null,0,0,0,0,0,0,0,0,0,0,0,0,{"$f":"IF($O$23<>0,SUM(CN1020:CY1020)*$O$23+$N$23,-1)","v":-1}]
[null,null,null,null,null,null,null,null,null,null,null,null,null,null,null,null,null,null,null,null,null,null,null,null,null,null,null,null,null,null,null,null,null,null,20.379999999999654,0,0,0,0,0,1.0380163322474813E-87,6.7000573941259162E-2,0,0,0,0,0,{"$f":"IF($O$20<>0,SUM(AJ1021:AU1021)*$O$20+$N$20,-1)","v":11.067000573941259},null,0,0,0,0,0,0,0,0,0,0,0,0,{"$f":"IF($O$22<>0,SUM(AX1021:BI1021)*$O$22+$N$22,-1)","v":15},null,0,0,0,0,0,1.0380163322474813E-87,6.7000573941259162E-2,0,0,0,0,0,{"$f":"IF($O$24<>0,SUM(BL1021:BW1021)*$O$24+$N$24,-1)","v":9.9329994260587409},null,0,0,0,0,0,6.0889228139133554E-117,2.2913319970770147E-11,0,0,0,0,0,{"$f":"IF($O$21<>0,SUM(BZ1021:CK1021)*$O$21+$N$21,-1)","v":-1},null,0,0,0,0,0,0,0,0,0,0,0,0,{"$f":"IF($O$23<>0,SUM(CN1021:CY1021)*$O$23+$N$23,-1)","v":-1}]
[null,null,null,null,null,null,null,null,null,null,null,null,null,null,null,null,null,null,null,null,null,null,null,null,null,null,null,null,null,null,null,null,null,null,20.539999999999651,0,0,0,0,0,1.1619001941637222E-121,7.6475998432280425,0,0,0,0,0,{"$f":"IF($O$20<>0,SUM(AJ1029:AU1029)*$O$20+$N$20,-1)","v":18.647599843228043},null,0,0,0,0,0,0,0,0,0,0,0,0,{"$f":"IF($O$22<>0,SUM(AX1029:BI1029)*$O$22+$N$22,-1)","v":15},null,0,0,0,0,0,1.1619001941637222E-121,7.6475998432280425,0,0,0,0,0,{"$f":"IF($O$24<>0,SUM(BL1029:BW1029)*$O$24+$N$24,-1)","v":2.3524001567719575},null,0,0,0,0,0,2.5486037537949904E-151,1.511675548308899E-3,0,0,0,0,0,{"$f":"IF($O$21<>0,SUM(BZ1029:CK1029)*$O$21+$N$21,-1)","v":-1},null,0,0,0,0,0,0,0,0,0,0,0,0,{"$f":"IF($O$23<>0,SUM(CN1029:CY1029)*$O$23+$N$23,-1)","v":-1}]
[null,null,null,null,null,null,null,null,null,null,null,null,null,null,null,null,null,null,null,null,null,null,null,null,null,null,null,null,null,null,null,null,null,null,20.719999999999647,0,0,0,0,0,1.8197331389210974E-166,4.8985933448521921E-5,0,0,0,0,0,{"$f":"IF($O$20<>0,SUM(AJ1038:AU1038)*$O$20+$N$20,-1)","v":11.000048985933448},null,0,0,0,0,0,0,0,0,0,0,0,0,{"$f":"IF($O$22<>0,SUM(AX1038:BI1038)*$O$22+$N$22,-1)","v":15},null,0,0,0,0,0,1.8197331389210974E-166,4.8985933448521921E-5,0,0,0,0,0,{"$f":"IF($O$24<>0,SUM(BL1038:BW1038)*$O$24+$N$24,-1)","v":9.9999510140665517},null,0,0,0,0,0,2.8170203521959534E-195,6.5994904494589886,0,0,0,0,0,{"$f":"IF($O$21<>0,SUM(BZ1038:CK1038)*$O$21+$N$21,-1)","v":-1},null,0,0,0,0,0,0,0,0,0,0,0,0,{"$f":"IF($O$23<>0,SUM(CN1038:CY1038)*$O$23+$N$23,-1)","v":-1}]
[null,null,null,null,null,null,null,null,null,null,null,null,null,null,null,null,null,null,null,null,null,null,null,null,null,null,null,null,null,null,null,null,null,null,20.779999999999646,0,0,0,0,0,5.8830415800007013E-183,1.5570866609321513E-8,0,0,0,0,0,{"$f":"IF($O$20<>0,SUM(AJ1041:AU1041)*$O$20+$N$20,-1)","v":11.000000015570867},null,0,0,0,0,0,0,0,0,0,0,0,0,{"$f":"IF($O$22<>0,SUM(AX1041:BI1041)*$O$22+$N$22,-1)","v":15},null,0,0,0,0,0,5.8830415800007013E-183,1.5570866609321513E-8,0,0,0,0,0,{"$f":"IF($O$24<>0,SUM(BL1041:BW1041)*$O$24+$N$24,-1)","v":9.9999999844291327},null,0,0,0,0,0,3.5894861804200561E-211,6.5994904495133033,0,0,0,0,0,{"$f":"IF($O$21<>0,SUM(BZ1041:CK1041)*$O$21+$N$21,-1)","v":-1},null,0,0,0,0,0,0,0,0,0,0,0,0,{"$f":"IF($O$23<>0,SUM(CN1041:CY1041)*$O$23+$N$23,-1)","v":-1}]
[null,null,null,null,null,null,null,null,null,null,null,null,null,null,null,null,null,null,null,null,null,null,null,null,null,null,null,null,null,null,null,null,null,null,21.019999999999641,0,0,0,0,0,1.0745295824223599E-256,2.3347566898656884E-31,0,0,0,0,0,{"$f":"IF($O$20<>0,SUM(AJ1053:AU1053)*$O$20+$N$20,-1)","v":11},null,0,0,0,0,0,0,0,0,0,0,0,0,{"$f":"IF($O$22<>0,SUM(AX1053:BI1053)*$O$22+$N$22,-1)","v":15},null,0,0,0,0,0,1.0745295824223599E-256,2.3347566898656884E-31,0,0,0,0,0,{"$f":"IF($O$24<>0,SUM(BL1053:BW1053)*$O$24+$N$24,-1)","v":10},null,0,0,0,0,0,5.795179389256509E-281,5.6592304265212683E-6,0,0,0,0,0,{"$f":"IF($O$21<>0,SUM(BZ1053:CK1053)*$O$21+$N$21,-1)","v":-1},null,0,0,0,0,0,0,0,0,0,0,0,0,{"$f":"IF($O$23<>0,SUM(CN1053:CY1053)*$O$23+$N$23,-1)","v":-1}]
[null,null,null,null,null,null,null,null,null,null,null,null,null,null,null,null,null,null,null,null,null,null,null,null,null,null,null,null,null,null,null,null,null,null,21.179999999999637,0,0,0,0,0,0,1.9980482781713052E-54,0,0,0,0,0,{"$f":"IF($O$20<>0,SUM(AJ1061:AU1061)*$O$20+$N$20,-1)","v":11},null,0,0,0,0,0,0,0,0,0,0,0,0,{"$f":"IF($O$22<>0,SUM(AX1061:BI1061)*$O$22+$N$22,-1)","v":15},null,0,0,0,0,0,0,1.9980482781713052E-54,0,0,0,0,0,{"$f":"IF($O$24<>0,SUM(BL1061:BW1061)*$O$24+$N$24,-1)","v":10},null,0,0,0,0,0,0,2.0681688929094839E-15,0,0,0,0,0,{"$f":"IF($O$21<>0,SUM(BZ1061:CK1061)*$O$21+$N$21,-1)","v":-1},null,0,0,0,0,0,0,0,0,0,0,0,0,{"$f":"IF($O$23<>0,SUM(CN1061:CY1061)*$O$23+$N$23,-1)","v":-1}]
[null,null,null,null,null,null,null,null,null,null,null,null,null,null,null,null,null,null,null,null,null,null,null,null,null,null,null,null,null,null,null,null,null,null,21.219999999999636,0,0,0,0,0,0,3.5665518190867244E-61,0,0,0,0,0,{"$f":"IF($O$20<>0,SUM(AJ1063:AU1063)*$O$20+$N$20,-1)","v":11},null,0,0,0,0,0,0,0,0,0,0,0,0,{"$f":"IF($O$22<>0,SUM(AX1063:BI1063)*$O$22+$N$22,-1)","v":15},null,0,0,0,0,0,0,3.5665518190867244E-61,0,0,0,0,0,{"$f":"IF($O$24<>0,SUM(BL1063:BW1063)*$O$24+$N$24,-1)","v":10},null,0,0,0,0,0,0,1.9151795159164012E-18,0,0,0,0,0,{"$f":"IF($O$21<>0,SUM(BZ1063:CK1063)*$O$21+$N$21,-1)","v":-1},null,0,0,0,0,0,0,0,0,0,0,0,0,{"$f":"IF($O$23<>0,SUM(CN1063:CY1063)*$O$23+$N$23,-1)","v":-1}]
[null,null,null,null,null,null,null,null,null,null,null,null,null,null,null,null,null,null,null,null,null,null,null,null,null,null,null,null,null,null,null,null,null,null,21.419999999999632,0,0,0,0,0,0,8.3516095314901098E-101,0,0,0,0,0,{"$f":"IF($O$20<>0,SUM(AJ1073:AU1073)*$O$20+$N$20,-1)","v":11},null,0,0,0,0,0,0,0,0,0,0,0,0,{"$f":"IF($O$22<>0,SUM(AX1073:BI1073)*$O$22+$N$22,-1)","v":15},null,0,0,0,0,0,0,8.3516095314901098E-101,0,0,0,0,0,{"$f":"IF($O$24<>0,SUM(BL1073:BW1073)*$O$24+$N$24,-1)","v":10},null,0,0,0,0,0,0,1.1771312833522333E-37,0,0,0,0,0,{"$f":"IF($O$21<>0,SUM(BZ1073:CK1073)*$O$21+$N$21,-1)","v":-1},null,0,0,0,0,0,0,0,0,0,0,0,0,{"$f":"IF($O$23<>0,SUM(CN1073:CY1073)*$O$23+$N$23,-1)","v":-1}]
[null,null,null,null,null,null,null,null,null,null,null,null,null,null,null,null,null,null,null,null,null,null,null,null,null,null,null,null,null,null,null,null,null,null,21.579999999999629,0,0,0,0,0,0,1.4156572042178477E-139,0,0,0,0,0,{"$f":"IF($O$20<>0,SUM(AJ1081:AU1081)*$O$20+$N$20,-1)","v":11},null,0,0,0,0,0,0,0,0,0,0,0,0,{"$f":"IF($O$22<>0,SUM(AX1081:BI1081)*$O$22+$N$22,-1)","v":15},null,0,0,0,0,0,0,1.4156572042178477E-139,0,0,0,0,0,{"$f":"IF($O$24<>0,SUM(BL1081:BW1081)*$O$24+$N$24,-1)","v":10},null,0,0,0,0,0,0,7.052040709378521E-58,0,0,0,0,0,{"$f":"IF($O$21<>0,SUM(BZ1081:CK1081)*$O$21+$N$21,-1)","v":-1},null,0,0,0,0,0,0,0,0,0,0,0,0,{"$f":"IF($O$23<>0,SUM(CN1081:CY1081)*$O$23+$N$23,-1)","v":-1}]
[null,null,null,null,null,null,null,null,null,null,null,null,null,null,null,null,null,null,null,null,null,null,null,null,null,null,null,null,null,null,null,null,null,null,21.599999999999628,0,0,0,0,0,0,7.2938152176292229E-145,0,0,0,0,0,{"$f":"IF($O$20<>0,SUM(AJ1082:AU1082)*$O$20+$N$20,-1)","v":11},null,0,0,0,0,0,0,0,0,0,0,0,0,{"$f":"IF($O$22<>0,SUM(AX1082:BI1082)*$O$22+$N$22,-1)","v":15},null,0,0,0,0,0,0,7.2938152176292229E-145,0,0,0,0,0,{"$f":"IF($O$24<>0,SUM(BL1082:BW1082)*$O$24+$N$24,-1)","v":10},null,0,0,0,0,0,0,1.0403114966147792E-60,0,0,0,0,0,{"$f":"IF($O$21<>0,SUM(BZ1082:CK1082)*$O$21+$N$21,-1)","v":-1},null,0,0,0,0,0,0,0,0,0,0,0,0,{"$f":"IF($O$23<>0,SUM(CN1082:CY1082)*$O$23+$N$23,-1)","v":-1}]
[null,null,null,null,null,null,null,null,null,null,null,null,null,null,null,null,null,null,null,null,null,null,null,null,null,null,null,null,null,null,null,null,null,null,21.839999999999623,0,0,0,0,0,0,5.6443779612552767E-216,0,0,0,0,0,{"$f":"IF($O$20<>0,SUM(AJ1094:AU1094)*$O$20+$N$20,-1)","v":11},null,0,0,0,0,0,0,0,0,0,0,0,0,{"$f":"IF($O$22<>0,SUM(AX1094:BI1094)*$O$22+$N$22,-1)","v":15},null,0,0,0,0,0,0,5.6443779612552767E-216,0,0,0,0,0,{"$f":"IF($O$24<>0,SUM(BL1094:BW1094)*$O$24+$N$24,-1)","v":10},null,0,0,0,0,0,0,6.1023037516028568E-100,0,0,0,0,0,{"$f":"IF($O$21<>0,SUM(BZ1094:CK1094)*$O$21+$N$21,-1)","v":-1},null,0,0,0,0,0,0,0,0,0,0,0,0,{"$f":"IF($O$23<>0,SUM(CN1094:CY1094)*$O$23+$N$23,-1)","v":-1}]
[null,null,null,null,null,null,null,null,null,null,null,null,null,null,null,null,null,null,null,null,null,null,null,null,null,null,null,null,null,null,null,null,null,null,21.879999999999622,0,0,0,0,0,0,3.3550451724357154E-229,0,0,0,0,0,{"$f":"IF($O$20<>0,SUM(AJ1096:AU1096)*$O$20+$N$20,-1)","v":11},null,0,0,0,0,0,0,0,0,0,0,0,0,{"$f":"IF($O$22<>0,SUM(AX1096:BI1096)*$O$22+$N$22,-1)","v":15},null,0,0,0,0,0,0,3.3550451724357154E-229,0,0,0,0,0,{"$f":"IF($O$24<>0,SUM(BL1096:BW1096)*$O$24+$N$24,-1)","v":10},null,0,0,0,0,0,0,2.0098566719757205E-107,0,0,0,0,0,{"$f":"IF($O$21<>0,SUM(BZ1096:CK1096)*$O$21+$N$21,-1)","v":-1},null,0,0,0,0,0,0,0,0,0,0,0,0,{"$f":"IF($O$23<>0,SUM(CN1096:CY1096)*$O$23+$N$23,-1)","v":-1}]
[null,null,null,null,null,null,null,null,null,null,null,null,null,null,null,null,null,null,null,null,null,null,null,null,null,null,null,null,null,null,null,null,null,null,22.079999999999618,0,0,0,0,0,0,3.2167598085071312E-301,0,0,0,0,0,{"$f":"IF($O$20<>0,SUM(AJ1106:AU1106)*$O$20+$N$20,-1)","v":11},null,0,0,0,0,0,0,0,0,0,0,0,0,{"$f":"IF($O$22<>0,SUM(AX1106:BI1106)*$O$22+$N$22,-1)","v":15},null,0,0,0,0,0,0,3.2167598085071312E-301,0,0,0,0,0,{"$f":"IF($O$24<>0,SUM(BL1106:BW1106)*$O$24+$N$24,-1)","v":10},null,0,0,0,0,0,0,7.0310372925025157E-149,0,0,0,0,0,{"$f":"IF($O$21<>0,SUM(BZ1106:CK1106)*$O$21+$N$21,-1)","v":-1},null,0,0,0,0,0,0,0,0,0,0,0,0,{"$f":"IF($O$23<>0,SUM(CN1106:CY1106)*$O$23+$N$23,-1)","v":-1}]
[null,null,null,null,null,null,null,null,null,null,null,null,null,null,null,null,null,null,null,null,null,null,null,null,null,null,null,null,null,null,null,null,null,null,22.239999999999615,0,0,0,0,0,0,0,0,0,0,0,0,{"$f":"IF($O$20<>0,SUM(AJ1114:AU1114)*$O$20+$N$20,-1)","v":11},null,0,0,0,0,0,0,0,0,0,0,0,0,{"$f":"IF($O$22<>0,SUM(AX1114:BI1114)*$O$22+$N$22,-1)","v":15},null,0,0,0,0,0,0,0,0,0,0,0,0,{"$f":"IF($O$24<>0,SUM(BL1114:BW1114)*$O$24+$N$24,-1)","v":10},null,0,0,0,0,0,0,6.7406290923487231E-187,0,0,0,0,0,{"$f":"IF($O$21<>0,SUM(BZ1114:CK1114)*$O$21+$N$21,-1)","v":-1},null,0,0,0,0,0,0,0,0,0,0,0,0,{"$f":"IF($O$23<>0,SUM(CN1114:CY1114)*$O$23+$N$23,-1)","v":-1}]
[null,null,null,null,null,null,null,null,null,null,null,null,null,null,null,null,null,null,null,null,null,null,null,null,null,null,null,null,null,null,null,null,null,null,22.399999999999611,0,0,0,0,0,0,0,0,0,0,0,0,{"$f":"IF($O$20<>0,SUM(AJ1122:AU1122)*$O$20+$N$20,-1)","v":11},null,0,0,0,0,0,0,0,0,0,0,0,0,{"$f":"IF($O$22<>0,SUM(AX1122:BI1122)*$O$22+$N$22,-1)","v":15},null,0,0,0,0,0,0,0,0,0,0,0,0,{"$f":"IF($O$24<>0,SUM(BL1122:BW1122)*$O$24+$N$24,-1)","v":10},null,0,0,0,0,0,0,3.1350608406593278E-229,0,0,0,0,0,{"$f":"IF($O$21<>0,SUM(BZ1122:CK1122)*$O$21+$N$21,-1)","v":-1},null,0,0,0,0,0,0,0,0,0,0,0,0,{"$f":"IF($O$23<>0,SUM(CN1122:CY1122)*$O$23+$N$23,-1)","v":-1}]
[null,null,null,null,null,null,null,null,null,null,null,null,null,null,null,null,null,null,null,null,null,null,null,null,null,null,null,null,null,null,null,null,null,null,22.45999999999961,0,0,0,0,0,0,0,0,0,0,0,0,{"$f":"IF($O$20<>0,SUM(AJ1125:AU1125)*$O$20+$N$20,-1)","v":11},null,0,0,0,0,0,0,0,0,0,0,0,0,{"$f":"IF($O$22<>0,SUM(AX1125:BI1125)*$O$22+$N$22,-1)","v":15},null,0,0,0,0,0,0,0,0,0,0,0,0,{"$f":"IF($O$24<>0,SUM(BL1125:BW1125)*$O$24+$N$24,-1)","v":10},null,0,0,0,0,0,0,3.2310040098549551E-246,0,0,0,0,0,{"$f":"IF($O$21<>0,SUM(BZ1125:CK1125)*$O$21+$N$21,-1)","v":-1},null,0,0,0,0,0,0,0,0,0,0,0,0,{"$f":"IF($O$23<>0,SUM(CN1125:CY1125)*$O$23+$N$23,-1)","v":-1}]
[null,null,null,null,null,null,null,null,null,null,null,null,null,null,null,null,null,null,null,null,null,null,null,null,null,null,null,null,null,null,null,null,null,null,22.639999999999606,0,0,0,0,0,0,0,0,0,0,0,0,{"$f":"IF($O$20<>0,SUM(AJ1134:AU1134)*$O$20+$N$20,-1)","v":11},null,0,0,0,0,0,0,0,0,0,0,0,0,{"$f":"IF($O$22<>0,SUM(AX1134:BI1134)*$O$22+$N$22,-1)","v":15},null,0,0,0,0,0,0,0,0,0,0,0,0,{"$f":"IF($O$24<>0,SUM(BL1134:BW1134)*$O$24+$N$24,-1)","v":10},null,0,0,0,0,0,0,8.1014032794629961E-301,0,0,0,0,0,{"$f":"IF($O$21<>0,SUM(BZ1134:CK1134)*$O$21+$N$21,-1)","v":-1},null,0,0,0,0,0,0,0,0,0,0,0,0,{"$f":"IF($O$23<>0,SUM(CN1134:CY1134)*$O$23+$N$23,-1)","v":-1}]
[null,null,null,null,null,null,null,null,null,null,null,null,null,null,null,null,null,null,null,null,null,null,null,null,null,null,null,null,null,null,null,null,null,null,22.739999999999604,0,0,0,0,0,0,0,0,0,0,0,0,{"$f":"IF($O$20<>0,SUM(AJ1139:AU1139)*$O$20+$N$20,-1)","v":11},null,0,0,0,0,0,0,0,0,0,0,0,0,{"$f":"IF($O$22<>0,SUM(AX1139:BI1139)*$O$22+$N$22,-1)","v":15},null,0,0,0,0,0,0,0,0,0,0,0,0,{"$f":"IF($O$24<>0,SUM(BL1139:BW1139)*$O$24+$N$24,-1)","v":10},null,0,0,0,0,0,0,0,0,0,0,0,0,{"$f":"IF($O$21<>0,SUM(BZ1139:CK1139)*$O$21+$N$21,-1)","v":-1},null,0,0,0,0,0,0,0,0,0,0,0,0,{"$f":"IF($O$23<>0,SUM(CN1139:CY1139)*$O$23+$N$23,-1)","v":-1}]
[null,null,null,null,null,null,null,null,null,null,null,null,null,null,null,null,null,null,null,null,null,null,null,null,null,null,null,null,null,null,null,null,null,null,22.899999999999601,0,0,0,0,0,0,0,0,0,0,0,0,{"$f":"IF($O$20<>0,SUM(AJ1147:AU1147)*$O$20+$N$20,-1)","v":11},null,0,0,0,0,0,0,0,0,0,0,0,0,{"$f":"IF($O$22<>0,SUM(AX1147:BI1147)*$O$22+$N$22,-1)","v":15},null,0,0,0,0,0,0,0,0,0,0,0,0,{"$f":"IF($O$24<>0,SUM(BL1147:BW1147)*$O$24+$N$24,-1)","v":10},null,0,0,0,0,0,0,0,0,0,0,0,0,{"$f":"IF($O$21<>0,SUM(BZ1147:CK1147)*$O$21+$N$21,-1)","v":-1},null,0,0,0,0,0,0,0,0,0,0,0,0,{"$f":"IF($O$23<>0,SUM(CN1147:CY1147)*$O$23+$N$23,-1)","v":-1}]
[null,null,null,null,null,null,null,null,null,null,null,null,null,null,null,null,null,null,null,null,null,null,null,null,null,null,null,null,null,null,null,null,null,null,22.959999999999599,0,0,0,0,0,0,0,0,0,0,0,0,{"$f":"IF($O$20<>0,SUM(AJ1150:AU1150)*$O$20+$N$20,-1)","v":11},null,0,0,0,0,0,0,0,0,0,0,0,0,{"$f":"IF($O$22<>0,SUM(AX1150:BI1150)*$O$22+$N$22,-1)","v":15},null,0,0,0,0,0,0,0,0,0,0,0,0,{"$f":"IF($O$24<>0,SUM(BL1150:BW1150)*$O$24+$N$24,-1)","v":10},null,0,0,0,0,0,0,0,0,0,0,0,0,{"$f":"IF($O$21<>0,SUM(BZ1150:CK1150)*$O$21+$N$21,-1)","v":-1},null,0,0,0,0,0,0,0,0,0,0,0,0,{"$f":"IF($O$23<>0,SUM(CN1150:CY1150)*$O$23+$N$23,-1)","v":-1}]
[null,null,null,null,null,null,null,null,null,null,null,null,null,null,null,null,null,null,null,null,null,null,null,null,null,null,null,null,null,null,null,null,null,null,23.139999999999596,0,0,0,0,0,0,0,0,0,0,0,0,{"$f":"IF($O$20<>0,SUM(AJ1159:AU1159)*$O$20+$N$20,-1)","v":11},null,0,0,0,0,0,0,0,0,0,0,0,0,{"$f":"IF($O$22<>0,SUM(AX1159:BI1159)*$O$22+$N$22,-1)","v":15},null,0,0,0,0,0,0,0,0,0,0,0,0,{"$f":"IF($O$24<>0,SUM(BL1159:BW1159)*$O$24+$N$24,-1)","v":10},null,0,0,0,0,0,0,0,0,0,0,0,0,{"$f":"IF($O$21<>0,SUM(BZ1159:CK1159)*$O$21+$N$21,-1)","v":-1},null,0,0,0,0,0,0,0,0,0,0,0,0,{"$f":"IF($O$23<>0,SUM(CN1159:CY1159)*$O$23+$N$23,-1)","v":-1}]
[null,null,null,null,null,null,null,null,null,null,null,null,null,null,null,null,null,null,null,null,null,null,null,null,null,null,null,null,null,null,null,null,null,null,23.299999999999592,0,0,0,0,0,0,0,0,0,0,0,0,{"$f":"IF($O$20<>0,SUM(AJ1167:AU1167)*$O$20+$N$20,-1)","v":11},null,0,0,0,0,0,0,0,0,0,0,0,0,{"$f":"IF($O$22<>0,SUM(AX1167:BI1167)*$O$22+$N$22,-1)","v":15},null,0,0,0,0,0,0,0,0,0,0,0,0,{"$f":"IF($O$24<>0,SUM(BL1167:BW1167)*$O$24+$N$24,-1)","v":10},null,0,0,0,0,0,0,0,0,0,0,0,0,{"$f":"IF($O$21<>0,SUM(BZ1167:CK1167)*$O$21+$N$21,-1)","v":-1},null,0,0,0,0,0,0,0,0,0,0,0,0,{"$f":"IF($O$23<>0,SUM(CN1167:CY1167)*$O$23+$N$23,-1)","v":-1}]
[null,null,null,null,null,null,null,null,null,null,null,null,null,null,null,null,null,null,null,null,null,null,null,null,null,null,null,null,null,null,null,null,null,null,23.459999999999589,0,0,0,0,0,0,0,0,0,0,0,0,{"$f":"IF($O$20<>0,SUM(AJ1175:AU1175)*$O$20+$N$20,-1)","v":11},null,0,0,0,0,0,0,0,0,0,0,0,0,{"$f":"IF($O$22<>0,SUM(AX1175:BI1175)*$O$22+$N$22,-1)","v":15},null,0,0,0,0,0,0,0,0,0,0,0,0,{"$f":"IF($O$24<>0,SUM(BL1175:BW1175)*$O$24+$N$24,-1)","v":10},null,0,0,0,0,0,0,0,0,0,0,0,0,{"$f":"IF($O$21<>0,SUM(BZ1175:CK1175)*$O$21+$N$21,-1)","v":-1},null,0,0,0,0,0,0,0,0,0,0,0,0,{"$f":"IF($O$23<>0,SUM(CN1175:CY1175)*$O$23+$N$23,-1)","v":-1}]
[null,null,null,null,null,null,null,null,null,null,null,null,null,null,null,null,null,null,null,null,null,null,null,null,null,null,null,null,null,null,null,null,null,null,23.539999999999587,0,0,0,0,0,0,0,0,0,0,0,0,{"$f":"IF($O$20<>0,SUM(AJ1179:AU1179)*$O$20+$N$20,-1)","v":11},null,0,0,0,0,0,0,0,0,0,0,0,0,{"$f":"IF($O$22<>0,SUM(AX1179:BI1179)*$O$22+$N$22,-1)","v":15},null,0,0,0,0,0,0,0,0,0,0,0,0,{"$f":"IF($O$24<>0,SUM(BL1179:BW1179)*$O$24+$N$24,-1)","v":10},null,0,0,0,0,0,0,0,0,0,0,0,0,{"$f":"IF($O$21<>0,SUM(BZ1179:CK1179)*$O$21+$N$21,-1)","v":-1},null,0,0,0,0,0,0,0,0,0,0,0,0,{"$f":"IF($O$23<>0,SUM(CN1179:CY1179)*$O$23+$N$23,-1)","v":-1}]
[null,null,null,null,null,null,null,null,null,null,null,null,null,null,null,null,null,null,null,null,null,null,null,null,null,null,null,null,null,null,null,null,null,null,23.699999999999584,0,0,0,0,0,0,0,1.1335035542898108E-283,0,0,0,0,{"$f":"IF($O$20<>0,SUM(AJ1187:AU1187)*$O$20+$N$20,-1)","v":11},null,0,0,0,0,0,0,0,0,0,0,0,0,{"$f":"IF($O$22<>0,SUM(AX1187:BI1187)*$O$22+$N$22,-1)","v":15},null,0,0,0,0,0,0,0,1.1335035542898108E-283,0,0,0,0,{"$f":"IF($O$24<>0,SUM(BL1187:BW1187)*$O$24+$N$24,-1)","v":10},null,0,0,0,0,0,0,0,0,0,0,0,0,{"$f":"IF($O$21<>0,SUM(BZ1187:CK1187)*$O$21+$N$21,-1)","v":-1},null,0,0,0,0,0,0,0,0,0,0,0,0,{"$f":"IF($O$23<>0,SUM(CN1187:CY1187)*$O$23+$N$23,-1)","v":-1}]
[null,null,null,null,null,null,null,null,null,null,null,null,null,null,null,null,null,null,null,null,null,null,null,null,null,null,null,null,null,null,null,null,null,null,23.799999999999581,0,0,0,0,0,0,0,1.3743607743197422E-246,0,0,0,0,{"$f":"IF($O$20<>0,SUM(AJ1192:AU1192)*$O$20+$N$20,-1)","v":11},null,0,0,0,0,0,0,0,0,0,0,0,0,{"$f":"IF($O$22<>0,SUM(AX1192:BI1192)*$O$22+$N$22,-1)","v":15},null,0,0,0,0,0,0,0,1.3743607743197422E-246,0,0,0,0,{"$f":"IF($O$24<>0,SUM(BL1192:BW1192)*$O$24+$N$24,-1)","v":10},null,0,0,0,0,0,0,0,0,0,0,0,0,{"$f":"IF($O$21<>0,SUM(BZ1192:CK1192)*$O$21+$N$21,-1)","v":-1},null,0,0,0,0,0,0,0,0,0,0,0,0,{"$f":"IF($O$23<>0,SUM(CN1192:CY1192)*$O$23+$N$23,-1)","v":-1}]
[null,null,null,null,null,null,null,null,null,null,null,null,null,null,null,null,null,null,null,null,null,null,null,null,null,null,null,null,null,null,null,null,null,null,23.959999999999578,0,0,0,0,0,0,0,1.1922622451929376E-192,0,0,0,0,{"$f":"IF($O$20<>0,SUM(AJ1200:AU1200)*$O$20+$N$20,-1)","v":11},null,0,0,0,0,0,0,0,0,0,0,0,0,{"$f":"IF($O$22<>0,SUM(AX1200:BI1200)*$O$22+$N$22,-1)","v":15},null,0,0,0,0,0,0,0,1.1922622451929376E-192,0,0,0,0,{"$f":"IF($O$24<>0,SUM(BL1200:BW1200)*$O$24+$N$24,-1)","v":10},null,0,0,0,0,0,0,0,0,0,0,0,0,{"$f":"IF($O$21<>0,SUM(BZ1200:CK1200)*$O$21+$N$21,-1)","v":-1},null,0,0,0,0,0,0,0,0,0,0,0,0,{"$f":"IF($O$23<>0,SUM(CN1200:CY1200)*$O$23+$N$23,-1)","v":-1}]
[null,null,null,null,null,null,null,null,null,null,null,null,null,null,null,null,null,null,null,null,null,null,null,null,null,null,null,null,null,null,null,null,null,null,24.039999999999576,0,0,0,0,0,0,0,3.5910722042926749E-168,0,0,0,0,{"$f":"IF($O$20<>0,SUM(AJ1204:AU1204)*$O$20+$N$20,-1)","v":11},null,0,0,0,0,0,0,0,0,0,0,0,0,{"$f":"IF($O$22<>0,SUM(AX1204:BI1204)*$O$22+$N$22,-1)","v":15},null,0,0,0,0,0,0,0,3.5910722042926749E-168,0,0,0,0,{"$f":"IF($O$24<>0,SUM(BL1204:BW1204)*$O$24+$N$24,-1)","v":10},null,0,0,0,0,0,0,0,0,0,0,0,0,{"$f":"IF($O$21<>0,SUM(BZ1204:CK1204)*$O$21+$N$21,-1)","v":-1},null,0,0,0,0,0,0,0,0,0,0,0,0,{"$f":"IF($O$23<>0,SUM(CN1204:CY1204)*$O$23+$N$23,-1)","v":-1}]
[null,null,null,null,null,null,null,null,null,null,null,null,null,null,null,null,null,null,null,null,null,null,null,null,null,null,null,null,null,null,null,null,null,null,24.199999999999573,0,0,0,0,0,0,0,3.4069242742270805E-124,0,0,0,0,{"$f":"IF($O$20<>0,SUM(AJ1212:AU1212)*$O$20+$N$20,-1)","v":11},null,0,0,0,0,0,0,0,0,0,0,0,0,{"$f":"IF($O$22<>0,SUM(AX1212:BI1212)*$O$22+$N$22,-1)","v":15},null,0,0,0,0,0,0,0,3.4069242742270805E-124,0,0,0,0,{"$f":"IF($O$24<>0,SUM(BL1212:BW1212)*$O$24+$N$24,-1)","v":10},null,0,0,0,0,0,0,0,0,0,0,0,0,{"$f":"IF($O$21<>0,SUM(BZ1212:CK1212)*$O$21+$N$21,-1)","v":-1},null,0,0,0,0,0,0,0,0,0,0,0,0,{"$f":"IF($O$23<>0,SUM(CN1212:CY1212)*$O$23+$N$23,-1)","v":-1}]
[null,null,null,null,null,null,null,null,null,null,null,null,null,null,null,null,null,null,null,null,null,null,null,null,null,null,null,null,null,null,null,null,null,null,24.35999999999957,0,0,0,0,0,0,0,7.3917231515561877E-87,0,0,0,0,{"$f":"IF($O$20<>0,SUM(AJ1220:AU1220)*$O$20+$N$20,-1)","v":11},null,0,0,0,0,0,0,0,0,0,0,0,0,{"$f":"IF($O$22<>0,SUM(AX1220:BI1220)*$O$22+$N$22,-1)","v":15},null,0,0,0,0,0,0,0,7.3917231515561877E-87,0,0,0,0,{"$f":"IF($O$24<>0,SUM(BL1220:BW1220)*$O$24+$N$24,-1)","v":10},null,0,0,0,0,0,0,0,0,0,0,0,0,{"$f":"IF($O$21<>0,SUM(BZ1220:CK1220)*$O$21+$N$21,-1)","v":-1},null,0,0,0,0,0,1.9327950583364493E-246,0,0,0,0,0,0,{"$f":"IF($O$23<>0,SUM(CN1220:CY1220)*$O$23+$N$23,-1)","v":-1}]
[null,null,null,null,null,null,null,null,null,null,null,null,null,null,null,null,null,null,null,null,null,null,null,null,null,null,null,null,null,null,null,null,null,null,24.459999999999567,0,0,0,0,0,0,0,6.7877640108995934E-67,0,0,0,0,{"$f":"IF($O$20<>0,SUM(AJ1225:AU1225)*$O$20+$N$20,-1)","v":11},null,0,0,0,0,0,7.859786663597925E-308,0,0,0,0,0,0,{"$f":"IF($O$22<>0,SUM(AX1225:BI1225)*$O$22+$N$22,-1)","v":15},null,0,0,0,0,0,0,0,6.7877640108995934E-67,0,0,0,0,{"$f":"IF($O$24<>0,SUM(BL1225:BW1225)*$O$24+$N$24,-1)","v":10},null,0,0,0,0,0,0,0,0,0,0,0,0,{"$f":"IF($O$21<>0,SUM(BZ1225:CK1225)*$O$21+$N$21,-1)","v":-1},null,0,0,0,0,0,3.4915724839829749E-207,0,0,0,0,0,0,{"$f":"IF($O$23<>0,SUM(CN1225:CY1225)*$O$23+$N$23,-1)","v":-1}]
[null,null,null,null,null,null,null,null,null,null,null,null,null,null,null,null,null,null,null,null,null,null,null,null,null,null,null,null,null,null,null,null,null,null,24.619999999999564,0,0,0,0,0,0,0,2.381676976782452E-40,0,0,0,0,{"$f":"IF($O$20<>0,SUM(AJ1233:AU1233)*$O$20+$N$20,-1)","v":11},null,0,0,0,0,0,2.2152838617402882E-258,0,0,0,0,0,0,{"$f":"IF($O$22<>0,SUM(AX1233:BI1233)*$O$22+$N$22,-1)","v":15},null,0,0,0,0,0,0,0,2.381676976782452E-40,0,0,0,0,{"$f":"IF($O$24<>0,SUM(BL1233:BW1233)*$O$24+$N$24,-1)","v":10},null,0,0,0,0,0,0,0,0,0,0,0,0,{"$f":"IF($O$21<>0,SUM(BZ1233:CK1233)*$O$21+$N$21,-1)","v":-1},null,0,0,0,0,0,1.9245458638956988E-151,0,0,0,0,0,0,{"$f":"IF($O$23<>0,SUM(CN1233:CY1233)*$O$23+$N$23,-1)","v":-1}]
[null,null,null,null,null,null,null,null,null,null,null,null,null,null,null,null,null,null,null,null,null,null,null,null,null,null,null,null,null,null,null,null,null,null,24.759999999999561,0,0,0,0,0,0,0,1.4335076764633406E-22,0,0,0,0,{"$f":"IF($O$20<>0,SUM(AJ1240:AU1240)*$O$20+$N$20,-1)","v":11},null,0,0,0,0,0,1.1664213216034952E-218,0,0,0,0,0,0,{"$f":"IF($O$22<>0,SUM(AX1240:BI1240)*$O$22+$N$22,-1)","v":15},null,0,0,0,0,0,0,0,1.4335076764633406E-22,0,0,0,0,{"$f":"IF($O$24<>0,SUM(BL1240:BW1240)*$O$24+$N$24,-1)","v":10},null,0,0,0,0,0,0,0,1.8186423063310184E-267,0,0,0,0,{"$f":"IF($O$21<>0,SUM(BZ1240:CK1240)*$O$21+$N$21,-1)","v":-1},null,0,0,0,0,0,8.3246437610081395E-110,0,0,0,0,0,0,{"$f":"IF($O$23<>0,SUM(CN1240:CY1240)*$O$23+$N$23,-1)","v":-1}]
[null,null,null,null,null,null,null,null,null,null,null,null,null,null,null,null,null,null,null,null,null,null,null,null,null,null,null,null,null,null,null,null,null,null,24.859999999999559,0,0,0,0,0,0,0,5.5360648985829899E-13,0,0,0,0,{"$f":"IF($O$20<>0,SUM(AJ1245:AU1245)*$O$20+$N$20,-1)","v":11.000000000000554},null,0,0,0,0,0,2.5837535066962222E-192,0,0,0,0,0,0,{"$f":"IF($O$22<>0,SUM(AX1245:BI1245)*$O$22+$N$22,-1)","v":15},null,0,0,0,0,0,0,0,5.5360648985829899E-13,0,0,0,0,{"$f":"IF($O$24<>0,SUM(BL1245:BW1245)*$O$24+$N$24,-1)","v":9.9999999999994458},null,0,0,0,0,0,0,0,1.0793288068057214E-231,0,0,0,0,{"$f":"IF($O$21<>0,SUM(BZ1245:CK1245)*$O$21+$N$21,-1)","v":-1},null,0,0,0,0,0,3.8173337515598926E-84,0,0,0,0,0,0,{"$f":"IF($O$23<>0,SUM(CN1245:CY1245)*$O$23+$N$23,-1)","v":-1}]
[null,null,null,null,null,null,null,null,null,null,null,null,null,null,null,null,null,null,null,null,null,null,null,null,null,null,null,null,null,null,null,null,null,null,25.019999999999555,0,0,0,0,0,0,0,4.8581337586211413E-3,0,0,0,0,{"$f":"IF($O$20<>0,SUM(AJ1253:AU1253)*$O$20+$N$20,-1)","v":11.004858133758621},null,0,0,0,0,0,1.1254547732965802E-153,0,0,0,0,0,0,{"$f":"IF($O$22<>0,SUM(AX1253:BI1253)*$O$22+$N$22,-1)","v":15},null,0,0,0,0,0,0,0,4.8581337586211413E-3,0,0,0,0,{"$f":"IF($O$24<>0,SUM(BL1253:BW1253)*$O$24+$N$24,-1)","v":9.9951418662413793},null,0,0,0,0,0,0,0,8.6426750809984139E-180,0,0,0,0,{"$f":"IF($O$21<>0,SUM(BZ1253:CK1253)*$O$21+$N$21,-1)","v":-1},null,0,0,0,0,0,3.7184511909559021E-50,0,0,0,0,0,0,{"$f":"IF($O$23<>0,SUM(CN1253:CY1253)*$O$23+$N$23,-1)","v":-1}]
[null,null,null,null,null,null,null,null,null,null,null,null,null,null,null,null,null,null,null,null,null,null,null,null,null,null,null,null,null,null,null,null,null,null,25.179999999999552,0,0,0,0,0,0,0,9.749506476646367,0,0,0,0,{"$f":"IF($O$20<>0,SUM(AJ1261:AU1261)*$O$20+$N$20,-1)","v":20.749506476646367},null,0,0,0,0,0,2.3228884416393106E-119,0,0,0,0,0,0,{"$f":"IF($O$22<>0,SUM(AX1261:BI1261)*$O$22+$N$22,-1)","v":15},null,0,0,0,0,0,0,0,9.749506476646367,0,0,0,0,{"$f":"IF($O$24<>0,SUM(BL1261:BW1261)*$O$24+$N$24,-1)","v":0.25049352335363295},null,0,0,0,0,0,0,0,1.8848367665215706E-134,0,0,0,0,{"$f":"IF($O$21<>0,SUM(BZ1261:CK1261)*$O$21+$N$21,-1)","v":-1},null,0,0,0,0,0,7.2091147482697223E-25,0,0,0,0,0,0,{"$f":"IF($O$23<>0,SUM(CN1261:CY1261)*$O$23+$N$23,-1)","v":-1}]
[null,null,null,null,null,null,null,null,null,null,null,null,null,null,null,null,null,null,null,null,null,null,null,null,null,null,null,null,null,null,null,null,null,null,25.27999999999955,0,0,0,0,0,0,0,0.47950693711574721,0,0,0,0,{"$f":"IF($O$20<>0,SUM(AJ1266:AU1266)*$O$20+$N$20,-1)","v":11.479506937115747},null,0,0,0,0,0,4.1375525233166491E-100,0,0,0,0,0,0,{"$f":"IF($O$22<>0,SUM(AX1266:BI1266)*$O$22+$N$22,-1)","v":15},null,0,0,0,0,0,0,0,0.47950693711574721,0,0,0,0,{"$f":"IF($O$24<>0,SUM(BL1266:BW1266)*$O$24+$N$24,-1)","v":9.5204930628842526},null,0,0,0,0,0,0,0,1.8975457314919849E-109,0,0,0,0,{"$f":"IF($O$21<>0,SUM(BZ1266:CK1266)*$O$21+$N$21,-1)","v":-1},null,0,0,0,0,0,1.754137336604591E-13,0,0,0,0,0,0,{"$f":"IF($O$23<>0,SUM(CN1266:CY1266)*$O$23+$N$23,-1)","v":-1}]
[null,null,null,null,null,null,null,null,null,null,null,null,null,null,null,null,null,null,null,null,null,null,null,null,null,null,null,null,null,null,null,null,null,null,25.419999999999547,0,0,0,0,0,0,0,3.0998202219427024E-7,0,0,0,0,{"$f":"IF($O$20<>0,SUM(AJ1273:AU1273)*$O$20+$N$20,-1)","v":11.000000309982022},null,0,0,0,0,0,5.3687424265264856E-76,0,0,0,0,0,0,{"$f":"IF($O$22<>0,SUM(AX1273:BI1273)*$O$22+$N$22,-1)","v":15},null,0,0,0,0,0,0,0,3.0998202219427024E-7,0,0,0,0,{"$f":"IF($O$24<>0,SUM(BL1273:BW1273)*$O$24+$N$24,-1)","v":9.9999996900179777},null,0,0,0,0,0,0,0,9.4206956124404093E-79,0,0,0,0,{"$f":"IF($O$21<>0,SUM(BZ1273:CK1273)*$O$21+$N$21,-1)","v":-1},null,0,0,0,0,0,2.9828593827440956E-3,4.9129885976633501E-268,0,0,0,0,0,{"$f":"IF($O$23<>0,SUM(CN1273:CY1273)*$O$23+$N$23,-1)","v":-1}]
[null,null,null,null,null,null,null,null,null,null,null,null,null,null,null,null,null,null,null,null,null,null,null,null,null,null,null,null,null,null,null,null,null,null,25.519999999999545,0,0,0,0,0,0,0,9.0665243854197841E-15,0,0,0,0,{"$f":"IF($O$20<>0,SUM(AJ1278:AU1278)*$O$20+$N$20,-1)","v":11.000000000000009},null,0,0,0,0,0,8.4427633074331827E-61,0,0,0,0,0,0,{"$f":"IF($O$22<>0,SUM(AX1278:BI1278)*$O$22+$N$22,-1)","v":15},null,0,0,0,0,0,0,0,9.0665243854197841E-15,0,0,0,0,{"$f":"IF($O$24<>0,SUM(BL1278:BW1278)*$O$24+$N$24,-1)","v":9.9999999999999911},null,0,0,0,0,0,0,0,6.6441116651336919E-60,0,0,0,0,{"$f":"IF($O$21<>0,SUM(BZ1278:CK1278)*$O$21+$N$21,-1)","v":-1},null,0,0,0,0,0,5.0530077692344326,1.2423045398856355E-222,0,0,0,0,0,{"$f":"IF($O$23<>0,SUM(CN1278:CY1278)*$O$23+$N$23,-1)","v":-1}]
[null,null,null,null,null,null,null,null,null,null,null,null,null,null,null,null,null,null,null,null,null,null,null,null,null,null,null,null,null,null,null,null,null,null,25.679999999999541,0,0,0,0,0,0,0,3.2180605604828935E-32,0,0,0,0,{"$f":"IF($O$20<>0,SUM(AJ1286:AU1286)*$O$20+$N$20,-1)","v":11},null,0,0,0,0,0,5.3395892278086861E-40,0,0,0,0,0,0,{"$f":"IF($O$22<>0,SUM(AX1286:BI1286)*$O$22+$N$22,-1)","v":15},null,0,0,0,0,0,0,0,3.2180605604828935E-32,0,0,0,0,{"$f":"IF($O$24<>0,SUM(BL1286:BW1286)*$O$24+$N$24,-1)","v":10},null,0,0,0,0,0,0,0,4.4243278008241056E-35,0,0,0,0,{"$f":"IF($O$21<>0,SUM(BZ1286:CK1286)*$O$21+$N$21,-1)","v":-1},null,0,0,0,0,0,6.3123090922767439E-2,9.8759972802724074E-159,0,0,0,0,0,{"$f":"IF($O$23<>0,SUM(CN1286:CY1286)*$O$23+$N$23,-1)","v":-1}]
[null,null,null,null,null,null,null,null,null,null,null,null,null,null,null,null,null,null,null,null,null,null,null,null,null,null,null,null,null,null,null,null,null,null,25.899999999999537,0,0,0,0,0,0,0,4.6875630353916553E-67,0,0,0,0,{"$f":"IF($O$20<>0,SUM(AJ1297:AU1297)*$O$20+$N$20,-1)","v":11},null,0,0,0,0,0,1.8536106904215178E-18,1.1318240625966096E-268,0,0,0,0,0,{"$f":"IF($O$22<>0,SUM(AX1297:BI1297)*$O$22+$N$22,-1)","v":15},null,0,0,0,0,0,0,0,4.6875630353916553E-67,0,0,0,0,{"$f":"IF($O$24<>0,SUM(BL1297:BW1297)*$O$24+$N$24,-1)","v":10},null,0,0,0,0,0,0,0,1.1450821015227223E-11,0,0,0,0,{"$f":"IF($O$21<>0,SUM(BZ1297:CK1297)*$O$21+$N$21,-1)","v":-1},null,0,0,0,0,0,9.4586747075976216E-19,1.9273879522072265E-88,0,0,0,0,0,{"$f":"IF($O$23<>0,SUM(CN1297:CY1297)*$O$23+$N$23,-1)","v":-1}]
[null,null,null,null,null,null,null,null,null,null,null,null,null,null,null,null,null,null,null,null,null,null,null,null,null,null,null,null,null,null,null,null,null,null,25.919999999999536,0,0,0,0,0,0,0,7.6104162295066565E-71,0,0,0,0,{"$f":"IF($O$20<>0,SUM(AJ1298:AU1298)*$O$20+$N$20,-1)","v":11},null,0,0,0,0,0,6.61967178316226E-17,2.8635331162409979E-262,0,0,0,0,0,{"$f":"IF($O$22<>0,SUM(AX1298:BI1298)*$O$22+$N$22,-1)","v":15},null,0,0,0,0,0,0,0,7.6104162295066565E-71,0,0,0,0,{"$f":"IF($O$24<>0,SUM(BL1298:BW1298)*$O$24+$N$24,-1)","v":10},null,0,0,0,0,0,0,0,3.7310729999146937E-10,0,0,0,0,{"$f":"IF($O$21<>0,SUM(BZ1298:CK1298)*$O$21+$N$21,-1)","v":-1},null,0,0,0,0,0,4.271857480910942E-21,4.6350186774001177E-83,0,0,0,0,0,{"$f":"IF($O$23<>0,SUM(CN1298:CY1298)*$O$23+$N$23,-1)","v":-1}]
[null,null,null,null,null,null,null,null,null,null,null,null,null,null,null,null,null,null,null,null,null,null,null,null,null,null,null,null,null,null,null,null,null,null,26.079999999999533,0,0,0,0,0,0,0,6.7557560761365646E-105,0,0,0,0,{"$f":"IF($O$20<>0,SUM(AJ1306:AU1306)*$O$20+$N$20,-1)","v":11},null,0,0,0,0,0,6.4702048954233847E-7,8.0149248999813942E-214,0,0,0,0,0,{"$f":"IF($O$22<>0,SUM(AX1306:BI1306)*$O$22+$N$22,-1)","v":15.000000647020489},null,0,0,0,0,0,0,0,6.7557560761365646E-105,0,0,0,0,{"$f":"IF($O$24<>0,SUM(BL1306:BW1306)*$O$24+$N$24,-1)","v":10},null,0,0,0,0,0,0,0,9.6177165176537141E-2,0,0,0,0,{"$f":"IF($O$21<>0,SUM(BZ1306:CK1306)*$O$21+$N$21,-1)","v":-1},null,0,0,0,0,0,9.4308273852305481E-45,4.5813411737042915E-46,0,0,0,0,0,{"$f":"IF($O$23<>0,SUM(CN1306:CY1306)*$O$23+$N$23,-1)","v":-1}]
[null,null,null,null,null,null,null,null,null,null,null,null,null,null,null,null,null,null,null,null,null,null,null,null,null,null,null,null,null,null,null,null,null,null,26.239999999999529,0,0,0,0,0,0,0,1.3714638979839785E-145,0,0,0,0,{"$f":"IF($O$20<>0,SUM(AJ1314:AU1314)*$O$20+$N$20,-1)","v":11},null,0,0,0,0,0,0.29965597948553802,2.5837441367735052E-170,0,0,0,0,0,{"$f":"IF($O$22<>0,SUM(AX1314:BI1314)*$O$22+$N$22,-1)","v":15.299655979485538},null,0,0,0,0,0,0,0,1.3714638979839785E-145,0,0,0,0,{"$f":"IF($O$24<>0,SUM(BL1314:BW1314)*$O$24+$N$24,-1)","v":10},null,0,0,0,0,0,0,0,6.7521384499813601,0,0,0,0,{"$f":"IF($O$21<>0,SUM(BZ1314:CK1314)*$O$21+$N$21,-1)","v":-1},null,0,0,0,0,0,4.1438186118229648E-77,7.8301320162426717E-20,0,0,0,0,0,{"$f":"IF($O$23<>0,SUM(CN1314:CY1314)*$O$23+$N$23,-1)","v":-1}]
[null,null,null,null,null,null,null,null,null,null,null,null,null,null,null,null,null,null,null,null,null,null,null,null,null,null,null,null,null,null,null,null,null,null,26.359999999999527,0,0,0,0,0,0,0,1.8189536784749939E-180,0,0,0,0,{"$f":"IF($O$20<>0,SUM(AJ1320:AU1320)*$O$20+$N$20,-1)","v":11},null,0,0,0,0,0,7.7273298146270131,6.3463616039143597E-141,0,0,0,0,0,{"$f":"IF($O$22<>0,SUM(AX1320:BI1320)*$O$22+$N$22,-1)","v":22.727329814627012},null,0,0,0,0,0,0,0,1.8189536784749939E-180,0,0,0,0,{"$f":"IF($O$24<>0,SUM(BL1320:BW1320)*$O$24+$N$24,-1)","v":10},null,0,0,0,0,0,0,0,8.0542141912609312E-3,0,0,0,0,{"$f":"IF($O$21<>0,SUM(BZ1320:CK1320)*$O$21+$N$21,-1)","v":-1},null,0,0,0,0,0,4.3596719781693161E-107,3.2039139163999267E-7,0,0,0,0,0,{"$f":"IF($O$23<>0,SUM(CN1320:CY1320)*$O$23+$N$23,-1)","v":-1}]
[null,null,null,null,null,null,null,null,null,null,null,null,null,null,null,null,null,null,null,null,null,null,null,null,null,null,null,null,null,null,null,null,null,null,26.479999999999524,0,0,0,0,0,0,0,4.4364351514274825E-219,0,0,0,0,{"$f":"IF($O$20<>0,SUM(AJ1326:AU1326)*$O$20+$N$20,-1)","v":11},null,0,0,0,0,0,0.73616315456629322,2.599028686971671E-114,0,0,0,0,0,{"$f":"IF($O$22<>0,SUM(AX1326:BI1326)*$O$22+$N$22,-1)","v":15.736163154566293},null,0,0,0,0,0,0,0,4.4364351514274825E-219,0,0,0,0,{"$f":"IF($O$24<>0,SUM(BL1326:BW1326)*$O$24+$N$24,-1)","v":10},null,0,0,0,0,0,0,0,1.9492443218997956E-9,0,0,0,0,{"$f":"IF($O$21<>0,SUM(BZ1326:CK1326)*$O$21+$N$21,-1)","v":-1},null,0,0,0,0,0,5.8498968780834797E-142,1.1584437509900993,0,0,0,0,0,{"$f":"IF($O$23<>0,SUM(CN1326:CY1326)*$O$23+$N$23,-1)","v":-1}]
[null,null,null,null,null,null,null,null,null,null,null,null,null,null,null,null,null,null,null,null,null,null,null,null,null,null,null,null,null,null,null,null,null,null,26.719999999999519,0,0,0,0,0,0,0,1.6412882113641201E-307,0,0,0,0,{"$f":"IF($O$20<>0,SUM(AJ1338:AU1338)*$O$20+$N$20,-1)","v":11},null,0,0,0,0,0,3.3688192827318261E-10,2.0203026835599568E-69,0,0,0,0,0,{"$f":"IF($O$22<>0,SUM(AX1338:BI1338)*$O$22+$N$22,-1)","v":15.000000000336883},null,0,0,0,0,0,0,0,1.6412882113641201E-307,0,0,0,0,{"$f":"IF($O$24<>0,SUM(BL1338:BW1338)*$O$24+$N$24,-1)","v":10},null,0,0,0,0,0,0,0,9.5353422070306856E-34,0,0,0,0,{"$f":"IF($O$21<>0,SUM(BZ1338:CK1338)*$O$21+$N$21,-1)","v":-1},null,0,0,0,0,0,2.1850478864539598E-226,1.044985464220199E-5,0,0,0,0,0,{"$f":"IF($O$23<>0,SUM(CN1338:CY1338)*$O$23+$N$23,-1)","v":-1}]
[null,null,null,null,null,null,null,null,null,null,null,null,null,null,null,null,null,null,null,null,null,null,null,null,null,null,null,null,null,null,null,null,null,null,26.739999999999519,0,0,0,0,0,0,0,0,0,0,0,0,{"$f":"IF($O$20<>0,SUM(AJ1339:AU1339)*$O$20+$N$20,-1)","v":11},null,0,0,0,0,0,2.0416996103440025E-11,3.5052489269774957E-66,0,0,0,0,0,{"$f":"IF($O$22<>0,SUM(AX1339:BI1339)*$O$22+$N$22,-1)","v":15.000000000020417},null,0,0,0,0,0,0,0,0,0,0,0,0,{"$f":"IF($O$24<>0,SUM(BL1339:BW1339)*$O$24+$N$24,-1)","v":10},null,0,0,0,0,0,0,0,1.9351484691526116E-36,0,0,0,0,{"$f":"IF($O$21<>0,SUM(BZ1339:CK1339)*$O$21+$N$21,-1)","v":-1},null,0,0,0,0,0,2.6309748957559988E-234,3.2039139169630919E-7,0,0,0,0,0,{"$f":"IF($O$23<>0,SUM(CN1339:CY1339)*$O$23+$N$23,-1)","v":-1}]
[null,null,null,null,null,null,null,null,null,null,null,null,null,null,null,null,null,null,null,null,null,null,null,null,null,null,null,null,null,null,null,null,null,null,26.979999999999514,0,0,0,0,0,0,0,0,5.420866957885243E-233,0,0,0,{"$f":"IF($O$20<>0,SUM(AJ1351:AU1351)*$O$20+$N$20,-1)","v":11},null,0,0,0,0,0,2.6904651292470146E-31,2.4967305837057705E-33,0,0,0,0,0,{"$f":"IF($O$22<>0,SUM(AX1351:BI1351)*$O$22+$N$22,-1)","v":15},null,0,0,0,0,0,0,0,0,5.420866957885243E-233,0,0,0,{"$f":"IF($O$24<>0,SUM(BL1351:BW1351)*$O$24+$N$24,-1)","v":10},null,0,0,0,0,0,0,0,9.4257616268519704E-77,0,0,0,0,{"$f":"IF($O$21<>0,SUM(BZ1351:CK1351)*$O$21+$N$21,-1)","v":-1},null,0,0,0,0,0,0,1.6909847379356758E-38,0,0,0,0,0,{"$f":"IF($O$23<>0,SUM(CN1351:CY1351)*$O$23+$N$23,-1)","v":-1}]
[null,null,null,null,null,null,null,null,null,null,null,null,null,null,null,null,null,null,null,null,null,null,null,null,null,null,null,null,null,null,null,null,null,null,27.119999999999511,0,0,0,0,0,0,0,0,9.4389002893986087E-176,0,0,0,{"$f":"IF($O$20<>0,SUM(AJ1358:AU1358)*$O$20+$N$20,-1)","v":11},null,0,0,0,0,0,2.1865888491476554E-47,2.6906428258692032E-19,0,0,0,0,0,{"$f":"IF($O$22<>0,SUM(AX1358:BI1358)*$O$22+$N$22,-1)","v":15},null,0,0,0,0,0,0,0,0,9.4389002893986087E-176,0,0,0,{"$f":"IF($O$24<>0,SUM(BL1358:BW1358)*$O$24+$N$24,-1)","v":10},null,0,0,0,0,0,0,0,4.3395230329563169E-107,0,0,0,0,{"$f":"IF($O$21<>0,SUM(BZ1358:CK1358)*$O$21+$N$21,-1)","v":-1},null,0,0,0,0,0,0,6.3145963485947657E-68,0,0,0,0,0,{"$f":"IF($O$23<>0,SUM(CN1358:CY1358)*$O$23+$N$23,-1)","v":-1}]
[null,null,null,null,null,null,null,null,null,null,null,null,null,null,null,null,null,null,null,null,null,null,null,null,null,null,null,null,null,null,null,null,null,null,27.13999999999951,0,0,0,0,0,0,0,0,3.1314710844642816E-168,0,0,0,{"$f":"IF($O$20<>0,SUM(AJ1359:AU1359)*$O$20+$N$20,-1)","v":11},null,0,0,0,0,0,5.900836121082938E-50,1.3360761898971446E-17,0,0,0,0,0,{"$f":"IF($O$22<>0,SUM(AX1359:BI1359)*$O$22+$N$22,-1)","v":15},null,0,0,0,0,0,0,0,0,3.1314710844642816E-168,0,0,0,{"$f":"IF($O$24<>0,SUM(BL1359:BW1359)*$O$24+$N$24,-1)","v":10},null,0,0,0,0,0,0,0,7.8216519432839618E-112,0,0,0,0,{"$f":"IF($O$21<>0,SUM(BZ1359:CK1359)*$O$21+$N$21,-1)","v":-1},null,0,0,0,0,0,0,8.3895702651194354E-73,0,0,0,0,0,{"$f":"IF($O$23<>0,SUM(CN1359:CY1359)*$O$23+$N$23,-1)","v":-1}]
[null,null,null,null,null,null,null,null,null,null,null,null,null,null,null,null,null,null,null,null,null,null,null,null,null,null,null,null,null,null,null,null,null,null,27.379999999999505,0,0,0,0,0,0,0,0,8.8132926332179135E-91,0,0,0,{"$f":"IF($O$20<>0,SUM(AJ1371:AU1371)*$O$20+$N$20,-1)","v":11},null,0,0,0,0,0,4.7242904430387293E-86,2.8744650891134801E-3,0,0,0,0,0,{"$f":"IF($O$22<>0,SUM(AX1371:BI1371)*$O$22+$N$22,-1)","v":15.002874465089114},null,0,0,0,0,0,0,0,0,8.8132926332179135E-91,0,0,0,{"$f":"IF($O$24<>0,SUM(BL1371:BW1371)*$O$24+$N$24,-1)","v":10},null,0,0,0,0,0,0,0,9.1757680389853274E-177,0,0,0,0,{"$f":"IF($O$21<>0,SUM(BZ1371:CK1371)*$O$21+$N$21,-1)","v":-1},null,0,0,0,0,0,0,1.9412476830986745E-144,0,0,0,0,0,{"$f":"IF($O$23<>0,SUM(CN1371:CY1371)*$O$23+$N$23,-1)","v":-1}]
[null,null,null,null,null,null,null,null,null,null,null,null,null,null,null,null,null,null,null,null,null,null,null,null,null,null,null,null,null,null,null,null,null,null,27.439999999999504,0,0,0,0,0,0,0,0,4.1212012011260397E-75,0,0,0,{"$f":"IF($O$20<>0,SUM(AJ1374:AU1374)*$O$20+$N$20,-1)","v":11},null,0,0,0,0,0,1.3486637301438759E-96,0.20206697287877462,0,0,0,0,0,{"$f":"IF($O$22<>0,SUM(AX1374:BI1374)*$O$22+$N$22,-1)","v":15.202066972878775},null,0,0,0,0,0,0,0,0,4.1212012011260397E-75,0,0,0,{"$f":"IF($O$24<>0,SUM(BL1374:BW1374)*$O$24+$N$24,-1)","v":10},null,0,0,0,0,0,0,0,2.6425103855938271E-195,0,0,0,0,{"$f":"IF($O$21<>0,SUM(BZ1374:CK1374)*$O$21+$N$21,-1)","v":-1},null,0,0,0,0,0,0,3.9408756620537563E-166,0,0,0,0,0,{"$f":"IF($O$23<>0,SUM(CN1374:CY1374)*$O$23+$N$23,-1)","v":-1}]
[null,null,null,null,null,null,null,null,null,null,null,null,null,null,null,null,null,null,null,null,null,null,null,null,null,null,null,null,null,null,null,null,null,null,27.539999999999502,0,0,0,0,0,0,0,0,2.8139189201735809E-52,0,0,0,{"$f":"IF($O$20<>0,SUM(AJ1379:AU1379)*$O$20+$N$20,-1)","v":11},null,0,0,0,0,0,1.6013310268148101E-115,6.9246620061598785,0,0,0,0,0,{"$f":"IF($O$22<>0,SUM(AX1379:BI1379)*$O$22+$N$22,-1)","v":21.924662006159878},null,0,0,0,0,0,0,0,0,2.8139189201735809E-52,0,0,0,{"$f":"IF($O$24<>0,SUM(BL1379:BW1379)*$O$24+$N$24,-1)","v":10},null,0,0,0,0,0,0,0,2.947489808633255E-228,0,0,0,0,{"$f":"IF($O$21<>0,SUM(BZ1379:CK1379)*$O$21+$N$21,-1)","v":-1},null,0,0,0,0,0,0,1.1974826655730648E-205,0,0,0,0,0,{"$f":"IF($O$23<>0,SUM(CN1379:CY1379)*$O$23+$N$23,-1)","v":-1}]
[null,null,null,null,null,null,null,null,null,null,null,null,null,null,null,null,null,null,null,null,null,null,null,null,null,null,null,null,null,null,null,null,null,null,27.779999999999497,0,0,0,0,0,0,0,0,3.2541829263354781E-14,0,0,0,{"$f":"IF($O$20<>0,SUM(AJ1391:AU1391)*$O$20+$N$20,-1)","v":11.000000000000032},null,0,0,0,0,0,7.7891787247402697E-168,4.4998433154340119E-4,0,0,0,0,0,{"$f":"IF($O$22<>0,SUM(AX1391:BI1391)*$O$22+$N$22,-1)","v":15.000449984331544},null,0,0,0,0,0,0,0,0,3.2541829263354781E-14,0,0,0,{"$f":"IF($O$24<>0,SUM(BL1391:BW1391)*$O$24+$N$24,-1)","v":9.999999999999968},null,0,0,0,0,0,0,0,0,0,0,0,0,{"$f":"IF($O$21<>0,SUM(BZ1391:CK1391)*$O$21+$N$21,-1)","v":-1},null,0,0,0,0,0,0,0,0,0,0,0,0,{"$f":"IF($O$23<>0,SUM(CN1391:CY1391)*$O$23+$N$23,-1)","v":-1}]
[null,null,null,null,null,null,null,null,null,null,null,null,null,null,null,null,null,null,null,null,null,null,null,null,null,null,null,null,null,null,null,null,null,null,27.939999999999493,0,0,0,0,0,0,0,0,5.7426068300227055E-2,0,0,0,{"$f":"IF($O$20<>0,SUM(AJ1399:AU1399)*$O$20+$N$20,-1)","v":11.057426068300227},null,0,0,0,0,0,4.0803229753064773E-208,4.8800124752780065E-13,0,0,0,0,0,{"$f":"IF($O$22<>0,SUM(AX1399:BI1399)*$O$22+$N$22,-1)","v":15.000000000000488},null,0,0,0,0,0,0,0,0,5.7426068300227055E-2,0,0,0,{"$f":"IF($O$24<>0,SUM(BL1399:BW1399)*$O$24+$N$24,-1)","v":9.9425739316997728},null,0,0,0,0,0,0,0,0,0,0,0,0,{"$f":"IF($O$21<>0,SUM(BZ1399:CK1399)*$O$21+$N$21,-1)","v":-1},null,0,0,0,0,0,0,0,0,0,0,0,0,{"$f":"IF($O$23<>0,SUM(CN1399:CY1399)*$O$23+$N$23,-1)","v":-1}]
[null,null,null,null,null,null,null,null,null,null,null,null,null,null,null,null,null,null,null,null,null,null,null,null,null,null,null,null,null,null,null,null,null,null,28.059999999999491,0,0,0,0,0,0,0,0,11.259368381870026,0,0,0,{"$f":"IF($O$20<>0,SUM(AJ1405:AU1405)*$O$20+$N$20,-1)","v":22.259368381870026},null,0,0,0,0,0,3.6494255613194133E-241,5.2948219683505116E-23,0,0,0,0,0,{"$f":"IF($O$22<>0,SUM(AX1405:BI1405)*$O$22+$N$22,-1)","v":15},null,0,0,0,0,0,0,0,0,11.259368381870026,0,0,0,{"$f":"IF($O$24<>0,SUM(BL1405:BW1405)*$O$24+$N$24,-1)","v":-1.2593683818700256},null,0,0,0,0,0,0,0,0,0,0,0,0,{"$f":"IF($O$21<>0,SUM(BZ1405:CK1405)*$O$21+$N$21,-1)","v":-1},null,0,0,0,0,0,0,0,0,0,0,0,0,{"$f":"IF($O$23<>0,SUM(CN1405:CY1405)*$O$23+$N$23,-1)","v":-1}]
[null,null,null,null,null,null,null,null,null,null,null,null,null,null,null,null,null,null,null,null,null,null,null,null,null,null,null,null,null,null,null,null,null,null,{"$f":"AI1410+$B$25","v":28.179999999999488},0,0,0,0,0,0,0,0,2.7288525112361553E-3,0,0,0,{"$f":"IF($O$20<>0,SUM(AJ1411:AU1411)*$O$20+$N$20,-1)","v":11.002728852511236},null,{"$f":"$B$23*NORMDIST($AI1411,$B$20,$B$24*$B$20,FALSE)","v":0},0,0,0,0,1.2058481061532718E-276,9.5783949738442984E-36,0,0,0,0,0,{"$f":"IF($O$22<>0,SUM(AX1411:BI1411)*$O$22+$N$22,-1)","v":15},null,0,0,0,0,0,0,0,0,2.7288525112361553E-3,0,0,0,{"$f":"IF($O$24<>0,SUM(BL1411:BW1411)*$O$24+$N$24,-1)","v":9.9972711474887639},null,0,0,0,0,0,0,0,0,0,0,0,0,{"$f":"IF($O$21<>0,SUM(BZ1411:CK1411)*$O$21+$N$21,-1)","v":-1},null,0,0,0,0,0,0,0,0,0,0,0,0,{"$f":"IF($O$23<>0,SUM(CN1411:CY1411)*$O$23+$N$23,-1)","v":-1}]
[null,null,null,null,null,null,null,null,null,null,null,null,null,null,null,null,null,null,null,null,null,null,null,null,null,null,null,null,null,null,null,null,null,null,28.339999999999485,0,0,0,0,0,0,0,0,2.6615885314529819E-17,0,0,0,{"$f":"IF($O$20<>0,SUM(AJ1419:AU1419)*$O$20+$N$20,-1)","v":11},null,0,0,0,0,0,0,4.676256021421319E-57,0,0,0,0,0,{"$f":"IF($O$22<>0,SUM(AX1419:BI1419)*$O$22+$N$22,-1)","v":15},null,0,0,0,0,0,0,0,0,2.6615885314529819E-17,0,0,0,{"$f":"IF($O$24<>0,SUM(BL1419:BW1419)*$O$24+$N$24,-1)","v":10},null,0,0,0,0,0,0,0,0,0,0,0,0,{"$f":"IF($O$21<>0,SUM(BZ1419:CK1419)*$O$21+$N$21,-1)","v":-1},null,0,0,0,0,0,0,0,0,0,0,0,0,{"$f":"IF($O$23<>0,SUM(CN1419:CY1419)*$O$23+$N$23,-1)","v":-1}]
[null,null,null,null,null,null,null,null,null,null,null,null,null,null,null,null,null,null,null,null,null,null,null,null,null,null,null,null,null,null,null,null,null,null,28.439999999999483,0,0,0,0,0,0,0,0,2.1617749940424495E-31,0,0,0,{"$f":"IF($O$20<>0,SUM(AJ1424:AU1424)*$O$20+$N$20,-1)","v":11},null,0,0,0,0,0,0,6.9561663732424438E-73,0,0,0,0,0,{"$f":"IF($O$22<>0,SUM(AX1424:BI1424)*$O$22+$N$22,-1)","v":15},null,0,0,0,0,0,0,0,0,2.1617749940424495E-31,0,0,0,{"$f":"IF($O$24<>0,SUM(BL1424:BW1424)*$O$24+$N$24,-1)","v":10},null,0,0,0,0,0,0,0,0,0,0,0,0,{"$f":"IF($O$21<>0,SUM(BZ1424:CK1424)*$O$21+$N$21,-1)","v":-1},null,0,0,0,0,0,0,0,0,0,0,0,0,{"$f":"IF($O$23<>0,SUM(CN1424:CY1424)*$O$23+$N$23,-1)","v":-1}]
[null,null,null,null,null,null,null,null,null,null,null,null,null,null,null,null,null,null,null,null,null,null,null,null,null,null,null,null,null,null,null,null,null,null,28.599999999999479,0,0,0,0,0,0,0,0,1.8054782774479627E-62,0,0,0,{"$f":"IF($O$20<>0,SUM(AJ1432:AU1432)*$O$20+$N$20,-1)","v":11},null,0,0,0,0,0,0,3.2038619781800031E-102,0,0,0,0,0,{"$f":"IF($O$22<>0,SUM(AX1432:BI1432)*$O$22+$N$22,-1)","v":15},null,0,0,0,0,0,0,0,0,1.8054782774479627E-62,0,0,0,{"$f":"IF($O$24<>0,SUM(BL1432:BW1432)*$O$24+$N$24,-1)","v":10},null,0,0,0,0,0,0,0,0,0,0,0,0,{"$f":"IF($O$21<>0,SUM(BZ1432:CK1432)*$O$21+$N$21,-1)","v":-1},null,0,0,0,0,0,0,0,0,0,0,0,0,{"$f":"IF($O$23<>0,SUM(CN1432:CY1432)*$O$23+$N$23,-1)","v":-1}]
[null,null,null,null,null,null,null,null,null,null,null,null,null,null,null,null,null,null,null,null,null,null,null,null,null,null,null,null,null,null,null,null,null,null,28.719999999999477,0,0,0,0,0,0,0,0,1.1358819706619904E-92,0,0,0,{"$f":"IF($O$20<>0,SUM(AJ1438:AU1438)*$O$20+$N$20,-1)","v":11},null,0,0,0,0,0,0,1.828792582061542E-127,0,0,0,0,0,{"$f":"IF($O$22<>0,SUM(AX1438:BI1438)*$O$22+$N$22,-1)","v":15},null,0,0,0,0,0,0,0,0,1.1358819706619904E-92,0,0,0,{"$f":"IF($O$24<>0,SUM(BL1438:BW1438)*$O$24+$N$24,-1)","v":10},null,0,0,0,0,0,0,0,0,0,0,0,0,{"$f":"IF($O$21<>0,SUM(BZ1438:CK1438)*$O$21+$N$21,-1)","v":-1},null,0,0,0,0,0,0,0,0,0,0,0,0,{"$f":"IF($O$23<>0,SUM(CN1438:CY1438)*$O$23+$N$23,-1)","v":-1}]
[null,null,null,null,null,null,null,null,null,null,null,null,null,null,null,null,null,null,null,null,null,null,null,null,null,null,null,null,null,null,null,null,null,null,28.839999999999474,0,0,0,0,0,0,0,0,8.8335492469487317E-129,0,0,0,{"$f":"IF($O$20<>0,SUM(AJ1444:AU1444)*$O$20+$N$20,-1)","v":11},null,0,0,0,0,0,0,1.7404680453015635E-155,0,0,0,0,0,{"$f":"IF($O$22<>0,SUM(AX1444:BI1444)*$O$22+$N$22,-1)","v":15},null,0,0,0,0,0,0,0,0,8.8335492469487317E-129,0,0,0,{"$f":"IF($O$24<>0,SUM(BL1444:BW1444)*$O$24+$N$24,-1)","v":10},null,0,0,0,0,0,0,0,0,0,0,0,0,{"$f":"IF($O$21<>0,SUM(BZ1444:CK1444)*$O$21+$N$21,-1)","v":-1},null,0,0,0,0,0,0,0,0,0,0,0,0,{"$f":"IF($O$23<>0,SUM(CN1444:CY1444)*$O$23+$N$23,-1)","v":-1}]
[null,null,null,null,null,null,null,null,null,null,null,null,null,null,null,null,null,null,null,null,null,null,null,null,null,null,null,null,null,null,null,null,null,null,28.999999999999471,0,0,0,0,0,0,0,0,4.0776575044323076E-186,0,0,0,{"$f":"IF($O$20<>0,SUM(AJ1452:AU1452)*$O$20+$N$20,-1)","v":11},null,0,0,0,0,0,0,3.6087092304643311E-197,0,0,0,0,0,{"$f":"IF($O$22<>0,SUM(AX1452:BI1452)*$O$22+$N$22,-1)","v":15},null,0,0,0,0,0,0,0,0,4.0776575044323076E-186,0,0,0,{"$f":"IF($O$24<>0,SUM(BL1452:BW1452)*$O$24+$N$24,-1)","v":10},null,0,0,0,0,0,0,0,0,0,0,0,0,{"$f":"IF($O$21<>0,SUM(BZ1452:CK1452)*$O$21+$N$21,-1)","v":-1},null,0,0,0,0,0,0,0,0,0,0,0,0,{"$f":"IF($O$23<>0,SUM(CN1452:CY1452)*$O$23+$N$23,-1)","v":-1}]
[null,null,null,null,null,null,null,null,null,null,null,null,null,null,null,null,null,null,null,null,null,null,null,null,null,null,null,null,null,null,null,null,null,null,29.159999999999467,0,0,0,0,0,0,0,0,5.9113101826595314E-254,0,0,0,{"$f":"IF($O$20<>0,SUM(AJ1460:AU1460)*$O$20+$N$20,-1)","v":11},null,0,0,0,0,0,0,8.6176832300464626E-244,0,0,0,0,0,{"$f":"IF($O$22<>0,SUM(AX1460:BI1460)*$O$22+$N$22,-1)","v":15},null,0,0,0,0,0,0,0,0,5.9113101826595314E-254,0,0,0,{"$f":"IF($O$24<>0,SUM(BL1460:BW1460)*$O$24+$N$24,-1)","v":10},null,0,0,0,0,0,0,0,0,0,0,0,0,{"$f":"IF($O$21<>0,SUM(BZ1460:CK1460)*$O$21+$N$21,-1)","v":-1},null,0,0,0,0,0,0,0,0,0,0,0,0,{"$f":"IF($O$23<>0,SUM(CN1460:CY1460)*$O$23+$N$23,-1)","v":-1}]
[null,null,null,null,null,null,null,null,null,null,null,null,null,null,null,null,null,null,null,null,null,null,null,null,null,null,null,null,null,null,null,null,null,null,29.179999999999467,0,0,0,0,0,0,0,0,3.5756130215115136E-263,0,0,0,{"$f":"IF($O$20<>0,SUM(AJ1461:AU1461)*$O$20+$N$20,-1)","v":11},null,0,0,0,0,0,0,5.7596583705778712E-250,0,0,0,0,0,{"$f":"IF($O$22<>0,SUM(AX1461:BI1461)*$O$22+$N$22,-1)","v":15},null,0,0,0,0,0,0,0,0,3.5756130215115136E-263,0,0,0,{"$f":"IF($O$24<>0,SUM(BL1461:BW1461)*$O$24+$N$24,-1)","v":10},null,0,0,0,0,0,0,0,0,0,0,0,0,{"$f":"IF($O$21<>0,SUM(BZ1461:CK1461)*$O$21+$N$21,-1)","v":-1},null,0,0,0,0,0,0,0,0,0,0,0,0,{"$f":"IF($O$23<>0,SUM(CN1461:CY1461)*$O$23+$N$23,-1)","v":-1}]
[null,null,null,null,null,null,null,null,null,null,null,null,null,null,null,null,null,null,null,null,null,null,null,null,null,null,null,null,null,null,null,null,null,null,29.399999999999462,0,0,0,0,0,0,0,0,0,0,0,0,{"$f":"IF($O$20<>0,SUM(AJ1472:AU1472)*$O$20+$N$20,-1)","v":11},null,0,0,0,0,0,0,0,0,0,0,0,0,{"$f":"IF($O$22<>0,SUM(AX1472:BI1472)*$O$22+$N$22,-1)","v":15},null,0,0,0,0,0,0,0,0,0,0,0,0,{"$f":"IF($O$24<>0,SUM(BL1472:BW1472)*$O$24+$N$24,-1)","v":10},null,0,0,0,0,0,0,0,0,0,0,0,0,{"$f":"IF($O$21<>0,SUM(BZ1472:CK1472)*$O$21+$N$21,-1)","v":-1},null,0,0,0,0,0,0,0,0,0,0,0,0,{"$f":"IF($O$23<>0,SUM(CN1472:CY1472)*$O$23+$N$23,-1)","v":-1}]
[null,null,null,null,null,null,null,null,null,null,null,null,null,null,null,null,null,null,null,null,null,null,null,null,null,null,null,null,null,null,null,null,null,null,29.49999999999946,0,0,0,0,0,0,0,0,0,0,0,0,{"$f":"IF($O$20<>0,SUM(AJ1477:AU1477)*$O$20+$N$20,-1)","v":11},null,0,0,0,0,0,0,0,0,0,0,0,0,{"$f":"IF($O$22<>0,SUM(AX1477:BI1477)*$O$22+$N$22,-1)","v":15},null,0,0,0,0,0,0,0,0,0,0,0,0,{"$f":"IF($O$24<>0,SUM(BL1477:BW1477)*$O$24+$N$24,-1)","v":10},null,0,0,0,0,0,0,0,0,0,0,0,0,{"$f":"IF($O$21<>0,SUM(BZ1477:CK1477)*$O$21+$N$21,-1)","v":-1},null,0,0,0,0,0,0,0,0,0,0,0,0,{"$f":"IF($O$23<>0,SUM(CN1477:CY1477)*$O$23+$N$23,-1)","v":-1}]
[null,null,null,null,null,null,null,null,null,null,null,null,null,null,null,null,null,null,null,null,null,null,null,null,null,null,null,null,null,null,null,null,null,null,29.659999999999457,0,0,0,0,0,0,0,0,0,0,0,0,{"$f":"IF($O$20<>0,SUM(AJ1485:AU1485)*$O$20+$N$20,-1)","v":11},null,0,0,0,0,0,0,0,0,0,0,0,0,{"$f":"IF($O$22<>0,SUM(AX1485:BI1485)*$O$22+$N$22,-1)","v":15},null,0,0,0,0,0,0,0,0,0,0,0,0,{"$f":"IF($O$24<>0,SUM(BL1485:BW1485)*$O$24+$N$24,-1)","v":10},null,0,0,0,0,0,0,0,0,0,0,0,0,{"$f":"IF($O$21<>0,SUM(BZ1485:CK1485)*$O$21+$N$21,-1)","v":-1},null,0,0,0,0,0,0,0,0,0,0,0,0,{"$f":"IF($O$23<>0,SUM(CN1485:CY1485)*$O$23+$N$23,-1)","v":-1}]
[null,null,null,null,null,null,null,null,null,null,null,null,null,null,null,null,null,null,null,null,null,null,null,null,null,null,null,null,null,null,null,null,null,null,29.799999999999454,0,0,0,0,0,0,0,0,0,0,0,0,{"$f":"IF($O$20<>0,SUM(AJ1492:AU1492)*$O$20+$N$20,-1)","v":11},null,0,0,0,0,0,0,0,0,0,0,0,0,{"$f":"IF($O$22<>0,SUM(AX1492:BI1492)*$O$22+$N$22,-1)","v":15},null,0,0,0,0,0,0,0,0,0,0,0,0,{"$f":"IF($O$24<>0,SUM(BL1492:BW1492)*$O$24+$N$24,-1)","v":10},null,0,0,0,0,0,0,0,0,5.3812293185992964E-258,0,0,0,{"$f":"IF($O$21<>0,SUM(BZ1492:CK1492)*$O$21+$N$21,-1)","v":-1},null,0,0,0,0,0,0,0,0,0,0,0,0,{"$f":"IF($O$23<>0,SUM(CN1492:CY1492)*$O$23+$N$23,-1)","v":-1}]
[null,null,null,null,null,null,null,null,null,null,null,null,null,null,null,null,null,null,null,null,null,null,null,null,null,null,null,null,null,null,null,null,null,null,29.899999999999451,0,0,0,0,0,0,0,0,0,0,0,0,{"$f":"IF($O$20<>0,SUM(AJ1497:AU1497)*$O$20+$N$20,-1)","v":11},null,0,0,0,0,0,0,0,0,0,0,0,0,{"$f":"IF($O$22<>0,SUM(AX1497:BI1497)*$O$22+$N$22,-1)","v":15},null,0,0,0,0,0,0,0,0,0,0,0,0,{"$f":"IF($O$24<>0,SUM(BL1497:BW1497)*$O$24+$N$24,-1)","v":10},null,0,0,0,0,0,0,0,0,1.2074491516489627E-219,0,0,0,{"$f":"IF($O$21<>0,SUM(BZ1497:CK1497)*$O$21+$N$21,-1)","v":-1},null,0,0,0,0,0,0,0,0,0,0,0,0,{"$f":"IF($O$23<>0,SUM(CN1497:CY1497)*$O$23+$N$23,-1)","v":-1}]
[null,null,null,null,null,null,null,null,null,null,null,null,null,null,null,null,null,null,null,null,null,null,null,null,null,null,null,null,null,null,null,null,null,null,30.059999999999448,0,0,0,0,0,0,0,0,0,0,0,0,{"$f":"IF($O$20<>0,SUM(AJ1505:AU1505)*$O$20+$N$20,-1)","v":11},null,0,0,0,0,0,0,0,0,0,0,0,0,{"$f":"IF($O$22<>0,SUM(AX1505:BI1505)*$O$22+$N$22,-1)","v":15},null,0,0,0,0,0,0,0,0,0,0,0,0,{"$f":"IF($O$24<>0,SUM(BL1505:BW1505)*$O$24+$N$24,-1)","v":10},null,0,0,0,0,0,0,0,0,1.086964559671811E-164,0,0,0,{"$f":"IF($O$21<>0,SUM(BZ1505:CK1505)*$O$21+$N$21,-1)","v":-1},null,0,0,0,0,0,0,0,0,0,0,0,0,{"$f":"IF($O$23<>0,SUM(CN1505:CY1505)*$O$23+$N$23,-1)","v":-1}]
[null,null,null,null,null,null,null,null,null,null,null,null,null,null,null,null,null,null,null,null,null,null,null,null,null,null,null,null,null,null,null,null,null,null,30.159999999999446,0,0,0,0,0,0,0,0,0,0,0,0,{"$f":"IF($O$20<>0,SUM(AJ1510:AU1510)*$O$20+$N$20,-1)","v":11},null,0,0,0,0,0,0,0,0,0,0,0,0,{"$f":"IF($O$22<>0,SUM(AX1510:BI1510)*$O$22+$N$22,-1)","v":15},null,0,0,0,0,0,0,0,0,0,0,0,0,{"$f":"IF($O$24<>0,SUM(BL1510:BW1510)*$O$24+$N$24,-1)","v":10},null,0,0,0,0,0,0,0,0,2.3886977477497129E-134,0,0,0,{"$f":"IF($O$21<>0,SUM(BZ1510:CK1510)*$O$21+$N$21,-1)","v":-1},null,0,0,0,0,0,0,0,0,0,0,0,0,{"$f":"IF($O$23<>0,SUM(CN1510:CY1510)*$O$23+$N$23,-1)","v":-1}]
[null,null,null,null,null,null,null,null,null,null,null,null,null,null,null,null,null,null,null,null,null,null,null,null,null,null,null,null,null,null,null,null,null,null,30.259999999999444,0,0,0,0,0,0,0,0,0,0,0,0,{"$f":"IF($O$20<>0,SUM(AJ1515:AU1515)*$O$20+$N$20,-1)","v":11},null,0,0,0,0,0,0,0,0,0,0,0,0,{"$f":"IF($O$22<>0,SUM(AX1515:BI1515)*$O$22+$N$22,-1)","v":15},null,0,0,0,0,0,0,0,0,0,0,0,0,{"$f":"IF($O$24<>0,SUM(BL1515:BW1515)*$O$24+$N$24,-1)","v":10},null,0,0,0,0,0,0,0,0,4.3622085585124484E-107,0,0,0,{"$f":"IF($O$21<>0,SUM(BZ1515:CK1515)*$O$21+$N$21,-1)","v":-1},null,0,0,0,0,0,0,0,0,0,0,0,0,{"$f":"IF($O$23<>0,SUM(CN1515:CY1515)*$O$23+$N$23,-1)","v":-1}]
[null,null,null,null,null,null,null,null,null,null,null,null,null,null,null,null,null,null,null,null,null,null,null,null,null,null,null,null,null,null,null,null,null,null,30.45999999999944,0,0,0,0,0,0,0,0,0,0,0,0,{"$f":"IF($O$20<>0,SUM(AJ1525:AU1525)*$O$20+$N$20,-1)","v":11},null,0,0,0,0,0,0,0,0,0,0,0,0,{"$f":"IF($O$22<>0,SUM(AX1525:BI1525)*$O$22+$N$22,-1)","v":15},null,0,0,0,0,0,0,0,0,0,0,0,0,{"$f":"IF($O$24<>0,SUM(BL1525:BW1525)*$O$24+$N$24,-1)","v":10},null,0,0,0,0,0,0,0,0,8.3482434425461901E-62,0,0,0,{"$f":"IF($O$21<>0,SUM(BZ1525:CK1525)*$O$21+$N$21,-1)","v":-1},null,0,0,0,0,0,0,0,0,0,0,0,0,{"$f":"IF($O$23<>0,SUM(CN1525:CY1525)*$O$23+$N$23,-1)","v":-1}]
[null,null,null,null,null,null,null,null,null,null,null,null,null,null,null,null,null,null,null,null,null,null,null,null,null,null,null,null,null,null,null,null,null,null,30.559999999999437,0,0,0,0,0,0,0,0,0,0,0,0,{"$f":"IF($O$20<>0,SUM(AJ1530:AU1530)*$O$20+$N$20,-1)","v":11},null,0,0,0,0,0,0,0,0,0,0,0,0,{"$f":"IF($O$22<>0,SUM(AX1530:BI1530)*$O$22+$N$22,-1)","v":15},null,0,0,0,0,0,0,0,0,0,0,0,0,{"$f":"IF($O$24<>0,SUM(BL1530:BW1530)*$O$24+$N$24,-1)","v":10},null,0,0,0,0,0,0,0,0,8.7485999750547511E-44,0,0,0,{"$f":"IF($O$21<>0,SUM(BZ1530:CK1530)*$O$21+$N$21,-1)","v":-1},null,0,0,0,0,0,0,0,0,0,0,0,0,{"$f":"IF($O$23<>0,SUM(CN1530:CY1530)*$O$23+$N$23,-1)","v":-1}]
[null,null,null,null,null,null,null,null,null,null,null,null,null,null,null,null,null,null,null,null,null,null,null,null,null,null,null,null,null,null,null,null,null,null,30.719999999999434,{"$f":"$B$23*NORMDIST($AI1538,$B$20,$B$24*$B$20,FALSE)","v":0},{"$f":"B$6*IF(B$6>0,NORMDIST($AI1538,B$53,C$53/4,FALSE),0)","v":0},{"$f":"B$7*IF(B$7>0,NORMDIST($AI1538,B$54,C$54/4,FALSE),0)","v":0},{"$f":"B$8*IF(B$8>0,NORMDIST($AI1538,B$55,C$55/4,FALSE),0)","v":0},{"$f":"B$9*IF(B$9>0,NORMDIST($AI1538,B$56,C$56/4,FALSE),0)","v":0},{"$f":"B$10*IF(B$10>0,NORMDIST($AI1538,B$57,C$57/4,FALSE),0)","v":0},{"$f":"B$11*IF(B$11>0,NORMDIST($AI1538,B$58,$C$58/4,FALSE),0)","v":0},{"$f":"$B$12*IF($B$12>0,NORMDIST($AI1538,B$59,$C$59/4,FALSE),0)","v":0},{"$f":"$B$13*IF($B$13>0,NORMDIST($AI1538,B$60,$C$60/4,FALSE),0)","v":0},{"$f":"$B$14*IF($B$14>0,NORMDIST($AI1538,$B$61,$C$61/4,FALSE),0)","v":0},{"$f":"$B$15*IF($B$15>0,NORMDIST($AI1538,$B$62,$C$62/4,FALSE),0)","v":0},{"$f":"$B$16*IF($B$16>0,NORMDIST($AI1538,$B$63,$C$63/4,FALSE),0)","v":0},{"$f":"IF($O$20<>0,SUM(AJ1538:AU1538)*$O$20+$N$20,-1)","v":11},null,0,{"$f":"IF(B$6>0,B$6*NORMDIST($AI1538,F$53,G$53/4,FALSE),0)","v":0},{"$f":"IF(B$7>0,B$7*NORMDIST($AI1538,F$54,G$54/4,FALSE),0)","v":0},{"$f":"IF(B$8>0,B$8*NORMDIST($AI1538,F$55,G$55/4,FALSE),0)","v":0},{"$f":"IF(B$9>0,B$9*NORMDIST($AI1538,F$56,G$56/4,FALSE),0)","v":0},{"$f":"IF(B$10>0,B$10*NORMDIST($AI1538,F$57,G$57/4,FALSE),0)","v":0},{"$f":"IF(B$11>0,B$11*NORMDIST($AI1538,F$58,G$58/4,FALSE),0)","v":0},{"$f":"IF($B$12>0,$B$12*NORMDIST($AI1538,$F$59,$G$59/4,FALSE),0)","v":0},{"$f":"IF($B$13>0,$B$13*NORMDIST($AI1538,$F$60,$G$60/4,FALSE),0)","v":0},{"$f":"IF($B$14>0,$B$14*NORMDIST($AI1538,$F$61,$G$61/4,FALSE),0)","v":0},{"$f":"IF($B$15>0,$B$15*NORMDIST($AI1538,$F$62,$G$62/4,FALSE),0)","v":0},{"$f":"IF($B$16>0,$B$16*NORMDIST($AI1538,$F$63,$G$63/4,FALSE),0)","v":0},{"$f":"IF($O$22<>0,SUM(AX1538:BI1538)*$O$22+$N$22,-1)","v":15},null,{"$f":"$B$23*NORMDIST($AI1538,$B$20,$B$20*$B$24,FALSE)","v":0},{"$f":"IF($B$6>0,$B$6*NORMDIST($AI1538,$J$53,$K$53/4,FALSE),0)","v":0},{"$f":"IF($B$7>0,$B$7*NORMDIST($AI1538,$J$54,$K$54/4,FALSE),0)","v":0},{"$f":"IF($B$8>0,$B$8*NORMDIST($AI1538,$J$55,$K$55/4,FALSE),0)","v":0},{"$f":"IF($B$9>0,$B$9*NORMDIST($AI1538,$J$56,$K$56/4,FALSE),0)","v":0},{"$f":"IF($B$10>0,$B$10*NORMDIST($AI1538,$J$57,$K$57/4,FALSE),0)","v":0},{"$f":"IF($B$11>0,$B$11*NORMDIST($AI1538,$J$58,$K$58/4,FALSE),0)","v":0},{"$f":"IF($B$12>0,$B$12*NORMDIST($AI1538,$J$59,$K$59/4,FALSE),0)","v":0},{"$f":"IF($B$13>0,$B$13*NORMDIST($AI1538,$J$60,$K$60/4,FALSE),0)","v":0},{"$f":"IF($B$14>0,$B$14*NORMDIST($AI1538,$J$61,$K$61/4,FALSE),0)","v":0},{"$f":"IF($B$15>0,$B$15*NORMDIST($AI1538,$J$62,$K$62/4,FALSE),0)","v":0},{"$f":"IF($B$16>0,$B$16*NORMDIST($AI1538,$J$63,$K$63/4,FALSE),0)","v":0},{"$f":"IF($O$24<>0,SUM(BL1538:BW1538)*$O$24+$N$24,-1)","v":10},null,{"$f":"$B$23*NORMDIST($AI1538,$B$20,$B$20*$B$24,FALSE)","v":0},{"$f":"IF($B$6>0,$B$6*NORMDIST($AI1538,$B$68,$C$68/4,FALSE),0)","v":0},{"$f":"IF($B$7>0,$B$7*NORMDIST($AI1538,$B$69,$C$69/4,FALSE),0)","v":0},{"$f":"IF($B$8>0,$B$8*NORMDIST($AI1538,$B$70,$C$70/4,FALSE),0)","v":0},{"$f":"IF($B$9>0,$B$9*NORMDIST($AI1538,$B$71,$C$71/4,FALSE),0)","v":0},{"$f":"IF($B$10>0,$B$10*NORMDIST($AI1538,$B$72,$C$72/4,FALSE),0)","v":0},{"$f":"IF($B$11>0,$B$11*NORMDIST($AI1538,$B$73,$C$73/4,FALSE),0)","v":0},{"$f":"IF($B$12>0,$B$12*NORMDIST($AI1538,$B$74,$C$74/4,FALSE),0)","v":0},{"$f":"IF($B$13>0,$B$13*NORMDIST($AI1538,$B$75,$C$75/4,FALSE),0)","v":2.3294578551657186E-21},{"$f":"IF($B$14>0,$B$14*NORMDIST($AI1538,$B$76,$C$76/4,FALSE),0)","v":0},{"$f":"IF($B$15>0,$B$15*NORMDIST($AI1538,$B$77,$C$77/4,FALSE),0)","v":0},{"$f":"IF($B$16>0,$B$16*NORMDIST($AI1538,$B$78,$C$78/4,FALSE),0)","v":0},{"$f":"IF($O$21<>0,SUM(BZ1538:CK1538)*$O$21+$N$21,-1)","v":-1},null,{"$f":"$B$23*NORMDIST($AI1538,$B$20,$B$20*$B$24,FALSE)","v":0},{"$f":"IF($B$6>0,$B$6*NORMDIST($AI1538,$F$68,$G$68/4,FALSE),0)","v":0},{"$f":"IF($B$7>0,$B$7*NORMDIST($AI1538,$F$69,$G$69/4,FALSE),0)","v":0},{"$f":"IF($B$8>0,$B$8*NORMDIST($AI1538,$F$70,$G$70/4,FALSE),0)","v":0},{"$f":"IF($B$9>0,$B$9*NORMDIST($AI1538,$F$71,$G$71/4,FALSE),0)","v":0},{"$f":"IF($B$10>0,$B$10*NORMDIST($AI1538,$F$72,$G$72/4,FALSE),0)","v":0},{"$f":"IF($B$11>0,$B$11*NORMDIST($AI1538,$F$73,$G$73/4,FALSE),0)","v":0},{"$f":"IF($B$12>0,$B$12*NORMDIST($AI1538,$F$74,$G$74/4,FALSE),0)","v":0},{"$f":"IF($B$13>0,$B$13*NORMDIST($AI1538,$F$75,$G$75/4,FALSE),0)","v":0},{"$f":"IF($B$14>0,$B$14*NORMDIST($AI1538,$F$76,$G$76/4,FALSE),0)","v":0},{"$f":"IF($B$15>0,$B$15*NORMDIST($AI1538,$F$77,$G$77/4,FALSE),0)","v":0},{"$f":"IF($B$16>0,$B$16*NORMDIST($AI1538,$F$78,$G$78/4,FALSE),0)","v":0},{"$f":"IF($O$23<>0,SUM(CN1538:CY1538)*$O$23+$N$23,-1)","v":-1}]
[null,null,null,null,null,null,null,null,null,null,null,null,null,null,null,null,null,null,null,null,null,null,null,null,null,null,null,null,null,null,null,null,null,null,30.879999999999431,0,0,0,0,0,0,0,0,0,0,0,0,{"$f":"IF($O$20<>0,SUM(AJ1546:AU1546)*$O$20+$N$20,-1)","v":11},null,0,0,0,0,0,0,0,0,0,0,0,0,{"$f":"IF($O$22<>0,SUM(AX1546:BI1546)*$O$22+$N$22,-1)","v":15},null,0,0,0,0,0,0,0,0,0,0,0,0,{"$f":"IF($O$24<>0,SUM(BL1546:BW1546)*$O$24+$N$24,-1)","v":10},null,0,0,0,0,0,0,0,0,8.0676239106550688E-7,0,0,0,{"$f":"IF($O$21<>0,SUM(BZ1546:CK1546)*$O$21+$N$21,-1)","v":-1},null,0,0,0,0,0,0,0,0,0,0,0,0,{"$f":"IF($O$23<>0,SUM(CN1546:CY1546)*$O$23+$N$23,-1)","v":-1}]
[null,null,null,null,null,null,null,null,null,null,null,null,null,null,null,null,null,null,null,null,null,null,null,null,null,null,null,null,null,null,null,null,null,null,30.959999999999429,0,0,0,0,0,0,0,0,0,0,0,0,{"$f":"IF($O$20<>0,SUM(AJ1550:AU1550)*$O$20+$N$20,-1)","v":11},null,0,0,0,0,0,0,0,0,0,0,0,0,{"$f":"IF($O$22<>0,SUM(AX1550:BI1550)*$O$22+$N$22,-1)","v":15},null,0,0,0,0,0,0,0,0,0,0,0,0,{"$f":"IF($O$24<>0,SUM(BL1550:BW1550)*$O$24+$N$24,-1)","v":10},null,0,0,0,0,0,0,0,0,1.6569388125637713E-2,0,0,0,{"$f":"IF($O$21<>0,SUM(BZ1550:CK1550)*$O$21+$N$21,-1)","v":-1},null,0,0,0,0,0,0,0,0,0,0,0,0,{"$f":"IF($O$23<>0,SUM(CN1550:CY1550)*$O$23+$N$23,-1)","v":-1}]
[null,null,null,null,null,null,null,null,null,null,null,null,null,null,null,null,null,null,null,null,null,null,null,null,null,null,null,null,null,null,null,null,null,null,31.119999999999425,0,0,0,0,0,0,0,0,0,0,0,0,{"$f":"IF($O$20<>0,SUM(AJ1558:AU1558)*$O$20+$N$20,-1)","v":11},null,0,0,0,0,0,0,0,0,0,0,0,0,{"$f":"IF($O$22<>0,SUM(AX1558:BI1558)*$O$22+$N$22,-1)","v":15},null,0,0,0,0,0,0,0,0,0,0,0,0,{"$f":"IF($O$24<>0,SUM(BL1558:BW1558)*$O$24+$N$24,-1)","v":10},null,0,0,0,0,0,0,0,0,8.5125365708666312,0,0,0,{"$f":"IF($O$21<>0,SUM(BZ1558:CK1558)*$O$21+$N$21,-1)","v":-1},null,0,0,0,0,0,0,0,0,0,0,0,0,{"$f":"IF($O$23<>0,SUM(CN1558:CY1558)*$O$23+$N$23,-1)","v":-1}]
[null,null,null,null,null,null,null,null,null,null,null,null,null,null,null,null,null,null,null,null,null,null,null,null,null,null,null,null,null,null,null,null,null,null,31.219999999999423,0,0,0,0,0,0,0,0,0,0,0,0,{"$f":"IF($O$20<>0,SUM(AJ1563:AU1563)*$O$20+$N$20,-1)","v":11},null,0,0,0,0,0,0,0,0,0,0,0,0,{"$f":"IF($O$22<>0,SUM(AX1563:BI1563)*$O$22+$N$22,-1)","v":15},null,0,0,0,0,0,0,0,0,0,0,0,0,{"$f":"IF($O$24<>0,SUM(BL1563:BW1563)*$O$24+$N$24,-1)","v":10},null,0,0,0,0,0,0,0,0,4.1663768350495428E-2,0,0,0,{"$f":"IF($O$21<>0,SUM(BZ1563:CK1563)*$O$21+$N$21,-1)","v":-1},null,0,0,0,0,0,0,0,0,0,0,0,0,{"$f":"IF($O$23<>0,SUM(CN1563:CY1563)*$O$23+$N$23,-1)","v":-1}]
[null,null,null,null,null,null,null,null,null,null,null,null,null,null,null,null,null,null,null,null,null,null,null,null,null,null,null,null,null,null,null,null,null,null,31.339999999999421,0,0,0,0,0,0,0,0,0,0,0,0,{"$f":"IF($O$20<>0,SUM(AJ1569:AU1569)*$O$20+$N$20,-1)","v":11},null,0,0,0,0,0,0,0,0,0,0,0,0,{"$f":"IF($O$22<>0,SUM(AX1569:BI1569)*$O$22+$N$22,-1)","v":15},null,0,0,0,0,0,0,0,0,0,0,0,0,{"$f":"IF($O$24<>0,SUM(BL1569:BW1569)*$O$24+$N$24,-1)","v":10},null,0,0,0,0,0,0,0,0,6.0432315822364561E-9,0,0,0,{"$f":"IF($O$21<>0,SUM(BZ1569:CK1569)*$O$21+$N$21,-1)","v":-1},null,0,0,0,0,0,0,0,0,0,0,0,0,{"$f":"IF($O$23<>0,SUM(CN1569:CY1569)*$O$23+$N$23,-1)","v":-1}]
[null,null,null,null,null,null,null,null,null,null,null,null,null,null,null,null,null,null,null,null,null,null,null,null,null,null,null,null,null,null,null,null,null,null,31.519999999999417,0,0,0,0,0,0,0,0,0,0,0,0,{"$f":"IF($O$20<>0,SUM(AJ1578:AU1578)*$O$20+$N$20,-1)","v":11},null,0,0,0,0,0,0,0,1.1650627578236258E-271,0,0,0,0,{"$f":"IF($O$22<>0,SUM(AX1578:BI1578)*$O$22+$N$22,-1)","v":15},null,0,0,0,0,0,0,0,0,0,0,0,0,{"$f":"IF($O$24<>0,SUM(BL1578:BW1578)*$O$24+$N$24,-1)","v":10},null,0,0,0,0,0,0,0,0,1.6086207882669601E-27,0,0,0,{"$f":"IF($O$21<>0,SUM(BZ1578:CK1578)*$O$21+$N$21,-1)","v":-1},null,0,0,0,0,0,0,0,0,0,0,0,0,{"$f":"IF($O$23<>0,SUM(CN1578:CY1578)*$O$23+$N$23,-1)","v":-1}]
[null,null,null,null,null,null,null,null,null,null,null,null,null,null,null,null,null,null,null,null,null,null,null,null,null,null,null,null,null,null,null,null,null,null,31.619999999999415,0,0,0,0,0,0,0,0,0,0,0,0,{"$f":"IF($O$20<>0,SUM(AJ1583:AU1583)*$O$20+$N$20,-1)","v":11},null,0,0,0,0,0,0,0,5.3738478878954195E-240,0,0,0,0,{"$f":"IF($O$22<>0,SUM(AX1583:BI1583)*$O$22+$N$22,-1)","v":15},null,0,0,0,0,0,0,0,0,0,0,0,0,{"$f":"IF($O$24<>0,SUM(BL1583:BW1583)*$O$24+$N$24,-1)","v":10},null,0,0,0,0,0,0,0,0,3.7544893109693165E-42,0,0,0,{"$f":"IF($O$21<>0,SUM(BZ1583:CK1583)*$O$21+$N$21,-1)","v":-1},null,0,0,0,0,0,0,0,1.2585462436470693E-269,0,0,0,0,{"$f":"IF($O$23<>0,SUM(CN1583:CY1583)*$O$23+$N$23,-1)","v":-1}]
[null,null,null,null,null,null,null,null,null,null,null,null,null,null,null,null,null,null,null,null,null,null,null,null,null,null,null,null,null,null,null,null,null,null,31.779999999999411,0,0,0,0,0,0,0,0,0,0,0,0,{"$f":"IF($O$20<>0,SUM(AJ1591:AU1591)*$O$20+$N$20,-1)","v":11},null,0,0,0,0,0,0,0,2.0704966524362619E-193,0,0,0,0,{"$f":"IF($O$22<>0,SUM(AX1591:BI1591)*$O$22+$N$22,-1)","v":15},null,0,0,0,0,0,0,0,0,0,0,0,0,{"$f":"IF($O$24<>0,SUM(BL1591:BW1591)*$O$24+$N$24,-1)","v":10},null,0,0,0,0,0,0,0,0,5.7052299945091575E-72,0,0,0,{"$f":"IF($O$21<>0,SUM(BZ1591:CK1591)*$O$21+$N$21,-1)","v":-1},null,0,0,0,0,0,0,0,3.1546018452601502E-209,0,0,0,0,{"$f":"IF($O$23<>0,SUM(CN1591:CY1591)*$O$23+$N$23,-1)","v":-1}]
[null,null,null,null,null,null,null,null,null,null,null,null,null,null,null,null,null,null,null,null,null,null,null,null,null,null,null,null,null,null,null,null,null,null,31.879999999999409,0,0,0,0,0,0,0,0,0,0,0,0,{"$f":"IF($O$20<>0,SUM(AJ1596:AU1596)*$O$20+$N$20,-1)","v":11},null,0,0,0,0,0,0,0,7.6625785203179568E-167,0,0,0,0,{"$f":"IF($O$22<>0,SUM(AX1596:BI1596)*$O$22+$N$22,-1)","v":15},null,0,0,0,0,0,0,0,0,0,0,0,0,{"$f":"IF($O$24<>0,SUM(BL1596:BW1596)*$O$24+$N$24,-1)","v":10},null,0,0,0,0,0,0,0,0,1.304153817774322E-94,0,0,0,{"$f":"IF($O$21<>0,SUM(BZ1596:CK1596)*$O$21+$N$21,-1)","v":-1},null,0,0,0,0,0,0,0,2.3387263575227877E-175,0,0,0,0,{"$f":"IF($O$23<>0,SUM(CN1596:CY1596)*$O$23+$N$23,-1)","v":-1}]
[null,null,null,null,null,null,null,null,null,null,null,null,null,null,null,null,null,null,null,null,null,null,null,null,null,null,null,null,null,null,null,null,null,null,32.119999999999422,0,0,0,0,0,0,0,0,0,0,0,0,{"$f":"IF($O$20<>0,SUM(AJ1608:AU1608)*$O$20+$N$20,-1)","v":11},null,0,0,0,0,0,0,0,4.488153159673605E-111,0,0,0,0,{"$f":"IF($O$22<>0,SUM(AX1608:BI1608)*$O$22+$N$22,-1)","v":15},null,0,0,0,0,0,0,0,0,0,0,0,0,{"$f":"IF($O$24<>0,SUM(BL1608:BW1608)*$O$24+$N$24,-1)","v":10},null,0,0,0,0,0,0,0,0,1.6181843353578645E-161,0,0,0,{"$f":"IF($O$21<>0,SUM(BZ1608:CK1608)*$O$21+$N$21,-1)","v":-1},null,0,0,0,0,0,0,0,3.0321828222810206E-106,0,0,0,0,{"$f":"IF($O$23<>0,SUM(CN1608:CY1608)*$O$23+$N$23,-1)","v":-1}]
[null,null,null,null,null,null,null,null,null,null,null,null,null,null,null,null,null,null,null,null,null,null,null,null,null,null,null,null,null,null,null,null,null,null,32.179999999999431,0,0,0,0,0,0,0,0,0,0,0,0,{"$f":"IF($O$20<>0,SUM(AJ1611:AU1611)*$O$20+$N$20,-1)","v":11},null,0,0,0,0,0,0,0,6.762650993009198E-99,0,0,0,0,{"$f":"IF($O$22<>0,SUM(AX1611:BI1611)*$O$22+$N$22,-1)","v":15},null,0,0,0,0,0,0,0,0,0,0,0,0,{"$f":"IF($O$24<>0,SUM(BL1611:BW1611)*$O$24+$N$24,-1)","v":10},null,0,0,0,0,0,0,0,0,5.1297034041447838E-181,0,0,0,{"$f":"IF($O$21<>0,SUM(BZ1611:CK1611)*$O$21+$N$21,-1)","v":-1},null,0,0,0,0,0,0,0,1.1863688635872282E-91,0,0,0,0,{"$f":"IF($O$23<>0,SUM(CN1611:CY1611)*$O$23+$N$23,-1)","v":-1}]
[null,null,null,null,null,null,null,null,null,null,null,null,null,null,null,null,null,null,null,null,null,null,null,null,null,null,null,null,null,null,null,null,null,null,32.279999999999447,0,0,0,0,0,0,0,0,0,0,0,0,{"$f":"IF($O$20<>0,SUM(AJ1616:AU1616)*$O$20+$N$20,-1)","v":11},null,0,0,0,0,0,0,0,3.6222458853894557E-80,0,0,0,0,{"$f":"IF($O$22<>0,SUM(AX1616:BI1616)*$O$22+$N$22,-1)","v":15},null,0,0,0,0,0,0,0,0,0,0,0,0,{"$f":"IF($O$24<>0,SUM(BL1616:BW1616)*$O$24+$N$24,-1)","v":10},null,0,0,0,0,0,0,0,0,5.5917217682525572E-216,0,0,0,{"$f":"IF($O$21<>0,SUM(BZ1616:CK1616)*$O$21+$N$21,-1)","v":-1},null,0,0,0,0,0,0,0,1.0178374734050745E-69,0,0,0,0,{"$f":"IF($O$23<>0,SUM(CN1616:CY1616)*$O$23+$N$23,-1)","v":-1}]
[null,null,null,null,null,null,null,null,null,null,null,null,null,null,null,null,null,null,null,null,null,null,null,null,null,null,null,null,null,null,null,null,null,null,32.439999999999472,0,0,0,0,0,0,0,0,0,0,0,0,{"$f":"IF($O$20<>0,SUM(AJ1624:AU1624)*$O$20+$N$20,-1)","v":11},null,0,0,0,0,0,0,0,2.8096158037344074E-54,0,0,0,0,{"$f":"IF($O$22<>0,SUM(AX1624:BI1624)*$O$22+$N$22,-1)","v":15},null,0,0,0,0,0,0,0,0,0,0,0,0,{"$f":"IF($O$24<>0,SUM(BL1624:BW1624)*$O$24+$N$24,-1)","v":10},null,0,0,0,0,0,0,0,0,2.5132610647099401E-278,0,0,0,{"$f":"IF($O$21<>0,SUM(BZ1624:CK1624)*$O$21+$N$21,-1)","v":-1},null,0,0,0,0,0,0,0,7.8377741709925043E-41,0,0,0,0,{"$f":"IF($O$23<>0,SUM(CN1624:CY1624)*$O$23+$N$23,-1)","v":-1}]
[null,null,null,null,null,null,null,null,null,null,null,null,null,null,null,null,null,null,null,null,null,null,null,null,null,null,null,null,null,null,null,null,null,null,32.6199999999995,0,0,0,0,0,0,0,0,0,0,0,0,{"$f":"IF($O$20<>0,SUM(AJ1633:AU1633)*$O$20+$N$20,-1)","v":11},null,0,0,0,0,0,0,0,3.7787955174604642E-31,0,0,0,0,{"$f":"IF($O$22<>0,SUM(AX1633:BI1633)*$O$22+$N$22,-1)","v":15},null,0,0,0,0,0,0,0,0,0,0,0,0,{"$f":"IF($O$24<>0,SUM(BL1633:BW1633)*$O$24+$N$24,-1)","v":10},null,0,0,0,0,0,0,0,0,0,0,0,0,{"$f":"IF($O$21<>0,SUM(BZ1633:CK1633)*$O$21+$N$21,-1)","v":-1},null,0,0,0,0,0,0,0,1.81987090347203E-17,0,0,0,0,{"$f":"IF($O$23<>0,SUM(CN1633:CY1633)*$O$23+$N$23,-1)","v":-1}]
[null,null,null,null,null,null,null,null,null,null,null,null,null,null,null,null,null,null,null,null,null,null,null,null,null,null,null,null,null,null,null,null,null,null,32.679999999999509,0,0,0,0,0,0,0,0,0,0,0,0,{"$f":"IF($O$20<>0,SUM(AJ1636:AU1636)*$O$20+$N$20,-1)","v":11},null,0,0,0,0,0,0,0,7.5131681406655032E-25,0,0,0,0,{"$f":"IF($O$22<>0,SUM(AX1636:BI1636)*$O$22+$N$22,-1)","v":15},null,0,0,0,0,0,0,0,0,0,0,0,0,{"$f":"IF($O$24<>0,SUM(BL1636:BW1636)*$O$24+$N$24,-1)","v":10},null,0,0,0,0,0,0,0,0,0,0,0,0,{"$f":"IF($O$21<>0,SUM(BZ1636:CK1636)*$O$21+$N$21,-1)","v":-1},null,0,0,0,0,0,0,0,7.9446142985774853E-12,0,0,0,0,{"$f":"IF($O$23<>0,SUM(CN1636:CY1636)*$O$23+$N$23,-1)","v":-1}]
[null,null,null,null,null,null,null,null,null,null,null,null,null,null,null,null,null,null,null,null,null,null,null,null,null,null,null,null,null,null,null,null,null,null,32.839999999999534,0,0,0,0,0,0,0,0,0,0,0,0,{"$f":"IF($O$20<>0,SUM(AJ1644:AU1644)*$O$20+$N$20,-1)","v":11},null,0,0,0,0,0,0,0,1.6687412202626264E-11,0,0,0,0,{"$f":"IF($O$22<>0,SUM(AX1644:BI1644)*$O$22+$N$22,-1)","v":15.000000000016687},null,0,0,0,0,0,0,0,0,0,0,0,0,{"$f":"IF($O$24<>0,SUM(BL1644:BW1644)*$O$24+$N$24,-1)","v":10},null,0,0,0,0,0,0,0,0,0,0,0,0,{"$f":"IF($O$21<>0,SUM(BZ1644:CK1644)*$O$21+$N$21,-1)","v":-1},null,0,0,0,0,0,0,0,4.8760176581946507E-2,0,0,0,0,{"$f":"IF($O$23<>0,SUM(CN1644:CY1644)*$O$23+$N$23,-1)","v":-1}]
[null,null,null,null,null,null,null,null,null,null,null,null,null,null,null,null,null,null,null,null,null,null,null,null,null,null,null,null,null,null,null,null,null,null,33.079999999999572,0,0,0,0,0,0,0,0,0,0,0,0,{"$f":"IF($O$20<>0,SUM(AJ1656:AU1656)*$O$20+$N$20,-1)","v":11},null,0,0,0,0,0,0,0,0.68377068766767957,0,0,0,0,{"$f":"IF($O$22<>0,SUM(AX1656:BI1656)*$O$22+$N$22,-1)","v":15.68377068766768},null,0,0,0,0,0,0,0,0,0,0,0,0,{"$f":"IF($O$24<>0,SUM(BL1656:BW1656)*$O$24+$N$24,-1)","v":10},null,0,0,0,0,0,0,0,0,0,0,0,0,{"$f":"IF($O$21<>0,SUM(BZ1656:CK1656)*$O$21+$N$21,-1)","v":-1},null,0,0,0,0,0,0,0,0.11121479216439012,0,0,0,0,{"$f":"IF($O$23<>0,SUM(CN1656:CY1656)*$O$23+$N$23,-1)","v":-1}]
[null,null,null,null,null,null,null,null,null,null,null,null,null,null,null,null,null,null,null,null,null,null,null,null,null,null,null,null,null,null,null,null,null,null,33.199999999999591,0,0,0,0,0,0,0,0,0,0,0,0,{"$f":"IF($O$20<>0,SUM(AJ1662:AU1662)*$O$20+$N$20,-1)","v":11},null,0,0,0,0,0,0,0,8.0886104041278717,0,0,0,0,{"$f":"IF($O$22<>0,SUM(AX1662:BI1662)*$O$22+$N$22,-1)","v":23.08861040412787},null,0,0,0,0,0,0,0,0,0,0,0,0,{"$f":"IF($O$24<>0,SUM(BL1662:BW1662)*$O$24+$N$24,-1)","v":10},null,0,0,0,0,0,0,0,0,0,0,0,0,{"$f":"IF($O$21<>0,SUM(BZ1662:CK1662)*$O$21+$N$21,-1)","v":-1},null,0,0,0,0,0,0,0,6.0181092854278935E-8,0,0,0,0,{"$f":"IF($O$23<>0,SUM(CN1662:CY1662)*$O$23+$N$23,-1)","v":-1}]
[null,null,null,null,null,null,null,null,null,null,null,null,null,null,null,null,null,null,null,null,null,null,null,null,null,null,null,null,null,null,null,null,null,null,33.239999999999597,0,0,0,0,0,0,0,0,0,0,0,0,{"$f":"IF($O$20<>0,SUM(AJ1664:AU1664)*$O$20+$N$20,-1)","v":11},null,0,0,0,0,0,0,0,4.3488381109317791,0,0,0,0,{"$f":"IF($O$22<>0,SUM(AX1664:BI1664)*$O$22+$N$22,-1)","v":19.34883811093178},null,0,0,0,0,0,0,0,0,0,0,0,0,{"$f":"IF($O$24<>0,SUM(BL1664:BW1664)*$O$24+$N$24,-1)","v":10},null,0,0,0,0,0,0,0,0,0,0,0,0,{"$f":"IF($O$21<>0,SUM(BZ1664:CK1664)*$O$21+$N$21,-1)","v":-1},null,0,0,0,0,0,0,0,5.4404290250266411E-11,0,0,0,0,{"$f":"IF($O$23<>0,SUM(CN1664:CY1664)*$O$23+$N$23,-1)","v":-1}]
[null,null,null,null,null,null,null,null,null,null,null,null,null,null,null,null,null,null,null,null,null,null,null,null,null,null,null,null,null,null,null,null,null,null,33.479999999999634,0,0,0,0,0,0,0,0,0,0,0,0,{"$f":"IF($O$20<>0,SUM(AJ1676:AU1676)*$O$20+$N$20,-1)","v":11},null,0,0,0,0,0,0,0,2.7304865449823135E-8,0,0,0,0,{"$f":"IF($O$22<>0,SUM(AX1676:BI1676)*$O$22+$N$22,-1)","v":15.000000027304866},null,0,0,0,0,0,0,0,0,0,0,0,0,{"$f":"IF($O$24<>0,SUM(BL1676:BW1676)*$O$24+$N$24,-1)","v":10},null,0,0,0,0,0,0,0,0,0,0,0,0,{"$f":"IF($O$21<>0,SUM(BZ1676:CK1676)*$O$21+$N$21,-1)","v":-1},null,0,0,0,0,0,0,0,2.7922072288735032E-39,0,0,0,0,{"$f":"IF($O$23<>0,SUM(CN1676:CY1676)*$O$23+$N$23,-1)","v":-1}]
[null,null,null,null,null,null,null,null,null,null,null,null,null,null,null,null,null,null,null,null,null,null,null,null,null,null,null,null,null,null,null,null,null,null,33.499999999999638,0,0,0,0,0,0,0,0,0,0,0,0,{"$f":"IF($O$20<>0,SUM(AJ1677:AU1677)*$O$20+$N$20,-1)","v":11},null,0,0,0,0,0,0,0,1.7505131452234023E-9,0,0,0,0,{"$f":"IF($O$22<>0,SUM(AX1677:BI1677)*$O$22+$N$22,-1)","v":15.000000001750513},null,0,0,0,0,0,0,0,0,0,0,0,0,{"$f":"IF($O$24<>0,SUM(BL1677:BW1677)*$O$24+$N$24,-1)","v":10},null,0,0,0,0,0,0,0,0,0,0,0,0,{"$f":"IF($O$21<>0,SUM(BZ1677:CK1677)*$O$21+$N$21,-1)","v":-1},null,0,0,0,0,0,0,0,2.0539809192203352E-42,0,0,0,0,{"$f":"IF($O$23<>0,SUM(CN1677:CY1677)*$O$23+$N$23,-1)","v":-1}]
[null,null,null,null,null,null,null,null,null,null,null,null,null,null,null,null,null,null,null,null,null,null,null,null,null,null,null,null,null,null,null,null,null,null,33.699999999999669,0,0,0,0,0,0,0,0,0,0,0,0,{"$f":"IF($O$20<>0,SUM(AJ1687:AU1687)*$O$20+$N$20,-1)","v":11},null,0,0,0,0,0,0,0,1.0016754582589113E-25,0,0,0,0,{"$f":"IF($O$22<>0,SUM(AX1687:BI1687)*$O$22+$N$22,-1)","v":15},null,0,0,0,0,0,0,0,0,0,0,0,0,{"$f":"IF($O$24<>0,SUM(BL1687:BW1687)*$O$24+$N$24,-1)","v":10},null,0,0,0,0,0,0,0,0,0,0,0,0,{"$f":"IF($O$21<>0,SUM(BZ1687:CK1687)*$O$21+$N$21,-1)","v":-1},null,0,0,0,0,0,0,0,2.5939828074541847E-80,0,0,0,0,{"$f":"IF($O$23<>0,SUM(CN1687:CY1687)*$O$23+$N$23,-1)","v":-1}]
[null,null,null,null,null,null,null,null,null,null,null,null,null,null,null,null,null,null,null,null,null,null,null,null,null,null,null,null,null,null,null,null,null,null,33.879999999999697,0,0,0,0,0,0,0,0,0,0,0,0,{"$f":"IF($O$20<>0,SUM(AJ1696:AU1696)*$O$20+$N$20,-1)","v":11},null,0,0,0,0,0,0,0,4.7842271678064025E-47,0,0,0,0,{"$f":"IF($O$22<>0,SUM(AX1696:BI1696)*$O$22+$N$22,-1)","v":15},null,0,0,0,0,0,0,0,0,0,0,0,0,{"$f":"IF($O$24<>0,SUM(BL1696:BW1696)*$O$24+$N$24,-1)","v":10},null,0,0,0,0,0,0,0,0,0,0,0,0,{"$f":"IF($O$21<>0,SUM(BZ1696:CK1696)*$O$21+$N$21,-1)","v":-1},null,0,0,0,0,0,0,0,1.2572686750219093E-124,0,0,0,0,{"$f":"IF($O$23<>0,SUM(CN1696:CY1696)*$O$23+$N$23,-1)","v":-1}]
[null,null,null,null,null,null,null,null,null,null,null,null,null,null,null,null,null,null,null,null,null,null,null,null,null,null,null,null,null,null,null,null,null,null,33.8999999999997,0,0,0,0,0,0,0,0,0,0,0,0,{"$f":"IF($O$20<>0,SUM(AJ1697:AU1697)*$O$20+$N$20,-1)","v":11},null,0,0,0,0,0,0,0,8.2956274124117144E-50,0,0,0,0,{"$f":"IF($O$22<>0,SUM(AX1697:BI1697)*$O$22+$N$22,-1)","v":15},null,0,0,0,0,0,0,0,0,0,0,0,0,{"$f":"IF($O$24<>0,SUM(BL1697:BW1697)*$O$24+$N$24,-1)","v":10},null,0,0,0,0,0,0,0,0,0,0,0,0,{"$f":"IF($O$21<>0,SUM(BZ1697:CK1697)*$O$21+$N$21,-1)","v":-1},null,0,0,0,0,0,0,0,3.7910684040863427E-130,0,0,0,0,{"$f":"IF($O$23<>0,SUM(CN1697:CY1697)*$O$23+$N$23,-1)","v":-1}]
[null,null,null,null,null,null,null,null,null,null,null,null,null,null,null,null,null,null,null,null,null,null,null,null,null,null,null,null,null,null,null,null,null,null,34.139999999999738,0,0,0,0,0,0,0,0,0,0,0,0,{"$f":"IF($O$20<>0,SUM(AJ1709:AU1709)*$O$20+$N$20,-1)","v":11},null,0,0,0,0,0,0,0,4.7047419354141352E-89,0,0,0,0,{"$f":"IF($O$22<>0,SUM(AX1709:BI1709)*$O$22+$N$22,-1)","v":15},null,0,0,0,0,0,0,0,0,0,0,0,0,{"$f":"IF($O$24<>0,SUM(BL1709:BW1709)*$O$24+$N$24,-1)","v":10},null,0,0,0,0,0,0,0,0,0,0,0,0,{"$f":"IF($O$21<>0,SUM(BZ1709:CK1709)*$O$21+$N$21,-1)","v":-1},null,0,0,0,0,0,0,0,1.0476941545807363E-205,0,0,0,0,{"$f":"IF($O$23<>0,SUM(CN1709:CY1709)*$O$23+$N$23,-1)","v":-1}]
[null,null,null,null,null,null,null,null,null,null,null,null,null,null,null,null,null,null,null,null,null,null,null,null,null,null,null,null,null,null,null,null,null,null,34.27999999999976,0,0,0,0,0,0,0,0,0,0,0,0,{"$f":"IF($O$20<>0,SUM(AJ1716:AU1716)*$O$20+$N$20,-1)","v":11},null,0,0,0,0,0,0,0,3.6781186572259096E-117,0,0,0,0,{"$f":"IF($O$22<>0,SUM(AX1716:BI1716)*$O$22+$N$22,-1)","v":15},null,0,0,0,0,0,0,0,0,0,0,0,0,{"$f":"IF($O$24<>0,SUM(BL1716:BW1716)*$O$24+$N$24,-1)","v":10},null,0,0,0,0,0,0,0,0,0,0,0,0,{"$f":"IF($O$21<>0,SUM(BZ1716:CK1716)*$O$21+$N$21,-1)","v":-1},null,0,0,0,0,0,0,0,1.0153222389896782E-257,0,0,0,0,{"$f":"IF($O$23<>0,SUM(CN1716:CY1716)*$O$23+$N$23,-1)","v":-1}]
[null,null,null,null,null,null,null,null,null,null,null,null,null,null,null,null,null,null,null,null,null,null,null,null,null,null,null,null,null,null,null,null,null,null,34.299999999999763,0,0,0,0,0,0,0,0,0,0,0,0,{"$f":"IF($O$20<>0,SUM(AJ1717:AU1717)*$O$20+$N$20,-1)","v":11},null,0,0,0,0,0,0,0,1.7249451513973403E-121,0,0,0,0,{"$f":"IF($O$22<>0,SUM(AX1717:BI1717)*$O$22+$N$22,-1)","v":15},null,0,0,0,0,0,0,0,0,0,0,0,0,{"$f":"IF($O$24<>0,SUM(BL1717:BW1717)*$O$24+$N$24,-1)","v":10},null,0,0,0,0,0,0,0,0,0,0,0,0,{"$f":"IF($O$21<>0,SUM(BZ1717:CK1717)*$O$21+$N$21,-1)","v":-1},null,0,0,0,0,0,0,0,1.2549377745171598E-265,0,0,0,0,{"$f":"IF($O$23<>0,SUM(CN1717:CY1717)*$O$23+$N$23,-1)","v":-1}]
[null,null,null,null,null,null,null,null,null,null,null,null,null,null,null,null,null,null,null,null,null,null,null,null,null,null,null,null,null,null,null,null,null,null,34.5399999999998,0,0,0,0,0,0,0,0,0,0,0,0,{"$f":"IF($O$20<>0,SUM(AJ1729:AU1729)*$O$20+$N$20,-1)","v":11},null,0,0,0,0,0,0,0,1.4990191224533219E-179,0,0,0,0,{"$f":"IF($O$22<>0,SUM(AX1729:BI1729)*$O$22+$N$22,-1)","v":15},null,0,0,0,0,0,0,0,0,0,0,0,0,{"$f":"IF($O$24<>0,SUM(BL1729:BW1729)*$O$24+$N$24,-1)","v":10},null,0,0,0,0,0,0,0,0,0,0,0,0,{"$f":"IF($O$21<>0,SUM(BZ1729:CK1729)*$O$21+$N$21,-1)","v":-1},null,0,0,0,0,0,0,0,0,0,0,0,0,{"$f":"IF($O$23<>0,SUM(CN1729:CY1729)*$O$23+$N$23,-1)","v":-1}]
[null,null,null,null,null,null,null,null,null,null,null,null,null,null,null,null,null,null,null,null,null,null,null,null,null,null,null,null,null,null,null,null,null,null,34.699999999999825,0,0,0,0,0,0,0,0,0,0,0,0,{"$f":"IF($O$20<>0,SUM(AJ1737:AU1737)*$O$20+$N$20,-1)","v":11},null,0,0,0,0,0,0,0,1.5737782283790021E-224,0,0,0,0,{"$f":"IF($O$22<>0,SUM(AX1737:BI1737)*$O$22+$N$22,-1)","v":15},null,0,0,0,0,0,0,0,0,0,0,0,0,{"$f":"IF($O$24<>0,SUM(BL1737:BW1737)*$O$24+$N$24,-1)","v":10},null,0,0,0,0,0,0,0,0,0,0,0,0,{"$f":"IF($O$21<>0,SUM(BZ1737:CK1737)*$O$21+$N$21,-1)","v":-1},null,0,0,0,0,0,0,0,0,0,0,0,0,{"$f":"IF($O$23<>0,SUM(CN1737:CY1737)*$O$23+$N$23,-1)","v":-1}]
[null,null,null,null,null,null,null,null,null,null,null,null,null,null,null,null,null,null,null,null,null,null,null,null,null,null,null,null,null,null,null,null,null,null,34.739999999999831,0,0,0,0,0,0,0,0,0,0,0,0,{"$f":"IF($O$20<>0,SUM(AJ1739:AU1739)*$O$20+$N$20,-1)","v":11},null,0,0,0,0,0,0,0,1.473274519568794E-236,0,0,0,0,{"$f":"IF($O$22<>0,SUM(AX1739:BI1739)*$O$22+$N$22,-1)","v":15},null,0,0,0,0,0,0,0,0,0,0,0,0,{"$f":"IF($O$24<>0,SUM(BL1739:BW1739)*$O$24+$N$24,-1)","v":10},null,0,0,0,0,0,0,0,0,0,0,0,0,{"$f":"IF($O$21<>0,SUM(BZ1739:CK1739)*$O$21+$N$21,-1)","v":-1},null,0,0,0,0,0,0,0,0,0,0,0,0,{"$f":"IF($O$23<>0,SUM(CN1739:CY1739)*$O$23+$N$23,-1)","v":-1}]
[null,null,null,null,null,null,null,null,null,null,null,null,null,null,null,null,null,null,null,null,null,null,null,null,null,null,null,null,null,null,null,null,null,null,34.939999999999863,0,0,0,0,0,0,0,0,0,0,0,0,{"$f":"IF($O$20<>0,SUM(AJ1749:AU1749)*$O$20+$N$20,-1)","v":11},null,0,0,0,0,0,0,0,2.0956595466448799E-301,0,0,0,0,{"$f":"IF($O$22<>0,SUM(AX1749:BI1749)*$O$22+$N$22,-1)","v":15},null,0,0,0,0,0,0,0,0,0,0,0,0,{"$f":"IF($O$24<>0,SUM(BL1749:BW1749)*$O$24+$N$24,-1)","v":10},null,0,0,0,0,0,0,0,0,0,0,0,0,{"$f":"IF($O$21<>0,SUM(BZ1749:CK1749)*$O$21+$N$21,-1)","v":-1},null,0,0,0,0,0,0,0,0,0,0,0,0,{"$f":"IF($O$23<>0,SUM(CN1749:CY1749)*$O$23+$N$23,-1)","v":-1}]
[null,null,null,null,null,null,null,null,null,null,null,null,null,null,null,null,null,null,null,null,null,null,null,null,null,null,null,null,null,null,null,null,null,null,35.099999999999888,0,0,0,0,0,0,0,0,0,0,0,0,{"$f":"IF($O$20<>0,SUM(AJ1757:AU1757)*$O$20+$N$20,-1)","v":11},null,0,0,0,0,0,0,0,0,0,0,0,0,{"$f":"IF($O$22<>0,SUM(AX1757:BI1757)*$O$22+$N$22,-1)","v":15},null,0,0,0,0,0,0,0,0,0,0,0,0,{"$f":"IF($O$24<>0,SUM(BL1757:BW1757)*$O$24+$N$24,-1)","v":10},null,0,0,0,0,0,0,0,0,0,0,0,0,{"$f":"IF($O$21<>0,SUM(BZ1757:CK1757)*$O$21+$N$21,-1)","v":-1},null,0,0,0,0,0,0,0,0,0,0,0,0,{"$f":"IF($O$23<>0,SUM(CN1757:CY1757)*$O$23+$N$23,-1)","v":-1}]
[null,null,null,null,null,null,null,null,null,null,null,null,null,null,null,null,null,null,null,null,null,null,null,null,null,null,null,null,null,null,null,null,null,null,35.199999999999903,0,0,0,0,0,0,0,0,0,0,0,0,{"$f":"IF($O$20<>0,SUM(AJ1762:AU1762)*$O$20+$N$20,-1)","v":11},null,0,0,0,0,0,0,0,0,0,0,0,0,{"$f":"IF($O$22<>0,SUM(AX1762:BI1762)*$O$22+$N$22,-1)","v":15},null,0,0,0,0,0,0,0,0,0,0,0,0,{"$f":"IF($O$24<>0,SUM(BL1762:BW1762)*$O$24+$N$24,-1)","v":10},null,0,0,0,0,0,0,0,0,0,0,0,0,{"$f":"IF($O$21<>0,SUM(BZ1762:CK1762)*$O$21+$N$21,-1)","v":-1},null,0,0,0,0,0,0,0,0,0,0,0,0,{"$f":"IF($O$23<>0,SUM(CN1762:CY1762)*$O$23+$N$23,-1)","v":-1}]
[null,null,null,null,null,null,null,null,null,null,null,null,null,null,null,null,null,null,null,null,null,null,null,null,null,null,null,null,null,null,null,null,null,null,35.359999999999928,0,0,0,0,0,0,0,0,0,0,0,0,{"$f":"IF($O$20<>0,SUM(AJ1770:AU1770)*$O$20+$N$20,-1)","v":11},null,0,0,0,0,0,0,0,0,0,0,0,0,{"$f":"IF($O$22<>0,SUM(AX1770:BI1770)*$O$22+$N$22,-1)","v":15},null,0,0,0,0,0,0,0,0,0,0,0,0,{"$f":"IF($O$24<>0,SUM(BL1770:BW1770)*$O$24+$N$24,-1)","v":10},null,0,0,0,0,0,0,0,0,0,0,0,0,{"$f":"IF($O$21<>0,SUM(BZ1770:CK1770)*$O$21+$N$21,-1)","v":-1},null,0,0,0,0,0,0,0,0,0,0,0,0,{"$f":"IF($O$23<>0,SUM(CN1770:CY1770)*$O$23+$N$23,-1)","v":-1}]
[null,null,null,null,null,null,null,null,null,null,null,null,null,null,null,null,null,null,null,null,null,null,null,null,null,null,null,null,null,null,null,null,null,null,35.439999999999941,0,0,0,0,0,0,0,0,0,0,0,0,{"$f":"IF($O$20<>0,SUM(AJ1774:AU1774)*$O$20+$N$20,-1)","v":11},null,0,0,0,0,0,0,0,0,0,0,0,0,{"$f":"IF($O$22<>0,SUM(AX1774:BI1774)*$O$22+$N$22,-1)","v":15},null,0,0,0,0,0,0,0,0,0,0,0,0,{"$f":"IF($O$24<>0,SUM(BL1774:BW1774)*$O$24+$N$24,-1)","v":10},null,0,0,0,0,0,0,0,0,0,0,0,0,{"$f":"IF($O$21<>0,SUM(BZ1774:CK1774)*$O$21+$N$21,-1)","v":-1},null,0,0,0,0,0,0,0,0,0,0,0,0,{"$f":"IF($O$23<>0,SUM(CN1774:CY1774)*$O$23+$N$23,-1)","v":-1}]
[null,null,null,null,null,null,null,null,null,null,null,null,null,null,null,null,null,null,null,null,null,null,null,null,null,null,null,null,null,null,null,null,null,null,35.599999999999966,0,0,0,0,0,0,0,0,0,0,0,0,{"$f":"IF($O$20<>0,SUM(AJ1782:AU1782)*$O$20+$N$20,-1)","v":11},null,0,0,0,0,0,0,0,0,0,0,0,0,{"$f":"IF($O$22<>0,SUM(AX1782:BI1782)*$O$22+$N$22,-1)","v":15},null,0,0,0,0,0,0,0,0,0,0,0,0,{"$f":"IF($O$24<>0,SUM(BL1782:BW1782)*$O$24+$N$24,-1)","v":10},null,0,0,0,0,0,0,0,0,0,0,0,0,{"$f":"IF($O$21<>0,SUM(BZ1782:CK1782)*$O$21+$N$21,-1)","v":-1},null,0,0,0,0,0,0,0,0,0,0,0,0,{"$f":"IF($O$23<>0,SUM(CN1782:CY1782)*$O$23+$N$23,-1)","v":-1}]
[null,null,null,null,null,null,null,null,null,null,null,null,null,null,null,null,null,null,null,null,null,null,null,null,null,null,null,null,null,null,null,null,null,null,35.759999999999991,0,0,0,0,0,0,0,0,0,0,0,0,{"$f":"IF($O$20<>0,SUM(AJ1790:AU1790)*$O$20+$N$20,-1)","v":11},null,0,0,0,0,0,0,0,0,1.267949960510253E-292,0,0,0,{"$f":"IF($O$22<>0,SUM(AX1790:BI1790)*$O$22+$N$22,-1)","v":15},null,0,0,0,0,0,0,0,0,0,0,0,0,{"$f":"IF($O$24<>0,SUM(BL1790:BW1790)*$O$24+$N$24,-1)","v":10},null,0,0,0,0,0,0,0,0,0,0,0,0,{"$f":"IF($O$21<>0,SUM(BZ1790:CK1790)*$O$21+$N$21,-1)","v":-1},null,0,0,0,0,0,0,0,0,0,0,0,0,{"$f":"IF($O$23<>0,SUM(CN1790:CY1790)*$O$23+$N$23,-1)","v":-1}]
[null,null,null,null,null,null,null,null,null,null,null,null,null,null,null,null,null,null,null,null,null,null,null,null,null,null,null,null,null,null,null,null,null,null,{"$f":"AI1794+$B$25","v":35.860000000000007},0,0,0,0,0,0,0,0,0,0,0,0,{"$f":"IF($O$20<>0,SUM(AJ1795:AU1795)*$O$20+$N$20,-1)","v":11},null,{"$f":"$B$23*NORMDIST($AI1795,$B$20,$B$24*$B$20,FALSE)","v":0},0,0,0,0,0,0,0,3.1252858672707862E-251,0,0,0,{"$f":"IF($O$22<>0,SUM(AX1795:BI1795)*$O$22+$N$22,-1)","v":15},null,0,0,0,0,0,0,0,0,0,0,0,0,{"$f":"IF($O$24<>0,SUM(BL1795:BW1795)*$O$24+$N$24,-1)","v":10},null,0,0,0,0,0,0,0,0,0,0,0,0,{"$f":"IF($O$21<>0,SUM(BZ1795:CK1795)*$O$21+$N$21,-1)","v":-1},null,0,0,0,0,0,0,0,0,0,0,0,0,{"$f":"IF($O$23<>0,SUM(CN1795:CY1795)*$O$23+$N$23,-1)","v":-1}]
[null,null,null,null,null,null,null,null,null,null,null,null,null,null,null,null,null,null,null,null,null,null,null,null,null,null,null,null,null,null,null,null,null,null,36.020000000000032,0,0,0,0,0,0,0,0,0,0,0,0,{"$f":"IF($O$20<>0,SUM(AJ1803:AU1803)*$O$20+$N$20,-1)","v":11},null,0,0,0,0,0,0,0,0,1.4691896026714541E-191,0,0,0,{"$f":"IF($O$22<>0,SUM(AX1803:BI1803)*$O$22+$N$22,-1)","v":15},null,0,0,0,0,0,0,0,0,0,0,0,0,{"$f":"IF($O$24<>0,SUM(BL1803:BW1803)*$O$24+$N$24,-1)","v":10},null,0,0,0,0,0,0,0,0,0,0,0,0,{"$f":"IF($O$21<>0,SUM(BZ1803:CK1803)*$O$21+$N$21,-1)","v":-1},null,0,0,0,0,0,0,0,0,0,0,0,0,{"$f":"IF($O$23<>0,SUM(CN1803:CY1803)*$O$23+$N$23,-1)","v":-1}]
[null,null,null,null,null,null,null,null,null,null,null,null,null,null,null,null,null,null,null,null,null,null,null,null,null,null,null,null,null,null,null,null,null,null,36.160000000000053,0,0,0,0,0,0,0,0,0,0,0,0,{"$f":"IF($O$20<>0,SUM(AJ1810:AU1810)*$O$20+$N$20,-1)","v":11},null,0,0,0,0,0,0,0,0,5.7882145846040514E-146,0,0,0,{"$f":"IF($O$22<>0,SUM(AX1810:BI1810)*$O$22+$N$22,-1)","v":15},null,0,0,0,0,0,0,0,0,0,0,0,0,{"$f":"IF($O$24<>0,SUM(BL1810:BW1810)*$O$24+$N$24,-1)","v":10},null,0,0,0,0,0,0,0,0,0,0,0,0,{"$f":"IF($O$21<>0,SUM(BZ1810:CK1810)*$O$21+$N$21,-1)","v":-1},null,0,0,0,0,0,0,0,0,0,0,0,0,{"$f":"IF($O$23<>0,SUM(CN1810:CY1810)*$O$23+$N$23,-1)","v":-1}]
[null,null,null,null,null,null,null,null,null,null,null,null,null,null,null,null,null,null,null,null,null,null,null,null,null,null,null,null,null,null,null,null,null,null,36.260000000000069,0,0,0,0,0,0,0,0,0,0,0,0,{"$f":"IF($O$20<>0,SUM(AJ1815:AU1815)*$O$20+$N$20,-1)","v":11},null,0,0,0,0,0,0,0,0,3.5415515942714787E-117,0,0,0,{"$f":"IF($O$22<>0,SUM(AX1815:BI1815)*$O$22+$N$22,-1)","v":15},null,0,0,0,0,0,0,0,0,0,0,0,0,{"$f":"IF($O$24<>0,SUM(BL1815:BW1815)*$O$24+$N$24,-1)","v":10},null,0,0,0,0,0,0,0,0,0,0,0,0,{"$f":"IF($O$21<>0,SUM(BZ1815:CK1815)*$O$21+$N$21,-1)","v":-1},null,0,0,0,0,0,0,0,0,0,0,0,0,{"$f":"IF($O$23<>0,SUM(CN1815:CY1815)*$O$23+$N$23,-1)","v":-1}]
[null,null,null,null,null,null,null,null,null,null,null,null,null,null,null,null,null,null,null,null,null,null,null,null,null,null,null,null,null,null,null,null,null,null,36.420000000000094,0,0,0,0,0,0,0,0,0,0,0,0,{"$f":"IF($O$20<>0,SUM(AJ1823:AU1823)*$O$20+$N$20,-1)","v":11},null,0,0,0,0,0,0,0,0,1.1302116443420773E-77,0,0,0,{"$f":"IF($O$22<>0,SUM(AX1823:BI1823)*$O$22+$N$22,-1)","v":15},null,0,0,0,0,0,0,0,0,0,0,0,0,{"$f":"IF($O$24<>0,SUM(BL1823:BW1823)*$O$24+$N$24,-1)","v":10},null,0,0,0,0,0,0,0,0,0,0,0,0,{"$f":"IF($O$21<>0,SUM(BZ1823:CK1823)*$O$21+$N$21,-1)","v":-1},null,0,0,0,0,0,0,0,0,0,0,0,0,{"$f":"IF($O$23<>0,SUM(CN1823:CY1823)*$O$23+$N$23,-1)","v":-1}]
[null,null,null,null,null,null,null,null,null,null,null,null,null,null,null,null,null,null,null,null,null,null,null,null,null,null,null,null,null,null,null,null,null,null,36.52000000000011,0,0,0,0,0,0,0,0,0,0,0,0,{"$f":"IF($O$20<>0,SUM(AJ1828:AU1828)*$O$20+$N$20,-1)","v":11},null,0,0,0,0,0,0,0,0,4.4306616173959239E-57,0,0,0,{"$f":"IF($O$22<>0,SUM(AX1828:BI1828)*$O$22+$N$22,-1)","v":15},null,0,0,0,0,0,0,0,0,0,0,0,0,{"$f":"IF($O$24<>0,SUM(BL1828:BW1828)*$O$24+$N$24,-1)","v":10},null,0,0,0,0,0,0,0,0,0,0,0,0,{"$f":"IF($O$21<>0,SUM(BZ1828:CK1828)*$O$21+$N$21,-1)","v":-1},null,0,0,0,0,0,0,0,0,0,0,0,0,{"$f":"IF($O$23<>0,SUM(CN1828:CY1828)*$O$23+$N$23,-1)","v":-1}]
[null,null,null,null,null,null,null,null,null,null,null,null,null,null,null,null,null,null,null,null,null,null,null,null,null,null,null,null,null,null,null,null,null,null,36.660000000000132,0,0,0,0,0,0,0,0,0,0,0,0,{"$f":"IF($O$20<>0,SUM(AJ1835:AU1835)*$O$20+$N$20,-1)","v":11},null,0,0,0,0,0,0,0,0,1.5238515585274367E-33,0,0,0,{"$f":"IF($O$22<>0,SUM(AX1835:BI1835)*$O$22+$N$22,-1)","v":15},null,0,0,0,0,0,0,0,0,0,0,0,0,{"$f":"IF($O$24<>0,SUM(BL1835:BW1835)*$O$24+$N$24,-1)","v":10},null,0,0,0,0,0,0,0,0,0,0,0,0,{"$f":"IF($O$21<>0,SUM(BZ1835:CK1835)*$O$21+$N$21,-1)","v":-1},null,0,0,0,0,0,0,0,0,1.718894119622334E-307,0,0,0,{"$f":"IF($O$23<>0,SUM(CN1835:CY1835)*$O$23+$N$23,-1)","v":-1}]
[null,null,null,null,null,null,null,null,null,null,null,null,null,null,null,null,null,null,null,null,null,null,null,null,null,null,null,null,null,null,null,null,null,null,36.820000000000157,0,0,0,0,0,0,0,0,0,0,0,0,{"$f":"IF($O$20<>0,SUM(AJ1843:AU1843)*$O$20+$N$20,-1)","v":11},null,0,0,0,0,0,0,0,0,3.3013150674850263E-14,0,0,0,{"$f":"IF($O$22<>0,SUM(AX1843:BI1843)*$O$22+$N$22,-1)","v":15.000000000000034},null,0,0,0,0,0,0,0,0,0,0,0,0,{"$f":"IF($O$24<>0,SUM(BL1843:BW1843)*$O$24+$N$24,-1)","v":10},null,0,0,0,0,0,0,0,0,0,0,0,0,{"$f":"IF($O$21<>0,SUM(BZ1843:CK1843)*$O$21+$N$21,-1)","v":-1},null,0,0,0,0,0,0,0,0,9.877945288923619E-229,0,0,0,{"$f":"IF($O$23<>0,SUM(CN1843:CY1843)*$O$23+$N$23,-1)","v":-1}]
[null,null,null,null,null,null,null,null,null,null,null,null,null,null,null,null,null,null,null,null,null,null,null,null,null,null,null,null,null,null,null,null,null,null,36.920000000000172,0,0,0,0,0,0,0,0,0,0,0,0,{"$f":"IF($O$20<>0,SUM(AJ1848:AU1848)*$O$20+$N$20,-1)","v":11},null,0,0,0,0,0,0,0,0,3.2126032615153296E-6,0,0,0,{"$f":"IF($O$22<>0,SUM(AX1848:BI1848)*$O$22+$N$22,-1)","v":15.000003212603261},null,0,0,0,0,0,0,0,0,0,0,0,0,{"$f":"IF($O$24<>0,SUM(BL1848:BW1848)*$O$24+$N$24,-1)","v":10},null,0,0,0,0,0,0,0,0,0,0,0,0,{"$f":"IF($O$21<>0,SUM(BZ1848:CK1848)*$O$21+$N$21,-1)","v":-1},null,0,0,0,0,0,0,0,0,2.0961381478001569E-185,0,0,0,{"$f":"IF($O$23<>0,SUM(CN1848:CY1848)*$O$23+$N$23,-1)","v":-1}]
[null,null,null,null,null,null,null,null,null,null,null,null,null,null,null,null,null,null,null,null,null,null,null,null,null,null,null,null,null,null,null,null,null,null,37.1000000000002,0,0,0,0,0,0,0,0,0,0,0,0,{"$f":"IF($O$20<>0,SUM(AJ1857:AU1857)*$O$20+$N$20,-1)","v":11},null,0,0,0,0,0,0,0,0,8.7968248421297588,0,0,0,{"$f":"IF($O$22<>0,SUM(AX1857:BI1857)*$O$22+$N$22,-1)","v":23.796824842129759},null,0,0,0,0,0,0,0,0,0,0,0,0,{"$f":"IF($O$24<>0,SUM(BL1857:BW1857)*$O$24+$N$24,-1)","v":10},null,0,0,0,0,0,0,0,0,0,0,0,0,{"$f":"IF($O$21<>0,SUM(BZ1857:CK1857)*$O$21+$N$21,-1)","v":-1},null,0,0,0,0,0,0,0,0,7.5293441379305778E-119,0,0,0,{"$f":"IF($O$23<>0,SUM(CN1857:CY1857)*$O$23+$N$23,-1)","v":-1}]
[null,null,null,null,null,null,null,null,null,null,null,null,null,null,null,null,null,null,null,null,null,null,null,null,null,null,null,null,null,null,null,null,null,null,37.220000000000219,0,0,0,0,0,0,0,0,0,0,0,0,{"$f":"IF($O$20<>0,SUM(AJ1863:AU1863)*$O$20+$N$20,-1)","v":11},null,0,0,0,0,0,0,0,0,0.36615033522296059,0,0,0,{"$f":"IF($O$22<>0,SUM(AX1863:BI1863)*$O$22+$N$22,-1)","v":15.36615033522296},null,0,0,0,0,0,0,0,0,0,0,0,0,{"$f":"IF($O$24<>0,SUM(BL1863:BW1863)*$O$24+$N$24,-1)","v":10},null,0,0,0,0,0,0,0,0,0,0,0,0,{"$f":"IF($O$21<>0,SUM(BZ1863:CK1863)*$O$21+$N$21,-1)","v":-1},null,0,0,0,0,0,0,0,0,1.2041564866181809E-82,0,0,0,{"$f":"IF($O$23<>0,SUM(CN1863:CY1863)*$O$23+$N$23,-1)","v":-1}]
[null,null,null,null,null,null,null,null,null,null,null,null,null,null,null,null,null,null,null,null,null,null,null,null,null,null,null,null,null,null,null,null,null,null,37.320000000000235,0,0,0,0,0,0,0,0,0,0,0,0,{"$f":"IF($O$20<>0,SUM(AJ1868:AU1868)*$O$20+$N$20,-1)","v":11},null,0,0,0,0,0,0,0,0,8.8448581914779005E-6,0,0,0,{"$f":"IF($O$22<>0,SUM(AX1868:BI1868)*$O$22+$N$22,-1)","v":15.000008844858192},null,0,0,0,0,0,0,0,0,0,0,0,0,{"$f":"IF($O$24<>0,SUM(BL1868:BW1868)*$O$24+$N$24,-1)","v":10},null,0,0,0,0,0,0,0,0,0,0,0,0,{"$f":"IF($O$21<>0,SUM(BZ1868:CK1868)*$O$21+$N$21,-1)","v":-1},null,0,0,0,0,0,0,0,0,1.8201408462118357E-57,0,0,0,{"$f":"IF($O$23<>0,SUM(CN1868:CY1868)*$O$23+$N$23,-1)","v":-1}]
[null,null,null,null,null,null,null,null,null,null,null,null,null,null,null,null,null,null,null,null,null,null,null,null,null,null,null,null,null,null,null,null,null,null,37.48000000000026,0,0,0,0,0,0,0,0,0,0,0,0,{"$f":"IF($O$20<>0,SUM(AJ1876:AU1876)*$O$20+$N$20,-1)","v":11},null,0,0,0,0,0,0,0,0,1.0112745084792787E-19,0,0,0,{"$f":"IF($O$22<>0,SUM(AX1876:BI1876)*$O$22+$N$22,-1)","v":15},null,0,0,0,0,0,0,0,0,0,0,0,0,{"$f":"IF($O$24<>0,SUM(BL1876:BW1876)*$O$24+$N$24,-1)","v":10},null,0,0,0,0,0,0,0,0,0,0,0,0,{"$f":"IF($O$21<>0,SUM(BZ1876:CK1876)*$O$21+$N$21,-1)","v":-1},null,0,0,0,0,0,0,0,0,1.2899357173166746E-26,0,0,0,{"$f":"IF($O$23<>0,SUM(CN1876:CY1876)*$O$23+$N$23,-1)","v":-1}]
[null,null,null,null,null,null,null,null,null,null,null,null,null,null,null,null,null,null,null,null,null,null,null,null,null,null,null,null,null,null,null,null,null,null,37.560000000000272,0,0,0,0,0,0,0,0,0,0,0,0,{"$f":"IF($O$20<>0,SUM(AJ1880:AU1880)*$O$20+$N$20,-1)","v":11},null,0,0,0,0,0,0,0,0,1.0202929099510304E-29,0,0,0,{"$f":"IF($O$22<>0,SUM(AX1880:BI1880)*$O$22+$N$22,-1)","v":15},null,0,0,0,0,0,0,0,0,0,0,0,0,{"$f":"IF($O$24<>0,SUM(BL1880:BW1880)*$O$24+$N$24,-1)","v":10},null,0,0,0,0,0,0,0,0,0,0,0,0,{"$f":"IF($O$21<>0,SUM(BZ1880:CK1880)*$O$21+$N$21,-1)","v":-1},null,0,0,0,0,0,0,0,0,1.5150958610664804E-15,0,0,0,{"$f":"IF($O$23<>0,SUM(CN1880:CY1880)*$O$23+$N$23,-1)","v":-1}]
[null,null,null,null,null,null,null,null,null,null,null,null,null,null,null,null,null,null,null,null,null,null,null,null,null,null,null,null,null,null,null,null,null,null,37.720000000000297,0,0,0,0,0,0,0,0,0,0,0,0,{"$f":"IF($O$20<>0,SUM(AJ1888:AU1888)*$O$20+$N$20,-1)","v":11},null,0,0,0,0,0,0,0,0,9.2463412589022096E-56,0,0,0,{"$f":"IF($O$22<>0,SUM(AX1888:BI1888)*$O$22+$N$22,-1)","v":15},null,0,0,0,0,0,0,0,0,0,0,0,0,{"$f":"IF($O$24<>0,SUM(BL1888:BW1888)*$O$24+$N$24,-1)","v":10},null,0,0,0,0,0,0,0,0,0,0,0,0,{"$f":"IF($O$21<>0,SUM(BZ1888:CK1888)*$O$21+$N$21,-1)","v":-1},null,0,0,0,0,0,0,0,0,4.0687894228400565E-2,0,0,0,{"$f":"IF($O$23<>0,SUM(CN1888:CY1888)*$O$23+$N$23,-1)","v":-1}]
[null,null,null,null,null,null,null,null,null,null,null,null,null,null,null,null,null,null,null,null,null,null,null,null,null,null,null,null,null,null,null,null,null,null,37.880000000000322,0,0,0,0,0,0,0,0,0,0,0,0,{"$f":"IF($O$20<>0,SUM(AJ1896:AU1896)*$O$20+$N$20,-1)","v":11},null,0,0,0,0,0,0,0,0,7.176723427013986E-90,0,0,0,{"$f":"IF($O$22<>0,SUM(AX1896:BI1896)*$O$22+$N$22,-1)","v":15},null,0,0,0,0,0,0,0,0,0,0,0,0,{"$f":"IF($O$24<>0,SUM(BL1896:BW1896)*$O$24+$N$24,-1)","v":10},null,0,0,0,0,0,0,0,0,0,0,0,0,{"$f":"IF($O$21<>0,SUM(BZ1896:CK1896)*$O$21+$N$21,-1)","v":-1},null,0,0,0,0,0,0,0,0,2.6558181570925576,0,0,0,{"$f":"IF($O$23<>0,SUM(CN1896:CY1896)*$O$23+$N$23,-1)","v":-1}]
[null,null,null,null,null,null,null,null,null,null,null,null,null,null,null,null,null,null,null,null,null,null,null,null,null,null,null,null,null,null,null,null,null,null,37.980000000000338,0,0,0,0,0,0,0,0,0,0,0,0,{"$f":"IF($O$20<>0,SUM(AJ1901:AU1901)*$O$20+$N$20,-1)","v":11},null,0,0,0,0,0,0,0,0,2.757266981478747E-115,0,0,0,{"$f":"IF($O$22<>0,SUM(AX1901:BI1901)*$O$22+$N$22,-1)","v":15},null,0,0,0,0,0,0,0,0,0,0,0,0,{"$f":"IF($O$24<>0,SUM(BL1901:BW1901)*$O$24+$N$24,-1)","v":10},null,0,0,0,0,0,0,0,0,0,0,0,0,{"$f":"IF($O$21<>0,SUM(BZ1901:CK1901)*$O$21+$N$21,-1)","v":-1},null,0,0,0,0,0,0,0,0,4.5763990915544045E-5,0,0,0,{"$f":"IF($O$23<>0,SUM(CN1901:CY1901)*$O$23+$N$23,-1)","v":-1}]
[null,null,null,null,null,null,null,null,null,null,null,null,null,null,null,null,null,null,null,null,null,null,null,null,null,null,null,null,null,null,null,null,null,null,38.180000000000369,0,0,0,0,0,0,0,0,0,0,0,0,{"$f":"IF($O$20<>0,SUM(AJ1911:AU1911)*$O$20+$N$20,-1)","v":11},null,0,0,0,0,0,0,0,0,1.4312978793581676E-175,0,0,0,{"$f":"IF($O$22<>0,SUM(AX1911:BI1911)*$O$22+$N$22,-1)","v":15},null,0,0,0,0,0,0,0,0,0,0,0,0,{"$f":"IF($O$24<>0,SUM(BL1911:BW1911)*$O$24+$N$24,-1)","v":10},null,0,0,0,0,0,0,0,0,0,0,0,0,{"$f":"IF($O$21<>0,SUM(BZ1911:CK1911)*$O$21+$N$21,-1)","v":-1},null,0,0,0,0,0,0,0,0,3.3317820679289252E-28,0,0,0,{"$f":"IF($O$23<>0,SUM(CN1911:CY1911)*$O$23+$N$23,-1)","v":-1}]
[null,null,null,null,null,null,null,null,null,null,null,null,null,null,null,null,null,null,null,null,null,null,null,null,null,null,null,null,null,null,null,null,null,null,38.280000000000385,0,0,0,0,0,0,0,0,0,0,0,0,{"$f":"IF($O$20<>0,SUM(AJ1916:AU1916)*$O$20+$N$20,-1)","v":11},null,0,0,0,0,0,0,0,0,1.9338760070558152E-210,0,0,0,{"$f":"IF($O$22<>0,SUM(AX1916:BI1916)*$O$22+$N$22,-1)","v":15},null,0,0,0,0,0,0,0,0,0,0,0,0,{"$f":"IF($O$24<>0,SUM(BL1916:BW1916)*$O$24+$N$24,-1)","v":10},null,0,0,0,0,0,0,0,0,0,0,0,0,{"$f":"IF($O$21<>0,SUM(BZ1916:CK1916)*$O$21+$N$21,-1)","v":-1},null,0,0,0,0,0,0,0,0,1.4076793091528307E-46,0,0,0,{"$f":"IF($O$23<>0,SUM(CN1916:CY1916)*$O$23+$N$23,-1)","v":-1}]
[null,null,null,null,null,null,null,null,null,null,null,null,null,null,null,null,null,null,null,null,null,null,null,null,null,null,null,null,null,null,null,null,null,null,38.3800000000004,0,0,0,0,0,0,0,0,0,0,0,0,{"$f":"IF($O$20<>0,SUM(AJ1921:AU1921)*$O$20+$N$20,-1)","v":11},null,0,0,0,0,0,0,0,0,1.844346652655179E-248,0,0,0,{"$f":"IF($O$22<>0,SUM(AX1921:BI1921)*$O$22+$N$22,-1)","v":15},null,0,0,0,0,0,0,0,0,0,0,0,0,{"$f":"IF($O$24<>0,SUM(BL1921:BW1921)*$O$24+$N$24,-1)","v":10},null,0,0,0,0,0,0,0,0,0,0,0,0,{"$f":"IF($O$21<>0,SUM(BZ1921:CK1921)*$O$21+$N$21,-1)","v":-1},null,0,0,0,0,0,0,0,0,1.7278182747325514E-69,0,0,0,{"$f":"IF($O$23<>0,SUM(CN1921:CY1921)*$O$23+$N$23,-1)","v":-1}]
[null,null,null,null,null,null,null,null,null,null,null,null,null,null,null,null,null,null,null,null,null,null,null,null,null,null,null,null,null,null,null,null,null,null,38.540000000000425,0,0,0,0,0,0,0,0,0,0,0,0,{"$f":"IF($O$20<>0,SUM(AJ1929:AU1929)*$O$20+$N$20,-1)","v":11},null,0,0,0,0,0,0,0,0,0,0,0,0,{"$f":"IF($O$22<>0,SUM(AX1929:BI1929)*$O$22+$N$22,-1)","v":15},null,0,0,0,0,0,0,0,0,0,0,0,0,{"$f":"IF($O$24<>0,SUM(BL1929:BW1929)*$O$24+$N$24,-1)","v":10},null,0,0,0,0,0,0,0,0,0,0,0,0,{"$f":"IF($O$21<>0,SUM(BZ1929:CK1929)*$O$21+$N$21,-1)","v":-1},null,0,0,0,0,0,0,0,0,1.3908387012256795E-115,0,0,0,{"$f":"IF($O$23<>0,SUM(CN1929:CY1929)*$O$23+$N$23,-1)","v":-1}]
[null,null,null,null,null,null,null,null,null,null,null,null,null,null,null,null,null,null,null,null,null,null,null,null,null,null,null,null,null,null,null,null,null,null,38.640000000000441,0,0,0,0,0,0,0,0,0,0,0,0,{"$f":"IF($O$20<>0,SUM(AJ1934:AU1934)*$O$20+$N$20,-1)","v":11},null,0,0,0,0,0,0,0,0,0,0,0,0,{"$f":"IF($O$22<>0,SUM(AX1934:BI1934)*$O$22+$N$22,-1)","v":15},null,0,0,0,0,0,0,0,0,0,0,0,0,{"$f":"IF($O$24<>0,SUM(BL1934:BW1934)*$O$24+$N$24,-1)","v":10},null,0,0,0,0,0,0,0,0,0,0,0,0,{"$f":"IF($O$21<>0,SUM(BZ1934:CK1934)*$O$21+$N$21,-1)","v":-1},null,0,0,0,0,0,0,0,0,2.7321579968847857E-150,0,0,0,{"$f":"IF($O$23<>0,SUM(CN1934:CY1934)*$O$23+$N$23,-1)","v":-1}]
[null,null,null,null,null,null,null,null,null,null,null,null,null,null,null,null,null,null,null,null,null,null,null,null,null,null,null,null,null,null,null,null,null,null,38.780000000000463,0,0,0,0,0,0,0,0,0,0,0,0,{"$f":"IF($O$20<>0,SUM(AJ1941:AU1941)*$O$20+$N$20,-1)","v":11},null,0,0,0,0,0,0,0,0,0,0,0,0,{"$f":"IF($O$22<>0,SUM(AX1941:BI1941)*$O$22+$N$22,-1)","v":15},null,0,0,0,0,0,0,0,0,0,0,0,0,{"$f":"IF($O$24<>0,SUM(BL1941:BW1941)*$O$24+$N$24,-1)","v":10},null,0,0,0,0,0,0,0,0,0,0,0,0,{"$f":"IF($O$21<>0,SUM(BZ1941:CK1941)*$O$21+$N$21,-1)","v":-1},null,0,0,0,0,0,0,0,0,1.6793737457811775E-206,0,0,0,{"$f":"IF($O$23<>0,SUM(CN1941:CY1941)*$O$23+$N$23,-1)","v":-1}]
[null,null,null,null,null,null,null,null,null,null,null,null,null,null,null,null,null,null,null,null,null,null,null,null,null,null,null,null,null,null,null,null,null,null,38.800000000000466,0,0,0,0,0,0,0,0,0,0,0,0,{"$f":"IF($O$20<>0,SUM(AJ1942:AU1942)*$O$20+$N$20,-1)","v":11},null,0,0,0,0,0,0,0,0,0,0,0,0,{"$f":"IF($O$22<>0,SUM(AX1942:BI1942)*$O$22+$N$22,-1)","v":15},null,0,0,0,0,0,0,0,0,0,0,0,0,{"$f":"IF($O$24<>0,SUM(BL1942:BW1942)*$O$24+$N$24,-1)","v":10},null,0,0,0,0,0,0,0,0,0,0,0,0,{"$f":"IF($O$21<>0,SUM(BZ1942:CK1942)*$O$21+$N$21,-1)","v":-1},null,0,0,0,0,0,0,0,0,2.9448287623743389E-215,0,0,0,{"$f":"IF($O$23<>0,SUM(CN1942:CY1942)*$O$23+$N$23,-1)","v":-1}]
[null,null,null,null,null,null,null,null,null,null,null,null,null,null,null,null,null,null,null,null,null,null,null,null,null,null,null,null,null,null,null,null,null,null,38.820000000000469,0,0,0,0,0,0,0,0,0,0,0,0,{"$f":"IF($O$20<>0,SUM(AJ1943:AU1943)*$O$20+$N$20,-1)","v":11},null,0,0,0,0,0,0,0,0,0,0,0,0,{"$f":"IF($O$22<>0,SUM(AX1943:BI1943)*$O$22+$N$22,-1)","v":15},null,0,0,0,0,0,0,0,0,0,0,0,0,{"$f":"IF($O$24<>0,SUM(BL1943:BW1943)*$O$24+$N$24,-1)","v":10},null,0,0,0,0,0,0,0,0,0,0,0,0,{"$f":"IF($O$21<>0,SUM(BZ1943:CK1943)*$O$21+$N$21,-1)","v":-1},null,0,0,0,0,0,0,0,0,3.4001605239767768E-224,0,0,0,{"$f":"IF($O$23<>0,SUM(CN1943:CY1943)*$O$23+$N$23,-1)","v":-1}]
[null,null,null,null,null,null,null,null,null,null,null,null,null,null,null,null,null,null,null,null,null,null,null,null,null,null,null,null,null,null,null,null,null,null,38.840000000000472,0,0,0,0,0,0,0,0,0,0,0,0,{"$f":"IF($O$20<>0,SUM(AJ1944:AU1944)*$O$20+$N$20,-1)","v":11},null,0,0,0,0,0,0,0,0,0,0,0,0,{"$f":"IF($O$22<>0,SUM(AX1944:BI1944)*$O$22+$N$22,-1)","v":15},null,0,0,0,0,0,0,0,0,0,0,0,0,{"$f":"IF($O$24<>0,SUM(BL1944:BW1944)*$O$24+$N$24,-1)","v":10},null,0,0,0,0,0,0,0,0,0,0,0,0,{"$f":"IF($O$21<>0,SUM(BZ1944:CK1944)*$O$21+$N$21,-1)","v":-1},null,0,0,0,0,0,0,0,0,2.5850293794390646E-233,0,0,0,{"$f":"IF($O$23<>0,SUM(CN1944:CY1944)*$O$23+$N$23,-1)","v":-1}]
[null,null,null,null,null,null,null,null,null,null,null,null,null,null,null,null,null,null,null,null,null,null,null,null,null,null,null,null,null,null,null,null,null,null,38.860000000000475,0,0,0,0,0,0,0,0,0,0,0,0,{"$f":"IF($O$20<>0,SUM(AJ1945:AU1945)*$O$20+$N$20,-1)","v":11},null,0,0,0,0,0,0,0,0,0,0,0,0,{"$f":"IF($O$22<>0,SUM(AX1945:BI1945)*$O$22+$N$22,-1)","v":15},null,0,0,0,0,0,0,0,0,0,0,0,0,{"$f":"IF($O$24<>0,SUM(BL1945:BW1945)*$O$24+$N$24,-1)","v":10},null,0,0,0,0,0,0,0,0,0,0,0,0,{"$f":"IF($O$21<>0,SUM(BZ1945:CK1945)*$O$21+$N$21,-1)","v":-1},null,0,0,0,0,0,0,0,0,1.29407138360579E-242,0,0,0,{"$f":"IF($O$23<>0,SUM(CN1945:CY1945)*$O$23+$N$23,-1)","v":-1}]
[null,null,null,null,null,null,null,null,null,null,null,null,null,null,null,null,null,null,null,null,null,null,null,null,null,null,null,null,null,null,null,null,null,null,38.880000000000479,0,0,0,0,0,0,0,0,0,0,0,0,{"$f":"IF($O$20<>0,SUM(AJ1946:AU1946)*$O$20+$N$20,-1)","v":11},null,0,0,0,0,0,0,0,0,0,0,0,0,{"$f":"IF($O$22<>0,SUM(AX1946:BI1946)*$O$22+$N$22,-1)","v":15},null,0,0,0,0,0,0,0,0,0,0,0,0,{"$f":"IF($O$24<>0,SUM(BL1946:BW1946)*$O$24+$N$24,-1)","v":10},null,0,0,0,0,0,0,0,0,0,0,0,0,{"$f":"IF($O$21<>0,SUM(BZ1946:CK1946)*$O$21+$N$21,-1)","v":-1},null,0,0,0,0,0,0,0,0,4.2655758763058901E-252,0,0,0,{"$f":"IF($O$23<>0,SUM(CN1946:CY1946)*$O$23+$N$23,-1)","v":-1}]
[null,null,null,null,null,null,null,null,null,null,null,null,null,null,null,null,null,null,null,null,null,null,null,null,null,null,null,null,null,null,null,null,null,null,38.900000000000482,0,0,0,0,0,0,0,0,0,0,0,0,{"$f":"IF($O$20<>0,SUM(AJ1947:AU1947)*$O$20+$N$20,-1)","v":11},null,0,0,0,0,0,0,0,0,0,0,0,0,{"$f":"IF($O$22<>0,SUM(AX1947:BI1947)*$O$22+$N$22,-1)","v":15},null,0,0,0,0,0,0,0,0,0,0,0,0,{"$f":"IF($O$24<>0,SUM(BL1947:BW1947)*$O$24+$N$24,-1)","v":10},null,0,0,0,0,0,0,0,0,0,0,0,0,{"$f":"IF($O$21<>0,SUM(BZ1947:CK1947)*$O$21+$N$21,-1)","v":-1},null,0,0,0,0,0,0,0,0,9.2581411438906889E-262,0,0,0,{"$f":"IF($O$23<>0,SUM(CN1947:CY1947)*$O$23+$N$23,-1)","v":-1}]
[null,null,null,null,null,null,null,null,null,null,null,null,null,null,null,null,null,null,null,null,null,null,null,null,null,null,null,null,null,null,null,null,null,null,38.920000000000485,0,0,0,0,0,0,0,0,0,0,0,0,{"$f":"IF($O$20<>0,SUM(AJ1948:AU1948)*$O$20+$N$20,-1)","v":11},null,0,0,0,0,0,0,0,0,0,0,0,0,{"$f":"IF($O$22<>0,SUM(AX1948:BI1948)*$O$22+$N$22,-1)","v":15},null,0,0,0,0,0,0,0,0,0,0,0,0,{"$f":"IF($O$24<>0,SUM(BL1948:BW1948)*$O$24+$N$24,-1)","v":10},null,0,0,0,0,0,0,0,0,0,0,0,0,{"$f":"IF($O$21<>0,SUM(BZ1948:CK1948)*$O$21+$N$21,-1)","v":-1},null,0,0,0,0,0,0,0,0,1.3231120087026169E-271,0,0,0,{"$f":"IF($O$23<>0,SUM(CN1948:CY1948)*$O$23+$N$23,-1)","v":-1}]
[null,null,null,null,null,null,null,null,null,null,null,null,null,null,null,null,null,null,null,null,null,null,null,null,null,null,null,null,null,null,null,null,null,null,38.940000000000488,0,0,0,0,0,0,0,0,0,0,0,0,{"$f":"IF($O$20<>0,SUM(AJ1949:AU1949)*$O$20+$N$20,-1)","v":11},null,0,0,0,0,0,0,0,0,0,0,0,0,{"$f":"IF($O$22<>0,SUM(AX1949:BI1949)*$O$22+$N$22,-1)","v":15},null,0,0,0,0,0,0,0,0,0,0,0,0,{"$f":"IF($O$24<>0,SUM(BL1949:BW1949)*$O$24+$N$24,-1)","v":10},null,0,0,0,0,0,0,0,0,0,0,0,0,{"$f":"IF($O$21<>0,SUM(BZ1949:CK1949)*$O$21+$N$21,-1)","v":-1},null,0,0,0,0,0,0,0,0,1.245076719224899E-281,0,0,0,{"$f":"IF($O$23<>0,SUM(CN1949:CY1949)*$O$23+$N$23,-1)","v":-1}]
[null,null,null,null,null,null,null,null,null,null,null,null,null,null,null,null,null,null,null,null,null,null,null,null,null,null,null,null,null,null,null,null,null,null,38.960000000000491,0,0,0,0,0,0,0,0,0,0,0,0,{"$f":"IF($O$20<>0,SUM(AJ1950:AU1950)*$O$20+$N$20,-1)","v":11},null,0,0,0,0,0,0,0,0,0,0,0,0,{"$f":"IF($O$22<>0,SUM(AX1950:BI1950)*$O$22+$N$22,-1)","v":15},null,0,0,0,0,0,0,0,0,0,0,0,0,{"$f":"IF($O$24<>0,SUM(BL1950:BW1950)*$O$24+$N$24,-1)","v":10},null,0,0,0,0,0,0,0,0,0,0,0,0,{"$f":"IF($O$21<>0,SUM(BZ1950:CK1950)*$O$21+$N$21,-1)","v":-1},null,0,0,0,0,0,0,0,0,7.7147579017958236E-292,0,0,0,{"$f":"IF($O$23<>0,SUM(CN1950:CY1950)*$O$23+$N$23,-1)","v":-1}]
[null,null,null,null,null,null,null,null,null,null,null,null,null,null,null,null,null,null,null,null,null,null,null,null,null,null,null,null,null,null,null,null,null,null,38.980000000000494,0,0,0,0,0,0,0,0,0,0,0,0,{"$f":"IF($O$20<>0,SUM(AJ1951:AU1951)*$O$20+$N$20,-1)","v":11},null,0,0,0,0,0,0,0,0,0,0,0,0,{"$f":"IF($O$22<>0,SUM(AX1951:BI1951)*$O$22+$N$22,-1)","v":15},null,0,0,0,0,0,0,0,0,0,0,0,0,{"$f":"IF($O$24<>0,SUM(BL1951:BW1951)*$O$24+$N$24,-1)","v":10},null,0,0,0,0,0,0,0,0,0,0,0,0,{"$f":"IF($O$21<>0,SUM(BZ1951:CK1951)*$O$21+$N$21,-1)","v":-1},null,0,0,0,0,0,0,0,0,3.1475684179958726E-302,0,0,0,{"$f":"IF($O$23<>0,SUM(CN1951:CY1951)*$O$23+$N$23,-1)","v":-1}]
[null,null,null,null,null,null,null,null,null,null,null,null,null,null,null,null,null,null,null,null,null,null,null,null,null,null,null,null,null,null,null,null,null,null,39.000000000000497,0,0,0,0,0,0,0,0,0,0,0,0,{"$f":"IF($O$20<>0,SUM(AJ1952:AU1952)*$O$20+$N$20,-1)","v":11},null,0,0,0,0,0,0,0,0,0,0,0,0,{"$f":"IF($O$22<>0,SUM(AX1952:BI1952)*$O$22+$N$22,-1)","v":15},null,0,0,0,0,0,0,0,0,0,0,0,0,{"$f":"IF($O$24<>0,SUM(BL1952:BW1952)*$O$24+$N$24,-1)","v":10},null,0,0,0,0,0,0,0,0,0,0,0,0,{"$f":"IF($O$21<>0,SUM(BZ1952:CK1952)*$O$21+$N$21,-1)","v":-1},null,0,0,0,0,0,0,0,0,0,0,0,0,{"$f":"IF($O$23<>0,SUM(CN1952:CY1952)*$O$23+$N$23,-1)","v":-1}]
[null,null,null,null,null,null,null,null,null,null,null,null,null,null,null,null,null,null,null,null,null,null,null,null,null,null,null,null,null,null,null,null,null,null,39.020000000000501,0,0,0,0,0,0,0,0,0,0,0,0,{"$f":"IF($O$20<>0,SUM(AJ1953:AU1953)*$O$20+$N$20,-1)","v":11},null,0,0,0,0,0,0,0,0,0,0,0,0,{"$f":"IF($O$22<>0,SUM(AX1953:BI1953)*$O$22+$N$22,-1)","v":15},null,0,0,0,0,0,0,0,0,0,0,0,0,{"$f":"IF($O$24<>0,SUM(BL1953:BW1953)*$O$24+$N$24,-1)","v":10},null,0,0,0,0,0,0,0,0,0,0,0,0,{"$f":"IF($O$21<>0,SUM(BZ1953:CK1953)*$O$21+$N$21,-1)","v":-1},null,0,0,0,0,0,0,0,0,0,0,0,0,{"$f":"IF($O$23<>0,SUM(CN1953:CY1953)*$O$23+$N$23,-1)","v":-1}]
[null,null,null,null,null,null,null,null,null,null,null,null,null,null,null,null,null,null,null,null,null,null,null,null,null,null,null,null,null,null,null,null,null,null,39.040000000000504,0,0,0,0,0,0,0,0,0,0,0,0,{"$f":"IF($O$20<>0,SUM(AJ1954:AU1954)*$O$20+$N$20,-1)","v":11},null,0,0,0,0,0,0,0,0,0,0,0,0,{"$f":"IF($O$22<>0,SUM(AX1954:BI1954)*$O$22+$N$22,-1)","v":15},null,0,0,0,0,0,0,0,0,0,0,0,0,{"$f":"IF($O$24<>0,SUM(BL1954:BW1954)*$O$24+$N$24,-1)","v":10},null,0,0,0,0,0,0,0,0,0,0,0,0,{"$f":"IF($O$21<>0,SUM(BZ1954:CK1954)*$O$21+$N$21,-1)","v":-1},null,0,0,0,0,0,0,0,0,0,0,0,0,{"$f":"IF($O$23<>0,SUM(CN1954:CY1954)*$O$23+$N$23,-1)","v":-1}]
[null,null,null,null,null,null,null,null,null,null,null,null,null,null,null,null,null,null,null,null,null,null,null,null,null,null,null,null,null,null,null,null,null,null,39.060000000000507,0,0,0,0,0,0,0,0,0,0,0,0,{"$f":"IF($O$20<>0,SUM(AJ1955:AU1955)*$O$20+$N$20,-1)","v":11},null,0,0,0,0,0,0,0,0,0,0,0,0,{"$f":"IF($O$22<>0,SUM(AX1955:BI1955)*$O$22+$N$22,-1)","v":15},null,0,0,0,0,0,0,0,0,0,0,0,0,{"$f":"IF($O$24<>0,SUM(BL1955:BW1955)*$O$24+$N$24,-1)","v":10},null,0,0,0,0,0,0,0,0,0,0,0,0,{"$f":"IF($O$21<>0,SUM(BZ1955:CK1955)*$O$21+$N$21,-1)","v":-1},null,0,0,0,0,0,0,0,0,0,0,0,0,{"$f":"IF($O$23<>0,SUM(CN1955:CY1955)*$O$23+$N$23,-1)","v":-1}]
[null,null,null,null,null,null,null,null,null,null,null,null,null,null,null,null,null,null,null,null,null,null,null,null,null,null,null,null,null,null,null,null,null,null,39.08000000000051,0,0,0,0,0,0,0,0,0,0,0,0,{"$f":"IF($O$20<>0,SUM(AJ1956:AU1956)*$O$20+$N$20,-1)","v":11},null,0,0,0,0,0,0,0,0,0,0,0,0,{"$f":"IF($O$22<>0,SUM(AX1956:BI1956)*$O$22+$N$22,-1)","v":15},null,0,0,0,0,0,0,0,0,0,0,0,0,{"$f":"IF($O$24<>0,SUM(BL1956:BW1956)*$O$24+$N$24,-1)","v":10},null,0,0,0,0,0,0,0,0,0,0,0,0,{"$f":"IF($O$21<>0,SUM(BZ1956:CK1956)*$O$21+$N$21,-1)","v":-1},null,0,0,0,0,0,0,0,0,0,0,0,0,{"$f":"IF($O$23<>0,SUM(CN1956:CY1956)*$O$23+$N$23,-1)","v":-1}]
[null,null,null,null,null,null,null,null,null,null,null,null,null,null,null,null,null,null,null,null,null,null,null,null,null,null,null,null,null,null,null,null,null,null,39.100000000000513,0,0,0,0,0,0,0,0,0,0,0,0,{"$f":"IF($O$20<>0,SUM(AJ1957:AU1957)*$O$20+$N$20,-1)","v":11},null,0,0,0,0,0,0,0,0,0,0,0,0,{"$f":"IF($O$22<>0,SUM(AX1957:BI1957)*$O$22+$N$22,-1)","v":15},null,0,0,0,0,0,0,0,0,0,0,0,0,{"$f":"IF($O$24<>0,SUM(BL1957:BW1957)*$O$24+$N$24,-1)","v":10},null,0,0,0,0,0,0,0,0,0,0,0,0,{"$f":"IF($O$21<>0,SUM(BZ1957:CK1957)*$O$21+$N$21,-1)","v":-1},null,0,0,0,0,0,0,0,0,0,0,0,0,{"$f":"IF($O$23<>0,SUM(CN1957:CY1957)*$O$23+$N$23,-1)","v":-1}]
[null,null,null,null,null,null,null,null,null,null,null,null,null,null,null,null,null,null,null,null,null,null,null,null,null,null,null,null,null,null,null,null,null,null,39.120000000000516,0,0,0,0,0,0,0,0,0,0,0,0,{"$f":"IF($O$20<>0,SUM(AJ1958:AU1958)*$O$20+$N$20,-1)","v":11},null,0,0,0,0,0,0,0,0,0,0,0,0,{"$f":"IF($O$22<>0,SUM(AX1958:BI1958)*$O$22+$N$22,-1)","v":15},null,0,0,0,0,0,0,0,0,0,0,0,0,{"$f":"IF($O$24<>0,SUM(BL1958:BW1958)*$O$24+$N$24,-1)","v":10},null,0,0,0,0,0,0,0,0,0,0,0,0,{"$f":"IF($O$21<>0,SUM(BZ1958:CK1958)*$O$21+$N$21,-1)","v":-1},null,0,0,0,0,0,0,0,0,0,0,0,0,{"$f":"IF($O$23<>0,SUM(CN1958:CY1958)*$O$23+$N$23,-1)","v":-1}]
[null,null,null,null,null,null,null,null,null,null,null,null,null,null,null,null,null,null,null,null,null,null,null,null,null,null,null,null,null,null,null,null,null,null,39.140000000000519,0,0,0,0,0,0,0,0,0,0,0,0,{"$f":"IF($O$20<>0,SUM(AJ1959:AU1959)*$O$20+$N$20,-1)","v":11},null,0,0,0,0,0,0,0,0,0,0,0,0,{"$f":"IF($O$22<>0,SUM(AX1959:BI1959)*$O$22+$N$22,-1)","v":15},null,0,0,0,0,0,0,0,0,0,0,0,0,{"$f":"IF($O$24<>0,SUM(BL1959:BW1959)*$O$24+$N$24,-1)","v":10},null,0,0,0,0,0,0,0,0,0,0,0,0,{"$f":"IF($O$21<>0,SUM(BZ1959:CK1959)*$O$21+$N$21,-1)","v":-1},null,0,0,0,0,0,0,0,0,0,0,0,0,{"$f":"IF($O$23<>0,SUM(CN1959:CY1959)*$O$23+$N$23,-1)","v":-1}]
[null,null,null,null,null,null,null,null,null,null,null,null,null,null,null,null,null,null,null,null,null,null,null,null,null,null,null,null,null,null,null,null,null,null,39.160000000000522,0,0,0,0,0,0,0,0,0,0,0,0,{"$f":"IF($O$20<>0,SUM(AJ1960:AU1960)*$O$20+$N$20,-1)","v":11},null,0,0,0,0,0,0,0,0,0,0,0,0,{"$f":"IF($O$22<>0,SUM(AX1960:BI1960)*$O$22+$N$22,-1)","v":15},null,0,0,0,0,0,0,0,0,0,0,0,0,{"$f":"IF($O$24<>0,SUM(BL1960:BW1960)*$O$24+$N$24,-1)","v":10},null,0,0,0,0,0,0,0,0,0,0,0,0,{"$f":"IF($O$21<>0,SUM(BZ1960:CK1960)*$O$21+$N$21,-1)","v":-1},null,0,0,0,0,0,0,0,0,0,0,0,0,{"$f":"IF($O$23<>0,SUM(CN1960:CY1960)*$O$23+$N$23,-1)","v":-1}]
[null,null,null,null,null,null,null,null,null,null,null,null,null,null,null,null,null,null,null,null,null,null,null,null,null,null,null,null,null,null,null,null,null,null,39.180000000000526,0,0,0,0,0,0,0,0,0,0,0,0,{"$f":"IF($O$20<>0,SUM(AJ1961:AU1961)*$O$20+$N$20,-1)","v":11},null,0,0,0,0,0,0,0,0,0,0,0,0,{"$f":"IF($O$22<>0,SUM(AX1961:BI1961)*$O$22+$N$22,-1)","v":15},null,0,0,0,0,0,0,0,0,0,0,0,0,{"$f":"IF($O$24<>0,SUM(BL1961:BW1961)*$O$24+$N$24,-1)","v":10},null,0,0,0,0,0,0,0,0,0,0,0,0,{"$f":"IF($O$21<>0,SUM(BZ1961:CK1961)*$O$21+$N$21,-1)","v":-1},null,0,0,0,0,0,0,0,0,0,0,0,0,{"$f":"IF($O$23<>0,SUM(CN1961:CY1961)*$O$23+$N$23,-1)","v":-1}]
[null,null,null,null,null,null,null,null,null,null,null,null,null,null,null,null,null,null,null,null,null,null,null,null,null,null,null,null,null,null,null,null,null,null,39.200000000000529,0,0,0,0,0,0,0,0,0,0,0,0,{"$f":"IF($O$20<>0,SUM(AJ1962:AU1962)*$O$20+$N$20,-1)","v":11},null,0,0,0,0,0,0,0,0,0,0,0,0,{"$f":"IF($O$22<>0,SUM(AX1962:BI1962)*$O$22+$N$22,-1)","v":15},null,0,0,0,0,0,0,0,0,0,0,0,0,{"$f":"IF($O$24<>0,SUM(BL1962:BW1962)*$O$24+$N$24,-1)","v":10},null,0,0,0,0,0,0,0,0,0,0,0,0,{"$f":"IF($O$21<>0,SUM(BZ1962:CK1962)*$O$21+$N$21,-1)","v":-1},null,0,0,0,0,0,0,0,0,0,0,0,0,{"$f":"IF($O$23<>0,SUM(CN1962:CY1962)*$O$23+$N$23,-1)","v":-1}]
[null,null,null,null,null,null,null,null,null,null,null,null,null,null,null,null,null,null,null,null,null,null,null,null,null,null,null,null,null,null,null,null,null,null,39.220000000000532,0,0,0,0,0,0,0,0,0,0,0,0,{"$f":"IF($O$20<>0,SUM(AJ1963:AU1963)*$O$20+$N$20,-1)","v":11},null,0,0,0,0,0,0,0,0,0,0,0,0,{"$f":"IF($O$22<>0,SUM(AX1963:BI1963)*$O$22+$N$22,-1)","v":15},null,0,0,0,0,0,0,0,0,0,0,0,0,{"$f":"IF($O$24<>0,SUM(BL1963:BW1963)*$O$24+$N$24,-1)","v":10},null,0,0,0,0,0,0,0,0,0,0,0,0,{"$f":"IF($O$21<>0,SUM(BZ1963:CK1963)*$O$21+$N$21,-1)","v":-1},null,0,0,0,0,0,0,0,0,0,0,0,0,{"$f":"IF($O$23<>0,SUM(CN1963:CY1963)*$O$23+$N$23,-1)","v":-1}]
[null,null,null,null,null,null,null,null,null,null,null,null,null,null,null,null,null,null,null,null,null,null,null,null,null,null,null,null,null,null,null,null,null,null,39.240000000000535,0,0,0,0,0,0,0,0,0,0,0,0,{"$f":"IF($O$20<>0,SUM(AJ1964:AU1964)*$O$20+$N$20,-1)","v":11},null,0,0,0,0,0,0,0,0,0,0,0,0,{"$f":"IF($O$22<>0,SUM(AX1964:BI1964)*$O$22+$N$22,-1)","v":15},null,0,0,0,0,0,0,0,0,0,0,0,0,{"$f":"IF($O$24<>0,SUM(BL1964:BW1964)*$O$24+$N$24,-1)","v":10},null,0,0,0,0,0,0,0,0,0,0,0,0,{"$f":"IF($O$21<>0,SUM(BZ1964:CK1964)*$O$21+$N$21,-1)","v":-1},null,0,0,0,0,0,0,0,0,0,0,0,0,{"$f":"IF($O$23<>0,SUM(CN1964:CY1964)*$O$23+$N$23,-1)","v":-1}]
[null,null,null,null,null,null,null,null,null,null,null,null,null,null,null,null,null,null,null,null,null,null,null,null,null,null,null,null,null,null,null,null,null,null,39.260000000000538,0,0,0,0,0,0,0,0,0,0,0,0,{"$f":"IF($O$20<>0,SUM(AJ1965:AU1965)*$O$20+$N$20,-1)","v":11},null,0,0,0,0,0,0,0,0,0,0,0,0,{"$f":"IF($O$22<>0,SUM(AX1965:BI1965)*$O$22+$N$22,-1)","v":15},null,0,0,0,0,0,0,0,0,0,0,0,0,{"$f":"IF($O$24<>0,SUM(BL1965:BW1965)*$O$24+$N$24,-1)","v":10},null,0,0,0,0,0,0,0,0,0,0,0,0,{"$f":"IF($O$21<>0,SUM(BZ1965:CK1965)*$O$21+$N$21,-1)","v":-1},null,0,0,0,0,0,0,0,0,0,0,0,0,{"$f":"IF($O$23<>0,SUM(CN1965:CY1965)*$O$23+$N$23,-1)","v":-1}]
[null,null,null,null,null,null,null,null,null,null,null,null,null,null,null,null,null,null,null,null,null,null,null,null,null,null,null,null,null,null,null,null,null,null,39.280000000000541,0,0,0,0,0,0,0,0,0,0,0,0,{"$f":"IF($O$20<>0,SUM(AJ1966:AU1966)*$O$20+$N$20,-1)","v":11},null,0,0,0,0,0,0,0,0,0,0,0,0,{"$f":"IF($O$22<>0,SUM(AX1966:BI1966)*$O$22+$N$22,-1)","v":15},null,0,0,0,0,0,0,0,0,0,0,0,0,{"$f":"IF($O$24<>0,SUM(BL1966:BW1966)*$O$24+$N$24,-1)","v":10},null,0,0,0,0,0,0,0,0,0,0,0,0,{"$f":"IF($O$21<>0,SUM(BZ1966:CK1966)*$O$21+$N$21,-1)","v":-1},null,0,0,0,0,0,0,0,0,0,0,0,0,{"$f":"IF($O$23<>0,SUM(CN1966:CY1966)*$O$23+$N$23,-1)","v":-1}]
[null,null,null,null,null,null,null,null,null,null,null,null,null,null,null,null,null,null,null,null,null,null,null,null,null,null,null,null,null,null,null,null,null,null,39.300000000000544,0,0,0,0,0,0,0,0,0,0,0,0,{"$f":"IF($O$20<>0,SUM(AJ1967:AU1967)*$O$20+$N$20,-1)","v":11},null,0,0,0,0,0,0,0,0,0,0,0,0,{"$f":"IF($O$22<>0,SUM(AX1967:BI1967)*$O$22+$N$22,-1)","v":15},null,0,0,0,0,0,0,0,0,0,0,0,0,{"$f":"IF($O$24<>0,SUM(BL1967:BW1967)*$O$24+$N$24,-1)","v":10},null,0,0,0,0,0,0,0,0,0,0,0,0,{"$f":"IF($O$21<>0,SUM(BZ1967:CK1967)*$O$21+$N$21,-1)","v":-1},null,0,0,0,0,0,0,0,0,0,0,0,0,{"$f":"IF($O$23<>0,SUM(CN1967:CY1967)*$O$23+$N$23,-1)","v":-1}]
[null,null,null,null,null,null,null,null,null,null,null,null,null,null,null,null,null,null,null,null,null,null,null,null,null,null,null,null,null,null,null,null,null,null,39.320000000000547,0,0,0,0,0,0,0,0,0,0,0,0,{"$f":"IF($O$20<>0,SUM(AJ1968:AU1968)*$O$20+$N$20,-1)","v":11},null,0,0,0,0,0,0,0,0,0,0,0,0,{"$f":"IF($O$22<>0,SUM(AX1968:BI1968)*$O$22+$N$22,-1)","v":15},null,0,0,0,0,0,0,0,0,0,0,0,0,{"$f":"IF($O$24<>0,SUM(BL1968:BW1968)*$O$24+$N$24,-1)","v":10},null,0,0,0,0,0,0,0,0,0,0,0,0,{"$f":"IF($O$21<>0,SUM(BZ1968:CK1968)*$O$21+$N$21,-1)","v":-1},null,0,0,0,0,0,0,0,0,0,0,0,0,{"$f":"IF($O$23<>0,SUM(CN1968:CY1968)*$O$23+$N$23,-1)","v":-1}]
[null,null,null,null,null,null,null,null,null,null,null,null,null,null,null,null,null,null,null,null,null,null,null,null,null,null,null,null,null,null,null,null,null,null,39.340000000000551,0,0,0,0,0,0,0,0,0,0,0,0,{"$f":"IF($O$20<>0,SUM(AJ1969:AU1969)*$O$20+$N$20,-1)","v":11},null,0,0,0,0,0,0,0,0,0,0,0,0,{"$f":"IF($O$22<>0,SUM(AX1969:BI1969)*$O$22+$N$22,-1)","v":15},null,0,0,0,0,0,0,0,0,0,0,0,0,{"$f":"IF($O$24<>0,SUM(BL1969:BW1969)*$O$24+$N$24,-1)","v":10},null,0,0,0,0,0,0,0,0,0,0,0,0,{"$f":"IF($O$21<>0,SUM(BZ1969:CK1969)*$O$21+$N$21,-1)","v":-1},null,0,0,0,0,0,0,0,0,0,0,0,0,{"$f":"IF($O$23<>0,SUM(CN1969:CY1969)*$O$23+$N$23,-1)","v":-1}]
[null,null,null,null,null,null,null,null,null,null,null,null,null,null,null,null,null,null,null,null,null,null,null,null,null,null,null,null,null,null,null,null,null,null,39.360000000000554,0,0,0,0,0,0,0,0,0,0,0,0,{"$f":"IF($O$20<>0,SUM(AJ1970:AU1970)*$O$20+$N$20,-1)","v":11},null,0,0,0,0,0,0,0,0,0,0,0,0,{"$f":"IF($O$22<>0,SUM(AX1970:BI1970)*$O$22+$N$22,-1)","v":15},null,0,0,0,0,0,0,0,0,0,0,0,0,{"$f":"IF($O$24<>0,SUM(BL1970:BW1970)*$O$24+$N$24,-1)","v":10},null,0,0,0,0,0,0,0,0,0,0,0,0,{"$f":"IF($O$21<>0,SUM(BZ1970:CK1970)*$O$21+$N$21,-1)","v":-1},null,0,0,0,0,0,0,0,0,0,0,0,0,{"$f":"IF($O$23<>0,SUM(CN1970:CY1970)*$O$23+$N$23,-1)","v":-1}]
[null,null,null,null,null,null,null,null,null,null,null,null,null,null,null,null,null,null,null,null,null,null,null,null,null,null,null,null,null,null,null,null,null,null,39.380000000000557,0,0,0,0,0,0,0,0,0,0,0,0,{"$f":"IF($O$20<>0,SUM(AJ1971:AU1971)*$O$20+$N$20,-1)","v":11},null,0,0,0,0,0,0,0,0,0,0,0,0,{"$f":"IF($O$22<>0,SUM(AX1971:BI1971)*$O$22+$N$22,-1)","v":15},null,0,0,0,0,0,0,0,0,0,0,0,0,{"$f":"IF($O$24<>0,SUM(BL1971:BW1971)*$O$24+$N$24,-1)","v":10},null,0,0,0,0,0,0,0,0,0,0,0,0,{"$f":"IF($O$21<>0,SUM(BZ1971:CK1971)*$O$21+$N$21,-1)","v":-1},null,0,0,0,0,0,0,0,0,0,0,0,0,{"$f":"IF($O$23<>0,SUM(CN1971:CY1971)*$O$23+$N$23,-1)","v":-1}]
[null,null,null,null,null,null,null,null,null,null,null,null,null,null,null,null,null,null,null,null,null,null,null,null,null,null,null,null,null,null,null,null,null,null,39.40000000000056,0,0,0,0,0,0,0,0,0,0,0,0,{"$f":"IF($O$20<>0,SUM(AJ1972:AU1972)*$O$20+$N$20,-1)","v":11},null,0,0,0,0,0,0,0,0,0,0,0,0,{"$f":"IF($O$22<>0,SUM(AX1972:BI1972)*$O$22+$N$22,-1)","v":15},null,0,0,0,0,0,0,0,0,0,0,0,0,{"$f":"IF($O$24<>0,SUM(BL1972:BW1972)*$O$24+$N$24,-1)","v":10},null,0,0,0,0,0,0,0,0,0,0,0,0,{"$f":"IF($O$21<>0,SUM(BZ1972:CK1972)*$O$21+$N$21,-1)","v":-1},null,0,0,0,0,0,0,0,0,0,0,0,0,{"$f":"IF($O$23<>0,SUM(CN1972:CY1972)*$O$23+$N$23,-1)","v":-1}]
[null,null,null,null,null,null,null,null,null,null,null,null,null,null,null,null,null,null,null,null,null,null,null,null,null,null,null,null,null,null,null,null,null,null,39.420000000000563,0,0,0,0,0,0,0,0,0,0,0,0,{"$f":"IF($O$20<>0,SUM(AJ1973:AU1973)*$O$20+$N$20,-1)","v":11},null,0,0,0,0,0,0,0,0,0,0,0,0,{"$f":"IF($O$22<>0,SUM(AX1973:BI1973)*$O$22+$N$22,-1)","v":15},null,0,0,0,0,0,0,0,0,0,0,0,0,{"$f":"IF($O$24<>0,SUM(BL1973:BW1973)*$O$24+$N$24,-1)","v":10},null,0,0,0,0,0,0,0,0,0,0,0,0,{"$f":"IF($O$21<>0,SUM(BZ1973:CK1973)*$O$21+$N$21,-1)","v":-1},null,0,0,0,0,0,0,0,0,0,0,0,0,{"$f":"IF($O$23<>0,SUM(CN1973:CY1973)*$O$23+$N$23,-1)","v":-1}]
[null,null,null,null,null,null,null,null,null,null,null,null,null,null,null,null,null,null,null,null,null,null,null,null,null,null,null,null,null,null,null,null,null,null,39.440000000000566,0,0,0,0,0,0,0,0,0,0,0,0,{"$f":"IF($O$20<>0,SUM(AJ1974:AU1974)*$O$20+$N$20,-1)","v":11},null,0,0,0,0,0,0,0,0,0,0,0,0,{"$f":"IF($O$22<>0,SUM(AX1974:BI1974)*$O$22+$N$22,-1)","v":15},null,0,0,0,0,0,0,0,0,0,0,0,0,{"$f":"IF($O$24<>0,SUM(BL1974:BW1974)*$O$24+$N$24,-1)","v":10},null,0,0,0,0,0,0,0,0,0,0,0,0,{"$f":"IF($O$21<>0,SUM(BZ1974:CK1974)*$O$21+$N$21,-1)","v":-1},null,0,0,0,0,0,0,0,0,0,0,0,0,{"$f":"IF($O$23<>0,SUM(CN1974:CY1974)*$O$23+$N$23,-1)","v":-1}]
[null,null,null,null,null,null,null,null,null,null,null,null,null,null,null,null,null,null,null,null,null,null,null,null,null,null,null,null,null,null,null,null,null,null,39.460000000000569,0,0,0,0,0,0,0,0,0,0,0,0,{"$f":"IF($O$20<>0,SUM(AJ1975:AU1975)*$O$20+$N$20,-1)","v":11},null,0,0,0,0,0,0,0,0,0,0,0,0,{"$f":"IF($O$22<>0,SUM(AX1975:BI1975)*$O$22+$N$22,-1)","v":15},null,0,0,0,0,0,0,0,0,0,0,0,0,{"$f":"IF($O$24<>0,SUM(BL1975:BW1975)*$O$24+$N$24,-1)","v":10},null,0,0,0,0,0,0,0,0,0,0,0,0,{"$f":"IF($O$21<>0,SUM(BZ1975:CK1975)*$O$21+$N$21,-1)","v":-1},null,0,0,0,0,0,0,0,0,0,0,0,0,{"$f":"IF($O$23<>0,SUM(CN1975:CY1975)*$O$23+$N$23,-1)","v":-1}]
[null,null,null,null,null,null,null,null,null,null,null,null,null,null,null,null,null,null,null,null,null,null,null,null,null,null,null,null,null,null,null,null,null,null,39.480000000000572,0,0,0,0,0,0,0,0,0,0,0,0,{"$f":"IF($O$20<>0,SUM(AJ1976:AU1976)*$O$20+$N$20,-1)","v":11},null,0,0,0,0,0,0,0,0,0,0,0,0,{"$f":"IF($O$22<>0,SUM(AX1976:BI1976)*$O$22+$N$22,-1)","v":15},null,0,0,0,0,0,0,0,0,0,0,0,0,{"$f":"IF($O$24<>0,SUM(BL1976:BW1976)*$O$24+$N$24,-1)","v":10},null,0,0,0,0,0,0,0,0,0,0,0,0,{"$f":"IF($O$21<>0,SUM(BZ1976:CK1976)*$O$21+$N$21,-1)","v":-1},null,0,0,0,0,0,0,0,0,0,0,0,0,{"$f":"IF($O$23<>0,SUM(CN1976:CY1976)*$O$23+$N$23,-1)","v":-1}]
[null,null,null,null,null,null,null,null,null,null,null,null,null,null,null,null,null,null,null,null,null,null,null,null,null,null,null,null,null,null,null,null,null,null,39.500000000000576,0,0,0,0,0,0,0,0,0,0,0,0,{"$f":"IF($O$20<>0,SUM(AJ1977:AU1977)*$O$20+$N$20,-1)","v":11},null,0,0,0,0,0,0,0,0,0,0,0,0,{"$f":"IF($O$22<>0,SUM(AX1977:BI1977)*$O$22+$N$22,-1)","v":15},null,0,0,0,0,0,0,0,0,0,0,0,0,{"$f":"IF($O$24<>0,SUM(BL1977:BW1977)*$O$24+$N$24,-1)","v":10},null,0,0,0,0,0,0,0,0,0,0,0,0,{"$f":"IF($O$21<>0,SUM(BZ1977:CK1977)*$O$21+$N$21,-1)","v":-1},null,0,0,0,0,0,0,0,0,0,0,0,0,{"$f":"IF($O$23<>0,SUM(CN1977:CY1977)*$O$23+$N$23,-1)","v":-1}]
[null,null,null,null,null,null,null,null,null,null,null,null,null,null,null,null,null,null,null,null,null,null,null,null,null,null,null,null,null,null,null,null,null,null,39.520000000000579,0,0,0,0,0,0,0,0,0,0,0,0,{"$f":"IF($O$20<>0,SUM(AJ1978:AU1978)*$O$20+$N$20,-1)","v":11},null,0,0,0,0,0,0,0,0,0,0,0,0,{"$f":"IF($O$22<>0,SUM(AX1978:BI1978)*$O$22+$N$22,-1)","v":15},null,0,0,0,0,0,0,0,0,0,0,0,0,{"$f":"IF($O$24<>0,SUM(BL1978:BW1978)*$O$24+$N$24,-1)","v":10},null,0,0,0,0,0,0,0,0,0,0,0,0,{"$f":"IF($O$21<>0,SUM(BZ1978:CK1978)*$O$21+$N$21,-1)","v":-1},null,0,0,0,0,0,0,0,0,0,0,0,0,{"$f":"IF($O$23<>0,SUM(CN1978:CY1978)*$O$23+$N$23,-1)","v":-1}]
[null,null,null,null,null,null,null,null,null,null,null,null,null,null,null,null,null,null,null,null,null,null,null,null,null,null,null,null,null,null,null,null,null,null,39.540000000000582,0,0,0,0,0,0,0,0,0,0,0,0,{"$f":"IF($O$20<>0,SUM(AJ1979:AU1979)*$O$20+$N$20,-1)","v":11},null,0,0,0,0,0,0,0,0,0,0,0,0,{"$f":"IF($O$22<>0,SUM(AX1979:BI1979)*$O$22+$N$22,-1)","v":15},null,0,0,0,0,0,0,0,0,0,0,0,0,{"$f":"IF($O$24<>0,SUM(BL1979:BW1979)*$O$24+$N$24,-1)","v":10},null,0,0,0,0,0,0,0,0,0,0,0,0,{"$f":"IF($O$21<>0,SUM(BZ1979:CK1979)*$O$21+$N$21,-1)","v":-1},null,0,0,0,0,0,0,0,0,0,0,0,0,{"$f":"IF($O$23<>0,SUM(CN1979:CY1979)*$O$23+$N$23,-1)","v":-1}]
[null,null,null,null,null,null,null,null,null,null,null,null,null,null,null,null,null,null,null,null,null,null,null,null,null,null,null,null,null,null,null,null,null,null,39.560000000000585,0,0,0,0,0,0,0,0,0,0,0,0,{"$f":"IF($O$20<>0,SUM(AJ1980:AU1980)*$O$20+$N$20,-1)","v":11},null,0,0,0,0,0,0,0,0,0,0,0,0,{"$f":"IF($O$22<>0,SUM(AX1980:BI1980)*$O$22+$N$22,-1)","v":15},null,0,0,0,0,0,0,0,0,0,0,0,0,{"$f":"IF($O$24<>0,SUM(BL1980:BW1980)*$O$24+$N$24,-1)","v":10},null,0,0,0,0,0,0,0,0,0,0,0,0,{"$f":"IF($O$21<>0,SUM(BZ1980:CK1980)*$O$21+$N$21,-1)","v":-1},null,0,0,0,0,0,0,0,0,0,0,0,0,{"$f":"IF($O$23<>0,SUM(CN1980:CY1980)*$O$23+$N$23,-1)","v":-1}]
[null,null,null,null,null,null,null,null,null,null,null,null,null,null,null,null,null,null,null,null,null,null,null,null,null,null,null,null,null,null,null,null,null,null,39.580000000000588,0,0,0,0,0,0,0,0,0,0,0,0,{"$f":"IF($O$20<>0,SUM(AJ1981:AU1981)*$O$20+$N$20,-1)","v":11},null,0,0,0,0,0,0,0,0,0,0,0,0,{"$f":"IF($O$22<>0,SUM(AX1981:BI1981)*$O$22+$N$22,-1)","v":15},null,0,0,0,0,0,0,0,0,0,0,0,0,{"$f":"IF($O$24<>0,SUM(BL1981:BW1981)*$O$24+$N$24,-1)","v":10},null,0,0,0,0,0,0,0,0,0,0,0,0,{"$f":"IF($O$21<>0,SUM(BZ1981:CK1981)*$O$21+$N$21,-1)","v":-1},null,0,0,0,0,0,0,0,0,0,0,0,0,{"$f":"IF($O$23<>0,SUM(CN1981:CY1981)*$O$23+$N$23,-1)","v":-1}]
[null,null,null,null,null,null,null,null,null,null,null,null,null,null,null,null,null,null,null,null,null,null,null,null,null,null,null,null,null,null,null,null,null,null,39.600000000000591,0,0,0,0,0,0,0,0,0,0,0,0,{"$f":"IF($O$20<>0,SUM(AJ1982:AU1982)*$O$20+$N$20,-1)","v":11},null,0,0,0,0,0,0,0,0,0,0,0,0,{"$f":"IF($O$22<>0,SUM(AX1982:BI1982)*$O$22+$N$22,-1)","v":15},null,0,0,0,0,0,0,0,0,0,0,0,0,{"$f":"IF($O$24<>0,SUM(BL1982:BW1982)*$O$24+$N$24,-1)","v":10},null,0,0,0,0,0,0,0,0,0,0,0,0,{"$f":"IF($O$21<>0,SUM(BZ1982:CK1982)*$O$21+$N$21,-1)","v":-1},null,0,0,0,0,0,0,0,0,0,0,0,0,{"$f":"IF($O$23<>0,SUM(CN1982:CY1982)*$O$23+$N$23,-1)","v":-1}]
[null,null,null,null,null,null,null,null,null,null,null,null,null,null,null,null,null,null,null,null,null,null,null,null,null,null,null,null,null,null,null,null,null,null,39.620000000000594,0,0,0,0,0,0,0,0,0,0,0,0,{"$f":"IF($O$20<>0,SUM(AJ1983:AU1983)*$O$20+$N$20,-1)","v":11},null,0,0,0,0,0,0,0,0,0,0,0,0,{"$f":"IF($O$22<>0,SUM(AX1983:BI1983)*$O$22+$N$22,-1)","v":15},null,0,0,0,0,0,0,0,0,0,0,0,0,{"$f":"IF($O$24<>0,SUM(BL1983:BW1983)*$O$24+$N$24,-1)","v":10},null,0,0,0,0,0,0,0,0,0,0,0,0,{"$f":"IF($O$21<>0,SUM(BZ1983:CK1983)*$O$21+$N$21,-1)","v":-1},null,0,0,0,0,0,0,0,0,0,0,0,0,{"$f":"IF($O$23<>0,SUM(CN1983:CY1983)*$O$23+$N$23,-1)","v":-1}]
[null,null,null,null,null,null,null,null,null,null,null,null,null,null,null,null,null,null,null,null,null,null,null,null,null,null,null,null,null,null,null,null,null,null,39.640000000000597,0,0,0,0,0,0,0,0,0,0,0,0,{"$f":"IF($O$20<>0,SUM(AJ1984:AU1984)*$O$20+$N$20,-1)","v":11},null,0,0,0,0,0,0,0,0,0,0,0,0,{"$f":"IF($O$22<>0,SUM(AX1984:BI1984)*$O$22+$N$22,-1)","v":15},null,0,0,0,0,0,0,0,0,0,0,0,0,{"$f":"IF($O$24<>0,SUM(BL1984:BW1984)*$O$24+$N$24,-1)","v":10},null,0,0,0,0,0,0,0,0,0,0,0,0,{"$f":"IF($O$21<>0,SUM(BZ1984:CK1984)*$O$21+$N$21,-1)","v":-1},null,0,0,0,0,0,0,0,0,0,0,0,0,{"$f":"IF($O$23<>0,SUM(CN1984:CY1984)*$O$23+$N$23,-1)","v":-1}]
[null,null,null,null,null,null,null,null,null,null,null,null,null,null,null,null,null,null,null,null,null,null,null,null,null,null,null,null,null,null,null,null,null,null,39.660000000000601,0,0,0,0,0,0,0,0,0,0,0,0,{"$f":"IF($O$20<>0,SUM(AJ1985:AU1985)*$O$20+$N$20,-1)","v":11},null,0,0,0,0,0,0,0,0,0,0,0,0,{"$f":"IF($O$22<>0,SUM(AX1985:BI1985)*$O$22+$N$22,-1)","v":15},null,0,0,0,0,0,0,0,0,0,0,0,0,{"$f":"IF($O$24<>0,SUM(BL1985:BW1985)*$O$24+$N$24,-1)","v":10},null,0,0,0,0,0,0,0,0,0,0,0,0,{"$f":"IF($O$21<>0,SUM(BZ1985:CK1985)*$O$21+$N$21,-1)","v":-1},null,0,0,0,0,0,0,0,0,0,0,0,0,{"$f":"IF($O$23<>0,SUM(CN1985:CY1985)*$O$23+$N$23,-1)","v":-1}]
[null,null,null,null,null,null,null,null,null,null,null,null,null,null,null,null,null,null,null,null,null,null,null,null,null,null,null,null,null,null,null,null,null,null,39.680000000000604,{"$f":"$B$23*NORMDIST($AI1986,$B$20,$B$24*$B$20,FALSE)","v":0},{"$f":"B$6*IF(B$6>0,NORMDIST($AI1986,B$53,C$53/4,FALSE),0)","v":0},{"$f":"B$7*IF(B$7>0,NORMDIST($AI1986,B$54,C$54/4,FALSE),0)","v":0},{"$f":"B$8*IF(B$8>0,NORMDIST($AI1986,B$55,C$55/4,FALSE),0)","v":0},{"$f":"B$9*IF(B$9>0,NORMDIST($AI1986,B$56,C$56/4,FALSE),0)","v":0},{"$f":"B$10*IF(B$10>0,NORMDIST($AI1986,B$57,C$57/4,FALSE),0)","v":0},{"$f":"B$11*IF(B$11>0,NORMDIST($AI1986,B$58,$C$58/4,FALSE),0)","v":0},{"$f":"$B$12*IF($B$12>0,NORMDIST($AI1986,B$59,$C$59/4,FALSE),0)","v":0},{"$f":"$B$13*IF($B$13>0,NORMDIST($AI1986,B$60,$C$60/4,FALSE),0)","v":0},{"$f":"$B$14*IF($B$14>0,NORMDIST($AI1986,$B$61,$C$61/4,FALSE),0)","v":0},{"$f":"$B$15*IF($B$15>0,NORMDIST($AI1986,$B$62,$C$62/4,FALSE),0)","v":0},{"$f":"$B$16*IF($B$16>0,NORMDIST($AI1986,$B$63,$C$63/4,FALSE),0)","v":0},{"$f":"IF($O$20<>0,SUM(AJ1986:AU1986)*$O$20+$N$20,-1)","v":11},null,0,{"$f":"IF(B$6>0,B$6*NORMDIST($AI1986,F$53,G$53/4,FALSE),0)","v":0},{"$f":"IF(B$7>0,B$7*NORMDIST($AI1986,F$54,G$54/4,FALSE),0)","v":0},{"$f":"IF(B$8>0,B$8*NORMDIST($AI1986,F$55,G$55/4,FALSE),0)","v":0},{"$f":"IF(B$9>0,B$9*NORMDIST($AI1986,F$56,G$56/4,FALSE),0)","v":0},{"$f":"IF(B$10>0,B$10*NORMDIST($AI1986,F$57,G$57/4,FALSE),0)","v":0},{"$f":"IF(B$11>0,B$11*NORMDIST($AI1986,F$58,G$58/4,FALSE),0)","v":0},{"$f":"IF($B$12>0,$B$12*NORMDIST($AI1986,$F$59,$G$59/4,FALSE),0)","v":0},{"$f":"IF($B$13>0,$B$13*NORMDIST($AI1986,$F$60,$G$60/4,FALSE),0)","v":0},{"$f":"IF($B$14>0,$B$14*NORMDIST($AI1986,$F$61,$G$61/4,FALSE),0)","v":0},{"$f":"IF($B$15>0,$B$15*NORMDIST($AI1986,$F$62,$G$62/4,FALSE),0)","v":0},{"$f":"IF($B$16>0,$B$16*NORMDIST($AI1986,$F$63,$G$63/4,FALSE),0)","v":0},{"$f":"IF($O$22<>0,SUM(AX1986:BI1986)*$O$22+$N$22,-1)","v":15},null,{"$f":"$B$23*NORMDIST($AI1986,$B$20,$B$20*$B$24,FALSE)","v":0},{"$f":"IF($B$6>0,$B$6*NORMDIST($AI1986,$J$53,$K$53/4,FALSE),0)","v":0},{"$f":"IF($B$7>0,$B$7*NORMDIST($AI1986,$J$54,$K$54/4,FALSE),0)","v":0},{"$f":"IF($B$8>0,$B$8*NORMDIST($AI1986,$J$55,$K$55/4,FALSE),0)","v":0},{"$f":"IF($B$9>0,$B$9*NORMDIST($AI1986,$J$56,$K$56/4,FALSE),0)","v":0},{"$f":"IF($B$10>0,$B$10*NORMDIST($AI1986,$J$57,$K$57/4,FALSE),0)","v":0},{"$f":"IF($B$11>0,$B$11*NORMDIST($AI1986,$J$58,$K$58/4,FALSE),0)","v":0},{"$f":"IF($B$12>0,$B$12*NORMDIST($AI1986,$J$59,$K$59/4,FALSE),0)","v":0},{"$f":"IF($B$13>0,$B$13*NORMDIST($AI1986,$J$60,$K$60/4,FALSE),0)","v":0},{"$f":"IF($B$14>0,$B$14*NORMDIST($AI1986,$J$61,$K$61/4,FALSE),0)","v":0},{"$f":"IF($B$15>0,$B$15*NORMDIST($AI1986,$J$62,$K$62/4,FALSE),0)","v":0},{"$f":"IF($B$16>0,$B$16*NORMDIST($AI1986,$J$63,$K$63/4,FALSE),0)","v":0},{"$f":"IF($O$24<>0,SUM(BL1986:BW1986)*$O$24+$N$24,-1)","v":10},null,{"$f":"$B$23*NORMDIST($AI1986,$B$20,$B$20*$B$24,FALSE)","v":0},{"$f":"IF($B$6>0,$B$6*NORMDIST($AI1986,$B$68,$C$68/4,FALSE),0)","v":0},{"$f":"IF($B$7>0,$B$7*NORMDIST($AI1986,$B$69,$C$69/4,FALSE),0)","v":0},{"$f":"IF($B$8>0,$B$8*NORMDIST($AI1986,$B$70,$C$70/4,FALSE),0)","v":0},{"$f":"IF($B$9>0,$B$9*NORMDIST($AI1986,$B$71,$C$71/4,FALSE),0)","v":0},{"$f":"IF($B$10>0,$B$10*NORMDIST($AI1986,$B$72,$C$72/4,FALSE),0)","v":0},{"$f":"IF($B$11>0,$B$11*NORMDIST($AI1986,$B$73,$C$73/4,FALSE),0)","v":0},{"$f":"IF($B$12>0,$B$12*NORMDIST($AI1986,$B$74,$C$74/4,FALSE),0)","v":0},{"$f":"IF($B$13>0,$B$13*NORMDIST($AI1986,$B$75,$C$75/4,FALSE),0)","v":0},{"$f":"IF($B$14>0,$B$14*NORMDIST($AI1986,$B$76,$C$76/4,FALSE),0)","v":0},{"$f":"IF($B$15>0,$B$15*NORMDIST($AI1986,$B$77,$C$77/4,FALSE),0)","v":0},{"$f":"IF($B$16>0,$B$16*NORMDIST($AI1986,$B$78,$C$78/4,FALSE),0)","v":0},{"$f":"IF($O$21<>0,SUM(BZ1986:CK1986)*$O$21+$N$21,-1)","v":-1},null,{"$f":"$B$23*NORMDIST($AI1986,$B$20,$B$20*$B$24,FALSE)","v":0},{"$f":"IF($B$6>0,$B$6*NORMDIST($AI1986,$F$68,$G$68/4,FALSE),0)","v":0},{"$f":"IF($B$7>0,$B$7*NORMDIST($AI1986,$F$69,$G$69/4,FALSE),0)","v":0},{"$f":"IF($B$8>0,$B$8*NORMDIST($AI1986,$F$70,$G$70/4,FALSE),0)","v":0},{"$f":"IF($B$9>0,$B$9*NORMDIST($AI1986,$F$71,$G$71/4,FALSE),0)","v":0},{"$f":"IF($B$10>0,$B$10*NORMDIST($AI1986,$F$72,$G$72/4,FALSE),0)","v":0},{"$f":"IF($B$11>0,$B$11*NORMDIST($AI1986,$F$73,$G$73/4,FALSE),0)","v":0},{"$f":"IF($B$12>0,$B$12*NORMDIST($AI1986,$F$74,$G$74/4,FALSE),0)","v":0},{"$f":"IF($B$13>0,$B$13*NORMDIST($AI1986,$F$75,$G$75/4,FALSE),0)","v":0},{"$f":"IF($B$14>0,$B$14*NORMDIST($AI1986,$F$76,$G$76/4,FALSE),0)","v":0},{"$f":"IF($B$15>0,$B$15*NORMDIST($AI1986,$F$77,$G$77/4,FALSE),0)","v":0},{"$f":"IF($B$16>0,$B$16*NORMDIST($AI1986,$F$78,$G$78/4,FALSE),0)","v":0},{"$f":"IF($O$23<>0,SUM(CN1986:CY1986)*$O$23+$N$23,-1)","v":-1}]
[null,null,null,null,null,null,null,null,null,null,null,null,null,null,null,null,null,null,null,null,null,null,null,null,null,null,null,null,null,null,null,null,null,null,{"$f":"AI1986+$B$25","v":39.700000000000607},0,0,0,0,0,0,0,0,0,0,0,0,{"$f":"IF($O$20<>0,SUM(AJ1987:AU1987)*$O$20+$N$20,-1)","v":11},null,{"$f":"$B$23*NORMDIST($AI1987,$B$20,$B$24*$B$20,FALSE)","v":0},0,0,0,0,0,0,0,0,0,0,0,{"$f":"IF($O$22<>0,SUM(AX1987:BI1987)*$O$22+$N$22,-1)","v":15},null,0,0,0,0,0,0,0,0,0,0,0,0,{"$f":"IF($O$24<>0,SUM(BL1987:BW1987)*$O$24+$N$24,-1)","v":10},null,0,0,0,0,0,0,0,0,0,0,0,0,{"$f":"IF($O$21<>0,SUM(BZ1987:CK1987)*$O$21+$N$21,-1)","v":-1},null,0,0,0,0,0,0,0,0,0,0,0,0,{"$f":"IF($O$23<>0,SUM(CN1987:CY1987)*$O$23+$N$23,-1)","v":-1}]
[null,null,null,null,null,null,null,null,null,null,null,null,null,null,null,null,null,null,null,null,null,null,null,null,null,null,null,null,null,null,null,null,null,null,39.72000000000061,0,0,0,0,0,0,0,0,0,0,0,0,{"$f":"IF($O$20<>0,SUM(AJ1988:AU1988)*$O$20+$N$20,-1)","v":11},null,0,0,0,0,0,0,0,0,0,0,0,0,{"$f":"IF($O$22<>0,SUM(AX1988:BI1988)*$O$22+$N$22,-1)","v":15},null,0,0,0,0,0,0,0,0,0,0,0,0,{"$f":"IF($O$24<>0,SUM(BL1988:BW1988)*$O$24+$N$24,-1)","v":10},null,0,0,0,0,0,0,0,0,0,0,0,0,{"$f":"IF($O$21<>0,SUM(BZ1988:CK1988)*$O$21+$N$21,-1)","v":-1},null,0,0,0,0,0,0,0,0,0,0,0,0,{"$f":"IF($O$23<>0,SUM(CN1988:CY1988)*$O$23+$N$23,-1)","v":-1}]
[null,null,null,null,null,null,null,null,null,null,null,null,null,null,null,null,null,null,null,null,null,null,null,null,null,null,null,null,null,null,null,null,null,null,39.740000000000613,0,0,0,0,0,0,0,0,0,0,0,0,{"$f":"IF($O$20<>0,SUM(AJ1989:AU1989)*$O$20+$N$20,-1)","v":11},null,0,0,0,0,0,0,0,0,0,0,0,0,{"$f":"IF($O$22<>0,SUM(AX1989:BI1989)*$O$22+$N$22,-1)","v":15},null,0,0,0,0,0,0,0,0,0,0,0,0,{"$f":"IF($O$24<>0,SUM(BL1989:BW1989)*$O$24+$N$24,-1)","v":10},null,0,0,0,0,0,0,0,0,0,0,0,0,{"$f":"IF($O$21<>0,SUM(BZ1989:CK1989)*$O$21+$N$21,-1)","v":-1},null,0,0,0,0,0,0,0,0,0,0,0,0,{"$f":"IF($O$23<>0,SUM(CN1989:CY1989)*$O$23+$N$23,-1)","v":-1}]
[null,null,null,null,null,null,null,null,null,null,null,null,null,null,null,null,null,null,null,null,null,null,null,null,null,null,null,null,null,null,null,null,null,null,39.760000000000616,0,0,0,0,0,0,0,0,0,0,0,0,{"$f":"IF($O$20<>0,SUM(AJ1990:AU1990)*$O$20+$N$20,-1)","v":11},null,0,0,0,0,0,0,0,0,0,0,0,0,{"$f":"IF($O$22<>0,SUM(AX1990:BI1990)*$O$22+$N$22,-1)","v":15},null,0,0,0,0,0,0,0,0,0,0,0,0,{"$f":"IF($O$24<>0,SUM(BL1990:BW1990)*$O$24+$N$24,-1)","v":10},null,0,0,0,0,0,0,0,0,0,0,0,0,{"$f":"IF($O$21<>0,SUM(BZ1990:CK1990)*$O$21+$N$21,-1)","v":-1},null,0,0,0,0,0,0,0,0,0,0,0,0,{"$f":"IF($O$23<>0,SUM(CN1990:CY1990)*$O$23+$N$23,-1)","v":-1}]
[null,null,null,null,null,null,null,null,null,null,null,null,null,null,null,null,null,null,null,null,null,null,null,null,null,null,null,null,null,null,null,null,null,null,39.780000000000619,0,0,0,0,0,0,0,0,0,0,0,0,{"$f":"IF($O$20<>0,SUM(AJ1991:AU1991)*$O$20+$N$20,-1)","v":11},null,0,0,0,0,0,0,0,0,0,0,0,0,{"$f":"IF($O$22<>0,SUM(AX1991:BI1991)*$O$22+$N$22,-1)","v":15},null,0,0,0,0,0,0,0,0,0,0,0,0,{"$f":"IF($O$24<>0,SUM(BL1991:BW1991)*$O$24+$N$24,-1)","v":10},null,0,0,0,0,0,0,0,0,0,0,0,0,{"$f":"IF($O$21<>0,SUM(BZ1991:CK1991)*$O$21+$N$21,-1)","v":-1},null,0,0,0,0,0,0,0,0,0,0,0,0,{"$f":"IF($O$23<>0,SUM(CN1991:CY1991)*$O$23+$N$23,-1)","v":-1}]
[null,null,null,null,null,null,null,null,null,null,null,null,null,null,null,null,null,null,null,null,null,null,null,null,null,null,null,null,null,null,null,null,null,null,39.800000000000622,0,0,0,0,0,0,0,0,0,0,0,0,{"$f":"IF($O$20<>0,SUM(AJ1992:AU1992)*$O$20+$N$20,-1)","v":11},null,0,0,0,0,0,0,0,0,0,0,0,0,{"$f":"IF($O$22<>0,SUM(AX1992:BI1992)*$O$22+$N$22,-1)","v":15},null,0,0,0,0,0,0,0,0,0,0,0,0,{"$f":"IF($O$24<>0,SUM(BL1992:BW1992)*$O$24+$N$24,-1)","v":10},null,0,0,0,0,0,0,0,0,0,0,0,0,{"$f":"IF($O$21<>0,SUM(BZ1992:CK1992)*$O$21+$N$21,-1)","v":-1},null,0,0,0,0,0,0,0,0,0,0,0,0,{"$f":"IF($O$23<>0,SUM(CN1992:CY1992)*$O$23+$N$23,-1)","v":-1}]
[null,null,null,null,null,null,null,null,null,null,null,null,null,null,null,null,null,null,null,null,null,null,null,null,null,null,null,null,null,null,null,null,null,null,39.820000000000626,0,0,0,0,0,0,0,0,0,0,0,0,{"$f":"IF($O$20<>0,SUM(AJ1993:AU1993)*$O$20+$N$20,-1)","v":11},null,0,0,0,0,0,0,0,0,0,0,0,0,{"$f":"IF($O$22<>0,SUM(AX1993:BI1993)*$O$22+$N$22,-1)","v":15},null,0,0,0,0,0,0,0,0,0,0,0,0,{"$f":"IF($O$24<>0,SUM(BL1993:BW1993)*$O$24+$N$24,-1)","v":10},null,0,0,0,0,0,0,0,0,0,0,0,0,{"$f":"IF($O$21<>0,SUM(BZ1993:CK1993)*$O$21+$N$21,-1)","v":-1},null,0,0,0,0,0,0,0,0,0,0,0,0,{"$f":"IF($O$23<>0,SUM(CN1993:CY1993)*$O$23+$N$23,-1)","v":-1}]
[null,null,null,null,null,null,null,null,null,null,null,null,null,null,null,null,null,null,null,null,null,null,null,null,null,null,null,null,null,null,null,null,null,null,39.840000000000629,0,0,0,0,0,0,0,0,0,0,0,0,{"$f":"IF($O$20<>0,SUM(AJ1994:AU1994)*$O$20+$N$20,-1)","v":11},null,0,0,0,0,0,0,0,0,0,0,0,0,{"$f":"IF($O$22<>0,SUM(AX1994:BI1994)*$O$22+$N$22,-1)","v":15},null,0,0,0,0,0,0,0,0,0,0,0,0,{"$f":"IF($O$24<>0,SUM(BL1994:BW1994)*$O$24+$N$24,-1)","v":10},null,0,0,0,0,0,0,0,0,0,0,0,0,{"$f":"IF($O$21<>0,SUM(BZ1994:CK1994)*$O$21+$N$21,-1)","v":-1},null,0,0,0,0,0,0,0,0,0,0,0,0,{"$f":"IF($O$23<>0,SUM(CN1994:CY1994)*$O$23+$N$23,-1)","v":-1}]
[null,null,null,null,null,null,null,null,null,null,null,null,null,null,null,null,null,null,null,null,null,null,null,null,null,null,null,null,null,null,null,null,null,null,39.860000000000632,0,0,0,0,0,0,0,0,0,0,0,0,{"$f":"IF($O$20<>0,SUM(AJ1995:AU1995)*$O$20+$N$20,-1)","v":11},null,0,0,0,0,0,0,0,0,0,0,0,0,{"$f":"IF($O$22<>0,SUM(AX1995:BI1995)*$O$22+$N$22,-1)","v":15},null,0,0,0,0,0,0,0,0,0,0,0,0,{"$f":"IF($O$24<>0,SUM(BL1995:BW1995)*$O$24+$N$24,-1)","v":10},null,0,0,0,0,0,0,0,0,0,0,0,0,{"$f":"IF($O$21<>0,SUM(BZ1995:CK1995)*$O$21+$N$21,-1)","v":-1},null,0,0,0,0,0,0,0,0,0,0,0,0,{"$f":"IF($O$23<>0,SUM(CN1995:CY1995)*$O$23+$N$23,-1)","v":-1}]
[null,null,null,null,null,null,null,null,null,null,null,null,null,null,null,null,null,null,null,null,null,null,null,null,null,null,null,null,null,null,null,null,null,null,39.880000000000635,0,0,0,0,0,0,0,0,0,0,0,0,{"$f":"IF($O$20<>0,SUM(AJ1996:AU1996)*$O$20+$N$20,-1)","v":11},null,0,0,0,0,0,0,0,0,0,0,0,0,{"$f":"IF($O$22<>0,SUM(AX1996:BI1996)*$O$22+$N$22,-1)","v":15},null,0,0,0,0,0,0,0,0,0,0,0,0,{"$f":"IF($O$24<>0,SUM(BL1996:BW1996)*$O$24+$N$24,-1)","v":10},null,0,0,0,0,0,0,0,0,0,0,0,0,{"$f":"IF($O$21<>0,SUM(BZ1996:CK1996)*$O$21+$N$21,-1)","v":-1},null,0,0,0,0,0,0,0,0,0,0,0,0,{"$f":"IF($O$23<>0,SUM(CN1996:CY1996)*$O$23+$N$23,-1)","v":-1}]
[null,null,null,null,null,null,null,null,null,null,null,null,null,null,null,null,null,null,null,null,null,null,null,null,null,null,null,null,null,null,null,null,null,null,39.900000000000638,0,0,0,0,0,0,0,0,0,0,0,0,{"$f":"IF($O$20<>0,SUM(AJ1997:AU1997)*$O$20+$N$20,-1)","v":11},null,0,0,0,0,0,0,0,0,0,0,0,0,{"$f":"IF($O$22<>0,SUM(AX1997:BI1997)*$O$22+$N$22,-1)","v":15},null,0,0,0,0,0,0,0,0,0,0,0,0,{"$f":"IF($O$24<>0,SUM(BL1997:BW1997)*$O$24+$N$24,-1)","v":10},null,0,0,0,0,0,0,0,0,0,0,0,0,{"$f":"IF($O$21<>0,SUM(BZ1997:CK1997)*$O$21+$N$21,-1)","v":-1},null,0,0,0,0,0,0,0,0,0,0,0,0,{"$f":"IF($O$23<>0,SUM(CN1997:CY1997)*$O$23+$N$23,-1)","v":-1}]
[null,null,null,null,null,null,null,null,null,null,null,null,null,null,null,null,null,null,null,null,null,null,null,null,null,null,null,null,null,null,null,null,null,null,39.920000000000641,0,0,0,0,0,0,0,0,0,0,0,0,{"$f":"IF($O$20<>0,SUM(AJ1998:AU1998)*$O$20+$N$20,-1)","v":11},null,0,0,0,0,0,0,0,0,0,0,0,0,{"$f":"IF($O$22<>0,SUM(AX1998:BI1998)*$O$22+$N$22,-1)","v":15},null,0,0,0,0,0,0,0,0,0,0,0,0,{"$f":"IF($O$24<>0,SUM(BL1998:BW1998)*$O$24+$N$24,-1)","v":10},null,0,0,0,0,0,0,0,0,0,0,0,0,{"$f":"IF($O$21<>0,SUM(BZ1998:CK1998)*$O$21+$N$21,-1)","v":-1},null,0,0,0,0,0,0,0,0,0,0,0,0,{"$f":"IF($O$23<>0,SUM(CN1998:CY1998)*$O$23+$N$23,-1)","v":-1}]
[null,null,null,null,null,null,null,null,null,null,null,null,null,null,null,null,null,null,null,null,null,null,null,null,null,null,null,null,null,null,null,null,null,null,39.940000000000644,0,0,0,0,0,0,0,0,0,0,0,0,{"$f":"IF($O$20<>0,SUM(AJ1999:AU1999)*$O$20+$N$20,-1)","v":11},null,0,0,0,0,0,0,0,0,0,0,0,0,{"$f":"IF($O$22<>0,SUM(AX1999:BI1999)*$O$22+$N$22,-1)","v":15},null,0,0,0,0,0,0,0,0,0,0,0,0,{"$f":"IF($O$24<>0,SUM(BL1999:BW1999)*$O$24+$N$24,-1)","v":10},null,0,0,0,0,0,0,0,0,0,0,0,0,{"$f":"IF($O$21<>0,SUM(BZ1999:CK1999)*$O$21+$N$21,-1)","v":-1},null,0,0,0,0,0,0,0,0,0,0,0,0,{"$f":"IF($O$23<>0,SUM(CN1999:CY1999)*$O$23+$N$23,-1)","v":-1}]
[null,null,null,null,null,null,null,null,null,null,null,null,null,null,null,null,null,null,null,null,null,null,null,null,null,null,null,null,null,null,null,null,null,null,39.960000000000647,0,0,0,0,0,0,0,0,0,0,0,0,{"$f":"IF($O$20<>0,SUM(AJ2000:AU2000)*$O$20+$N$20,-1)","v":11},null,0,0,0,0,0,0,0,0,0,0,0,0,{"$f":"IF($O$22<>0,SUM(AX2000:BI2000)*$O$22+$N$22,-1)","v":15},null,0,0,0,0,0,0,0,0,0,0,0,0,{"$f":"IF($O$24<>0,SUM(BL2000:BW2000)*$O$24+$N$24,-1)","v":10},null,0,0,0,0,0,0,0,0,0,0,0,0,{"$f":"IF($O$21<>0,SUM(BZ2000:CK2000)*$O$21+$N$21,-1)","v":-1},null,0,0,0,0,0,0,0,0,0,0,0,0,{"$f":"IF($O$23<>0,SUM(CN2000:CY2000)*$O$23+$N$23,-1)","v":-1}]
[null,null,null,null,null,null,null,null,null,null,null,null,null,null,null,null,null,null,null,null,null,null,null,null,null,null,null,null,null,null,null,null,null,null,39.980000000000651,0,0,0,0,0,0,0,0,0,0,0,0,{"$f":"IF($O$20<>0,SUM(AJ2001:AU2001)*$O$20+$N$20,-1)","v":11},null,0,0,0,0,0,0,0,0,0,0,0,0,{"$f":"IF($O$22<>0,SUM(AX2001:BI2001)*$O$22+$N$22,-1)","v":15},null,0,0,0,0,0,0,0,0,0,0,0,0,{"$f":"IF($O$24<>0,SUM(BL2001:BW2001)*$O$24+$N$24,-1)","v":10},null,0,0,0,0,0,0,0,0,0,0,0,0,{"$f":"IF($O$21<>0,SUM(BZ2001:CK2001)*$O$21+$N$21,-1)","v":-1},null,0,0,0,0,0,0,0,0,0,0,0,0,{"$f":"IF($O$23<>0,SUM(CN2001:CY2001)*$O$23+$N$23,-1)","v":-1}]
[null,null,null,null,null,null,null,null,null,null,null,null,null,null,null,null,null,null,null,null,null,null,null,null,null,null,null,null,null,null,null,null,null,null,40.000000000000654,0,0,0,0,0,0,0,0,0,0,0,0,{"$f":"IF($O$20<>0,SUM(AJ2002:AU2002)*$O$20+$N$20,-1)","v":11},null,0,0,0,0,0,0,0,0,0,0,0,0,{"$f":"IF($O$22<>0,SUM(AX2002:BI2002)*$O$22+$N$22,-1)","v":15},null,0,0,0,0,0,0,0,0,0,0,0,0,{"$f":"IF($O$24<>0,SUM(BL2002:BW2002)*$O$24+$N$24,-1)","v":10},null,0,0,0,0,0,0,0,0,0,0,0,0,{"$f":"IF($O$21<>0,SUM(BZ2002:CK2002)*$O$21+$N$21,-1)","v":-1},null,0,0,0,0,0,0,0,0,0,0,0,0,{"$f":"IF($O$23<>0,SUM(CN2002:CY2002)*$O$23+$N$23,-1)","v":-1}]

{"sheet":"SPmodel","index":1,"n_rows":120,"n_cols":26,"rows_kept":120,"cut":false,"hidden":false,"merged":[]}
[null,null,null,"Do not change any cells in this sheet!"]
[]
[]
[]
[null,"Compound name",null,null,null,null,null,null,null,"Column 1",{"$f":"A21","v":1},null,null,null,"Column 2"]
[null,null,null,"E","S","A","B","L",null,"Log(ko)","Slope",null,"R^2",null,"Log(ko)","Slope",null,"R^2"]
[1,{"$f":"IF(LC!C6<>\"\",LC!C6,\"\")","v":"Aniline"},null,{"$f":"IF($B7<>\"\",VLOOKUP($B7,Compounds!$B$11:'Compounds'!$G$403,2,FALSE),\"\")","v":0.95499999999999996},{"$f":"IF($B7<>\"\",VLOOKUP($B7,Compounds!$B$11:'Compounds'!$G$403,3,FALSE),\"\")","v":1.0029999999999999},{"$f":"IF($B7<>\"\",VLOOKUP($B7,Compounds!$B$11:'Compounds'!$G$403,4,FALSE),\"\")","v":0.249},{"$f":"IF($B7<>\"\",VLOOKUP($B7,Compounds!$B$11:'Compounds'!$G$403,5,FALSE),\"\")","v":0.42499999999999999},{"$f":"IF($B7<>\"\",VLOOKUP($B7,Compounds!$B$11:'Compounds'!$G$403,6,FALSE),\"\")","v":0.81620000000000004},null,{"$f":"IF(B7<>\"\",INTERCEPT(B34:K34,$B$33:$K$33),\"\")","v":0.73564050666666669},{"$f":"IF(B7<>\"\",-SLOPE(B34:K34,$B$33:$K$33),\"\")","v":2.2888566857142854},null,{"$f":"IF(B7<>\"\",CORREL(B34:K34,$B$33:$K$33)^2,\"\")","v":0.969297369966304},null,{"$f":"IF(B7<>\"\",INTERCEPT(P34:Y34,$P$33:$Y$33),\"\")","v":0.99371188000000032},{"$f":"IF(B7<>\"\",-SLOPE(P34:Y34,$P$33:$Y$33),\"\")","v":2.4525412000000002},null,{"$f":"IF(B7<>\"\",CORREL(P34:Y34,$P$33:$Y$33)^2,\"\")","v":0.9972026374624372}]
[2,{"$f":"IF(LC!C7<>\"\",LC!C7,\"\")","v":"Indole"},null,{"$f":"IF($B8<>\"\",VLOOKUP($B8,Compounds!$B$11:'Compounds'!$G$403,2,FALSE),\"\")","v":1.0389999999999999},{"$f":"IF($B8<>\"\",VLOOKUP($B8,Compounds!$B$11:'Compounds'!$G$403,3,FALSE),\"\")","v":1.2350000000000001},{"$f":"IF($B8<>\"\",VLOOKUP($B8,Compounds!$B$11:'Compounds'!$G$403,4,FALSE),\"\")","v":0.42199999999999999},{"$f":"IF($B8<>\"\",VLOOKUP($B8,Compounds!$B$11:'Compounds'!$G$403,5,FALSE),\"\")","v":0.223},{"$f":"IF($B8<>\"\",VLOOKUP($B8,Compounds!$B$11:'Compounds'!$G$403,6,FALSE),\"\")","v":0.94640000000000002},null,{"$f":"IF(B8<>\"\",INTERCEPT(B35:K35,$B$33:$K$33),\"\")","v":1.6520608800000005},3.3537096571428573,null,0.9895480664711257,null,{"$f":"IF(B8<>\"\",INTERCEPT(P35:Y35,$P$33:$Y$33),\"\")","v":1.7719301600000001},{"$f":"IF(B8<>\"\",-SLOPE(P35:Y35,$P$33:$Y$33),\"\")","v":3.1709904000000004},null,{"$f":"IF(B8<>\"\",CORREL(P35:Y35,$P$33:$Y$33)^2,\"\")","v":0.99933543123869029}]
[3,{"$f":"IF(LC!C8<>\"\",LC!C8,\"\")","v":"toluene"},null,{"$f":"IF($B9<>\"\",VLOOKUP($B9,Compounds!$B$11:'Compounds'!$G$403,2,FALSE),\"\")","v":0.60599999999999998},{"$f":"IF($B9<>\"\",VLOOKUP($B9,Compounds!$B$11:'Compounds'!$G$403,3,FALSE),\"\")","v":0.499},{"$f":"IF($B9<>\"\",VLOOKUP($B9,Compounds!$B$11:'Compounds'!$G$403,4,FALSE),\"\")","v":0},{"$f":"IF($B9<>\"\",VLOOKUP($B9,Compounds!$B$11:'Compounds'!$G$403,5,FALSE),\"\")","v":0.13900000000000001},{"$f":"IF($B9<>\"\",VLOOKUP($B9,Compounds!$B$11:'Compounds'!$G$403,6,FALSE),\"\")","v":0.85729999999999995},null,2.1464025933333333,3.5301057428571427,null,0.99527288485080756,null,2.2935082200000001,3.1208938000000002,null,0.9962952587608771]
[4,{"$f":"IF(LC!C9<>\"\",LC!C9,\"\")","v":"Styrene"},null,{"$f":"IF($B10<>\"\",VLOOKUP($B10,Compounds!$B$11:'Compounds'!$G$403,2,FALSE),\"\")","v":0.84899999999999998},{"$f":"IF($B10<>\"\",VLOOKUP($B10,Compounds!$B$11:'Compounds'!$G$403,3,FALSE),\"\")","v":0.67100000000000004},{"$f":"IF($B10<>\"\",VLOOKUP($B10,Compounds!$B$11:'Compounds'!$G$403,4,FALSE),\"\")","v":0},{"$f":"IF($B10<>\"\",VLOOKUP($B10,Compounds!$B$11:'Compounds'!$G$403,5,FALSE),\"\")","v":0.17699999999999999},{"$f":"IF($B10<>\"\",VLOOKUP($B10,Compounds!$B$11:'Compounds'!$G$403,6,FALSE),\"\")","v":0.95520000000000005},null,2.3814166400000003,3.8913004000000009,null,0.99193818167112457,null,2.5617992799999998,3.4451631999999992,null,0.99616635278281529]
[5,{"$f":"IF(LC!C10<>\"\",LC!C10,\"\")","v":"Anthracene"},null,{"$f":"IF($B11<>\"\",VLOOKUP($B11,Compounds!$B$11:'Compounds'!$G$403,2,FALSE),\"\")","v":1.923},{"$f":"IF($B11<>\"\",VLOOKUP($B11,Compounds!$B$11:'Compounds'!$G$403,3,FALSE),\"\")","v":1.3089999999999999},{"$f":"IF($B11<>\"\",VLOOKUP($B11,Compounds!$B$11:'Compounds'!$G$403,4,FALSE),\"\")","v":0},{"$f":"IF($B11<>\"\",VLOOKUP($B11,Compounds!$B$11:'Compounds'!$G$403,5,FALSE),\"\")","v":0.253},{"$f":"IF($B11<>\"\",VLOOKUP($B11,Compounds!$B$11:'Compounds'!$G$403,6,FALSE),\"\")","v":1.4543999999999999},null,4.0572943466666658,6.1679233714285697,null,0.9802156238069023,null,4.3690509599999992,5.3132163999999982,null,0.99560243634089218]
[6,{"$f":"IF(LC!C11<>\"\",LC!C11,\"\")","v":"Pyrene"},null,{"$f":"IF($B12<>\"\",VLOOKUP($B12,Compounds!$B$11:'Compounds'!$G$403,2,FALSE),\"\")","v":2.165},{"$f":"IF($B12<>\"\",VLOOKUP($B12,Compounds!$B$11:'Compounds'!$G$403,3,FALSE),\"\")","v":1.518},{"$f":"IF($B12<>\"\",VLOOKUP($B12,Compounds!$B$11:'Compounds'!$G$403,4,FALSE),\"\")","v":0},{"$f":"IF($B12<>\"\",VLOOKUP($B12,Compounds!$B$11:'Compounds'!$G$403,5,FALSE),\"\")","v":0.26100000000000001},{"$f":"IF($B12<>\"\",VLOOKUP($B12,Compounds!$B$11:'Compounds'!$G$403,6,FALSE),\"\")","v":1.5846},null,4.484841453333333,6.7390374857142854,null,0.97922212063375857,null,4.8078612400000003,5.7890775999999997,null,0.99589606275638332]
[7,{"$f":"IF(LC!C12<>\"\",LC!C12,\"\")","v":"Decane"},null,{"$f":"IF($B13<>\"\",VLOOKUP($B13,Compounds!$B$11:'Compounds'!$G$403,2,FALSE),\"\")","v":0},{"$f":"IF($B13<>\"\",VLOOKUP($B13,Compounds!$B$11:'Compounds'!$G$403,3,FALSE),\"\")","v":0},{"$f":"IF($B13<>\"\",VLOOKUP($B13,Compounds!$B$11:'Compounds'!$G$403,4,FALSE),\"\")","v":0},{"$f":"IF($B13<>\"\",VLOOKUP($B13,Compounds!$B$11:'Compounds'!$G$403,5,FALSE),\"\")","v":0},{"$f":"IF($B13<>\"\",VLOOKUP($B13,Compounds!$B$11:'Compounds'!$G$403,6,FALSE),\"\")","v":1.5176000000000001},null,5.2877429866666681,7.0178923428571434,null,0.99588137305307511,null,5.5092142400000004,5.8551615999999997,null,0.9991005071161152]
[8,{"$f":"IF(LC!C13<>\"\",LC!C13,\"\")","v":"Tetradecane"},null,{"$f":"IF($B14<>\"\",VLOOKUP($B14,Compounds!$B$11:'Compounds'!$G$403,2,FALSE),\"\")","v":0},{"$f":"IF($B14<>\"\",VLOOKUP($B14,Compounds!$B$11:'Compounds'!$G$403,3,FALSE),\"\")","v":0},{"$f":"IF($B14<>\"\",VLOOKUP($B14,Compounds!$B$11:'Compounds'!$G$403,4,FALSE),\"\")","v":0},{"$f":"IF($B14<>\"\",VLOOKUP($B14,Compounds!$B$11:'Compounds'!$G$403,5,FALSE),\"\")","v":0},{"$f":"IF($B14<>\"\",VLOOKUP($B14,Compounds!$B$11:'Compounds'!$G$403,6,FALSE),\"\")","v":2.0811999999999999},null,7.4922831733333322,9.6357338285714285,null,0.99424970277164471,null,7.8185088799999996,8.0058591999999997,null,0.99882969488461026]
[9,{"$f":"IF(LC!C14<>\"\",LC!C14,\"\")","v":"Pyren"},null,{"$f":"IF($B15<>\"\",VLOOKUP($B15,Compounds!$B$11:'Compounds'!$G$403,2,FALSE),\"\")","v":{"$error":"#N/A"}},{"$f":"IF($B15<>\"\",VLOOKUP($B15,Compounds!$B$11:'Compounds'!$G$403,3,FALSE),\"\")","v":{"$error":"#N/A"}},{"$f":"IF($B15<>\"\",VLOOKUP($B15,Compounds!$B$11:'Compounds'!$G$403,4,FALSE),\"\")","v":{"$error":"#N/A"}},{"$f":"IF($B15<>\"\",VLOOKUP($B15,Compounds!$B$11:'Compounds'!$G$403,5,FALSE),\"\")","v":{"$error":"#N/A"}},{"$f":"IF($B15<>\"\",VLOOKUP($B15,Compounds!$B$11:'Compounds'!$G$403,6,FALSE),\"\")","v":{"$error":"#N/A"}},null,{"$error":"#N/A"},{"$error":"#N/A"},null,{"$error":"#N/A"},null,{"$error":"#N/A"},{"$error":"#N/A"},null,{"$error":"#N/A"}]
[10,{"$f":"IF(LC!C15<>\"\",LC!C15,\"\")","v":""},{"$f":"IF($B16<>\"\",VLOOKUP($B16,Compounds!$B$11:'Compounds'!$G$403,1),\"\")","v":""},{"$f":"IF($B16<>\"\",VLOOKUP($B16,Compounds!$B$11:'Compounds'!$G$403,2,FALSE),\"\")","v":""},{"$f":"IF($B16<>\"\",VLOOKUP($B16,Compounds!$B$11:'Compounds'!$G$403,3,FALSE),\"\")","v":""},{"$f":"IF($B16<>\"\",VLOOKUP($B16,Compounds!$B$11:'Compounds'!$G$403,4,FALSE),\"\")","v":""},{"$f":"IF($B16<>\"\",VLOOKUP($B16,Compounds!$B$11:'Compounds'!$G$403,5,FALSE),\"\")","v":""},{"$f":"IF($B16<>\"\",VLOOKUP($B16,Compounds!$B$11:'Compounds'!$G$403,6,FALSE),\"\")","v":""},null,"","",null,"",null,"","",null,""]
[11,{"$f":"IF(LC!C16<>\"\",LC!C16,\"\")","v":""},null,{"$f":"IF($B17<>\"\",VLOOKUP($B17,Compounds!$B$11:'Compounds'!$G$403,2,FALSE),\"\")","v":""},{"$f":"IF($B17<>\"\",VLOOKUP($B17,Compounds!$B$11:'Compounds'!$G$403,3,FALSE),\"\")","v":""},{"$f":"IF($B17<>\"\",VLOOKUP($B17,Compounds!$B$11:'Compounds'!$G$403,4,FALSE),\"\")","v":""},{"$f":"IF($B17<>\"\",VLOOKUP($B17,Compounds!$B$11:'Compounds'!$G$403,5,FALSE),\"\")","v":""},{"$f":"IF($B17<>\"\",VLOOKUP($B17,Compounds!$B$11:'Compounds'!$G$403,6,FALSE),\"\")","v":""},null,"","",null,"",null,"","",null,""]
[]
[]
["Column 1","T","e","s","a","b","l","c",null,"If you want to restrict the temperature range",null,null,null,null,"Column 2","T","e","s","a","b","l","c"]
[1,"Chromlith/ACN",null,"Chromlith RP-18e/ACN",null,null,null,null,null,"for the calibration, please delete the respective",null,null,null,null,2,"Chromlith/MeHO",null,"Chromlith RP-18e/MeOH"]
[null,0.1,0.42699999999999999,-0.71399999999999997,-0.45800000000000002,-2.6309999999999998,3.5489999999999999,-0.752,null,"temperatures in cell B22:B31 and/or P22:P31",null,null,null,null,null,0.2,0.40600000000000003,-0.86299999999999999,-0.40300000000000002,-2.177,3.375,-0.77300000000000002]
[null,0.2,0.24199999999999999,-0.56699999999999995,-0.498,-2.66,2.984,-0.59099999999999997,null,null,null,null,null,null,null,0.3,0.51500000000000001,-0.88300000000000001,-0.48199999999999998,-2.0670000000000002,2.9,-0.68700000000000006]
[null,0.3,0.14399999999999999,-0.45200000000000001,-0.52200000000000002,-2.355,2.4329999999999998,-0.57299999999999995,null,"1 - cos q","d",null,null,null,null,0.4,0.44400000000000001,-0.84899999999999998,-0.45900000000000002,-1.9790000000000001,2.5750000000000002,-0.70299999999999996]
[null,0.4,8.6999999999999994E-2,-0.379,-0.495,-1.921,1.9179999999999999,-0.56499999999999995,null,{"$f":"1-(C22*Q22+D22*R22+E22*S22+F22*T22+G22*U22)/(J28*K28)","v":3.3140557450150876E-3},{"$f":"SQRT((C22/J28-Q22/K28)^2+(D22/J28-R22/K28)^2+(E22/J28-S22/K28)^2+(F22/J28-T22/K28)^2+(G22/J28-U22/K28)^2)","v":8.1413214468105857E-2},null,null,null,null,0.5,0.39,-0.78900000000000003,-0.45200000000000001,-1.764,2.1760000000000002,-0.72299999999999998]
[null,0.5,0.04,-0.29799999999999999,-0.437,-1.706,1.6,-0.64400000000000002,null,null,null,null,null,null,null,0.6,0.317,-0.71199999999999997,-0.40799999999999997,-1.607,1.829,-0.78700000000000003]
[null,0.6,0.111,-0.33800000000000002,-0.44,-1.1970000000000001,1.2310000000000001,-0.7,null,"n1","n2"]
[null,null,null,null,null,null,null,null,null,{"$f":"SQRT(C22^2+D22^2+E22^2+F22^2+G22^2)","v":4.5187886651181195},{"$f":"SQRT(Q22^2+R22^2+S22^2+T22^2+U22^2)","v":4.1475255273476019}]
[]
[]
[]
[]
[null,{"$f":"IF(B22<>\"\",B22,\"\")","v":0.1},{"$f":"IF(B23<>\"\",B23,\"\")","v":0.2},{"$f":"IF(B24<>\"\",B24,\"\")","v":0.3},{"$f":"IF(B25<>\"\",B25,\"\")","v":0.4},{"$f":"IF(B26<>\"\",B26,\"\")","v":0.5},{"$f":"IF(B27<>\"\",B27,\"\")","v":0.6},{"$f":"IF(B28<>\"\",B28,\"\")","v":""},{"$f":"IF(B29<>\"\",B29,\"\")","v":""},{"$f":"IF(B30<>\"\",B30,\"\")","v":""},{"$f":"IF(B31<>\"\",B31,\"\")","v":""},null,null,null,null,{"$f":"IF(P22<>\"\",P22,\"\")","v":0.2},{"$f":"IF(P23<>\"\",P23,\"\")","v":0.3},{"$f":"IF(P24<>\"\",P24,\"\")","v":0.4},{"$f":"IF(P25<>\"\",P25,\"\")","v":0.5},{"$f":"IF(P26<>\"\",P26,\"\")","v":0.6},{"$f":"IF(P27<>\"\",P27,\"\")","v":""},{"$f":"IF(P28<>\"\",P28,\"\")","v":""},{"$f":"IF(P29<>\"\",P29,\"\")","v":""},{"$f":"IF(P30<>\"\",P30,\"\")","v":""},{"$f":"IF(P31<>\"\",P31,\"\")","v":""}]
[1,{"$f":"IF(B$7<>\"\",IF($B22<>0,D$7*$C22+E$7*$D22+F$7*$E22+G$7*$F22+H$7*$G22+$H22,\"\"),NA())","v":0.6041198000000001},{"$f":"IF(B$7<>\"\",IF($B23<>0,D$7*$C23+E$7*$D23+F$7*$E23+G$7*$F23+H$7*$G23+$H23,\"\"),NA())","v":0.25244780000000011},{"$f":"IF(B$7<>\"\",IF($B24<>0,D$7*$C24+E$7*$D24+F$7*$E24+G$7*$F24+H$7*$G24+$H24,\"\"),NA())","v":-3.3874400000000193E-2},{"$f":"IF(B$7<>\"\",IF($B25<>0,D$7*$C25+E$7*$D25+F$7*$E25+G$7*$F25+H$7*$G25+$H25,\"\"),NA())","v":-0.23626039999999993},{"$f":"IF(B$7<>\"\",IF($B26<>0,D$7*$C26+E$7*$D26+F$7*$E26+G$7*$F26+H$7*$G26+$H26,\"\"),NA())","v":-0.43263699999999983},{"$f":"IF(B$7<>\"\",IF($B27<>0,D$7*$C27+E$7*$D27+F$7*$E27+G$7*$F27+H$7*$G27+$H27,\"\"),NA())","v":-0.54655179999999981},{"$f":"IF(B$7<>\"\",IF($B28<>0,D$7*$C28+E$7*$D28+F$7*$E28+G$7*$F28+H$7*$G28+$H28,\"\"),NA())","v":""},{"$f":"IF(B$7<>\"\",IF($B29<>0,D$7*$C29+E$7*$D29+F$7*$E29+G$7*$F29+H$7*$G29+$H29,\"\"),NA())","v":""},{"$f":"IF(B$7<>\"\",IF($B30<>0,D$7*$C30+E$7*$D30+F$7*$E30+G$7*$F30+H$7*$G30+$H30,\"\"),NA())","v":""},{"$f":"IF(B$7<>\"\",IF($B31<>0,D$7*$C31+E$7*$D31+F$7*$E31+G$7*$F31+H$7*$G31+$H31,\"\"),NA())","v":""},null,null,null,1,{"$f":"IF($B7<>\"\",IF(P$22<>0,$D7*Q$22+$E7*R$22+$F7*S$22+$G7*T$22+$H7*U$22+V$22,\"\"),NA())","v":0.47824400000000022},{"$f":"IF($B7<>\"\",IF(P$23<>0,$D7*Q$23+$E7*R$23+$F7*S$23+$G7*T$23+$H7*U$23+V$23,\"\"),NA())","v":0.287663},{"$f":"IF($B7<>\"\",IF(P$24<>0,$D7*Q$24+$E7*R$24+$F7*S$24+$G7*T$24+$H7*U$24+V$24,\"\"),NA())","v":1.582200000000078E-2},{"$f":"IF($B7<>\"\",IF(P$25<>0,$D7*Q$25+$E7*R$25+$F7*S$25+$G7*T$25+$H7*U$25+V$25,\"\"),NA())","v":-0.22811379999999992},{"$f":"IF($B7<>\"\",IF(P$26<>0,$D7*Q$26+$E7*R$26+$F7*S$26+$G7*T$26+$H7*U$26+V$26,\"\"),NA())","v":-0.49013819999999997},{"$f":"IF($B7<>\"\",IF(P$27<>0,$D7*Q$27+$E7*R$27+$F7*S$27+$G7*T$27+$H7*U$27+V$27,\"\"),NA())","v":""},{"$f":"IF($B7<>\"\",IF(P$28<>0,$D7*Q$28+$E7*R$28+$F7*S$28+$G7*T$28+$H7*U$28+V$28,\"\"),NA())","v":""},{"$f":"IF($B7<>\"\",IF(P$29<>0,$D7*Q$29+$E7*R$29+$F7*S$29+$G7*T$29+$H7*U$29+V$29,\"\"),NA())","v":""},{"$f":"IF($B7<>\"\",IF(P$30<>0,$D7*Q$30+$E7*R$30+$F7*S$30+$G7*T$30+$H7*U$30+V$30,\"\"),NA())","v":""},{"$f":"IF($B7<>\"\",IF(P$31<>0,$D7*Q$31+$E7*R$31+$F7*S$31+$G7*T$31+$H7*U$31+V$31,\"\"),NA())","v":""}]
[2,{"$f":"IF(B$8<>\"\",IF($B22<>0,D$8*$C22+E$8*$D22+F$8*$E22+G$8*$F22+H$8*$G22+$H22,\"\"),NA())","v":1.3886476000000003},{"$f":"IF(B$8<>\"\",IF($B23<>0,D$8*$C23+E$8*$D23+F$8*$E23+G$8*$F23+H$8*$G23+$H23,\"\"),NA())","v":0.98091460000000019},{"$f":"IF(B$8<>\"\",IF($B24<>0,D$8*$C24+E$8*$D24+F$8*$E24+G$8*$F24+H$8*$G24+$H24,\"\"),NA())","v":0.57553819999999956},{"$f":"IF(B$8<>\"\",IF($B25<>0,D$8*$C25+E$8*$D25+F$8*$E25+G$8*$F25+H$8*$G25+$H25,\"\"),NA())","v":0.23525020000000008},{"$f":"IF(B$8<>\"\",IF($B26<>0,D$8*$C26+E$8*$D26+F$8*$E26+G$8*$F26+H$8*$G26+$H26,\"\"),NA())","v":-2.1081999999999934E-2},{"$f":"IF(B$8<>\"\",IF($B27<>0,D$8*$C27+E$8*$D27+F$8*$E27+G$8*$F27+H$8*$G27+$H27,\"\"),NA())","v":-0.28969359999999988},{"$f":"IF(B$8<>\"\",IF($B28<>0,D$8*$C28+E$8*$D28+F$8*$E28+G$8*$F28+H$8*$G28+$H28,\"\"),NA())","v":""},{"$f":"IF(B$8<>\"\",IF($B29<>0,D$8*$C29+E$8*$D29+F$8*$E29+G$8*$F29+H$8*$G29+$H29,\"\"),NA())","v":""},{"$f":"IF(B$8<>\"\",IF($B30<>0,D$8*$C30+E$8*$D30+F$8*$E30+G$8*$F30+H$8*$G30+$H30,\"\"),NA())","v":""},{"$f":"IF(B$8<>\"\",IF($B31<>0,D$8*$C31+E$8*$D31+F$8*$E31+G$8*$F31+H$8*$G31+$H31,\"\"),NA())","v":""},null,null,null,2,{"$f":"IF($B8<>\"\",IF(P$22<>0,$D8*Q$22+$E8*R$22+$F8*S$22+$G8*T$22+$H8*U$22+V$22,\"\"),NA())","v":1.1215920000000001},{"$f":"IF($B8<>\"\",IF(P$23<>0,$D8*Q$23+$E8*R$23+$F8*S$23+$G8*T$23+$H8*U$23+V$23,\"\"),NA())","v":0.83779499999999962},{"$f":"IF($B8<>\"\",IF(P$24<>0,$D8*Q$24+$E8*R$24+$F8*S$24+$G8*T$24+$H8*U$24+V$24,\"\"),NA())","v":0.51176600000000005},{"$f":"IF($B8<>\"\",IF(P$25<>0,$D8*Q$25+$E8*R$25+$F8*S$25+$G8*T$25+$H8*U$25+V$25,\"\"),NA())","v":0.1830453999999998},{"$f":"IF($B8<>\"\",IF(P$26<>0,$D8*Q$26+$E8*R$26+$F8*S$26+$G8*T$26+$H8*U$26+V$26,\"\"),NA())","v":-0.13652840000000011},{"$f":"IF($B8<>\"\",IF(P$27<>0,$D8*Q$27+$E8*R$27+$F8*S$27+$G8*T$27+$H8*U$27+V$27,\"\"),NA())","v":""},{"$f":"IF($B8<>\"\",IF(P$28<>0,$D8*Q$28+$E8*R$28+$F8*S$28+$G8*T$28+$H8*U$28+V$28,\"\"),NA())","v":""},{"$f":"IF($B8<>\"\",IF(P$29<>0,$D8*Q$29+$E8*R$29+$F8*S$29+$G8*T$29+$H8*U$29+V$29,\"\"),NA())","v":""},{"$f":"IF($B8<>\"\",IF(P$30<>0,$D8*Q$30+$E8*R$30+$F8*S$30+$G8*T$30+$H8*U$30+V$30,\"\"),NA())","v":""},{"$f":"IF($B8<>\"\",IF(P$31<>0,$D8*Q$31+$E8*R$31+$F8*S$31+$G8*T$31+$H8*U$31+V$31,\"\"),NA())","v":""}]
[3,{"$f":"IF(B$9<>\"\",IF($B22<>0,D$9*$C22+E$9*$D22+F$9*$E22+G$9*$F22+H$9*$G22+$H22,\"\"),NA())","v":1.8273246999999999},{"$f":"IF(B$9<>\"\",IF($B23<>0,D$9*$C23+E$9*$D23+F$9*$E23+G$9*$F23+H$9*$G23+$H23,\"\"),NA())","v":1.4611621999999997},{"$f":"IF(B$9<>\"\",IF($B24<>0,D$9*$C24+E$9*$D24+F$9*$E24+G$9*$F24+H$9*$G24+$H24,\"\"),NA())","v":1.0471818999999998},{"$f":"IF(B$9<>\"\",IF($B25<>0,D$9*$C25+E$9*$D25+F$9*$E25+G$9*$F25+H$9*$G25+$H25,\"\"),NA())","v":0.6758833999999998},{"$f":"IF(B$9<>\"\",IF($B26<>0,D$9*$C26+E$9*$D26+F$9*$E26+G$9*$F26+H$9*$G26+$H26,\"\"),NA())","v":0.36608399999999996},{"$f":"IF(B$9<>\"\",IF($B27<>0,D$9*$C27+E$9*$D27+F$9*$E27+G$9*$F27+H$9*$G27+$H27,\"\"),NA())","v":8.755730000000006E-2},{"$f":"IF(B$9<>\"\",IF($B28<>0,D$9*$C28+E$9*$D28+F$9*$E28+G$9*$F28+H$9*$G28+$H28,\"\"),NA())","v":""},{"$f":"IF(B$9<>\"\",IF($B29<>0,D$9*$C29+E$9*$D29+F$9*$E29+G$9*$F29+H$9*$G29+$H29,\"\"),NA())","v":""},{"$f":"IF(B$9<>\"\",IF($B30<>0,D$9*$C30+E$9*$D30+F$9*$E30+G$9*$F30+H$9*$G30+$H30,\"\"),NA())","v":""},{"$f":"IF(B$9<>\"\",IF($B31<>0,D$9*$C31+E$9*$D31+F$9*$E31+G$9*$F31+H$9*$G31+$H31,\"\"),NA())","v":""},null,null,null,3,{"$f":"IF($B9<>\"\",IF(P$22<>0,$D9*Q$22+$E9*R$22+$F9*S$22+$G9*T$22+$H9*U$22+V$22,\"\"),NA())","v":1.6331834999999999},{"$f":"IF($B9<>\"\",IF(P$23<>0,$D9*Q$23+$E9*R$23+$F9*S$23+$G9*T$23+$H9*U$23+V$23,\"\"),NA())","v":1.3833299999999997},{"$f":"IF($B9<>\"\",IF(P$24<>0,$D9*Q$24+$E9*R$24+$F9*S$24+$G9*T$24+$H9*U$24+V$24,\"\"),NA())","v":1.0748795000000002},{"$f":"IF($B9<>\"\",IF(P$25<>0,$D9*Q$25+$E9*R$25+$F9*S$25+$G9*T$25+$H9*U$25+V$25,\"\"),NA())","v":0.73991779999999985},{"$f":"IF($B9<>\"\",IF(P$26<>0,$D9*Q$26+$E9*R$26+$F9*S$26+$G9*T$26+$H9*U$26+V$26,\"\"),NA())","v":0.39444269999999981},{"$f":"IF($B9<>\"\",IF(P$27<>0,$D9*Q$27+$E9*R$27+$F9*S$27+$G9*T$27+$H9*U$27+V$27,\"\"),NA())","v":""},{"$f":"IF($B9<>\"\",IF(P$28<>0,$D9*Q$28+$E9*R$28+$F9*S$28+$G9*T$28+$H9*U$28+V$28,\"\"),NA())","v":""},{"$f":"IF($B9<>\"\",IF(P$29<>0,$D9*Q$29+$E9*R$29+$F9*S$29+$G9*T$29+$H9*U$29+V$29,\"\"),NA())","v":""},{"$f":"IF($B9<>\"\",IF(P$30<>0,$D9*Q$30+$E9*R$30+$F9*S$30+$G9*T$30+$H9*U$30+V$30,\"\"),NA())","v":""},{"$f":"IF($B9<>\"\",IF(P$31<>0,$D9*Q$31+$E9*R$31+$F9*S$31+$G9*T$31+$H9*U$31+V$31,\"\"),NA())","v":""}]
[4,{"$f":"IF(B$10<>\"\",IF($B22<>0,D$10*$C22+E$10*$D22+F$10*$E22+G$10*$F22+H$10*$G22+$H22,\"\"),NA())","v":2.0557468000000005},{"$f":"IF(B$10<>\"\",IF($B23<>0,D$10*$C23+E$10*$D23+F$10*$E23+G$10*$F23+H$10*$G23+$H23,\"\"),NA())","v":1.6134978000000004},{"$f":"IF(B$10<>\"\",IF($B24<>0,D$10*$C24+E$10*$D24+F$10*$E24+G$10*$F24+H$10*$G24+$H24,\"\"),NA())","v":1.1531305999999999},{"$f":"IF(B$10<>\"\",IF($B25<>0,D$10*$C25+E$10*$D25+F$10*$E25+G$10*$F25+H$10*$G25+$H25,\"\"),NA())","v":0.7466105999999999},{"$f":"IF(B$10<>\"\",IF($B26<>0,D$10*$C26+E$10*$D26+F$10*$E26+G$10*$F26+H$10*$G26+$H26,\"\"),NA())","v":0.41636000000000017},{"$f":"IF(B$10<>\"\",IF($B27<>0,D$10*$C27+E$10*$D27+F$10*$E27+G$10*$F27+H$10*$G27+$H27,\"\"),NA())","v":0.13142320000000007},{"$f":"IF(B$10<>\"\",IF($B28<>0,D$10*$C28+E$10*$D28+F$10*$E28+G$10*$F28+H$10*$G28+$H28,\"\"),NA())","v":""},{"$f":"IF(B$10<>\"\",IF($B29<>0,D$10*$C29+E$10*$D29+F$10*$E29+G$10*$F29+H$10*$G29+$H29,\"\"),NA())","v":""},{"$f":"IF(B$10<>\"\",IF($B30<>0,D$10*$C30+E$10*$D30+F$10*$E30+G$10*$F30+H$10*$G30+$H30,\"\"),NA())","v":""},{"$f":"IF(B$10<>\"\",IF($B31<>0,D$10*$C31+E$10*$D31+F$10*$E31+G$10*$F31+H$10*$G31+$H31,\"\"),NA())","v":""},null,null,null,4,{"$f":"IF($B10<>\"\",IF(P$22<>0,$D10*Q$22+$E10*R$22+$F10*S$22+$G10*T$22+$H10*U$22+V$22,\"\"),NA())","v":1.8310919999999999},{"$f":"IF($B10<>\"\",IF(P$23<>0,$D10*Q$23+$E10*R$23+$F10*S$23+$G10*T$23+$H10*U$23+V$23,\"\"),NA())","v":1.5619629999999998},{"$f":"IF($B10<>\"\",IF(P$24<>0,$D10*Q$24+$E10*R$24+$F10*S$24+$G10*T$24+$H10*U$24+V$24,\"\"),NA())","v":1.2136340000000003},{"$f":"IF($B10<>\"\",IF(P$25<>0,$D10*Q$25+$E10*R$25+$F10*S$25+$G10*T$25+$H10*U$25+V$25,\"\"),NA())","v":0.84497820000000046},{"$f":"IF($B10<>\"\",IF(P$26<>0,$D10*Q$26+$E10*R$26+$F10*S$26+$G10*T$26+$H10*U$26+V$26,\"\"),NA())","v":0.46700280000000005},{"$f":"IF($B10<>\"\",IF(P$27<>0,$D10*Q$27+$E10*R$27+$F10*S$27+$G10*T$27+$H10*U$27+V$27,\"\"),NA())","v":""},{"$f":"IF($B10<>\"\",IF(P$28<>0,$D10*Q$28+$E10*R$28+$F10*S$28+$G10*T$28+$H10*U$28+V$28,\"\"),NA())","v":""},{"$f":"IF($B10<>\"\",IF(P$29<>0,$D10*Q$29+$E10*R$29+$F10*S$29+$G10*T$29+$H10*U$29+V$29,\"\"),NA())","v":""},{"$f":"IF($B10<>\"\",IF(P$30<>0,$D10*Q$30+$E10*R$30+$F10*S$30+$G10*T$30+$H10*U$30+V$30,\"\"),NA())","v":""},{"$f":"IF($B10<>\"\",IF(P$31<>0,$D10*Q$31+$E10*R$31+$F10*S$31+$G10*T$31+$H10*U$31+V$31,\"\"),NA())","v":""}]
[5,{"$f":"IF(B$11<>\"\",IF($B22<>0,D$11*$C22+E$11*$D22+F$11*$E22+G$11*$F22+H$11*$G22+$H22,\"\"),NA())","v":3.6305175999999992},{"$f":"IF(B$11<>\"\",IF($B23<>0,D$11*$C23+E$11*$D23+F$11*$E23+G$11*$F23+H$11*$G23+$H23,\"\"),NA())","v":2.7991126},{"$f":"IF(B$11<>\"\",IF($B24<>0,D$11*$C24+E$11*$D24+F$11*$E24+G$11*$F24+H$11*$G24+$H24,\"\"),NA())","v":2.0549841999999994},{"$f":"IF(B$11<>\"\",IF($B25<>0,D$11*$C25+E$11*$D25+F$11*$E25+G$11*$F25+H$11*$G25+$H25,\"\"),NA())","v":1.4097161999999996},{"$f":"IF(B$11<>\"\",IF($B26<>0,D$11*$C26+E$11*$D26+F$11*$E26+G$11*$F26+H$11*$G26+$H26,\"\"),NA())","v":0.93825999999999976},{"$f":"IF(B$11<>\"\",IF($B27<>0,D$11*$C27+E$11*$D27+F$11*$E27+G$11*$F27+H$11*$G27+$H27,\"\"),NA())","v":0.55853640000000015},{"$f":"IF(B$11<>\"\",IF($B28<>0,D$11*$C28+E$11*$D28+F$11*$E28+G$11*$F28+H$11*$G28+$H28,\"\"),NA())","v":""},{"$f":"IF(B$11<>\"\",IF($B29<>0,D$11*$C29+E$11*$D29+F$11*$E29+G$11*$F29+H$11*$G29+$H29,\"\"),NA())","v":""},{"$f":"IF(B$11<>\"\",IF($B30<>0,D$11*$C30+E$11*$D30+F$11*$E30+G$11*$F30+H$11*$G30+$H30,\"\"),NA())","v":""},{"$f":"IF(B$11<>\"\",IF($B31<>0,D$11*$C31+E$11*$D31+F$11*$E31+G$11*$F31+H$11*$G31+$H31,\"\"),NA())","v":""},null,null,null,5,{"$f":"IF($B11<>\"\",IF(P$22<>0,$D11*Q$22+$E11*R$22+$F11*S$22+$G11*T$22+$H11*U$22+V$22,\"\"),NA())","v":3.2358899999999999},{"$f":"IF($B11<>\"\",IF(P$23<>0,$D11*Q$23+$E11*R$23+$F11*S$23+$G11*T$23+$H11*U$23+V$23,\"\"),NA())","v":2.842306999999999},{"$f":"IF($B11<>\"\",IF(P$24<>0,$D11*Q$24+$E11*R$24+$F11*S$24+$G11*T$24+$H11*U$24+V$24,\"\"),NA())","v":2.2838640000000003},{"$f":"IF($B11<>\"\",IF(P$25<>0,$D11*Q$25+$E11*R$25+$F11*S$25+$G11*T$25+$H11*U$25+V$25,\"\"),NA())","v":1.7126514000000004},{"$f":"IF($B11<>\"\",IF(P$26<>0,$D11*Q$26+$E11*R$26+$F11*S$26+$G11*T$26+$H11*U$26+V$26,\"\"),NA())","v":1.1441095999999997},{"$f":"IF($B11<>\"\",IF(P$27<>0,$D11*Q$27+$E11*R$27+$F11*S$27+$G11*T$27+$H11*U$27+V$27,\"\"),NA())","v":""},{"$f":"IF($B11<>\"\",IF(P$28<>0,$D11*Q$28+$E11*R$28+$F11*S$28+$G11*T$28+$H11*U$28+V$28,\"\"),NA())","v":""},{"$f":"IF($B11<>\"\",IF(P$29<>0,$D11*Q$29+$E11*R$29+$F11*S$29+$G11*T$29+$H11*U$29+V$29,\"\"),NA())","v":""},{"$f":"IF($B11<>\"\",IF(P$30<>0,$D11*Q$30+$E11*R$30+$F11*S$30+$G11*T$30+$H11*U$30+V$30,\"\"),NA())","v":""},{"$f":"IF($B11<>\"\",IF(P$31<>0,$D11*Q$31+$E11*R$31+$F11*S$31+$G11*T$31+$H11*U$31+V$31,\"\"),NA())","v":""}]
[6,{"$f":"IF(B$12<>\"\",IF($B22<>0,D$12*$C22+E$12*$D22+F$12*$E22+G$12*$F22+H$12*$G22+$H22,\"\"),NA())","v":4.0256574000000001},{"$f":"IF(B$12<>\"\",IF($B23<>0,D$12*$C23+E$12*$D23+F$12*$E23+G$12*$F23+H$12*$G23+$H23,\"\"),NA())","v":3.1064103999999997},{"$f":"IF(B$12<>\"\",IF($B24<>0,D$12*$C24+E$12*$D24+F$12*$E24+G$12*$F24+H$12*$G24+$H24,\"\"),NA())","v":2.2933007999999995},{"$f":"IF(B$12<>\"\",IF($B25<>0,D$12*$C25+E$12*$D25+F$12*$E25+G$12*$F25+H$12*$G25+$H25,\"\"),NA())","v":1.5859147999999998},{"$f":"IF(B$12<>\"\",IF($B26<>0,D$12*$C26+E$12*$D26+F$12*$E26+G$12*$F26+H$12*$G26+$H26,\"\"),NA())","v":1.0803300000000005},{"$f":"IF(B$12<>\"\",IF($B27<>0,D$12*$C27+E$12*$D27+F$12*$E27+G$12*$F27+H$12*$G27+$H27,\"\"),NA())","v":0.66545660000000018},{"$f":"IF(B$12<>\"\",IF($B28<>0,D$12*$C28+E$12*$D28+F$12*$E28+G$12*$F28+H$12*$G28+$H28,\"\"),NA())","v":""},{"$f":"IF(B$12<>\"\",IF($B29<>0,D$12*$C29+E$12*$D29+F$12*$E29+G$12*$F29+H$12*$G29+$H29,\"\"),NA())","v":""},{"$f":"IF(B$12<>\"\",IF($B30<>0,D$12*$C30+E$12*$D30+F$12*$E30+G$12*$F30+H$12*$G30+$H30,\"\"),NA())","v":""},{"$f":"IF(B$12<>\"\",IF($B31<>0,D$12*$C31+E$12*$D31+F$12*$E31+G$12*$F31+H$12*$G31+$H31,\"\"),NA())","v":""},null,null,null,6,{"$f":"IF($B12<>\"\",IF(P$22<>0,$D12*Q$22+$E12*R$22+$F12*S$22+$G12*T$22+$H12*U$22+V$22,\"\"),NA())","v":3.5757840000000001},{"$f":"IF($B12<>\"\",IF(P$23<>0,$D12*Q$23+$E12*R$23+$F12*S$23+$G12*T$23+$H12*U$23+V$23,\"\"),NA())","v":3.1434340000000001},{"$f":"IF($B12<>\"\",IF(P$24<>0,$D12*Q$24+$E12*R$24+$F12*S$24+$G12*T$24+$H12*U$24+V$24,\"\"),NA())","v":2.5333040000000007},{"$f":"IF($B12<>\"\",IF(P$25<>0,$D12*Q$25+$E12*R$25+$F12*S$25+$G12*T$25+$H12*U$25+V$25,\"\"),NA())","v":1.9113336000000003},{"$f":"IF($B12<>\"\",IF(P$26<>0,$D12*Q$26+$E12*R$26+$F12*S$26+$G12*T$26+$H12*U$26+V$26,\"\"),NA())","v":1.2972954000000003},{"$f":"IF($B12<>\"\",IF(P$27<>0,$D12*Q$27+$E12*R$27+$F12*S$27+$G12*T$27+$H12*U$27+V$27,\"\"),NA())","v":""},{"$f":"IF($B12<>\"\",IF(P$28<>0,$D12*Q$28+$E12*R$28+$F12*S$28+$G12*T$28+$H12*U$28+V$28,\"\"),NA())","v":""},{"$f":"IF($B12<>\"\",IF(P$29<>0,$D12*Q$29+$E12*R$29+$F12*S$29+$G12*T$29+$H12*U$29+V$29,\"\"),NA())","v":""},{"$f":"IF($B12<>\"\",IF(P$30<>0,$D12*Q$30+$E12*R$30+$F12*S$30+$G12*T$30+$H12*U$30+V$30,\"\"),NA())","v":""},{"$f":"IF($B12<>\"\",IF(P$31<>0,$D12*Q$31+$E12*R$31+$F12*S$31+$G12*T$31+$H12*U$31+V$31,\"\"),NA())","v":""}]
[7,{"$f":"IF(B$13<>\"\",IF($B22<>0,D$13*$C22+E$13*$D22+F$13*$E22+G$13*$F22+H$13*$G22+$H22,\"\"),NA())","v":4.6339624000000006},{"$f":"IF(B$13<>\"\",IF($B23<>0,D$13*$C23+E$13*$D23+F$13*$E23+G$13*$F23+H$13*$G23+$H23,\"\"),NA())","v":3.9375184000000001},{"$f":"IF(B$13<>\"\",IF($B24<>0,D$13*$C24+E$13*$D24+F$13*$E24+G$13*$F24+H$13*$G24+$H24,\"\"),NA())","v":3.1193208000000001},{"$f":"IF(B$13<>\"\",IF($B25<>0,D$13*$C25+E$13*$D25+F$13*$E25+G$13*$F25+H$13*$G25+$H25,\"\"),NA())","v":2.3457568000000002},{"$f":"IF(B$13<>\"\",IF($B26<>0,D$13*$C26+E$13*$D26+F$13*$E26+G$13*$F26+H$13*$G26+$H26,\"\"),NA())","v":1.78416},{"$f":"IF(B$13<>\"\",IF($B27<>0,D$13*$C27+E$13*$D27+F$13*$E27+G$13*$F27+H$13*$G27+$H27,\"\"),NA())","v":1.1681656000000002},{"$f":"IF(B$13<>\"\",IF($B28<>0,D$13*$C28+E$13*$D28+F$13*$E28+G$13*$F28+H$13*$G28+$H28,\"\"),NA())","v":""},{"$f":"IF(B$13<>\"\",IF($B29<>0,D$13*$C29+E$13*$D29+F$13*$E29+G$13*$F29+H$13*$G29+$H29,\"\"),NA())","v":""},{"$f":"IF(B$13<>\"\",IF($B30<>0,D$13*$C30+E$13*$D30+F$13*$E30+G$13*$F30+H$13*$G30+$H30,\"\"),NA())","v":""},{"$f":"IF(B$13<>\"\",IF($B31<>0,D$13*$C31+E$13*$D31+F$13*$E31+G$13*$F31+H$13*$G31+$H31,\"\"),NA())","v":""},null,null,null,7,{"$f":"IF($B13<>\"\",IF(P$22<>0,$D13*Q$22+$E13*R$22+$F13*S$22+$G13*T$22+$H13*U$22+V$22,\"\"),NA())","v":4.3489000000000004},{"$f":"IF($B13<>\"\",IF(P$23<>0,$D13*Q$23+$E13*R$23+$F13*S$23+$G13*T$23+$H13*U$23+V$23,\"\"),NA())","v":3.7140399999999998},{"$f":"IF($B13<>\"\",IF(P$24<>0,$D13*Q$24+$E13*R$24+$F13*S$24+$G13*T$24+$H13*U$24+V$24,\"\"),NA())","v":3.2048200000000007},{"$f":"IF($B13<>\"\",IF(P$25<>0,$D13*Q$25+$E13*R$25+$F13*S$25+$G13*T$25+$H13*U$25+V$25,\"\"),NA())","v":2.5792976000000003},{"$f":"IF($B13<>\"\",IF(P$26<>0,$D13*Q$26+$E13*R$26+$F13*S$26+$G13*T$26+$H13*U$26+V$26,\"\"),NA())","v":1.9886904000000003},{"$f":"IF($B13<>\"\",IF(P$27<>0,$D13*Q$27+$E13*R$27+$F13*S$27+$G13*T$27+$H13*U$27+V$27,\"\"),NA())","v":""},{"$f":"IF($B13<>\"\",IF(P$28<>0,$D13*Q$28+$E13*R$28+$F13*S$28+$G13*T$28+$H13*U$28+V$28,\"\"),NA())","v":""},{"$f":"IF($B13<>\"\",IF(P$29<>0,$D13*Q$29+$E13*R$29+$F13*S$29+$G13*T$29+$H13*U$29+V$29,\"\"),NA())","v":""},{"$f":"IF($B13<>\"\",IF(P$30<>0,$D13*Q$30+$E13*R$30+$F13*S$30+$G13*T$30+$H13*U$30+V$30,\"\"),NA())","v":""},{"$f":"IF($B13<>\"\",IF(P$31<>0,$D13*Q$31+$E13*R$31+$F13*S$31+$G13*T$31+$H13*U$31+V$31,\"\"),NA())","v":""}]
[8,{"$f":"IF(B$14<>\"\",IF($B22<>0,D$14*$C22+E$14*$D22+F$14*$E22+G$14*$F22+H$14*$G22+$H22,\"\"),NA())","v":6.6341787999999999},{"$f":"IF(B$14<>\"\",IF($B23<>0,D$14*$C23+E$14*$D23+F$14*$E23+G$14*$F23+H$14*$G23+$H23,\"\"),NA())","v":5.6193007999999995},{"$f":"IF(B$14<>\"\",IF($B24<>0,D$14*$C24+E$14*$D24+F$14*$E24+G$14*$F24+H$14*$G24+$H24,\"\"),NA())","v":4.4905595999999992},{"$f":"IF(B$14<>\"\",IF($B25<>0,D$14*$C25+E$14*$D25+F$14*$E25+G$14*$F25+H$14*$G25+$H25,\"\"),NA())","v":3.4267415999999997},{"$f":"IF(B$14<>\"\",IF($B26<>0,D$14*$C26+E$14*$D26+F$14*$E26+G$14*$F26+H$14*$G26+$H26,\"\"),NA())","v":2.6859199999999999},{"$f":"IF(B$14<>\"\",IF($B27<>0,D$14*$C27+E$14*$D27+F$14*$E27+G$14*$F27+H$14*$G27+$H27,\"\"),NA())","v":1.8619572000000002},{"$f":"IF(B$14<>\"\",IF($B28<>0,D$14*$C28+E$14*$D28+F$14*$E28+G$14*$F28+H$14*$G28+$H28,\"\"),NA())","v":""},{"$f":"IF(B$14<>\"\",IF($B29<>0,D$14*$C29+E$14*$D29+F$14*$E29+G$14*$F29+H$14*$G29+$H29,\"\"),NA())","v":""},{"$f":"IF(B$14<>\"\",IF($B30<>0,D$14*$C30+E$14*$D30+F$14*$E30+G$14*$F30+H$14*$G30+$H30,\"\"),NA())","v":""},{"$f":"IF(B$14<>\"\",IF($B31<>0,D$14*$C31+E$14*$D31+F$14*$E31+G$14*$F31+H$14*$G31+$H31,\"\"),NA())","v":""},null,null,null,8,{"$f":"IF($B14<>\"\",IF(P$22<>0,$D14*Q$22+$E14*R$22+$F14*S$22+$G14*T$22+$H14*U$22+V$22,\"\"),NA())","v":6.2510500000000002},{"$f":"IF($B14<>\"\",IF(P$23<>0,$D14*Q$23+$E14*R$23+$F14*S$23+$G14*T$23+$H14*U$23+V$23,\"\"),NA())","v":5.3484799999999995},{"$f":"IF($B14<>\"\",IF(P$24<>0,$D14*Q$24+$E14*R$24+$F14*S$24+$G14*T$24+$H14*U$24+V$24,\"\"),NA())","v":4.6560899999999998},{"$f":"IF($B14<>\"\",IF(P$25<>0,$D14*Q$25+$E14*R$25+$F14*S$25+$G14*T$25+$H14*U$25+V$25,\"\"),NA())","v":3.8056912000000001},{"$f":"IF($B14<>\"\",IF(P$26<>0,$D14*Q$26+$E14*R$26+$F14*S$26+$G14*T$26+$H14*U$26+V$26,\"\"),NA())","v":3.0195148000000001},{"$f":"IF($B14<>\"\",IF(P$27<>0,$D14*Q$27+$E14*R$27+$F14*S$27+$G14*T$27+$H14*U$27+V$27,\"\"),NA())","v":""},{"$f":"IF($B14<>\"\",IF(P$28<>0,$D14*Q$28+$E14*R$28+$F14*S$28+$G14*T$28+$H14*U$28+V$28,\"\"),NA())","v":""},{"$f":"IF($B14<>\"\",IF(P$29<>0,$D14*Q$29+$E14*R$29+$F14*S$29+$G14*T$29+$H14*U$29+V$29,\"\"),NA())","v":""},{"$f":"IF($B14<>\"\",IF(P$30<>0,$D14*Q$30+$E14*R$30+$F14*S$30+$G14*T$30+$H14*U$30+V$30,\"\"),NA())","v":""},{"$f":"IF($B14<>\"\",IF(P$31<>0,$D14*Q$31+$E14*R$31+$F14*S$31+$G14*T$31+$H14*U$31+V$31,\"\"),NA())","v":""}]
[9,{"$f":"IF(B$15<>\"\",IF($B22<>0,D$15*$C22+E$15*$D22+F$15*$E22+G$15*$F22+H$15*$G22+$H22,\"\"),NA())","v":{"$error":"#N/A"}},{"$f":"IF(B$15<>\"\",IF($B23<>0,D$15*$C23+E$15*$D23+F$15*$E23+G$15*$F23+H$15*$G23+$H23,\"\"),NA())","v":{"$error":"#N/A"}},{"$f":"IF(B$15<>\"\",IF($B24<>0,D$15*$C24+E$15*$D24+F$15*$E24+G$15*$F24+H$15*$G24+$H24,\"\"),NA())","v":{"$error":"#N/A"}},{"$f":"IF(B$15<>\"\",IF($B25<>0,D$15*$C25+E$15*$D25+F$15*$E25+G$15*$F25+H$15*$G25+$H25,\"\"),NA())","v":{"$error":"#N/A"}},{"$f":"IF(B$15<>\"\",IF($B26<>0,D$15*$C26+E$15*$D26+F$15*$E26+G$15*$F26+H$15*$G26+$H26,\"\"),NA())","v":{"$error":"#N/A"}},{"$f":"IF(B$15<>\"\",IF($B27<>0,D$15*$C27+E$15*$D27+F$15*$E27+G$15*$F27+H$15*$G27+$H27,\"\"),NA())","v":{"$error":"#N/A"}},{"$f":"IF(B$15<>\"\",IF($B28<>0,D$15*$C28+E$15*$D28+F$15*$E28+G$15*$F28+H$15*$G28+$H28,\"\"),NA())","v":""},{"$f":"IF(B$15<>\"\",IF($B29<>0,D$15*$C29+E$15*$D29+F$15*$E29+G$15*$F29+H$15*$G29+$H29,\"\"),NA())","v":""},{"$f":"IF(B$15<>\"\",IF($B30<>0,D$15*$C30+E$15*$D30+F$15*$E30+G$15*$F30+H$15*$G30+$H30,\"\"),NA())","v":""},{"$f":"IF(B$15<>\"\",IF($B31<>0,D$15*$C31+E$15*$D31+F$15*$E31+G$15*$F31+H$15*$G31+$H31,\"\"),NA())","v":""},null,null,null,9,{"$f":"IF($B15<>\"\",IF(P$22<>0,$D15*Q$22+$E15*R$22+$F15*S$22+$G15*T$22+$H15*U$22+V$22,\"\"),NA())","v":{"$error":"#N/A"}},{"$f":"IF($B15<>\"\",IF(P$23<>0,$D15*Q$23+$E15*R$23+$F15*S$23+$G15*T$23+$H15*U$23+V$23,\"\"),NA())","v":{"$error":"#N/A"}},{"$f":"IF($B15<>\"\",IF(P$24<>0,$D15*Q$24+$E15*R$24+$F15*S$24+$G15*T$24+$H15*U$24+V$24,\"\"),NA())","v":{"$error":"#N/A"}},{"$f":"IF($B15<>\"\",IF(P$25<>0,$D15*Q$25+$E15*R$25+$F15*S$25+$G15*T$25+$H15*U$25+V$25,\"\"),NA())","v":{"$error":"#N/A"}},{"$f":"IF($B15<>\"\",IF(P$26<>0,$D15*Q$26+$E15*R$26+$F15*S$26+$G15*T$26+$H15*U$26+V$26,\"\"),NA())","v":{"$error":"#N/A"}},{"$f":"IF($B15<>\"\",IF(P$27<>0,$D15*Q$27+$E15*R$27+$F15*S$27+$G15*T$27+$H15*U$27+V$27,\"\"),NA())","v":""},{"$f":"IF($B15<>\"\",IF(P$28<>0,$D15*Q$28+$E15*R$28+$F15*S$28+$G15*T$28+$H15*U$28+V$28,\"\"),NA())","v":""},{"$f":"IF($B15<>\"\",IF(P$29<>0,$D15*Q$29+$E15*R$29+$F15*S$29+$G15*T$29+$H15*U$29+V$29,\"\"),NA())","v":""},{"$f":"IF($B15<>\"\",IF(P$30<>0,$D15*Q$30+$E15*R$30+$F15*S$30+$G15*T$30+$H15*U$30+V$30,\"\"),NA())","v":""},{"$f":"IF($B15<>\"\",IF(P$31<>0,$D15*Q$31+$E15*R$31+$F15*S$31+$G15*T$31+$H15*U$31+V$31,\"\"),NA())","v":""}]
[10,{"$f":"IF(B$16<>\"\",IF($B22<>0,D$16*$C22+E$16*$D22+F$16*$E22+G$16*$F22+H$16*$G22+$H22,\"\"),NA())","v":{"$error":"#N/A"}},{"$f":"IF(B$16<>\"\",IF($B23<>0,D$16*$C23+E$16*$D23+F$16*$E23+G$16*$F23+H$16*$G23+$H23,\"\"),NA())","v":{"$error":"#N/A"}},{"$f":"IF(B$16<>\"\",IF($B24<>0,D$16*$C24+E$16*$D24+F$16*$E24+G$16*$F24+H$16*$G24+$H24,\"\"),NA())","v":{"$error":"#N/A"}},{"$f":"IF(B$16<>\"\",IF($B25<>0,D$16*$C25+E$16*$D25+F$16*$E25+G$16*$F25+H$16*$G25+$H25,\"\"),NA())","v":{"$error":"#N/A"}},{"$f":"IF(B$16<>\"\",IF($B26<>0,D$16*$C26+E$16*$D26+F$16*$E26+G$16*$F26+H$16*$G26+$H26,\"\"),NA())","v":{"$error":"#N/A"}},{"$f":"IF(B$16<>\"\",IF($B27<>0,D$16*$C27+E$16*$D27+F$16*$E27+G$16*$F27+H$16*$G27+$H27,\"\"),NA())","v":{"$error":"#N/A"}},{"$f":"IF(B$16<>\"\",IF($B28<>0,D$16*$C28+E$16*$D28+F$16*$E28+G$16*$F28+H$16*$G28+$H28,\"\"),NA())","v":{"$error":"#N/A"}},{"$f":"IF(B$16<>\"\",IF($B29<>0,D$16*$C29+E$16*$D29+F$16*$E29+G$16*$F29+H$16*$G29+$H29,\"\"),NA())","v":{"$error":"#N/A"}},{"$f":"IF(B$16<>\"\",IF($B30<>0,D$16*$C30+E$16*$D30+F$16*$E30+G$16*$F30+H$16*$G30+$H30,\"\"),NA())","v":{"$error":"#N/A"}},{"$f":"IF(B$16<>\"\",IF($B31<>0,D$16*$C31+E$16*$D31+F$16*$E31+G$16*$F31+H$16*$G31+$H31,\"\"),NA())","v":{"$error":"#N/A"}},null,null,null,10,{"$f":"IF($B16<>\"\",IF(P$22<>0,$D16*Q$22+$E16*R$22+$F16*S$22+$G16*T$22+$H16*U$22+V$22,\"\"),NA())","v":{"$error":"#N/A"}},{"$f":"IF($B16<>\"\",IF(P$23<>0,$D16*Q$23+$E16*R$23+$F16*S$23+$G16*T$23+$H16*U$23+V$23,\"\"),NA())","v":{"$error":"#N/A"}},{"$f":"IF($B16<>\"\",IF(P$24<>0,$D16*Q$24+$E16*R$24+$F16*S$24+$G16*T$24+$H16*U$24+V$24,\"\"),NA())","v":{"$error":"#N/A"}},{"$f":"IF($B16<>\"\",IF(P$25<>0,$D16*Q$25+$E16*R$25+$F16*S$25+$G16*T$25+$H16*U$25+V$25,\"\"),NA())","v":{"$error":"#N/A"}},{"$f":"IF($B16<>\"\",IF(P$26<>0,$D16*Q$26+$E16*R$26+$F16*S$26+$G16*T$26+$H16*U$26+V$26,\"\"),NA())","v":{"$error":"#N/A"}},{"$f":"IF($B16<>\"\",IF(P$27<>0,$D16*Q$27+$E16*R$27+$F16*S$27+$G16*T$27+$H16*U$27+V$27,\"\"),NA())","v":{"$error":"#N/A"}},{"$f":"IF($B16<>\"\",IF(P$28<>0,$D16*Q$28+$E16*R$28+$F16*S$28+$G16*T$28+$H16*U$28+V$28,\"\"),NA())","v":{"$error":"#N/A"}},{"$f":"IF($B16<>\"\",IF(P$29<>0,$D16*Q$29+$E16*R$29+$F16*S$29+$G16*T$29+$H16*U$29+V$29,\"\"),NA())","v":{"$error":"#N/A"}},{"$f":"IF($B16<>\"\",IF(P$30<>0,$D16*Q$30+$E16*R$30+$F16*S$30+$G16*T$30+$H16*U$30+V$30,\"\"),NA())","v":{"$error":"#N/A"}},{"$f":"IF($B16<>\"\",IF(P$31<>0,$D16*Q$31+$E16*R$31+$F16*S$31+$G16*T$31+$H16*U$31+V$31,\"\"),NA())","v":{"$error":"#N/A"}}]
[11,{"$f":"IF(B$17<>\"\",IF($B22<>0,D$17*$C22+E$17*$D22+F$17*$E22+G$17*$F22+H$17*$G22+$H22,\"\"),NA())","v":{"$error":"#N/A"}},{"$f":"IF(B$17<>\"\",IF($B23<>0,D$17*$C23+E$17*$D23+F$17*$E23+G$17*$F23+H$17*$G23+$H23,\"\"),NA())","v":{"$error":"#N/A"}},{"$f":"IF(B$17<>\"\",IF($B24<>0,D$17*$C24+E$17*$D24+F$17*$E24+G$17*$F24+H$17*$G24+$H24,\"\"),NA())","v":{"$error":"#N/A"}},{"$f":"IF(B$17<>\"\",IF($B25<>0,D$17*$C25+E$17*$D25+F$17*$E25+G$17*$F25+H$17*$G25+$H25,\"\"),NA())","v":{"$error":"#N/A"}},{"$f":"IF(B$17<>\"\",IF($B26<>0,D$17*$C26+E$17*$D26+F$17*$E26+G$17*$F26+H$17*$G26+$H26,\"\"),NA())","v":{"$error":"#N/A"}},{"$f":"IF(B$17<>\"\",IF($B27<>0,D$17*$C27+E$17*$D27+F$17*$E27+G$17*$F27+H$17*$G27+$H27,\"\"),NA())","v":{"$error":"#N/A"}},{"$f":"IF(B$17<>\"\",IF($B28<>0,D$17*$C28+E$17*$D28+F$17*$E28+G$17*$F28+H$17*$G28+$H28,\"\"),NA())","v":{"$error":"#N/A"}},{"$f":"IF(B$17<>\"\",IF($B29<>0,D$17*$C29+E$17*$D29+F$17*$E29+G$17*$F29+H$17*$G29+$H29,\"\"),NA())","v":{"$error":"#N/A"}},{"$f":"IF(B$17<>\"\",IF($B30<>0,D$17*$C30+E$17*$D30+F$17*$E30+G$17*$F30+H$17*$G30+$H30,\"\"),NA())","v":{"$error":"#N/A"}},{"$f":"IF(B$17<>\"\",IF($B31<>0,D$17*$C31+E$17*$D31+F$17*$E31+G$17*$F31+H$17*$G31+$H31,\"\"),NA())","v":{"$error":"#N/A"}},null,null,null,11,{"$f":"IF($B17<>\"\",IF(P$22<>0,$D17*Q$22+$E17*R$22+$F17*S$22+$G17*T$22+$H17*U$22+V$22,\"\"),NA())","v":{"$error":"#N/A"}},{"$f":"IF($B17<>\"\",IF(P$23<>0,$D17*Q$23+$E17*R$23+$F17*S$23+$G17*T$23+$H17*U$23+V$23,\"\"),NA())","v":{"$error":"#N/A"}},{"$f":"IF($B17<>\"\",IF(P$24<>0,$D17*Q$24+$E17*R$24+$F17*S$24+$G17*T$24+$H17*U$24+V$24,\"\"),NA())","v":{"$error":"#N/A"}},{"$f":"IF($B17<>\"\",IF(P$25<>0,$D17*Q$25+$E17*R$25+$F17*S$25+$G17*T$25+$H17*U$25+V$25,\"\"),NA())","v":{"$error":"#N/A"}},{"$f":"IF($B17<>\"\",IF(P$26<>0,$D17*Q$26+$E17*R$26+$F17*S$26+$G17*T$26+$H17*U$26+V$26,\"\"),NA())","v":{"$error":"#N/A"}},{"$f":"IF($B17<>\"\",IF(P$27<>0,$D17*Q$27+$E17*R$27+$F17*S$27+$G17*T$27+$H17*U$27+V$27,\"\"),NA())","v":{"$error":"#N/A"}},{"$f":"IF($B17<>\"\",IF(P$28<>0,$D17*Q$28+$E17*R$28+$F17*S$28+$G17*T$28+$H17*U$28+V$28,\"\"),NA())","v":{"$error":"#N/A"}},{"$f":"IF($B17<>\"\",IF(P$29<>0,$D17*Q$29+$E17*R$29+$F17*S$29+$G17*T$29+$H17*U$29+V$29,\"\"),NA())","v":{"$error":"#N/A"}},{"$f":"IF($B17<>\"\",IF(P$30<>0,$D17*Q$30+$E17*R$30+$F17*S$30+$G17*T$30+$H17*U$30+V$30,\"\"),NA())","v":{"$error":"#N/A"}},{"$f":"IF($B17<>\"\",IF(P$31<>0,$D17*Q$31+$E17*R$31+$F17*S$31+$G17*T$31+$H17*U$31+V$31,\"\"),NA())","v":{"$error":"#N/A"}}]
[]
[]
[null,null,null,null,null,null,null,null,null,"Linear fit"]
[]
[]
[]
[]
[]
[]
[]
[]
[]
[]
[]
[]
[]
[]
[]
[]
[]
[]
[]
[]
[]
[null,null,null,null,null,null,null,null,null,"Quadratic fit"]
[]
[]
[]
[]
[]
[]
[]
[]
[]
[]
[]
[]
[]
[]
[]
[]
[]
[]
[]
[]
[]
[]
["Indicator",{"$f":"IF(ISNUMBER(B33),1,0)","v":1},{"$f":"IF(ISNUMBER(C33),1,0)","v":1},1,1,1,1,0,0,0,0,0,null,null,"Indicator",{"$f":"IF(ISNUMBER(P33),1,0)","v":1},{"$f":"IF(ISNUMBER(Q33),1,0)","v":1},1,1,1,0,0,0,0,0,0]
["x",{"$f":"IF(B92=1,B33,0)","v":0.1},{"$f":"IF(C92=1,C33,0)","v":0.2},0.3,0.4,0.5,0.6,0,0,0,0,0,null,null,"x",{"$f":"IF(P92=1,P33,0)","v":0.2},{"$f":"IF(Q92=1,Q33,0)","v":0.3},{"$f":"IF(R92=1,R33,0)","v":0.4},{"$f":"IF(S92=1,S33,0)","v":0.5},{"$f":"IF(T92=1,T33,0)","v":0.6},{"$f":"IF(U92=1,U33,0)","v":0},{"$f":"IF(V92=1,V33,0)","v":0},{"$f":"IF(W92=1,W33,0)","v":0},{"$f":"IF(X92=1,X33,0)","v":0},{"$f":"IF(Y92=1,Y33,0)","v":0},0]
["x^2",{"$f":"IF(B92=1,B93^2,0)","v":1.0000000000000002E-2},{"$f":"IF(C92=1,C93^2,0)","v":4.0000000000000008E-2},0.09,0.16000000000000003,0.25,0.36,0,0,0,0,0,null,null,"x^2",{"$f":"IF(P92=1,P93^2,0)","v":4.0000000000000008E-2},{"$f":"IF(Q92=1,Q93^2,0)","v":0.09},{"$f":"IF(R92=1,R93^2,0)","v":0.16000000000000003},{"$f":"IF(S92=1,S93^2,0)","v":0.25},{"$f":"IF(T92=1,T93^2,0)","v":0.36},{"$f":"IF(U92=1,U93^2,0)","v":0},{"$f":"IF(V92=1,V93^2,0)","v":0},{"$f":"IF(W92=1,W93^2,0)","v":0},{"$f":"IF(X92=1,X93^2,0)","v":0},{"$f":"IF(Y92=1,Y93^2,0)","v":0},0]
["x^3",{"$f":"IF(B92=1,B93*B94,0)","v":1.0000000000000002E-3},{"$f":"IF(C92=1,C93*C94,0)","v":8.0000000000000019E-3},2.7E-2,6.4000000000000015E-2,0.125,0.216,0,0,0,0,0,null,null,"x^3",{"$f":"IF(P92=1,P93*P94,0)","v":8.0000000000000019E-3},{"$f":"IF(Q92=1,Q93*Q94,0)","v":2.7E-2},{"$f":"IF(R92=1,R93*R94,0)","v":6.4000000000000015E-2},{"$f":"IF(S92=1,S93*S94,0)","v":0.125},{"$f":"IF(T92=1,T93*T94,0)","v":0.216},{"$f":"IF(U92=1,U93*U94,0)","v":0},{"$f":"IF(V92=1,V93*V94,0)","v":0},{"$f":"IF(W92=1,W93*W94,0)","v":0},{"$f":"IF(X92=1,X93*X94,0)","v":0},{"$f":"IF(Y92=1,Y93*Y94,0)","v":0},0]
[{"$f":"A34","v":1},{"$f":"IF(B$92=1,B34,0)","v":0.6041198000000001},{"$f":"IF(C$92=1,C34,0)","v":0.25244780000000011},-3.3874400000000193E-2,-0.23626039999999993,-0.43263699999999983,-0.54655179999999981,0,0,0,0,0,null,null,{"$f":"O34","v":1},{"$f":"IF(P$92=1,P34,0)","v":0.47824400000000022},{"$f":"IF(Q$92=1,Q34,0)","v":0.287663},1.582200000000078E-2,-0.22811379999999992,-0.49013819999999997,0,0,0,0,0,0]
[2,{"$f":"IF(B$92=1,B35,0)","v":1.3886476000000003},0.98091460000000019,0.57553819999999956,0.23525020000000008,-2.1081999999999934E-2,-0.28969359999999988,0,0,0,0,0,null,null,{"$f":"O35","v":2},{"$f":"IF(P$92=1,P35,0)","v":1.1215920000000001},0.83779499999999962,0.51176600000000005,0.1830453999999998,-0.13652840000000011,0,0,0,0,0,0]
[3,1.8273246999999999,1.4611621999999997,1.0471818999999998,0.6758833999999998,0.36608399999999996,8.755730000000006E-2,0,0,0,0,0,null,null,{"$f":"O36","v":3},{"$f":"IF(P$92=1,P36,0)","v":1.6331834999999999},1.3833299999999997,1.0748795000000002,0.73991779999999985,0.39444269999999981,0,0,0,0,0,0]
[4,2.0557468000000005,1.6134978000000004,1.1531305999999999,0.7466105999999999,0.41636000000000017,0.13142320000000007,0,0,0,0,0,null,null,{"$f":"O37","v":4},{"$f":"IF(P$92=1,P37,0)","v":1.8310919999999999},1.5619629999999998,1.2136340000000003,0.84497820000000046,0.46700280000000005,0,0,0,0,0,0]
[5,3.6305175999999992,2.7991126,2.0549841999999994,1.4097161999999996,0.93825999999999976,0.55853640000000015,0,0,0,0,0,null,null,{"$f":"O38","v":5},{"$f":"IF(P$92=1,P38,0)","v":3.2358899999999999},2.842306999999999,2.2838640000000003,1.7126514000000004,1.1441095999999997,0,0,0,0,0,0]
[6,4.0256574000000001,3.1064103999999997,2.2933007999999995,1.5859147999999998,1.0803300000000005,0.66545660000000018,0,0,0,0,0,null,null,{"$f":"O39","v":6},{"$f":"IF(P$92=1,P39,0)","v":3.5757840000000001},3.1434340000000001,2.5333040000000007,1.9113336000000003,1.2972954000000003,0,0,0,0,0,0]
[7,4.6339624000000006,3.9375184000000001,3.1193208000000001,2.3457568000000002,1.78416,1.1681656000000002,0,0,0,0,0,null,null,{"$f":"O40","v":7},{"$f":"IF(P$92=1,P40,0)","v":4.3489000000000004},3.7140399999999998,3.2048200000000007,2.5792976000000003,1.9886904000000003,0,0,0,0,0,0]
[8,6.6341787999999999,5.6193007999999995,4.4905595999999992,3.4267415999999997,2.6859199999999999,1.8619572000000002,0,0,0,0,0,null,null,{"$f":"O41","v":8},{"$f":"IF(P$92=1,P41,0)","v":6.2510500000000002},5.3484799999999995,4.6560899999999998,3.8056912000000001,3.0195148000000001,0,0,0,0,0,0]
[9,{"$error":"#N/A"},{"$error":"#N/A"},{"$error":"#N/A"},{"$error":"#N/A"},{"$error":"#N/A"},{"$error":"#N/A"},0,0,0,0,0,null,null,{"$f":"O42","v":9},{"$f":"IF(P$92=1,P42,0)","v":{"$error":"#N/A"}},{"$error":"#N/A"},{"$error":"#N/A"},{"$error":"#N/A"},{"$error":"#N/A"},0,0,0,0,0,0]
[10,{"$error":"#N/A"},{"$error":"#N/A"},{"$error":"#N/A"},{"$error":"#N/A"},{"$error":"#N/A"},{"$error":"#N/A"},0,0,0,0,0,null,null,{"$f":"O43","v":10},{"$f":"IF(P$92=1,P43,0)","v":{"$error":"#N/A"}},{"$error":"#N/A"},{"$error":"#N/A"},{"$error":"#N/A"},{"$error":"#N/A"},0,0,0,0,0,0]
[11,{"$error":"#N/A"},{"$error":"#N/A"},{"$error":"#N/A"},{"$error":"#N/A"},{"$error":"#N/A"},{"$error":"#N/A"},0,0,0,0,0,null,null,{"$f":"O44","v":11},{"$f":"IF(P$92=1,P44,0)","v":{"$error":"#N/A"}},{"$error":"#N/A"},{"$error":"#N/A"},{"$error":"#N/A"},{"$error":"#N/A"},0,0,0,0,0,0]
[]
["Polynomial input for Fortran Column 1",null,null,null,null,null,null,null,null,null,null,null,null,null,"Polynomial input for Fortran Column 2"]
["o=3","x3","x2","x","c","o=2","x2","x","c","0=1","x","c",null,null,"o=3","x3","x2","x","c","o=2","x2","x","c","0=1","x","c"]
[null,{"$f":"LINEST(B96:L96,B$92:L$95,TRUE,FALSE)","v":-1.3724111111111998},4.2063323809524817,-4.6596215079365386,1.0283200000000012,null,{"$f":"LINEST(B96:L96,B$92:L$94,TRUE,FALSE)","v":2.7653007142857202},-4.2245671857142879,0.99373523999999935,null,{"$f":"LINEST(B96:L96,B$92:L$93,TRUE,FALSE)","v":-2.2888566857142849},0.73564050666666614,null,null,null,{"$f":"LINEST(P96:Z96,P$92:Z$95,TRUE,FALSE)","v":5.2642833333332426},-7.1384371428570494,0.55236688095235176,0.61341040000000335,null,{"$f":"LINEST(P96:Z96,P$92:Z$94,TRUE,FALSE)","v":-0.82129714285715705},-1.7955034857142724,0.87873027999999753,null,{"$f":"LINEST(P96:Z96,P$92:Z$93,TRUE,FALSE)","v":-2.4525411999999975},0.99371187999999921]
[null,{"$f":"LINEST(B97:L97,B$92:L$95,TRUE,FALSE)","v":-0.15349814814824603},2.4679298412699513,-5.0170983201058545,1.8712263333333359,null,{"$f":"LINEST(B97:L97,B$92:L$94,TRUE,FALSE)","v":2.3067567857142905},-4.9684394071428581,1.8673581799999994,null,{"$f":"LINEST(B97:L97,B$92:L$93,TRUE,FALSE)","v":-3.3537096571428564},1.6520608799999998,null,null,null,{"$f":"LINEST(P97:Z97,P$92:Z$95,TRUE,FALSE)","v":4.2815666666666106},-5.6682028571427887,-0.83715338095240821,1.4818940000000036,null,{"$f":"LINEST(P97:Z97,P$92:Z$94,TRUE,FALSE)","v":-0.53032285714285565},-2.7467321142857148,1.6976849599999999,null,{"$f":"LINEST(P97:Z97,P$92:Z$93,TRUE,FALSE)","v":-3.1709903999999991},1.7719301599999997]
[null,{"$f":"LINEST(B98:L98,B$92:L$95,TRUE,FALSE)","v":4.1842999999999702},-2.8669032142856787,-3.2723108928571554,2.1834420000000012,null,{"$f":"LINEST(B98:L98,B$92:L$94,TRUE,FALSE)","v":1.5266117857142918},-4.5987339928571451,2.2888863599999998,null,{"$f":"LINEST(B98:L98,B$92:L$93,TRUE,FALSE)","v":-3.5301057428571418},2.1464025933333328,null,null,null,{"$f":"LINEST(P98:Z98,P$92:Z$95,TRUE,FALSE)","v":4.0069666666667336},-6.3637485714286512,-8.9475809523783992E-2,1.873802699999999,null,{"$f":"LINEST(P98:Z98,P$92:Z$94,TRUE,FALSE)","v":-1.5553885714285687},-1.876582942857147,2.0757538200000014,null,{"$f":"LINEST(P98:Z98,P$92:Z$93,TRUE,FALSE)","v":-3.1208938000000011},2.293508220000001]
[null,{"$f":"LINEST(B99:L99,B$92:L$95,TRUE,FALSE)","v":3.5595055555554684},-1.4035033333332374,-4.3967213888889196,2.5095550000000024,null,{"$f":"LINEST(B99:L99,B$92:L$94,TRUE,FALSE)","v":2.3339775000000045},-5.525084650000001,2.5992545399999991,null,{"$f":"LINEST(B99:L99,B$92:L$93,TRUE,FALSE)","v":-3.8913004},2.3814166399999999,null,null,null,{"$f":"LINEST(P99:Z99,P$92:Z$95,TRUE,FALSE)","v":5.8233666666665647},-8.6881799999998819,0.51217033333328821,2.0302820000000064,null,{"$f":"LINEST(P99:Z99,P$92:Z$94,TRUE,FALSE)","v":-1.700140000000002},-2.0850511999999979,2.3237796799999999,null,{"$f":"LINEST(P99:Z99,P$92:Z$93,TRUE,FALSE)","v":-3.4451631999999988},2.5617992799999998]
[null,{"$f":"LINEST(B100:L100,B$92:L$95,TRUE,FALSE)","v":2.2882796296296495},3.5778346031745727,-9.6289084788359567,4.5578123333333274,null,{"$f":"LINEST(B100:L100,B$92:L$94,TRUE,FALSE)","v":5.9805282142857061},-10.354293121428558,4.6154769799999951,null,{"$f":"LINEST(B100:L100,B$92:L$93,TRUE,FALSE)","v":-6.1679233714285653},4.057294346666664,null,null,null,{"$f":"LINEST(P100:Z100,P$92:Z$95,TRUE,FALSE)","v":13.960900000000004},-19.34370285714288,2.9858432857142954,3.3027344000000021,null,{"$f":"LINEST(P100:Z100,P$92:Z$94,TRUE,FALSE)","v":-2.5906228571428729},-3.2407181142857011,4.0063637599999984,null,{"$f":"LINEST(P100:Z100,P$92:Z$93,TRUE,FALSE)","v":-5.3132163999999982},4.36905096]
[null,{"$f":"LINEST(B101:L101,B$92:L$95,TRUE,FALSE)","v":1.9546555555554046},4.6475530952382575,-10.809370674603217,5.0609119999999992,null,{"$f":"LINEST(B101:L101,B$92:L$94,TRUE,FALSE)","v":6.699941428571428},-11.428996485714276,5.1101693199999945,null,{"$f":"LINEST(B101:L101,B$92:L$93,TRUE,FALSE)","v":-6.739037485714281},4.4848414533333312,null,null,null,{"$f":"LINEST(P101:Z101,P$92:Z$95,TRUE,FALSE)","v":15.476016666666672},-21.251340000000013,3.2573218333333314,3.6526532000000045,null,{"$f":"LINEST(P101:Z101,P$92:Z$94,TRUE,FALSE)","v":-2.6801200000000023},-3.6449815999999977,4.4326444400000007,null,{"$f":"LINEST(P101:Z101,P$92:Z$93,TRUE,FALSE)","v":-5.7890775999999979},4.8078612399999994]
[null,{"$f":"LINEST(B102:L102,B$92:L$95,TRUE,FALSE)","v":7.7664888888888051},-5.6036504761904036,-6.3417293650793782,5.3301359999999995,null,{"$f":"LINEST(B102:L102,B$92:L$94,TRUE,FALSE)","v":2.551162857142848},-8.8037063428571294,5.5258515199999971,null,{"$f":"LINEST(B102:L102,B$92:L$93,TRUE,FALSE)","v":-7.0178923428571389},5.2877429866666654,null,null,null,{"$f":"LINEST(P102:Z102,P$92:Z$95,TRUE,FALSE)","v":-7.5604000000004623},8.8739314285720123,-9.0682611428573665,5.8624616000000227,null,{"$f":"LINEST(P102:Z102,P$92:Z$94,TRUE,FALSE)","v":-0.19854857142854368},-5.6963227428571646,5.4814174400000022,null,{"$f":"LINEST(P102:Z102,P$92:Z$93,TRUE,FALSE)","v":-5.8551615999999989},5.5092142399999977]
[null,{"$f":"LINEST(B103:L103,B$92:L$95,TRUE,FALSE)","v":8.5910148148146313},-4.5451112698410583,-10.045200132275202,7.6934986666666703,null,{"$f":"LINEST(B103:L103,B$92:L$94,TRUE,FALSE)","v":4.4754542857143065},-12.768551828571439,7.9099922399999985,null,{"$f":"LINEST(B103:L103,B$92:L$93,TRUE,FALSE)","v":-9.6357338285714267},7.4922831733333304,null,null,null,{"$f":"LINEST(P103:Z103,P$92:Z$95,TRUE,FALSE)","v":-12.163133333333649},15.129891428571815,-13.857921809523944,8.5063092000000093,null,{"$f":"LINEST(P103:Z103,P$92:Z$94,TRUE,FALSE)","v":0.5341314285714347},-8.4331643428571414,7.8932872799999974,null,{"$f":"LINEST(P103:Z103,P$92:Z$93,TRUE,FALSE)","v":-8.0058591999999944},7.818508879999996]
[null,{"$f":"LINEST(B104:L104,B$92:L$95,TRUE,FALSE)","v":{"$error":"#VALUE!"}},{"$error":"#VALUE!"},{"$error":"#VALUE!"},{"$error":"#VALUE!"},null,{"$f":"LINEST(B104:L104,B$92:L$94,TRUE,FALSE)","v":{"$error":"#VALUE!"}},{"$error":"#VALUE!"},{"$error":"#VALUE!"},null,{"$f":"LINEST(B104:L104,B$92:L$93,TRUE,FALSE)","v":{"$error":"#VALUE!"}},{"$error":"#VALUE!"},null,null,null,{"$f":"LINEST(P104:Z104,P$92:Z$95,TRUE,FALSE)","v":{"$error":"#VALUE!"}},{"$error":"#VALUE!"},{"$error":"#VALUE!"},{"$error":"#VALUE!"},null,{"$f":"LINEST(P104:Z104,P$92:Z$94,TRUE,FALSE)","v":{"$error":"#VALUE!"}},{"$error":"#VALUE!"},{"$error":"#VALUE!"},null,{"$f":"LINEST(P104:Z104,P$92:Z$93,TRUE,FALSE)","v":{"$error":"#VALUE!"}},{"$error":"#VALUE!"}]
[null,{"$f":"LINEST(B105:L105,B$92:L$95,TRUE,FALSE)","v":{"$error":"#VALUE!"}},{"$error":"#VALUE!"},{"$error":"#VALUE!"},{"$error":"#VALUE!"},null,{"$f":"LINEST(B105:L105,B$92:L$94,TRUE,FALSE)","v":{"$error":"#VALUE!"}},{"$error":"#VALUE!"},{"$error":"#VALUE!"},null,{"$f":"LINEST(B105:L105,B$92:L$93,TRUE,FALSE)","v":{"$error":"#VALUE!"}},{"$error":"#VALUE!"},null,null,null,{"$f":"LINEST(P105:Z105,P$92:Z$95,TRUE,FALSE)","v":{"$error":"#VALUE!"}},{"$error":"#VALUE!"},{"$error":"#VALUE!"},{"$error":"#VALUE!"},null,{"$f":"LINEST(P105:Z105,P$92:Z$94,TRUE,FALSE)","v":{"$error":"#VALUE!"}},{"$error":"#VALUE!"},{"$error":"#VALUE!"},null,{"$f":"LINEST(P105:Z105,P$92:Z$93,TRUE,FALSE)","v":{"$error":"#VALUE!"}},{"$error":"#VALUE!"}]
[null,{"$f":"LINEST(B106:L106,B$92:L$95,TRUE,FALSE)","v":{"$error":"#VALUE!"}},{"$error":"#VALUE!"},{"$error":"#VALUE!"},{"$error":"#VALUE!"},null,{"$f":"LINEST(B106:L106,B$92:L$94,TRUE,FALSE)","v":{"$error":"#VALUE!"}},{"$error":"#VALUE!"},{"$error":"#VALUE!"},null,{"$f":"LINEST(B106:L106,B$92:L$93,TRUE,FALSE)","v":{"$error":"#VALUE!"}},{"$error":"#VALUE!"},null,null,null,{"$f":"LINEST(P106:Z106,P$92:Z$95,TRUE,FALSE)","v":{"$error":"#VALUE!"}},{"$error":"#VALUE!"},{"$error":"#VALUE!"},{"$error":"#VALUE!"},null,{"$f":"LINEST(P106:Z106,P$92:Z$94,TRUE,FALSE)","v":{"$error":"#VALUE!"}},{"$error":"#VALUE!"},{"$error":"#VALUE!"},null,{"$f":"LINEST(P106:Z106,P$92:Z$93,TRUE,FALSE)","v":{"$error":"#VALUE!"}},{"$error":"#VALUE!"}]

{"sheet":"Compounds","index":2,"n_rows":140,"n_cols":16,"rows_kept":140,"cut":false,"hidden":false,"merged":[]}
[]
[]
[]
[]
[]
[]
[null,"SEARCH FIELD",129,"Compounds"]
[]
["Compound",null,"Descriptors"]
[null,"Compound","E","S","A","B","V","L","Bo","SD","No",null,"Reference"]
[null,"Acetanilide",0.96,1.1439999999999999,0.53800000000000003,0.70799999999999996,1.1136999999999999,5.9160000000000004,null,4.2999999999999997E-2,212,null,"1)",null,"1)","Colin F. Poole∗, Sanka N. Atapattu, Salwa K. Poole, Andrea K. Bell"]
[null,"Acetophenone",0.80600000000000005,1.026,0,0.503,1.0139,4.5330000000000004,null,3.1E-2,471,null,"1)",null,null,"Determination of solute descriptors by chromatographic methods"]
[null,"Aniline",0.95499999999999996,1.0029999999999999,0.249,0.42499999999999999,0.81620000000000004,3.956,0.48599999999999999,3.5000000000000003E-2,373,null,"1)",null,null,"Analytica Chimica Acta 652 (2009) 32–53"]
[null,"Anisole",0.71199999999999997,0.76800000000000002,0,0.311,0.91600000000000004,3.8079999999999998,null,0.03,227,null,"1)",null,null,"* Table 10: Columns rearranged but unchanged data"]
[null,"Anthracene",1.923,1.3089999999999999,0,0.253,1.4543999999999999,7.6920000000000002,null,2.5999999999999999E-2,69,"No LC","1)",null,null,"* Descriptor L is not used for LC"]
[null,"Benzaldehyde",0.81299999999999994,1.0249999999999999,0,0.39400000000000002,0.873,4.0049999999999999,null,2.5999999999999999E-2,296,null,"1)",null,null,"*Regarding Bo (Bo is not used in this workbook):"]
[null,"Benzamide",1.258,1.343,0.64800000000000002,0.66400000000000003,0.9728,5.2770000000000001,null,4.1000000000000002E-2,234,null,"1)"]
[null,"Benzene",0.60799999999999998,0.51100000000000001,0,0.14399999999999999,0.71760000000000002,2.7770000000000001,null,3.2000000000000001E-2,334,null,"1)"]
[null,"Benzofuran",0.92100000000000004,0.77600000000000002,0,0.193,0.90529999999999999,4.3019999999999996,null,3.4000000000000002E-2,149,null,"1)"]
[null,"Benzonitrile",0.74199999999999999,1.135,0,0.33100000000000002,0.87109999999999999,4.04,null,3.5999999999999997E-2,344,null,"1)"]
[null,"Benzophenone",1.224,1.33,0,0.57599999999999996,1.4807999999999999,7.0090000000000003,null,3.1E-2,214,null,"1)"]
[null,"Benzyl alcohol",0.80300000000000005,0.88200000000000001,0.4,0.55700000000000005,0.91600000000000004,4.2439999999999998,null,3.1E-2,362,null,"1)"]
[null,"Benzyl benzoate",1.264,1.28,0,0.59699999999999998,1.6803999999999999,7.5460000000000003,null,0.03,118,null,"1)"]
[null,"Biphenyl",1.3120000000000001,0.874,0,0.29799999999999999,1.3242,6.1639999999999997,null,0.03,138,null,"1)"]
[null,"Bromobenzene",0.88200000000000001,0.72299999999999998,0,8.8999999999999996E-2,0.89139999999999997,4.0449999999999999,null,2.1000000000000001E-2,203,null,"1)"]
[null,"1-Bromonaphthalene",1.5980000000000001,1.0049999999999999,0,0.157,1.2604,6.59,null,3.5000000000000003E-2,180,"No MEKC","1)"]
[null,"Butan-1-ol",0.224,0.44,0.34399999999999997,0.52,0.73089999999999999,2.5779999999999998,null,2.1000000000000001E-2,156,"No LC","1)"]
[null,"Butan-2-one",0.16600000000000001,0.66200000000000003,0,0.496,0.68789999999999996,2.4220000000000002,null,3.9E-2,97,null,"1)"]
[null,"n-Butyl acetate",7.9000000000000001E-2,0.56999999999999995,0,0.438,1.0284,3.4089999999999998,null,2.7E-2,191,"No LC or MEKC","1)"]
[null,"n-Butylbenzene",0.59499999999999997,0.499,0,0.13900000000000001,1.28,4.734,null,2.8000000000000001E-2,181,"No LC","1)"]
[null,"n-Butyl benzoate",0.66800000000000004,0.85099999999999998,0,0.39300000000000002,1.4953000000000001,5.9740000000000002,null,3.2000000000000001E-2,86,"No LC","1)"]
[null,"Butyrophenone",0.79800000000000004,1.026,0,0.503,1.2957000000000001,5.3879999999999999,null,2.8000000000000001E-2,171,null,"1)"]
[null,"Caffeine",1.518,1.726,3.9E-2,1.232,1.3632,7.8639999999999999,null,8.2000000000000003E-2,126,null,"1)"]
[null,"2-Chloroaniline",1.026,0.96499999999999997,0.253,0.32100000000000001,0.93859999999999999,4.71,0.38200000000000001,2.5999999999999999E-2,120,null,"1)"]
[null,"4-Chloroaniline",1.0169999999999999,1.1279999999999999,0.36599999999999999,0.309,0.93859999999999999,4.9720000000000004,0.32700000000000001,3.2000000000000001E-2,214,null,"1)"]
[null,"Chlorobenzene",0.71799999999999997,0.65600000000000003,0,5.6000000000000001E-2,0.83879999999999999,3.6629999999999998,null,2.7E-2,306,null,"1)"]
[null,"1-Chloronaphthalene",1.419,0.95099999999999996,0,0.13500000000000001,1.2078,6.1749999999999998,null,3.4000000000000002E-2,176,"No MEKC","1)"]
[null,"2-Chlorophenol",0.88200000000000001,0.66800000000000004,0.53800000000000003,0.34200000000000003,0.89749999999999996,4.1180000000000003,null,3.6999999999999998E-2,161,null,"1)"]
[null,"4-Chlorophenol",1.016,0.79400000000000004,0.88600000000000001,0.20499999999999999,0.89749999999999996,4.8019999999999996,null,3.4000000000000002E-2,283,null,"1)"]
[null,"Cinnamyl alcohol",1.119,0.97099999999999997,0.45100000000000001,0.60599999999999998,1.1548,5.4749999999999996,null,3.2000000000000001E-2,259,null,"1)"]
[null,"Coumarin",1.2689999999999999,1.61,0,0.52400000000000002,1.0619000000000001,6.0339999999999998,null,3.5000000000000003E-2,194,null,"1)"]
[null,"Cyclohexanol",0.47399999999999998,0.65,0.23699999999999999,0.59199999999999997,0.90410000000000001,3.7149999999999999,null,2.8000000000000001E-2,187,"No LC or MEKC","1)"]
[null,"Cyclohexanone",0.40300000000000002,0.89500000000000002,0,0.53,0.86109999999999998,3.7589999999999999,null,3.6999999999999998E-2,275,"No MEKC","1)"]
[null,"Decane",0,0,0,0,1.5176000000000001,4.7009999999999996,null,1.4E-2,197,"Only GC","1)"]
[null,"Decan-1-ol",0.191,0.44,0.34399999999999997,0.52,1.5763,5.5890000000000004,null,2.7E-2,166,"No LC or MEKC","1)"]
[null,"3,4-Dichloroaniline",1.2529999999999999,1.302,0.55900000000000005,null,1.1254999999999999,5.7960000000000003,0.27200000000000002,2.8000000000000001E-2,166,"No MEKC","1)"]
[null,"1,2-Dichlorobenzene",0.872,0.77100000000000002,0,5.3999999999999999E-2,0.96120000000000005,4.516,null,2.5999999999999999E-2,305,null,"1)"]
[null,"1,3-Dichlorobenzene",0.85199999999999998,0.69199999999999995,0,8.0000000000000002E-3,0.96120000000000005,4.4219999999999997,null,1.7999999999999999E-2,153,"No LC","1)"]
[null,"Diethyl phthalate",0.72899999999999998,1.4650000000000001,0,null,1.7105999999999999,0.86899999999999999,null,2.8000000000000001E-2,128,"No LC or MEKC","1)"]
[null,"2,3-Dimethylphenol",0.86599999999999999,0.76700000000000002,0.58899999999999997,0.40300000000000002,1.0569,4.8840000000000003,null,2.5000000000000001E-2,98,"No LC","1)"]
[null,"2,6-Dimethylphenol",0.77300000000000002,0.79100000000000004,0.40799999999999997,0.40200000000000002,1.0569,4.6239999999999997,null,0.03,311,"No MEKC","1)"]
[null,"3,5-Dimethylphenol",0.76800000000000002,0.76400000000000001,0.66900000000000004,0.34699999999999998,1.0569,4.7919999999999998,null,0.03,202,"No LC","1)"]
[null,"1,3-Dinitrobenzene",1.0269999999999999,1.756,0,0.39900000000000002,1.0648,5.93,null,2.9000000000000001E-2,68,"No LC or MEKC","1)"]
[null,"1,4-Dioxane",0.32900000000000001,0.74199999999999999,0,0.57599999999999996,0.68100000000000005,2.83,null,3.3000000000000002E-2,190,"No LC or MEKC","1)"]
[null,"Diphenylamine",1.599,1.077,0.34100000000000003,0.54900000000000004,1.4239999999999999,6.8849999999999998,null,2.7E-2,57,"No LC","1)"]
[null,"Dodecane",0,0,0,0,1.7994000000000001,5.6849999999999996,null,2.1999999999999999E-2,214,"Only GC","1)"]
[null,"2-Ethoxyethanol",0.23699999999999999,0.57499999999999996,0.31,0.77500000000000002,0.78949999999999998,2.7789999999999999,null,2.5999999999999999E-2,153,"No LC or MEKC","1)"]
[null,"Ethyl benzoate",0.69399999999999995,0.88600000000000001,0,0.44400000000000001,1.2135,5.032,null,2.1000000000000001E-2,128,"No LC or MEKC","1)"]
[null,"Ethyl propoinate",9.1999999999999998E-2,0.53,0,0.47799999999999998,0.88749999999999996,2.8929999999999998,null,2.9000000000000001E-2,110,"No LC or MEKC","1)"]
[null,"Ethylbenzene",0.61299999999999999,0.499,0,0.13900000000000001,0.99819999999999998,3.8140000000000001,null,2.9000000000000001E-2,396,null,"1)"]
[null,"Fluoranthene",2.2919999999999998,1.486,0,0.255,1.5846,8.7330000000000005,null,3.1E-2,50,"No LC","1)"]
[null,"Fluorene",1.6639999999999999,1.1200000000000001,0,0.252,1.3565,6.9210000000000003,null,2.7E-2,170,null,"1)"]
[null,"Heptan-1-ol",0.20200000000000001,0.44,0.34399999999999997,0.52,1.1586000000000001,4.1319999999999997,null,2.1999999999999999E-2,63,"No LC or MEKC","1)"]
[null,"Heptan-2-one",0.123,0.66200000000000003,0,0.496,1.1106,3.7810000000000001,null,3.1E-2,282,"No MEKC","1)"]
[null,"Heptanal",0.14000000000000001,0.64200000000000002,0,0.441,1.1108,3.8559999999999999,null,1.9E-2,228,"No LC or MEKC","1)"]
[null,"Hexadecane",0,0,0,0,3.7999999999999999E-2,7.6310000000000002,null,null,104,"Only GC"]
[null,"Hexan-1-ol",0.21,0.44,0.34399999999999997,0.52,1.0126999999999999,3.6429999999999998,null,1.7999999999999999E-2,230,"No LC","1)"]
[null,"Hexan-2-one",0.13600000000000001,0.66200000000000003,0,0.496,0.96970000000000001,3.2810000000000001,null,2.8000000000000001E-2,231,"No MEKC","1)"]
[null,"Hexanophenone",0.79,1.026,0,0.503,1.5774999999999999,6.3460000000000001,null,2.8000000000000001E-2,127,null,"1)"]
[null,"1-Hexyne",0.16700000000000001,0.27400000000000002,0.09,0.11700000000000001,0.86799999999999999,2.544,null,2.5000000000000001E-2,62,"No LC or MEKC","1)"]
[null,"Indole",1.0389999999999999,1.2350000000000001,0.42199999999999999,0.223,0.94640000000000002,5.1360000000000001,null,0.03,130,null,"1)"]
[null,"Iodobenzene",1.1819999999999999,0.78400000000000003,0,0.13500000000000001,0.97470000000000001,4.548,null,2.7E-2,265,null,"1)"]
[null,"2-Methoxynaphthalene",1.4490000000000001,1.1399999999999999,0,0.35899999999999999,1.2849999999999999,6.2649999999999997,null,2.9000000000000001E-2,192,"No MEKC","1)"]
[null,"Methyl benziate",0.73799999999999999,0.92300000000000004,0,0.439,1.0726,4.6740000000000004,null,3.6999999999999998E-2,292,null,"1)"]
[null,"2-Methylbutan-1-ol",0.217,0.42799999999999999,0.33600000000000002,0.51600000000000001,0.87180000000000002,2.9820000000000002,null,1.7000000000000001E-2,170,"No LC or MEKC","1)"]
[null,"2-Methylbutan-2-ol",0.193,0.38800000000000001,0.247,0.64500000000000002,0.87180000000000002,2.5379999999999998,null,0.03,116,"No LC or MEKC","1)"]
[null,"3-Methylbutan-1-ol",0.19800000000000001,0.42299999999999999,0.35099999999999998,0.501,0.87180000000000002,2.9630000000000001,null,1.7999999999999999E-2,176,"No LC or MEKC","1)"]
[null,"Methyl decanoate",5.7000000000000002E-2,0.56399999999999995,0,0.45600000000000002,1.7329000000000001,5.867,null,2.7E-2,129,"No LC or MEKC","1)"]
[null,"Methyl hexanoate",8.4000000000000005E-2,0.56399999999999995,0,0.45600000000000002,1.1693,3.97,null,2.8000000000000001E-2,195,"No LC or MEKC","1)"]
[null,"Methyl nonanoate",5.3999999999999999E-2,0.56399999999999995,0,0.45600000000000002,1.5920000000000001,5.4029999999999996,null,0.03,152,"No LC or MEKC","1)"]
[null,"Methyl octanoate",6.9000000000000006E-2,0.56399999999999995,0,0.45600000000000002,1.4511000000000001,4.944,null,2.8000000000000001E-2,207,"No LC or MEKC","1)"]
[null,"1-Methylnaphthalene",1.337,0.91500000000000004,0,0.20499999999999999,1.2262999999999999,5.7030000000000003,null,0.04,76,"No LC","1)"]
[null,"2-Methylphenol",0.77400000000000002,0.745,0.621,0.35699999999999998,0.91600000000000004,4.2709999999999999,null,2.5000000000000001E-2,316,null,"1)"]
[null,"3-Methylphenol",0.81,0.77500000000000002,0.67200000000000004,0.35099999999999998,0.91600000000000004,4.3390000000000004,null,0.03,258,"No LC","1)"]
[null,"4-Methylphenol",0.79300000000000004,0.76900000000000002,0.66400000000000003,0.35299999999999998,0.91600000000000004,4.3360000000000003,null,2.5999999999999999E-2,336,null,"1)"]
[null,"2-Methylpropan-1-ol",0.20599999999999999,0.37,0.373,0.505,0.73089999999999999,2.41,null,2.1000000000000001E-2,111,"No LC or MEKC","1)"]
[null,"Naphthalene",1.24,0.90600000000000003,0,0.193,1.0853999999999999,5.1539999999999999,null,3.1E-2,364,null,"1)"]
[null,"1-Naphthol",1.48,1.157,0.79600000000000004,0.318,1.1440999999999999,6.1070000000000002,null,0.03,215,null,"1)"]
[null,"2-Naphthol",1.4570000000000001,1.181,0.80700000000000005,0.34499999999999997,1.1440999999999999,6.1239999999999997,null,3.5999999999999997E-2,254,null,"1)"]
[null,"2-Nitroaniline",1.1819999999999999,1.4410000000000001,0.38600000000000001,0.34799999999999998,0.99039999999999995,5.7720000000000002,null,2.5999999999999999E-2,222,null,"1)"]
[null,"3-Nitroaniline",1.248,1.6020000000000001,0.46600000000000003,0.41499999999999998,0.99039999999999995,5.9749999999999996,null,2.8000000000000001E-2,79,"No LC","1)"]
[null,"4-Nitroaniline",1.236,1.827,0.59699999999999998,0.34300000000000003,0.99039999999999995,6.3579999999999997,null,3.2000000000000001E-2,207,null,"1)"]
[null,"Nitrobenzene",0.84599999999999997,1.1379999999999999,0,0.26900000000000002,0.89059999999999995,4.5389999999999997,null,3.3000000000000002E-2,368,null,"1)"]
[null,"4-Nitrobenzyl alcohol",1.0029999999999999,1.333,0.499,0.59099999999999997,1.0902000000000001,6.4539999999999997,null,3.5999999999999997E-2,188,null,"1)"]
[null,"1-Nitronaphthalene",1.367,1.5049999999999999,0,0.27200000000000002,1.2596000000000001,6.8120000000000003,null,2.5999999999999999E-2,78,"No LC","1)"]
[null,"2-Nitrophenol",0.96199999999999997,1.0860000000000001,0.05,0.371,0.94930000000000003,4.7439999999999998,null,3.5999999999999997E-2,178,"No MEKC","1)"]
[null,"1-Nitropropane",0.24299999999999999,0.92500000000000004,4.9000000000000002E-2,0.27,0.70550000000000002,2.8780000000000001,null,2.4E-2,223,"No LC","1)"]
[null,"2-Nitropropane",0.215,0.88400000000000001,2.4E-2,0.32900000000000001,0.70550000000000002,2.7090000000000001,null,2.1999999999999999E-2,142,"No LC or MEKC","1)"]
[null,"4-Nitrotoluene",0.91800000000000004,1.194,0,0.26400000000000001,1.0315000000000001,5.2270000000000003,null,3.2000000000000001E-2,205,null,"1)"]
[null,"Nonan-1-ol",0.19900000000000001,0.44,0.34399999999999997,0.52,1.4354,5.12,null,2.5999999999999999E-2,49,"No LC or MEKC","1)"]
[null,"Nonan-2-one",0.113,0.66200000000000003,0,0.496,1.3924000000000001,4.7720000000000002,null,2.3E-2,169,"No MEKC","1)"]
[null,"Nonanal",0.121,0.63600000000000001,0,0.41399999999999998,1.3924000000000001,4.8380000000000001,null,2.3E-2,205,"No LC","1)"]
[null,"Nonane",0,0,0,0,1.3767,4.1989999999999998,null,1.4E-2,186,"Only GC","1)"]
[null,"Octadecane",0,0,0,0,2.6448,8.6630000000000003,null,2.9000000000000001E-2,59,"Only GC","1)"]
[null,"Octan-1-ol",0.19900000000000001,0.44,0.34399999999999997,0.52,1.2945,4.6479999999999997,null,2.5000000000000001E-2,208,"No LC or MEKC","1)"]
[null,"Octan-2-ol",0.17599999999999999,0.436,0.255,0.496,1.2945,4.3319999999999999,null,1.2999999999999999E-2,107,"No LC or MEKC","1)"]
[null,"Octan-2-one",0.109,0.66200000000000003,0,0.496,1.2515000000000001,4.2770000000000001,null,2.1000000000000001E-2,183,"No MEKC","1)"]
[null,"Octanal",0.14799999999999999,0.63300000000000001,0,0.42099999999999999,1.2515000000000001,4.3579999999999997,null,2.1000000000000001E-2,227,"No LC or MEKC","1)"]
[null,"Octane",0,0,0,0,1.2358,3.6890000000000001,null,1.2999999999999999E-2,137,"Only GC","1)"]
[null,"Octanophenone",0.77900000000000003,1.026,0,0.503,1.8593,7.335,null,3.1E-2,135,"No MEKC","1)"]
[null,"Pentan-1-ol",0.219,0.44,0.34399999999999997,0.52,0.87180000000000002,3.1280000000000001,null,2.1000000000000001E-2,198,"No LC","1)"]
[null,"Pentan-2-ol",0.19800000000000001,0.38700000000000001,0.30199999999999999,0.55800000000000005,0.87180000000000002,2.8180000000000001,null,2.1999999999999999E-2,156,"No LC or MEKC","1)"]
[null,"Pentan-2-one",0.14299999999999999,0.66200000000000003,0,0.496,0.82879999999999998,2.7530000000000001,null,2.9000000000000001E-2,184,"No MEKC","1)"]
[null,"Pentan-3-ol",0.218,0.40100000000000002,0.27400000000000002,0.57099999999999995,0.87180000000000002,2.8330000000000002,null,2.5999999999999999E-2,155,"No LC","1)"]
[null,"Phenanthrene",1.9970000000000001,1.3160000000000001,0,0.27900000000000003,1.4543999999999999,7.6189999999999998,null,2.7E-2,164,null,"1)"]
[null,"Phenol",0.76900000000000002,0.75900000000000001,0.71599999999999997,0.31900000000000001,0.77510000000000001,3.8439999999999999,null,3.1E-2,439,null,"1)"]
[null,"Phenyl acetate",0.64800000000000002,1.0549999999999999,0,0.52100000000000002,1.0726,4.3780000000000001,null,3.5000000000000003E-2,341,null,"1)"]
[null,"1-Phenylethanol",0.82299999999999995,0.81899999999999995,0.35099999999999998,0.64800000000000002,1.0569,4.4240000000000004,null,2.5000000000000001E-2,88,"No LC","1)"]
[null,"2-Phenylethanol",0.78700000000000003,0.79700000000000004,0.39,0.63600000000000001,1.0569,4.7409999999999997,null,3.5000000000000003E-2,248,null,"1)"]
[null,"3-Phenylpropan-1-ol",0.82099999999999995,0.89200000000000002,0.35399999999999998,0.66900000000000004,1.1978,5.1550000000000002,null,2.4E-2,62,"No LC","1)"]
[null,"Propiophenone",0.80400000000000005,1.026,0,0.503,2.5999999999999999E-2,1.1548,null,150,null,"No LC or MEKC","1)"]
[null,"Propyl acetate",9.1999999999999998E-2,0.57299999999999995,0,0.45200000000000001,0.88749999999999996,2.879,null,2.8000000000000001E-2,128,"No LC or MEKC","1)"]
[null,"n-Propylbenzene",0.61,0.502,0,0.13400000000000001,1.1391,4.2160000000000002,null,3.2000000000000001E-2,138,null,"1)"]
[null,"Pyrene",2.165,1.518,0,0.26100000000000001,1.5846,8.923,null,3.5000000000000003E-2,45,"No LC","1)"]
[null,"Pyridine",0.63500000000000001,0.84299999999999997,0,0.53200000000000003,0.67530000000000001,3.0059999999999998,0.46700000000000003,0.03,292,null,"1)"]
[null,"Styrene",0.84899999999999998,0.67100000000000004,0,0.17699999999999999,0.95520000000000005,3.86,null,1.9E-2,197,"No LC or MEKC","1)"]
[null,"1,2,4,5-Tetrachlorobenzene",0.97499999999999998,0.71399999999999997,0,0,1.206,5.9169999999999998,null,3.5999999999999997E-2,97,"No LC","1)"]
[null,"Tetradecane",0,0,0,0,2.0811999999999999,6.6550000000000002,null,0.02,147,"Only GC","1)"]
[null,"Tetrahydrofuran",0.29499999999999998,0.54,0,0.46899999999999997,0.62229999999999996,2.5299999999999998,null,3.4000000000000002E-2,115,"No LC or MEKC","1)"]
[null,"Toluene",0.60599999999999998,0.499,0,0.13900000000000001,0.85729999999999995,3.34,null,2.9000000000000001E-2,409,null,"1)"]
[null,"1,2,4-Trichlorobenzene",1.022,0.748,0,1.7999999999999999E-2,1.0835999999999999,5.1959999999999997,null,2.5000000000000001E-2,150,"No LC","1)"]
[null,"Tridecane",0,0,0,0,1.9402999999999999,6.1559999999999997,null,2.4E-2,138,"Only GC","1)"]
[null,"Triethylamine",0.10100000000000001,0.14000000000000001,0,0.78,1.0538000000000001,3.0169999999999999,null,3.6999999999999998E-2,99,"No LC or MEKC","1)"]
[null,"Undecane",0,0,0,0,1.6585000000000001,5.1849999999999996,null,0.01,168,"Only GC","1)"]
[null,"Undecan-2-one",0.105,0.66200000000000003,0,0.496,1.6741999999999999,5.7320000000000002,null,2.8000000000000001E-2,172,"No LC or MEKC","1)"]
[null,"Valerophenone",0.79500000000000004,1.026,0,0.503,1.4366000000000001,5.8559999999999999,null,3.2000000000000001E-2,190,null,"1)"]
[null,"o-Xylene",0.66300000000000003,0.54900000000000004,0,0.17799999999999999,0.99819999999999998,3.944,null,2.4E-2,250,"No LC or MEKC","1)"]
[null,"m-Xylene",0.625,0.50700000000000001,0,0.17799999999999999,0.99819999999999998,3.84,null,2.4E-2,254,"No LC or MEKC","1)"]
[null,"p-Xylene",0.61499999999999999,0.49399999999999999,0,0.16,0.99819999999999998,3.8519999999999999,null,2.1000000000000001E-2,249,"No LC","1)"]
[null,"UPS! Wrong name"]

{"sheet":"Columns","index":3,"n_rows":53,"n_cols":23,"rows_kept":53,"cut":false,"hidden":false,"merged":[]}
[]
[null,"SEARCH FIELD",4,"Colums",7,"Columns + Eluent systems"]
[]
[]
[null,"Selected column",null,null,null,null,null,null,null,"Length 1 1"]
[null,"Parameters",30,0.14399999999999999,-0.45200000000000001,-0.52200000000000002,-2.355,2.4329999999999998,-0.57299999999999995]
[null,"Norm",null,{"$f":"D6/$J$7","v":4.1633387718590015E-2},-0.13068257811668535,-0.15092103047988883,-0.68087936164777429,0.70343077999534387,-0.16566618863022278,{"$f":"SQRT(D6^2+E6^2+F6^2+G6^2+H6^2)","v":3.4587624954599008}]
[null,null,null,null,null,null,null,null,null,null,null,null,null,null,null,null,null,null,null,null,"References"]
[null,"Ref","Column/Eluent ","e","s","a","b","v","c(Sim)","c(litt)","LOOKUP TABLE",null,null,null,null,null,null,"Length 2","1 - Cos q","d"]
["Ref","1)","Chromlith/ACN",null,"Chromlith RP-18e/ACN",null,null,null,null,null,{"$f":"C10","v":"Chromlith/ACN"},"C10:I16",{"$f":"E10","v":"Chromlith RP-18e/ACN"},null,null,null,null,{"$f":"SQRT(D13^2+E13^2+F13^2+G13^2+H13^2)","v":3.4587624954599008},{"$f":"1-(D$6*D13+E$6*E13+F$6*F13+G$6*G13+H$6*H13)/(J$7*R10)","v":0},{"$f":"SQRT((D$7-D13/R10)^2+(E$7-E13/R10)^2+(F$7-F13/R10)^2+(G$7-G13/R10)^2+(H$7-H13/R10)^2)","v":0},"1)","Colin F. Poole∗, Sanka N. Atapattu, Salwa K. Poole, Andrea K. Bell"]
[null,null,0.1,0.42699999999999999,-0.71399999999999997,-0.45800000000000002,-2.6309999999999998,3.5489999999999999,-0.752,-0.752,{"$f":"C18","v":"Chromlith/MeHO"},"C18:I23",{"$f":"E18","v":"Chromlith RP-18e/MeOH"},null,null,null,null,{"$f":"SQRT(D20^2+E20^2+F20^2+G20^2+H20^2)","v":3.736271804887862},{"$f":"1-(D$6*D20+E$6*E20+F$6*F20+G$6*G20+H$6*H20)/(J$7*R11)","v":2.1242312839278243E-2},{"$f":"SQRT((D$7-D20/R11)^2+(E$7-E20/R11)^2+(F$7-F20/R11)^2+(G$7-G20/R11)^2+(H$7-H20/R11)^2)","v":0.20611798970142298},null,"Determination of solute descriptors by chromatographic methods"]
[null,null,0.2,0.24199999999999999,-0.56699999999999995,-0.498,-2.66,2.984,-0.59099999999999997,-0.59099999999999997,{"$f":"C25","v":"IAM/ACN"},"C25:I27",{"$f":"E25","v":"IAM PC DD2/ACN"},null,null,null,null,{"$f":"SQRT(D27^2+E27^2+F27^2+G27^2+H27^2)","v":2.8828548350550016},{"$f":"1-(D$6*D27+E$6*E27+F$6*F27+G$6*G27+H$6*H27)/(J$7*R12)","v":1.8502571925407718E-2},{"$f":"SQRT((D$7-D27/R12)^2+(E$7-E27/R12)^2+(F$7-F27/R12)^2+(G$7-G27/R12)^2+(H$7-H27/R12)^2)","v":0.19236721095554554},null,"Analytica Chimica Acta 652 (2009) 32–53"]
[null,null,0.3,0.14399999999999999,-0.45200000000000001,-0.52200000000000002,-2.355,2.4329999999999998,-0.57299999999999995,-0.57299999999999995,{"$f":"C29","v":"IAM/MeOH"},"C29:I34",{"$f":"E29","v":"IAM PC DD2/MeOH"},null,null,null,null,{"$f":"SQRT(D31^2+E31^2+F31^2+G31^2+H31^2)","v":3.4686739541213729},{"$f":"1-(D$6*D31+E$6*E31+F$6*F31+G$6*G31+H$6*H31)/(J$7*R13)","v":2.5668182341517576E-2},{"$f":"SQRT((D$7-D31/R13)^2+(E$7-E31/R13)^2+(F$7-F31/R13)^2+(G$7-G31/R13)^2+(H$7-H31/R13)^2)","v":0.22657529583570052},null,"* Table 15: Columns rearranged,but unchanged data apart from % replaced by fractions i.e. 0.2 = 20 %"]
[null,null,0.4,8.6999999999999994E-2,-0.379,-0.495,-1.921,1.9179999999999999,-0.56499999999999995,-0.56499999999999995,{"$f":"C36","v":"Fusion/MeOH"},"C36:I40",{"$f":"E36","v":"Synergi Fusion-RP/MeOH"},null,null,null,null,{"$f":"SQRT(D37^2+E37^2+F37^2+G37^2+H37^2)","v":3.4548332810716063},{"$f":"1-(D$6*D37+E$6*E37+F$6*F37+G$6*G37+H$6*H37)/(J$7*R14)","v":7.3369734105378503E-3},{"$f":"SQRT((D$7-D37/R14)^2+(E$7-E37/R14)^2+(F$7-F37/R14)^2+(G$7-G37/R14)^2+(H$7-H37/R14)^2)","v":0.1211360673832353},null,"* I forgot why there is a column c(Sim) - "]
[null,null,0.5,0.04,-0.29799999999999999,-0.437,-1.706,1.6,-0.64400000000000002,-0.64400000000000002,{"$f":"C42","v":"Hydro/ACN"},"C42:I47",{"$f":"E42","v":"Synergi Hydro-RP/ACN"},null,null,null,null,{"$f":"SQRT(D44^2+E44^2+F44^2+G44^2+H44^2)","v":3.2957569691953923},{"$f":"1-(D$6*D44+E$6*E44+F$6*F44+G$6*G44+H$6*H44)/(J$7*R15)","v":7.7668324714819104E-4},{"$f":"SQRT((D$7-D44/R15)^2+(E$7-E44/R15)^2+(F$7-F44/R15)^2+(G$7-G44/R15)^2+(H$7-H44/R15)^2)","v":3.9412770700583896E-2},null,null,"in ChromSimGC some of the data are equal to c(Litt) and some are constant for all rows"]
[null,null,0.6,0.111,-0.33800000000000002,-0.44,-1.1970000000000001,1.2310000000000001,-0.7,-0.7,{"$f":"C49","v":"Hydro/MeOH"},"C49:I53",{"$f":"E49","v":"Synergi Hydro-RP/MeOH"},null,null,null,null,{"$f":"SQRT(D50^2+E50^2+F50^2+G50^2+H50^2)","v":3.2314546260159678},{"$f":"1-(D$6*D50+E$6*E50+F$6*F50+G$6*G50+H$6*H50)/(J$7*R16)","v":9.1208356176916139E-3},{"$f":"SQRT((D$7-D50/R16)^2+(E$7-E50/R16)^2+(F$7-F50/R16)^2+(G$7-G50/R16)^2+(H$7-H50/R16)^2)","v":0.13506173120237658}]
[null,null,null,null,null,null,null,null,null,null,null,null,{"$f":"IF($E$76<>\"\",$E$76,\"\")","v":""}]
[null,"1)","Chromlith/MeHO",null,"Chromlith RP-18e/MeOH",null,null,null,null,null,null,null,{"$f":"IF($E$189<>\"\",$E$189,\"\")","v":""}]
[null,null,0.2,0.40600000000000003,-0.86299999999999999,-0.40300000000000002,-2.177,3.375,-0.77300000000000002,-0.77300000000000002,null,null,{"$f":"IF($E$88<>\"\",$E$88,\"\")","v":""}]
[null,null,0.3,0.51500000000000001,-0.88300000000000001,-0.48199999999999998,-2.0670000000000002,2.9,-0.68700000000000006,-0.68700000000000006,null,null,{"$f":"IF($E$100<>\"\",$E$100,\"\")","v":""}]
[null,null,0.4,0.44400000000000001,-0.84899999999999998,-0.45900000000000002,-1.9790000000000001,2.5750000000000002,-0.70299999999999996,-0.70299999999999996,null,null,{"$f":"IF($E$112<>\"\",$E$112,\"\")","v":""}]
[null,null,0.5,0.39,-0.78900000000000003,-0.45200000000000001,-1.764,2.1760000000000002,-0.72299999999999998,-0.72299999999999998,null,null,{"$f":"IF($E$124<>\"\",$E$124,\"\")","v":""}]
[null,null,0.6,0.317,-0.71199999999999997,-0.40799999999999997,-1.607,1.829,-0.78700000000000003,-0.78700000000000003,null,null,{"$f":"IF($E$136<>\"\",$E$136,\"\")","v":""}]
[null,null,null,null,null,null,null,null,null,null,null,null,{"$f":"IF($E$148<>\"\",$E$148,\"\")","v":""}]
[null,"1)","IAM/ACN",null,"IAM PC DD2/ACN",null,null,null,null,null,null,null,{"$f":"IF($E$155<>\"\",$E$155,\"\")","v":""}]
[null,null,0.2,0.375,-0.39900000000000002,2.9000000000000001E-2,-2.4580000000000002,2.359,-0.90900000000000003,-0.90900000000000003,null,null,{"$f":"IF($E$167<>\"\",$E$167,\"\")","v":""}]
[null,null,0.3,0.30099999999999999,-0.34100000000000003,4.4999999999999998E-2,-2.1230000000000002,1.8959999999999999,-0.89300000000000002,-0.89300000000000002,null,null,{"$f":"IF($E$177<>\"\",$E$177,\"\")","v":""}]
[]
[null,"1)","IAM/MeOH",null,"IAM PC DD2/MeOH"]
[null,null,0.2,0.56200000000000006,-0.38900000000000001,0.13400000000000001,-2.71,2.7770000000000001,-1.159,-1.159]
[null,null,0.3,0.54800000000000004,-0.376,0.13700000000000001,-2.4449999999999998,2.3650000000000002,-1.0780000000000001,-1.0780000000000001]
[null,null,0.4,0.51100000000000001,-0.38600000000000001,0.123,-2.323,2.0710000000000002,-1.0309999999999999,-1.0309999999999999]
[null,null,0.5,0.433,-0.309,0.13300000000000001,-2.17,1.7669999999999999,-1.095,-1.095]
[null,null,0.6,0.317,-0.23699999999999999,0.17299999999999999,-2.0859999999999999,1.5309999999999999,-1.198,-1.198]
[]
[null,"1)","Fusion/MeOH",null,"Synergi Fusion-RP/MeOH"]
[null,null,0.3,0.26,-0.64800000000000002,-0.40799999999999997,-2.0880000000000001,2.6309999999999998,-0.437,-0.437]
[null,null,0.4,0.22700000000000001,-0.64500000000000002,-0.36199999999999999,-1.8839999999999999,2.3690000000000002,-0.48099999999999998,-0.48099999999999998]
[null,null,0.5,0.215,-0.60299999999999998,-0.35499999999999998,-1.6220000000000001,1.9990000000000001,-0.55400000000000005,-0.55400000000000005]
[null,null,0.6,0.183,-0.52100000000000002,-0.33400000000000002,-1.3620000000000001,1.6319999999999999,-0.58599999999999997,-0.58599999999999997]
[]
[null,"1)","Hydro/ACN",null,"Synergi Hydro-RP/ACN"]
[null,null,0.2,0.191,-0.52200000000000002,-0.57999999999999996,-2.577,2.8479999999999999,-7.8E-2,-7.8E-2]
[null,null,0.3,0.158,-0.45400000000000001,-0.59699999999999998,-2.282,2.2509999999999999,-4.0000000000000001E-3,-4.0000000000000001E-3]
[null,null,0.4,8.4000000000000005E-2,-0.373,-0.55100000000000005,-1.9119999999999999,1.885,-0.121,-0.121]
[null,null,0.5,7.8E-2,-0.33200000000000002,-0.51200000000000001,-1.552,1.5029999999999999,-0.17699999999999999,-0.17699999999999999]
[null,null,0.6,8.1000000000000003E-2,-0.28499999999999998,-0.48399999999999999,-1.262,1.202,-0.249,-0.249]
[]
[null,"1)","Hydro/MeOH",null,"Synergi Hydro-RP/MeOH"]
[null,null,0.3,0.28499999999999998,-0.184,-0.28000000000000003,-2.0329999999999999,2.4729999999999999,-0.53400000000000003,-0.53400000000000003]
[null,null,0.4,0.23,-0.151,-0.26,-1.86,2.0699999999999998,-0.51,-0.51]
[null,null,0.5,0.186,-0.125,-0.252,1.6060000000000001,1.6930000000000001,-0.51600000000000001,-0.51600000000000001]
[null,null,0.6,0.17499999999999999,-0.113,-0.23200000000000001,1.32,1.3240000000000001,-0.53400000000000003,-0.53400000000000003]

{"sheet":"Macro input","index":4,"n_rows":36,"n_cols":21,"rows_kept":36,"cut":false,"hidden":false,"merged":[]}
["N:","tM:","tD","tmax","Time:","Phi","kW","S1","S2","S3",null,"N:","tM:","tD","tmax","Time:","Phi","kW","S1","S2","S3"]
[200,{"$f":"LC!B20","v":1},{"$f":"LC!J20","v":0},{"$f":"LC!B22","v":40},0,{"$f":"LC!H20","v":0.2},{"$f":"IF(ISNUMBER(SPmodel!L110),SPmodel!L110+LOG(LC!$G$20),\"\")","v":0.73564050666666614},{"$f":"IF(ISNUMBER(SPmodel!K110),-SPmodel!K110,\"\")","v":2.2888566857142849},null,null,null,200,{"$f":"LC!B20","v":1},{"$f":"LC!J22","v":0},{"$f":"LC!B22","v":40},0,{"$f":"LC!H22","v":0.2},{"$f":"IF(ISNUMBER(SPmodel!Z110),SPmodel!Z110+LOG(LC!$G$22),\"\")","v":0.99371187999999921},{"$f":"IF(ISNUMBER(SPmodel!Y110),-SPmodel!Y110,\"\")","v":2.4525411999999975}]
[{"$f":"LC!B21","v":10000},null,null,null,{"$f":"LC!K20","v":40},{"$f":"LC!I20","v":1},{"$f":"IF(ISNUMBER(SPmodel!L111),SPmodel!L111+LOG(LC!$G$20),\"\")","v":1.6520608799999998},{"$f":"IF(ISNUMBER(SPmodel!K111),-SPmodel!K111,\"\")","v":3.3537096571428564},null,null,null,{"$f":"LC!B21","v":10000},null,null,null,{"$f":"LC!K22","v":40},{"$f":"LC!I22","v":1},{"$f":"IF(ISNUMBER(SPmodel!Z111),SPmodel!Z111+LOG(LC!$G$22),\"\")","v":1.7719301599999997},{"$f":"IF(ISNUMBER(SPmodel!Y111),-SPmodel!Y111,\"\")","v":3.1709903999999991}]
[{"$f":"IF(A2>1000,\"N too high. Fortran will use N=1000\",\"\")","v":""},null,null,null,null,null,{"$f":"IF(ISNUMBER(SPmodel!L112),SPmodel!L112+LOG(LC!$G$20),\"\")","v":2.1464025933333328},{"$f":"IF(ISNUMBER(SPmodel!K112),-SPmodel!K112,\"\")","v":3.5301057428571418},null,null,null,{"$f":"IF(L2>1000,\"N too high. Fortran will use N=1000\",\"\")","v":""},null,null,null,null,null,{"$f":"IF(ISNUMBER(SPmodel!Z112),SPmodel!Z112+LOG(LC!$G$22),\"\")","v":2.293508220000001},{"$f":"IF(ISNUMBER(SPmodel!Y112),-SPmodel!Y112,\"\")","v":3.1208938000000011}]
["Most cells are proteted. ",null,null,null,null,null,{"$f":"IF(ISNUMBER(SPmodel!L113),SPmodel!L113+LOG(LC!$G$20),\"\")","v":2.3814166399999999},{"$f":"IF(ISNUMBER(SPmodel!K113),-SPmodel!K113,\"\")","v":3.8913004},null,null,null,null,null,null,null,null,null,{"$f":"IF(ISNUMBER(SPmodel!Z113),SPmodel!Z113+LOG(LC!$G$22),\"\")","v":2.5617992799999998},{"$f":"IF(ISNUMBER(SPmodel!Y113),-SPmodel!Y113,\"\")","v":3.4451631999999988}]
["To unprotect go to Review and click Unprotect sheet",null,null,null,null,null,{"$f":"IF(ISNUMBER(SPmodel!L114),SPmodel!L114+LOG(LC!$G$20),\"\")","v":4.057294346666664},{"$f":"IF(ISNUMBER(SPmodel!K114),-SPmodel!K114,\"\")","v":6.1679233714285653},null,null,null,null,null,null,null,null,null,{"$f":"IF(ISNUMBER(SPmodel!Z114),SPmodel!Z114+LOG(LC!$G$22),\"\")","v":4.36905096},{"$f":"IF(ISNUMBER(SPmodel!Y114),-SPmodel!Y114,\"\")","v":5.3132163999999982}]
["You may change N from 500 to save computer time",null,null,null,null,null,{"$f":"IF(ISNUMBER(SPmodel!L115),SPmodel!L115+LOG(LC!$G$20),\"\")","v":4.4848414533333312},{"$f":"IF(ISNUMBER(SPmodel!K115),-SPmodel!K115,\"\")","v":6.739037485714281},null,null,null,null,null,null,null,null,null,{"$f":"IF(ISNUMBER(SPmodel!Z115),SPmodel!Z115+LOG(LC!$G$22),\"\")","v":4.8078612399999994},{"$f":"IF(ISNUMBER(SPmodel!Y115),-SPmodel!Y115,\"\")","v":5.7890775999999979}]
[null,null,null,null,null,null,{"$f":"IF(ISNUMBER(SPmodel!L116),SPmodel!L116+LOG(LC!$G$20),\"\")","v":5.2877429866666654},{"$f":"IF(ISNUMBER(SPmodel!K116),-SPmodel!K116,\"\")","v":7.0178923428571389},null,null,null,null,null,null,null,null,null,{"$f":"IF(ISNUMBER(SPmodel!Z116),SPmodel!Z116+LOG(LC!$G$22),\"\")","v":5.5092142399999977},{"$f":"IF(ISNUMBER(SPmodel!Y116),-SPmodel!Y116,\"\")","v":5.8551615999999989}]
["For update Macro",null,null,null,null,null,{"$f":"IF(ISNUMBER(SPmodel!L117),SPmodel!L117+LOG(LC!$G$20),\"\")","v":7.4922831733333304},{"$f":"IF(ISNUMBER(SPmodel!K117),-SPmodel!K117,\"\")","v":9.6357338285714267},null,null,null,"For update Macro",null,null,null,null,null,{"$f":"IF(ISNUMBER(SPmodel!Z117),SPmodel!Z117+LOG(LC!$G$22),\"\")","v":7.818508879999996},{"$f":"IF(ISNUMBER(SPmodel!Y117),-SPmodel!Y117,\"\")","v":8.0058591999999944}]
["Chromlith/ACN",{"$f":"IF(A10<>LC!E20,1,0)","v":0},null,null,null,null,{"$f":"IF(ISNUMBER(SPmodel!L118),SPmodel!L118+LOG(LC!$G$20),\"\")","v":""},{"$f":"IF(ISNUMBER(SPmodel!K118),-SPmodel!K118,\"\")","v":""},null,null,null,"Chromlith/MeHO",{"$f":"IF(L10<>LC!E22,1,0)","v":0},null,null,null,null,{"$f":"IF(ISNUMBER(SPmodel!Z118),SPmodel!Z118+LOG(LC!$G$22),\"\")","v":""},{"$f":"IF(ISNUMBER(SPmodel!Y118),-SPmodel!Y118,\"\")","v":""}]
[1,{"$f":"IF(A11<>LC!G20,1,0)","v":0},null,null,null,null,{"$f":"IF(ISNUMBER(SPmodel!L119),SPmodel!L119+LOG(LC!$G$20),\"\")","v":""},{"$f":"IF(ISNUMBER(SPmodel!K119),-SPmodel!K119,\"\")","v":""},null,null,null,1,{"$f":"IF(L11<>LC!G22,1,0)","v":0},null,null,null,null,{"$f":"IF(ISNUMBER(SPmodel!Z119),SPmodel!Z119+LOG(LC!$G$22),\"\")","v":""},{"$f":"IF(ISNUMBER(SPmodel!Y119),-SPmodel!Y119,\"\")","v":""}]
[1,null,null,null,null,null,{"$f":"IF(ISNUMBER(SPmodel!L120),SPmodel!L120+LOG(LC!$G$20),\"\")","v":""},{"$f":"IF(ISNUMBER(SPmodel!K120),-SPmodel!K120,\"\")","v":""},null,null,null,1,null,null,null,null,null,{"$f":"IF(ISNUMBER(SPmodel!Z120),SPmodel!Z120+LOG(LC!$G$22),\"\")","v":""},{"$f":"IF(ISNUMBER(SPmodel!Y120),-SPmodel!Y120,\"\")","v":""}]
[2,{"$f":"IF(A13<>LC!M21,1,0)","v":0},null,null,null,null,null,null,null,null,null,2,{"$f":"IF(L13<>LC!M23,1,0)","v":0}]
[1,{"$f":"IF(A14<>LC!B20,1,0)","v":0},null,null,null,null,{"$f":"IF(ISNUMBER(SPmodel!I110),SPmodel!I110+LOG(LC!$G$20),\"\")","v":0.99373523999999935},{"$f":"IF(ISNUMBER(SPmodel!H110),-SPmodel!H110,\"\")","v":4.2245671857142879},{"$f":"IF(ISNUMBER(SPmodel!G110),-SPmodel!G110,\"\")","v":-2.7653007142857202},null,null,1,{"$f":"IF(L14<>LC!B20,1,0)","v":0},null,null,null,null,{"$f":"IF(ISNUMBER(SPmodel!W110),SPmodel!W110+LOG(LC!$G$22),\"\")","v":0.87873027999999753},{"$f":"IF(ISNUMBER(SPmodel!V110),-SPmodel!V110,\"\")","v":1.7955034857142724},{"$f":"IF(ISNUMBER(SPmodel!U110),-SPmodel!U110,\"\")","v":0.82129714285715705}]
[10000,{"$f":"IF(A15<>LC!B21,1,0)","v":0},null,null,null,null,{"$f":"IF(ISNUMBER(SPmodel!I111),SPmodel!I111+LOG(LC!$G$20),\"\")","v":1.8673581799999994},{"$f":"IF(ISNUMBER(SPmodel!H111),-SPmodel!H111,\"\")","v":4.9684394071428581},{"$f":"IF(ISNUMBER(SPmodel!G111),-SPmodel!G111,\"\")","v":-2.3067567857142905},null,null,10000,{"$f":"IF(L15<>LC!B21,1,0)","v":0},null,null,null,null,{"$f":"IF(ISNUMBER(SPmodel!W111),SPmodel!W111+LOG(LC!$G$22),\"\")","v":1.6976849599999999},{"$f":"IF(ISNUMBER(SPmodel!V111),-SPmodel!V111,\"\")","v":2.7467321142857148},{"$f":"IF(ISNUMBER(SPmodel!U111),-SPmodel!U111,\"\")","v":0.53032285714285565}]
[0.2,{"$f":"IF(A16<>LC!H20,1,0)","v":0},null,null,null,null,{"$f":"IF(ISNUMBER(SPmodel!I112),SPmodel!I112+LOG(LC!$G$20),\"\")","v":2.2888863599999998},{"$f":"IF(ISNUMBER(SPmodel!H112),-SPmodel!H112,\"\")","v":4.5987339928571451},{"$f":"IF(ISNUMBER(SPmodel!G112),-SPmodel!G112,\"\")","v":-1.5266117857142918},null,null,0.2,{"$f":"IF(L16<>LC!H22,1,0)","v":0},null,null,null,null,{"$f":"IF(ISNUMBER(SPmodel!W112),SPmodel!W112+LOG(LC!$G$22),\"\")","v":2.0757538200000014},{"$f":"IF(ISNUMBER(SPmodel!V112),-SPmodel!V112,\"\")","v":1.876582942857147},{"$f":"IF(ISNUMBER(SPmodel!U112),-SPmodel!U112,\"\")","v":1.5553885714285687}]
[1,{"$f":"IF(A17<>LC!I20,1,0)","v":0},null,null,null,null,{"$f":"IF(ISNUMBER(SPmodel!I113),SPmodel!I113+LOG(LC!$G$20),\"\")","v":2.5992545399999991},{"$f":"IF(ISNUMBER(SPmodel!H113),-SPmodel!H113,\"\")","v":5.525084650000001},{"$f":"IF(ISNUMBER(SPmodel!G113),-SPmodel!G113,\"\")","v":-2.3339775000000045},null,null,1,{"$f":"IF(L17<>LC!I22,1,0)","v":0},null,null,null,null,{"$f":"IF(ISNUMBER(SPmodel!W113),SPmodel!W113+LOG(LC!$G$22),\"\")","v":2.3237796799999999},{"$f":"IF(ISNUMBER(SPmodel!V113),-SPmodel!V113,\"\")","v":2.0850511999999979},{"$f":"IF(ISNUMBER(SPmodel!U113),-SPmodel!U113,\"\")","v":1.700140000000002}]
[0,{"$f":"IF(A18<>LC!J20,1,0)","v":0},null,null,null,null,{"$f":"IF(ISNUMBER(SPmodel!I114),SPmodel!I114+LOG(LC!$G$20),\"\")","v":4.6154769799999951},{"$f":"IF(ISNUMBER(SPmodel!H114),-SPmodel!H114,\"\")","v":10.354293121428558},{"$f":"IF(ISNUMBER(SPmodel!G114),-SPmodel!G114,\"\")","v":-5.9805282142857061},null,null,0,{"$f":"IF(L18<>LC!J22,1,0)","v":0},null,null,null,null,{"$f":"IF(ISNUMBER(SPmodel!W114),SPmodel!W114+LOG(LC!$G$22),\"\")","v":4.0063637599999984},{"$f":"IF(ISNUMBER(SPmodel!V114),-SPmodel!V114,\"\")","v":3.2407181142857011},{"$f":"IF(ISNUMBER(SPmodel!U114),-SPmodel!U114,\"\")","v":2.5906228571428729}]
[40,{"$f":"IF(A19<>LC!K20,1,0)","v":0},null,null,null,null,{"$f":"IF(ISNUMBER(SPmodel!I115),SPmodel!I115+LOG(LC!$G$20),\"\")","v":5.1101693199999945},{"$f":"IF(ISNUMBER(SPmodel!H115),-SPmodel!H115,\"\")","v":11.428996485714276},{"$f":"IF(ISNUMBER(SPmodel!G115),-SPmodel!G115,\"\")","v":-6.699941428571428},null,null,40,{"$f":"IF(L19<>LC!K22,1,0)","v":0},null,null,null,null,{"$f":"IF(ISNUMBER(SPmodel!W115),SPmodel!W115+LOG(LC!$G$22),\"\")","v":4.4326444400000007},{"$f":"IF(ISNUMBER(SPmodel!V115),-SPmodel!V115,\"\")","v":3.6449815999999977},{"$f":"IF(ISNUMBER(SPmodel!U115),-SPmodel!U115,\"\")","v":2.6801200000000023}]
["SUM=",{"$f":"SUM(B10:B19)","v":0},null,null,null,null,{"$f":"IF(ISNUMBER(SPmodel!I116),SPmodel!I116+LOG(LC!$G$20),\"\")","v":5.5258515199999971},{"$f":"IF(ISNUMBER(SPmodel!H116),-SPmodel!H116,\"\")","v":8.8037063428571294},{"$f":"IF(ISNUMBER(SPmodel!G116),-SPmodel!G116,\"\")","v":-2.551162857142848},null,null,"SUM=",{"$f":"SUM(M10:M19)","v":0},null,null,null,null,{"$f":"IF(ISNUMBER(SPmodel!W116),SPmodel!W116+LOG(LC!$G$22),\"\")","v":5.4814174400000022},{"$f":"IF(ISNUMBER(SPmodel!V116),-SPmodel!V116,\"\")","v":5.6963227428571646},{"$f":"IF(ISNUMBER(SPmodel!U116),-SPmodel!U116,\"\")","v":0.19854857142854368}]
[null,null,null,null,null,null,{"$f":"IF(ISNUMBER(SPmodel!I117),SPmodel!I117+LOG(LC!$G$20),\"\")","v":7.9099922399999985},{"$f":"IF(ISNUMBER(SPmodel!H117),-SPmodel!H117,\"\")","v":12.768551828571439},{"$f":"IF(ISNUMBER(SPmodel!G117),-SPmodel!G117,\"\")","v":-4.4754542857143065},null,null,null,null,null,null,null,null,{"$f":"IF(ISNUMBER(SPmodel!W117),SPmodel!W117+LOG(LC!$G$22),\"\")","v":7.8932872799999974},{"$f":"IF(ISNUMBER(SPmodel!V117),-SPmodel!V117,\"\")","v":8.4331643428571414},{"$f":"IF(ISNUMBER(SPmodel!U117),-SPmodel!U117,\"\")","v":-0.5341314285714347}]
["Degree",{"$f":"LC!M21","v":2},null,null,null,null,{"$f":"IF(ISNUMBER(SPmodel!I118),SPmodel!I118+LOG(LC!$G$20),\"\")","v":""},{"$f":"IF(ISNUMBER(SPmodel!H118),-SPmodel!H118,\"\")","v":""},{"$f":"IF(ISNUMBER(SPmodel!G118),-SPmodel!G118,\"\")","v":""},null,null,"Degree",{"$f":"LC!M23","v":2},null,null,null,null,{"$f":"IF(ISNUMBER(SPmodel!W118),SPmodel!W118+LOG(LC!$G$22),\"\")","v":""},{"$f":"IF(ISNUMBER(SPmodel!V118),-SPmodel!V118,\"\")","v":""},{"$f":"IF(ISNUMBER(SPmodel!U118),-SPmodel!U118,\"\")","v":""}]
["jmax",{"$f":"COUNT(G26:G36)","v":8},null,null,null,null,{"$f":"IF(ISNUMBER(SPmodel!I119),SPmodel!I119+LOG(LC!$G$20),\"\")","v":""},{"$f":"IF(ISNUMBER(SPmodel!H119),-SPmodel!H119,\"\")","v":""},{"$f":"IF(ISNUMBER(SPmodel!G119),-SPmodel!G119,\"\")","v":""},null,null,"jmax",{"$f":"COUNT(R26:R36)","v":8},null,null,null,null,{"$f":"IF(ISNUMBER(SPmodel!W119),SPmodel!W119+LOG(LC!$G$22),\"\")","v":""},{"$f":"IF(ISNUMBER(SPmodel!V119),-SPmodel!V119,\"\")","v":""},{"$f":"IF(ISNUMBER(SPmodel!U119),-SPmodel!U119,\"\")","v":""}]
[null,null,null,null,null,null,{"$f":"IF(ISNUMBER(SPmodel!I120),SPmodel!I120+LOG(LC!$G$20),\"\")","v":""},{"$f":"IF(ISNUMBER(SPmodel!H120),-SPmodel!H120,\"\")","v":""},{"$f":"IF(ISNUMBER(SPmodel!G120),-SPmodel!G120,\"\")","v":""},null,null,null,null,null,null,null,null,{"$f":"IF(ISNUMBER(SPmodel!W120),SPmodel!W120+LOG(LC!$G$22),\"\")","v":""},{"$f":"IF(ISNUMBER(SPmodel!V120),-SPmodel!V120,\"\")","v":""},{"$f":"IF(ISNUMBER(SPmodel!U120),-SPmodel!U120,\"\")","v":""}]
[]
[null,null,null,null,null,null,{"$f":"IF(ISNUMBER(SPmodel!E110),SPmodel!E110+LOG(LC!$G$20),\"\")","v":1.0283200000000012},{"$f":"IF(ISNUMBER(SPmodel!D110),-SPmodel!D110,\"\")","v":4.6596215079365386},{"$f":"IF(ISNUMBER(SPmodel!C110),-SPmodel!C110,\"\")","v":-4.2063323809524817},{"$f":"IF(ISNUMBER(SPmodel!B110),-SPmodel!B110,\"\")","v":1.3724111111111998},null,null,null,null,null,null,null,{"$f":"IF(ISNUMBER(SPmodel!S110),SPmodel!S110+LOG(LC!$G$22),\"\")","v":0.61341040000000335},{"$f":"IF(ISNUMBER(SPmodel!R110),-SPmodel!R110,\"\")","v":-0.55236688095235176},{"$f":"IF(ISNUMBER(SPmodel!Q110),-SPmodel!Q110,\"\")","v":7.1384371428570494},{"$f":"IF(ISNUMBER(SPmodel!P110),-SPmodel!P110,\"\")","v":-5.2642833333332426}]
[null,null,null,null,null,null,{"$f":"IF(ISNUMBER(SPmodel!E111),SPmodel!E111+LOG(LC!$G$20),\"\")","v":1.8712263333333359},{"$f":"IF(ISNUMBER(SPmodel!D111),-SPmodel!D111,\"\")","v":5.0170983201058545},{"$f":"IF(ISNUMBER(SPmodel!C111),-SPmodel!C111,\"\")","v":-2.4679298412699513},{"$f":"IF(ISNUMBER(SPmodel!B111),-SPmodel!B111,\"\")","v":0.15349814814824603},null,null,null,null,null,null,null,{"$f":"IF(ISNUMBER(SPmodel!S111),SPmodel!S111+LOG(LC!$G$22),\"\")","v":1.4818940000000036},{"$f":"IF(ISNUMBER(SPmodel!R111),-SPmodel!R111,\"\")","v":0.83715338095240821},{"$f":"IF(ISNUMBER(SPmodel!Q111),-SPmodel!Q111,\"\")","v":5.6682028571427887},{"$f":"IF(ISNUMBER(SPmodel!P111),-SPmodel!P111,\"\")","v":-4.2815666666666106}]
[null,null,null,null,null,null,{"$f":"IF(ISNUMBER(SPmodel!E112),SPmodel!E112+LOG(LC!$G$20),\"\")","v":2.1834420000000012},{"$f":"IF(ISNUMBER(SPmodel!D112),-SPmodel!D112,\"\")","v":3.2723108928571554},{"$f":"IF(ISNUMBER(SPmodel!C112),-SPmodel!C112,\"\")","v":2.8669032142856787},{"$f":"IF(ISNUMBER(SPmodel!B112),-SPmodel!B112,\"\")","v":-4.1842999999999702},null,null,null,null,null,null,null,{"$f":"IF(ISNUMBER(SPmodel!S112),SPmodel!S112+LOG(LC!$G$22),\"\")","v":1.873802699999999},{"$f":"IF(ISNUMBER(SPmodel!R112),-SPmodel!R112,\"\")","v":8.9475809523783992E-2},{"$f":"IF(ISNUMBER(SPmodel!Q112),-SPmodel!Q112,\"\")","v":6.3637485714286512},{"$f":"IF(ISNUMBER(SPmodel!P112),-SPmodel!P112,\"\")","v":-4.0069666666667336}]
[null,null,null,null,null,null,{"$f":"IF(ISNUMBER(SPmodel!E113),SPmodel!E113+LOG(LC!$G$20),\"\")","v":2.5095550000000024},{"$f":"IF(ISNUMBER(SPmodel!D113),-SPmodel!D113,\"\")","v":4.3967213888889196},{"$f":"IF(ISNUMBER(SPmodel!C113),-SPmodel!C113,\"\")","v":1.4035033333332374},{"$f":"IF(ISNUMBER(SPmodel!B113),-SPmodel!B113,\"\")","v":-3.5595055555554684},null,null,null,null,null,null,null,{"$f":"IF(ISNUMBER(SPmodel!S113),SPmodel!S113+LOG(LC!$G$22),\"\")","v":2.0302820000000064},{"$f":"IF(ISNUMBER(SPmodel!R113),-SPmodel!R113,\"\")","v":-0.51217033333328821},{"$f":"IF(ISNUMBER(SPmodel!Q113),-SPmodel!Q113,\"\")","v":8.6881799999998819},{"$f":"IF(ISNUMBER(SPmodel!P113),-SPmodel!P113,\"\")","v":-5.8233666666665647}]
[null,null,null,null,null,null,{"$f":"IF(ISNUMBER(SPmodel!E114),SPmodel!E114+LOG(LC!$G$20),\"\")","v":4.5578123333333274},{"$f":"IF(ISNUMBER(SPmodel!D114),-SPmodel!D114,\"\")","v":9.6289084788359567},{"$f":"IF(ISNUMBER(SPmodel!C114),-SPmodel!C114,\"\")","v":-3.5778346031745727},{"$f":"IF(ISNUMBER(SPmodel!B114),-SPmodel!B114,\"\")","v":-2.2882796296296495},null,null,null,null,null,null,null,{"$f":"IF(ISNUMBER(SPmodel!S114),SPmodel!S114+LOG(LC!$G$22),\"\")","v":3.3027344000000021},{"$f":"IF(ISNUMBER(SPmodel!R114),-SPmodel!R114,\"\")","v":-2.9858432857142954},{"$f":"IF(ISNUMBER(SPmodel!Q114),-SPmodel!Q114,\"\")","v":19.34370285714288},{"$f":"IF(ISNUMBER(SPmodel!P114),-SPmodel!P114,\"\")","v":-13.960900000000004}]
[null,null,null,null,null,null,{"$f":"IF(ISNUMBER(SPmodel!E115),SPmodel!E115+LOG(LC!$G$20),\"\")","v":5.0609119999999992},{"$f":"IF(ISNUMBER(SPmodel!D115),-SPmodel!D115,\"\")","v":10.809370674603217},{"$f":"IF(ISNUMBER(SPmodel!C115),-SPmodel!C115,\"\")","v":-4.6475530952382575},{"$f":"IF(ISNUMBER(SPmodel!B115),-SPmodel!B115,\"\")","v":-1.9546555555554046},null,null,null,null,null,null,null,{"$f":"IF(ISNUMBER(SPmodel!S115),SPmodel!S115+LOG(LC!$G$22),\"\")","v":3.6526532000000045},{"$f":"IF(ISNUMBER(SPmodel!R115),-SPmodel!R115,\"\")","v":-3.2573218333333314},{"$f":"IF(ISNUMBER(SPmodel!Q115),-SPmodel!Q115,\"\")","v":21.251340000000013},{"$f":"IF(ISNUMBER(SPmodel!P115),-SPmodel!P115,\"\")","v":-15.476016666666672}]
[null,null,null,null,null,null,{"$f":"IF(ISNUMBER(SPmodel!E116),SPmodel!E116+LOG(LC!$G$20),\"\")","v":5.3301359999999995},{"$f":"IF(ISNUMBER(SPmodel!D116),-SPmodel!D116,\"\")","v":6.3417293650793782},{"$f":"IF(ISNUMBER(SPmodel!C116),-SPmodel!C116,\"\")","v":5.6036504761904036},{"$f":"IF(ISNUMBER(SPmodel!B116),-SPmodel!B116,\"\")","v":-7.7664888888888051},null,null,null,null,null,null,null,{"$f":"IF(ISNUMBER(SPmodel!S116),SPmodel!S116+LOG(LC!$G$22),\"\")","v":5.8624616000000227},{"$f":"IF(ISNUMBER(SPmodel!R116),-SPmodel!R116,\"\")","v":9.0682611428573665},{"$f":"IF(ISNUMBER(SPmodel!Q116),-SPmodel!Q116,\"\")","v":-8.8739314285720123},{"$f":"IF(ISNUMBER(SPmodel!P116),-SPmodel!P116,\"\")","v":7.5604000000004623}]
[null,null,null,null,null,null,{"$f":"IF(ISNUMBER(SPmodel!E117),SPmodel!E117+LOG(LC!$G$20),\"\")","v":7.6934986666666703},{"$f":"IF(ISNUMBER(SPmodel!D117),-SPmodel!D117,\"\")","v":10.045200132275202},{"$f":"IF(ISNUMBER(SPmodel!C117),-SPmodel!C117,\"\")","v":4.5451112698410583},{"$f":"IF(ISNUMBER(SPmodel!B117),-SPmodel!B117,\"\")","v":-8.5910148148146313},null,null,null,null,null,null,null,{"$f":"IF(ISNUMBER(SPmodel!S117),SPmodel!S117+LOG(LC!$G$22),\"\")","v":8.5063092000000093},{"$f":"IF(ISNUMBER(SPmodel!R117),-SPmodel!R117,\"\")","v":13.857921809523944},{"$f":"IF(ISNUMBER(SPmodel!Q117),-SPmodel!Q117,\"\")","v":-15.129891428571815},{"$f":"IF(ISNUMBER(SPmodel!P117),-SPmodel!P117,\"\")","v":12.163133333333649}]
[null,null,null,null,null,null,{"$f":"IF(ISNUMBER(SPmodel!E118),SPmodel!E118+LOG(LC!$G$20),\"\")","v":""},{"$f":"IF(ISNUMBER(SPmodel!D118),-SPmodel!D118,\"\")","v":""},{"$f":"IF(ISNUMBER(SPmodel!C118),-SPmodel!C118,\"\")","v":""},{"$f":"IF(ISNUMBER(SPmodel!B118),-SPmodel!B118,\"\")","v":""},null,null,null,null,null,null,null,{"$f":"IF(ISNUMBER(SPmodel!S118),SPmodel!S118+LOG(LC!$G$22),\"\")","v":""},{"$f":"IF(ISNUMBER(SPmodel!R118),-SPmodel!R118,\"\")","v":""},{"$f":"IF(ISNUMBER(SPmodel!Q118),-SPmodel!Q118,\"\")","v":""},{"$f":"IF(ISNUMBER(SPmodel!P118),-SPmodel!P118,\"\")","v":""}]
[null,null,null,null,null,null,{"$f":"IF(ISNUMBER(SPmodel!E119),SPmodel!E119+LOG(LC!$G$20),\"\")","v":""},{"$f":"IF(ISNUMBER(SPmodel!D119),-SPmodel!D119,\"\")","v":""},{"$f":"IF(ISNUMBER(SPmodel!C119),-SPmodel!C119,\"\")","v":""},{"$f":"IF(ISNUMBER(SPmodel!B119),-SPmodel!B119,\"\")","v":""},null,null,null,null,null,null,null,{"$f":"IF(ISNUMBER(SPmodel!S119),SPmodel!S119+LOG(LC!$G$22),\"\")","v":""},{"$f":"IF(ISNUMBER(SPmodel!R119),-SPmodel!R119,\"\")","v":""},{"$f":"IF(ISNUMBER(SPmodel!Q119),-SPmodel!Q119,\"\")","v":""},{"$f":"IF(ISNUMBER(SPmodel!P119),-SPmodel!P119,\"\")","v":""}]
[null,null,null,null,null,null,{"$f":"IF(ISNUMBER(SPmodel!E120),SPmodel!E120+LOG(LC!$G$20),\"\")","v":""},{"$f":"IF(ISNUMBER(SPmodel!D120),-SPmodel!D120,\"\")","v":""},{"$f":"IF(ISNUMBER(SPmodel!C120),-SPmodel!C120,\"\")","v":""},{"$f":"IF(ISNUMBER(SPmodel!B120),-SPmodel!B120,\"\")","v":""},null,null,null,null,null,null,null,{"$f":"IF(ISNUMBER(SPmodel!S120),SPmodel!S120+LOG(LC!$G$22),\"\")","v":""},{"$f":"IF(ISNUMBER(SPmodel!R120),-SPmodel!R120,\"\")","v":""},{"$f":"IF(ISNUMBER(SPmodel!Q120),-SPmodel!Q120,\"\")","v":""},{"$f":"IF(ISNUMBER(SPmodel!P120),-SPmodel!P120,\"\")","v":""}]