{"text_format":"1","workbook":"xlsx","n_sheets":7,"sheets":["GC","SPmodel","Compounds","Columns","Compare Columns","High temperature data","Macro input"],"not_rendered":{"charts":13,"images":2,"macros":1,"external_links":0,"defined_names":36,"comments":0,"pivot_tables":0},"unopened":[],"bounds":{"document_bytes":16777216,"sheet_cells":100000,"rows_first":2000,"rows_last":500,"rows_between":2000,"halvings":0,"cell_chars":16384,"cell_head_chars":4096},"cells_cut":0,"cells_raw":0,"read":"whole","date_system":"1900"}

{"sheet":"GC","index":0,"n_rows":2002,"n_cols":206,"rows_kept":562,"cut":true,"hidden":false,"merged":[],"bounds":{"rows_first":250,"rows_last":62,"rows_between":250,"halvings":3}}
["ChromSimGCxGC_4.0",null,null,"Author: Bo Svensmark, svensmark@plen.ku.dk, Analytical Chemistry, PLEN, Univ. of Copenhagen, 2017-2026",null,null,null,null,null,null,null,null,null,null,null,"3D and 2D Plots of VBA results:",null,null,null,null,null,null,null,null,"Most cells are proteted. To unprotect go to Review and click Unprotect sheet",null,null,null,null,null,null,"Gradient profile plot",null,"2D Time","1D Time","1D LSS","1D VBA","2D LSS","Ref",null,1,2,3,4,5,6,7,8,9,10,11,12,13,14,15,16,17,18,19,20,"Data from macros",null,"2D Plot X","2D time, s","A # Ch 2","A # Ch 5","A # Ch 12","2D sum Ch 2",null,null,null,null,null,"Column #",1,2,3,4,5,6,7,8,9,10,11,12,13,14,15,16,17,18,19,20,21,22,23,24,25,26,27,28,29,30,31,32,33,34,35,36,37,38,39,40,41,42,43,44,45,46,47,48,49,50,51,52,53,54,55,56,57,58,59,60,61,62,63,64,65,66,67,68,69,70,71,72,73,74,75,76,77,78,79,80,81,82,83,84,85,86,87,88,89,90,91,92,93,94,95,96,97,98,99,100,101,102,103,104,105,106,107,108,109,110,111,112,113,114,115,116,117,118,119,120,121,122,123,124,125,126,null,null,null,"Contour plot"]
[null,null,null,"plen.ku.dk",null,null,null,null,null,null,null,null,null,null,null,null,null,null,null,null,null,null,null,null,null,null,null,null,null,null,"Time","LSS","Complex",0,0,{"$f":"IF($N$29=0,-1,$N$29*($B$32*NORMDIST($AI2,$B$29,$B$33*$B$29,FALSE)+IF(C$62<>\"\",B$6*NORMDIST($AI2,C$62,D$62/4,FALSE),0)+IF(C$63<>\"\",B$7*NORMDIST($AI2,C$63,D$63/4,FALSE),0)+IF(C$64<>\"\",B$8*NORMDIST($AI2,C$64,D$64/4,FALSE),0)+IF(C$65<>\"\",B$9*NORMDIST($AI2,C$65,D$65/4,FALSE),0)+IF(C$66<>\"\",B$10*NORMDIST($AI2,C$66,D$66/4,FALSE),0)+IF(C$67<>\"\",B$11*NORMDIST($AI2,C$67,D$67/4,FALSE),0)+IF(C$68<>\"\",B$12*NORMDIST($AI2,C$68,D$68/4,FALSE),0)+IF(C$69<>\"\",B$13*NORMDIST($AI2,C$69,D$69/4,FALSE),0)+IF(C$70<>\"\",B$14*NORMDIST($AI2,C$70,D$70/4,FALSE),0)+IF(C$71<>\"\",B$15*NORMDIST($AI2,C$71,D$71/4,FALSE),0)+IF(C$72<>\"\",B$16*NORMDIST($AI2,C$72,D$72/4,FALSE),0)+IF(C$73<>\"\",B$17*NORMDIST($AI2,C$73,D$73/4,FALSE),0)+IF(C$74<>\"\",B$18*NORMDIST($AI2,C$74,D$74/4,FALSE),0)+IF(C$75<>\"\",B$19*NORMDIST($AI2,C$75,D$75/4,FALSE),0)+IF(C$76<>\"\",B$20*NORMDIST($AI2,C$76,D$76/4,FALSE),0)+IF(C$77<>\"\",B$21*NORMDIST($AI2,C$77,D$77/4,FALSE),0)+IF(C$78<>\"\",B$22*NORMDIST($AI2,C$78,D$78/4,FALSE),0)+IF(C$79<>\"\",B$23*NORMDIST($AI2,C$79,D$79/4,FALSE),0)+IF(C$80<>\"\",B$24*NORMDIST($AI2,C$80,D$80/4,FALSE),0)+IF(C$81<>\"\",B$25*NORMDIST($AI2,C$81,D$81/4,FALSE),0))+$M$29)","v":6},{"$f":"IF($N$30<>0,SUM(AO2:BH2)*$N$30+$M$30,-1)","v":6},{"$f":"IF($N$31=0,-1,$N$31*($B$32*NORMDIST($AH2,$B$29,$B$33*$B$29,FALSE)+IF(G$62<>\"\",B$6*NORMDIST($AH2,G$62,H$62/4,FALSE),0)+IF(G$63<>\"\",B$7*NORMDIST($AH2,G$63,H$63/4,FALSE),0)+IF(G$64<>\"\",B$8*NORMDIST($AH2,G$64,H$64/4,FALSE),0)+IF(G$65<>\"\",B$9*NORMDIST($AH2,G$65,H$65/4,FALSE),0)+IF(G$66<>\"\",B$10*NORMDIST($AH2,G$66,H$66/4,FALSE),0)+IF(G$67<>\"\",B$11*NORMDIST($AH2,G$67,H$67/4,FALSE),0)+IF(G$68<>\"\",B$12*NORMDIST($AH2,G$68,H$68/4,FALSE),0)+IF(G$69<>\"\",B$13*NORMDIST($AH2,G$69,H$69/4,FALSE),0)+IF(G$70<>\"\",B$14*NORMDIST($AH2,G$70,H$70/4,FALSE),0)+IF(G$71<>\"\",B$15*NORMDIST($AH2,G$71,H$71/4,FALSE),0)+IF(G$72<>\"\",B$16*NORMDIST($AH2,G$72,H$72/4,FALSE),0)+IF(G$73<>\"\",B$17*NORMDIST($AH2,G$73,H$73/4,FALSE),0)+IF(G$74<>\"\",B$18*NORMDIST($AH2,G$74,H$74/4,FALSE),0)+IF(G$75<>\"\",B$19*NORMDIST($AH2,G$75,H$75/4,FALSE),0)+IF(G$76<>\"\",B$20*NORMDIST($AH2,G$76,H$76/4,FALSE),0)+IF(G$77<>\"\",B$21*NORMDIST($AH2,G$77,H$77/4,FALSE),0)+IF(G$78<>\"\",B$22*NORMDIST($AH2,G$78,H$78/4,FALSE),0)+IF(G$79<>\"\",B$23*NORMDIST($AH2,G$79,H$79/4,FALSE),0)+IF(G$80<>\"\",B$24*NORMDIST($AH2,G$80,H$80/4,FALSE),0)+IF(G$81<>\"\",B$25*NORMDIST($AH2,G$81,H$81/4,FALSE),0))+$M$31)","v":15},{"$f":"IF($N$33=0,-1,$N$33*($B$32*NORMDIST($AI2,$B$29,$B$33*$B$29,FALSE)+IF(K$62<>\"\",B$6*NORMDIST($AI2,K$62,L$62/4,FALSE),0)+IF(K$63<>\"\",B$7*NORMDIST($AI2,K$63,L$63/4,FALSE),0)+IF(K$64<>\"\",B$8*NORMDIST($AI2,K$64,L$64/4,FALSE),0)+IF(K$65<>\"\",B$9*NORMDIST($AI2,K$65,L$65/4,FALSE),0)+IF(K$66<>\"\",B$10*NORMDIST($AI2,K$66,L$66/4,FALSE),0)+IF(K$67<>\"\",B$11*NORMDIST($AI2,K$67,L$67/4,FALSE),0)+IF(K$68<>\"\",B$12*NORMDIST($AI2,K$68,L$68/4,FALSE),0)+IF(K$69<>\"\",B$13*NORMDIST($AI2,K$69,L$69/4,FALSE),0)+IF(K$70<>\"\",B$14*NORMDIST($AI2,K$70,L$70/4,FALSE),0)+IF(K$71<>\"\",B$15*NORMDIST($AI2,K$71,L$71/4,FALSE),0)+IF(K$72<>\"\",B$16*NORMDIST($AI2,K$72,L$72/4,FALSE),0)+IF(K$73<>\"\",B$17*NORMDIST($AI2,K$73,L$73/4,FALSE),0)+IF(K$74<>\"\",B$18*NORMDIST($AI2,K$74,L$74/4,FALSE),0)+IF(K$75<>\"\",B$19*NORMDIST($AI2,K$75,L$75/4,FALSE),0)+IF(K$76<>\"\",B$20*NORMDIST($AI2,K$76,L$76/4,FALSE),0)+IF(K$77<>\"\",B$21*NORMDIST($AI2,K$77,L$77/4,FALSE),0)+IF(K$78<>\"\",B$22*NORMDIST($AI2,K$78,L$78/4,FALSE),0)+IF(K$79<>\"\",B$23*NORMDIST($AI2,K$79,L$79/4,FALSE),0)+IF(K$80<>\"\",B$24*NORMDIST($AI2,K$80,L$80/4,FALSE),0)+IF(K$81<>\"\",B$25*NORMDIST($AI2,K$81,L$81/4,FALSE),0))+$M$33)","v":5},1,{"$f":"IF($C$85>0,$B$6*NORMDIST($AI2,$C$85,$D$85/4,FALSE),0)","v":0},{"$f":"IF($C$86>0,$B$7*NORMDIST($AI2,$C$86,$D$86/4,FALSE),0)","v":0},{"$f":"IF($C$87>0,$B$8*NORMDIST($AI2,$C$87,$D$87/4,FALSE),0)","v":0},{"$f":"IF($C$88>0,$B$9*NORMDIST($AI2,$C$88,$D$88/4,FALSE),0)","v":0},{"$f":"IF($C$89>0,$B$10*NORMDIST($AI2,$C$89,$D$89/4,FALSE),0)","v":0},{"$f":"IF($C$90>0,$B$11*NORMDIST($AI2,$C$90,$D$90/4,FALSE),0)","v":0},{"$f":"IF($C$91>0,$B$12*NORMDIST($AI2,$C$91,$D$91/4,FALSE),0)","v":0},{"$f":"IF($C$92>0,$B$13*NORMDIST($AI2,$C$92,$D$92/4,FALSE),0)","v":0},{"$f":"IF($C$93>0,$B$14*NORMDIST($AI2,$C$93,$D$93/4,FALSE),0)","v":0},{"$f":"IF($C$94>0,$B$15*NORMDIST($AI2,$C$94,$D$94/4,FALSE),0)","v":0},{"$f":"IF($C$95>0,$B$16*NORMDIST($AI2,$C$95,$D$95/4,FALSE),0)","v":0},{"$f":"IF($C$96>0,$B$17*NORMDIST($AI2,$C$96,$D$96/4,FALSE),0)","v":0},{"$f":"IF($C$97>0,$B$18*NORMDIST($AI2,$C$97,$D$97/4,FALSE),0)","v":0},{"$f":"IF($C$98>0,$B$19*NORMDIST($AI2,$C$98,$D$98/4,FALSE),0)","v":0},{"$f":"IF($C$99>0,$B$20*NORMDIST($AI2,$C$99,$D$99/4,FALSE),0)","v":0},{"$f":"IF($C$100>0,$B$21*NORMDIST($AI2,$C$100,$D$100/4,FALSE),0)","v":0},{"$f":"IF($C$101>0,$B$22*NORMDIST($AI2,$C$101,$D$101/4,FALSE),0)","v":0},{"$f":"IF($C$102>0,$B$23*NORMDIST($AI2,$C$102,$D$102/4,FALSE),0)","v":0},{"$f":"IF($C$103>0,$B$24*NORMDIST($AI2,$C$103,$D$103/4,FALSE),0)","v":0},{"$f":"IF($C$104>0,$B$25*NORMDIST($AI2,$C$104,$D$104/4,FALSE),0)","v":0},"2D nt",100,0,0,{"$f":"$N$32*$O$61*NORMDIST(AH2,$BJ$26,$BJ$27,FALSE)+$M$32","v":15.000712186494834},{"$f":"$BJ$31*NORMDIST(BL2,$BJ$29,$BJ$30,FALSE)","v":9.9925399933033388E-3},{"$f":"$BJ$35*NORMDIST(AI2,$BJ$33,$BJ$34,FALSE)","v":0},{"$f":"BW$4*$N$32+$M$32","v":15.002157896023258},null,null,null,null,null,"2D Trace",{"$f":"INDEX($BW$6:$GR$261,$BJ$19,BW1)","v":0},{"$f":"INDEX($BW$6:$GR$261,$BJ$19,BX1)","v":0},{"$f":"INDEX($BW$6:$GR$261,$BJ$19,BY1)","v":0},{"$f":"INDEX($BW$6:$GR$261,$BJ$19,BZ1)","v":0},{"$f":"INDEX($BW$6:$GR$261,$BJ$19,CA1)","v":0},{"$f":"INDEX($BW$6:$GR$261,$BJ$19,CB1)","v":0},{"$f":"INDEX($BW$6:$GR$261,$BJ$19,CC1)","v":0},{"$f":"INDEX($BW$6:$GR$261,$BJ$19,CD1)","v":0},{"$f":"INDEX($BW$6:$GR$261,$BJ$19,CE1)","v":0},{"$f":"INDEX($BW$6:$GR$261,$BJ$19,CF1)","v":0},{"$f":"INDEX($BW$6:$GR$261,$BJ$19,CG1)","v":0},{"$f":"INDEX($BW$6:$GR$261,$BJ$19,CH1)","v":0},{"$f":"INDEX($BW$6:$GR$261,$BJ$19,CI1)","v":0},{"$f":"INDEX($BW$6:$GR$261,$BJ$19,CJ1)","v":0},{"$f":"INDEX($BW$6:$GR$261,$BJ$19,CK1)","v":0},{"$f":"INDEX($BW$6:$GR$261,$BJ$19,CL1)","v":0},{"$f":"INDEX($BW$6:$GR$261,$BJ$19,CM1)","v":0},{"$f":"INDEX($BW$6:$GR$261,$BJ$19,CN1)","v":0},{"$f":"INDEX($BW$6:$GR$261,$BJ$19,CO1)","v":0},{"$f":"INDEX($BW$6:$GR$261,$BJ$19,CP1)","v":0},{"$f":"INDEX($BW$6:$GR$261,$BJ$19,CQ1)","v":0},{"$f":"INDEX($BW$6:$GR$261,$BJ$19,CR1)","v":0},{"$f":"INDEX($BW$6:$GR$261,$BJ$19,CS1)","v":0},{"$f":"INDEX($BW$6:$GR$261,$BJ$19,CT1)","v":0},{"$f":"INDEX($BW$6:$GR$261,$BJ$19,CU1)","v":0},{"$f":"INDEX($BW$6:$GR$261,$BJ$19,CV1)","v":0},{"$f":"INDEX($BW$6:$GR$261,$BJ$19,CW1)","v":0},{"$f":"INDEX($BW$6:$GR$261,$BJ$19,CX1)","v":0},{"$f":"INDEX($BW$6:$GR$261,$BJ$19,CY1)","v":0},{"$f":"INDEX($BW$6:$GR$261,$BJ$19,CZ1)","v":0},{"$f":"INDEX($BW$6:$GR$261,$BJ$19,DA1)","v":0},{"$f":"INDEX($BW$6:$GR$261,$BJ$19,DB1)","v":0},{"$f":"INDEX($BW$6:$GR$261,$BJ$19,DC1)","v":0},{"$f":"INDEX($BW$6:$GR$261,$BJ$19,DD1)","v":0},{"$f":"INDEX($BW$6:$GR$261,$BJ$19,DE1)","v":0},{"$f":"INDEX($BW$6:$GR$261,$BJ$19,DF1)","v":0},{"$f":"INDEX($BW$6:$GR$261,$BJ$19,DG1)","v":0},{"$f":"INDEX($BW$6:$GR$261,$BJ$19,DH1)","v":0},{"$f":"INDEX($BW$6:$GR$261,$BJ$19,DI1)","v":0},{"$f":"INDEX($BW$6:$GR$261,$BJ$19,DJ1)","v":0},{"$f":"INDEX($BW$6:$GR$261,$BJ$19,DK1)","v":0},{"$f":"INDEX($BW$6:$GR$261,$BJ$19,DL1)","v":0},{"$f":"INDEX($BW$6:$GR$261,$BJ$19,DM1)","v":0},{"$f":"INDEX($BW$6:$GR$261,$BJ$19,DN1)","v":0},{"$f":"INDEX($BW$6:$GR$261,$BJ$19,DO1)","v":0},{"$f":"INDEX($BW$6:$GR$261,$BJ$19,DP1)","v":0},{"$f":"INDEX($BW$6:$GR$261,$BJ$19,DQ1)","v":0},{"$f":"INDEX($BW$6:$GR$261,$BJ$19,DR1)","v":0},{"$f":"INDEX($BW$6:$GR$261,$BJ$19,DS1)","v":0},{"$f":"INDEX($BW$6:$GR$261,$BJ$19,DT1)","v":0},{"$f":"INDEX($BW$6:$GR$261,$BJ$19,DU1)","v":0},{"$f":"INDEX($BW$6:$GR$261,$BJ$19,DV1)","v":0},{"$f":"INDEX($BW$6:$GR$261,$BJ$19,DW1)","v":0},{"$f":"INDEX($BW$6:$GR$261,$BJ$19,DX1)","v":0},{"$f":"INDEX($BW$6:$GR$261,$BJ$19,DY1)","v":0},{"$f":"INDEX($BW$6:$GR$261,$BJ$19,DZ1)","v":0},{"$f":"INDEX($BW$6:$GR$261,$BJ$19,EA1)","v":0},{"$f":"INDEX($BW$6:$GR$261,$BJ$19,EB1)","v":0},{"$f":"INDEX($BW$6:$GR$261,$BJ$19,EC1)","v":0},{"$f":"INDEX($BW$6:$GR$261,$BJ$19,ED1)","v":0},{"$f":"INDEX($BW$6:$GR$261,$BJ$19,EE1)","v":0},{"$f":"INDEX($BW$6:$GR$261,$BJ$19,EF1)","v":0},{"$f":"INDEX($BW$6:$GR$261,$BJ$19,EG1)","v":0},{"$f":"INDEX($BW$6:$GR$261,$BJ$19,EH1)","v":0},{"$f":"INDEX($BW$6:$GR$261,$BJ$19,EI1)","v":0},{"$f":"INDEX($BW$6:$GR$261,$BJ$19,EJ1)","v":0},{"$f":"INDEX($BW$6:$GR$261,$BJ$19,EK1)","v":0},{"$f":"INDEX($BW$6:$GR$261,$BJ$19,EL1)","v":0},{"$f":"INDEX($BW$6:$GR$261,$BJ$19,EM1)","v":0},{"$f":"INDEX($BW$6:$GR$261,$BJ$19,EN1)","v":0},{"$f":"INDEX($BW$6:$GR$261,$BJ$19,EO1)","v":0},{"$f":"INDEX($BW$6:$GR$261,$BJ$19,EP1)","v":0},{"$f":"INDEX($BW$6:$GR$261,$BJ$19,EQ1)","v":0},{"$f":"INDEX($BW$6:$GR$261,$BJ$19,ER1)","v":0},{"$f":"INDEX($BW$6:$GR$261,$BJ$19,ES1)","v":0},{"$f":"INDEX($BW$6:$GR$261,$BJ$19,ET1)","v":0},{"$f":"INDEX($BW$6:$GR$261,$BJ$19,EU1)","v":0},{"$f":"INDEX($BW$6:$GR$261,$BJ$19,EV1)","v":0},{"$f":"INDEX($BW$6:$GR$261,$BJ$19,EW1)","v":0},{"$f":"INDEX($BW$6:$GR$261,$BJ$19,EX1)","v":0},{"$f":"INDEX($BW$6:$GR$261,$BJ$19,EY1)","v":0},{"$f":"INDEX($BW$6:$GR$261,$BJ$19,EZ1)","v":0},{"$f":"INDEX($BW$6:$GR$261,$BJ$19,FA1)","v":0},{"$f":"INDEX($BW$6:$GR$261,$BJ$19,FB1)","v":0},{"$f":"INDEX($BW$6:$GR$261,$BJ$19,FC1)","v":0},{"$f":"INDEX($BW$6:$GR$261,$BJ$19,FD1)","v":0},{"$f":"INDEX($BW$6:$GR$261,$BJ$19,FE1)","v":0},{"$f":"INDEX($BW$6:$GR$261,$BJ$19,FF1)","v":0},{"$f":"INDEX($BW$6:$GR$261,$BJ$19,FG1)","v":0},{"$f":"INDEX($BW$6:$GR$261,$BJ$19,FH1)","v":0},{"$f":"INDEX($BW$6:$GR$261,$BJ$19,FI1)","v":0},{"$f":"INDEX($BW$6:$GR$261,$BJ$19,FJ1)","v":0},{"$f":"INDEX($BW$6:$GR$261,$BJ$19,FK1)","v":0},{"$f":"INDEX($BW$6:$GR$261,$BJ$19,FL1)","v":0},{"$f":"INDEX($BW$6:$GR$261,$BJ$19,FM1)","v":0},{"$f":"INDEX($BW$6:$GR$261,$BJ$19,FN1)","v":0},{"$f":"INDEX($BW$6:$GR$261,$BJ$19,FO1)","v":0},{"$f":"INDEX($BW$6:$GR$261,$BJ$19,FP1)","v":0},{"$f":"INDEX($BW$6:$GR$261,$BJ$19,FQ1)","v":0},{"$f":"INDEX($BW$6:$GR$261,$BJ$19,FR1)","v":0},{"$f":"INDEX($BW$6:$GR$261,$BJ$19,FS1)","v":0},{"$f":"INDEX($BW$6:$GR$261,$BJ$19,FT1)","v":0},{"$f":"INDEX($BW$6:$GR$261,$BJ$19,FU1)","v":0},{"$f":"INDEX($BW$6:$GR$261,$BJ$19,FV1)","v":0},{"$f":"INDEX($BW$6:$GR$261,$BJ$19,FW1)","v":0},{"$f":"INDEX($BW$6:$GR$261,$BJ$19,FX1)","v":0},{"$f":"INDEX($BW$6:$GR$261,$BJ$19,FY1)","v":0},{"$f":"INDEX($BW$6:$GR$261,$BJ$19,FZ1)","v":0},{"$f":"INDEX($BW$6:$GR$261,$BJ$19,GA1)","v":0},{"$f":"INDEX($BW$6:$GR$261,$BJ$19,GB1)","v":0},{"$f":"INDEX($BW$6:$GR$261,$BJ$19,GC1)","v":0},{"$f":"INDEX($BW$6:$GR$261,$BJ$19,GD1)","v":0},{"$f":"INDEX($BW$6:$GR$261,$BJ$19,GE1)","v":0},{"$f":"INDEX($BW$6:$GR$261,$BJ$19,GF1)","v":0},{"$f":"INDEX($BW$6:$GR$261,$BJ$19,GG1)","v":0},{"$f":"INDEX($BW$6:$GR$261,$BJ$19,GH1)","v":0},{"$f":"INDEX($BW$6:$GR$261,$BJ$19,GI1)","v":0},{"$f":"INDEX($BW$6:$GR$261,$BJ$19,GJ1)","v":0},{"$f":"INDEX($BW$6:$GR$261,$BJ$19,GK1)","v":0},{"$f":"INDEX($BW$6:$GR$261,$BJ$19,GL1)","v":0},{"$f":"INDEX($BW$6:$GR$261,$BJ$19,GM1)","v":0},{"$f":"INDEX($BW$6:$GR$261,$BJ$19,GN1)","v":0},{"$f":"INDEX($BW$6:$GR$261,$BJ$19,GO1)","v":0},{"$f":"INDEX($BW$6:$GR$261,$BJ$19,GP1)","v":0},{"$f":"INDEX($BW$6:$GR$261,$BJ$19,GQ1)","v":0},{"$f":"INDEX($BW$6:$GR$261,$BJ$19,GR1)","v":0},null,null,null,"data"]
[null,null,null,"bosvensmark.dk",null,null,null,"VBA: (Nonlinear) Simulation of 2D chromatography by Visual Basic for Applications",null,null,null,null,null,null,null,null,null,null,null,null,null,null,null,null,null,null,null,null,null,null,0,{"$f":"IF('Macro input'!$F$19=1,GC!AG3,IF($K$29>0,IF($AE3<$I$29,$G$29,IF($AE3<$I$29+$J$29,$G$29+((H$29-G$29)*($AE3-I$29)/J$29),$H$29)),$G$29))","v":150},150,{"$f":"AH2+$C$34","v":3.0000000000000001E-3},{"$f":"AI2+$B$34","v":0.01},{"$f":"IF($N$29=0,-1,$N$29*($B$32*NORMDIST($AI3,$B$29,$B$33*$B$29,FALSE)+IF(C$62<>\"\",B$6*NORMDIST($AI3,C$62,D$62/4,FALSE),0)+IF(C$63<>\"\",B$7*NORMDIST($AI3,C$63,D$63/4,FALSE),0)+IF(C$64<>\"\",B$8*NORMDIST($AI3,C$64,D$64/4,FALSE),0)+IF(C$65<>\"\",B$9*NORMDIST($AI3,C$65,D$65/4,FALSE),0)+IF(C$66<>\"\",B$10*NORMDIST($AI3,C$66,D$66/4,FALSE),0)+IF(C$67<>\"\",B$11*NORMDIST($AI3,C$67,D$67/4,FALSE),0)+IF(C$68<>\"\",B$12*NORMDIST($AI3,C$68,D$68/4,FALSE),0)+IF(C$69<>\"\",B$13*NORMDIST($AI3,C$69,D$69/4,FALSE),0)+IF(C$70<>\"\",B$14*NORMDIST($AI3,C$70,D$70/4,FALSE),0)+IF(C$71<>\"\",B$15*NORMDIST($AI3,C$71,D$71/4,FALSE),0)+IF(C$72<>\"\",B$16*NORMDIST($AI3,C$72,D$72/4,FALSE),0)+IF(C$73<>\"\",B$17*NORMDIST($AI3,C$73,D$73/4,FALSE),0)+IF(C$74<>\"\",B$18*NORMDIST($AI3,C$74,D$74/4,FALSE),0)+IF(C$75<>\"\",B$19*NORMDIST($AI3,C$75,D$75/4,FALSE),0)+IF(C$76<>\"\",B$20*NORMDIST($AI3,C$76,D$76/4,FALSE),0)+IF(C$77<>\"\",B$21*NORMDIST($AI3,C$77,D$77/4,FALSE),0)+IF(C$78<>\"\",B$22*NORMDIST($AI3,C$78,D$78/4,FALSE),0)+IF(C$79<>\"\",B$23*NORMDIST($AI3,C$79,D$79/4,FALSE),0)+IF(C$80<>\"\",B$24*NORMDIST($AI3,C$80,D$80/4,FALSE),0)+IF(C$81<>\"\",B$25*NORMDIST($AI3,C$81,D$81/4,FALSE),0))+$M$29)","v":6},6,{"$f":"IF($N$31=0,-1,$N$31*($B$32*NORMDIST($AH3,$B$29,$B$33*$B$29,FALSE)+IF(G$62<>\"\",B$6*NORMDIST($AH3,G$62,H$62/4,FALSE),0)+IF(G$63<>\"\",B$7*NORMDIST($AH3,G$63,H$63/4,FALSE),0)+IF(G$64<>\"\",B$8*NORMDIST($AH3,G$64,H$64/4,FALSE),0)+IF(G$65<>\"\",B$9*NORMDIST($AH3,G$65,H$65/4,FALSE),0)+IF(G$66<>\"\",B$10*NORMDIST($AH3,G$66,H$66/4,FALSE),0)+IF(G$67<>\"\",B$11*NORMDIST($AH3,G$67,H$67/4,FALSE),0)+IF(G$68<>\"\",B$12*NORMDIST($AH3,G$68,H$68/4,FALSE),0)+IF(G$69<>\"\",B$13*NORMDIST($AH3,G$69,H$69/4,FALSE),0)+IF(G$70<>\"\",B$14*NORMDIST($AH3,G$70,H$70/4,FALSE),0)+IF(G$71<>\"\",B$15*NORMDIST($AH3,G$71,H$71/4,FALSE),0)+IF(G$72<>\"\",B$16*NORMDIST($AH3,G$72,H$72/4,FALSE),0)+IF(G$73<>\"\",B$17*NORMDIST($AH3,G$73,H$73/4,FALSE),0)+IF(G$74<>\"\",B$18*NORMDIST($AH3,G$74,H$74/4,FALSE),0)+IF(G$75<>\"\",B$19*NORMDIST($AH3,G$75,H$75/4,FALSE),0)+IF(G$76<>\"\",B$20*NORMDIST($AH3,G$76,H$76/4,FALSE),0)+IF(G$77<>\"\",B$21*NORMDIST($AH3,G$77,H$77/4,FALSE),0)+IF(G$78<>\"\",B$22*NORMDIST($AH3,G$78,H$78/4,FALSE),0)+IF(G$79<>\"\",B$23*NORMDIST($AH3,G$79,H$79/4,FALSE),0)+IF(G$80<>\"\",B$24*NORMDIST($AH3,G$80,H$80/4,FALSE),0)+IF(G$81<>\"\",B$25*NORMDIST($AH3,G$81,H$81/4,FALSE),0))+$M$31)","v":15},5,2,{"$f":"IF($C$85>0,$B$6*NORMDIST($AI3,$C$85,$D$85/4,FALSE),0)","v":0},0,0,0,0,0,0,0,0,0,0,{"$f":"IF($C$96>0,$B$17*NORMDIST($AI3,$C$96,$D$96/4,FALSE),0)","v":0},{"$f":"IF($C$97>0,$B$18*NORMDIST($AI3,$C$97,$D$97/4,FALSE),0)","v":0},{"$f":"IF($C$98>0,$B$19*NORMDIST($AI3,$C$98,$D$98/4,FALSE),0)","v":0},{"$f":"IF($C$99>0,$B$20*NORMDIST($AI3,$C$99,$D$99/4,FALSE),0)","v":0},{"$f":"IF($C$100>0,$B$21*NORMDIST($AI3,$C$100,$D$100/4,FALSE),0)","v":0},{"$f":"IF($C$101>0,$B$22*NORMDIST($AI3,$C$101,$D$101/4,FALSE),0)","v":0},{"$f":"IF($C$102>0,$B$23*NORMDIST($AI3,$C$102,$D$102/4,FALSE),0)","v":0},{"$f":"IF($C$103>0,$B$24*NORMDIST($AI3,$C$103,$D$103/4,FALSE),0)","v":0},{"$f":"IF($C$104>0,$B$25*NORMDIST($AI3,$C$104,$D$104/4,FALSE),0)","v":0},"1D dt factor",1,{"$f":"BK2+$BJ$38","v":0.2},{"$f":"BL2+$BJ$6","v":0.06},{"$f":"$N$32*$O$61*NORMDIST(AH3,$BJ$26,$BJ$27,FALSE)+$M$32","v":15.000736009108021},1.9028211067194649E-2,0,{"$f":"BX$4*$N$32+$M$32","v":15.003962295873157},null,null,null,null,null,"2D time, s",0,{"$f":"BW3+$BJ$6","v":0.06},{"$f":"BX3+$BJ$6","v":0.12},{"$f":"BY3+$BJ$6","v":0.18},{"$f":"BZ3+$BJ$6","v":0.24},{"$f":"CA3+$BJ$6","v":0.3},{"$f":"CB3+$BJ$6","v":0.36},{"$f":"CC3+$BJ$6","v":0.42},{"$f":"CD3+$BJ$6","v":0.48},{"$f":"CE3+$BJ$6","v":0.54},{"$f":"CF3+$BJ$6","v":0.60000000000000009},{"$f":"CG3+$BJ$6","v":0.66000000000000014},{"$f":"CH3+$BJ$6","v":0.7200000000000002},{"$f":"CI3+$BJ$6","v":0.78000000000000025},{"$f":"CJ3+$BJ$6","v":0.8400000000000003},{"$f":"CK3+$BJ$6","v":0.90000000000000036},{"$f":"CL3+$BJ$6","v":0.96000000000000041},{"$f":"CM3+$BJ$6","v":1.0200000000000005},{"$f":"CN3+$BJ$6","v":1.0800000000000005},{"$f":"CO3+$BJ$6","v":1.1400000000000006},{"$f":"CP3+$BJ$6","v":1.2000000000000006},{"$f":"CQ3+$BJ$6","v":1.2600000000000007},{"$f":"CR3+$BJ$6","v":1.3200000000000007},{"$f":"CS3+$BJ$6","v":1.3800000000000008},{"$f":"CT3+$BJ$6","v":1.4400000000000008},{"$f":"CU3+$BJ$6","v":1.5000000000000009},{"$f":"CV3+$BJ$6","v":1.5600000000000009},{"$f":"CW3+$BJ$6","v":1.620000000000001},{"$f":"CX3+$BJ$6","v":1.680000000000001},{"$f":"CY3+$BJ$6","v":1.7400000000000011},{"$f":"CZ3+$BJ$6","v":1.8000000000000012},{"$f":"DA3+$BJ$6","v":1.8600000000000012},{"$f":"DB3+$BJ$6","v":1.9200000000000013},{"$f":"DC3+$BJ$6","v":1.9800000000000013},{"$f":"DD3+$BJ$6","v":2.0400000000000014},{"$f":"DE3+$BJ$6","v":2.1000000000000014},{"$f":"DF3+$BJ$6","v":2.1600000000000015},{"$f":"DG3+$BJ$6","v":2.2200000000000015},{"$f":"DH3+$BJ$6","v":2.2800000000000016},{"$f":"DI3+$BJ$6","v":2.3400000000000016},{"$f":"DJ3+$BJ$6","v":2.4000000000000017},{"$f":"DK3+$BJ$6","v":2.4600000000000017},{"$f":"DL3+$BJ$6","v":2.5200000000000018},{"$f":"DM3+$BJ$6","v":2.5800000000000018},{"$f":"DN3+$BJ$6","v":2.6400000000000019},{"$f":"DO3+$BJ$6","v":2.700000000000002},{"$f":"DP3+$BJ$6","v":2.760000000000002},{"$f":"DQ3+$BJ$6","v":2.8200000000000021},{"$f":"DR3+$BJ$6","v":2.8800000000000021},{"$f":"DS3+$BJ$6","v":2.9400000000000022},{"$f":"DT3+$BJ$6","v":3.0000000000000022},{"$f":"DU3+$BJ$6","v":3.0600000000000023},{"$f":"DV3+$BJ$6","v":3.1200000000000023},{"$f":"DW3+$BJ$6","v":3.1800000000000024},{"$f":"DX3+$BJ$6","v":3.2400000000000024},{"$f":"DY3+$BJ$6","v":3.3000000000000025},{"$f":"DZ3+$BJ$6","v":3.3600000000000025},{"$f":"EA3+$BJ$6","v":3.4200000000000026},{"$f":"EB3+$BJ$6","v":3.4800000000000026},{"$f":"EC3+$BJ$6","v":3.5400000000000027},{"$f":"ED3+$BJ$6","v":3.6000000000000028},{"$f":"EE3+$BJ$6","v":3.6600000000000028},{"$f":"EF3+$BJ$6","v":3.7200000000000029},{"$f":"EG3+$BJ$6","v":3.7800000000000029},{"$f":"EH3+$BJ$6","v":3.840000000000003},{"$f":"EI3+$BJ$6","v":3.900000000000003},{"$f":"EJ3+$BJ$6","v":3.9600000000000031},{"$f":"EK3+$BJ$6","v":4.0200000000000031},{"$f":"EL3+$BJ$6","v":4.0800000000000027},{"$f":"EM3+$BJ$6","v":4.1400000000000023},{"$f":"EN3+$BJ$6","v":4.200000000000002},{"$f":"EO3+$BJ$6","v":4.2600000000000016},{"$f":"EP3+$BJ$6","v":4.3200000000000012},{"$f":"EQ3+$BJ$6","v":4.3800000000000008},{"$f":"ER3+$BJ$6","v":4.4400000000000004},{"$f":"ES3+$BJ$6","v":4.5},{"$f":"ET3+$BJ$6","v":4.5599999999999996},{"$f":"EU3+$BJ$6","v":4.6199999999999992},{"$f":"EV3+$BJ$6","v":4.6799999999999988},{"$f":"EW3+$BJ$6","v":4.7399999999999984},{"$f":"EX3+$BJ$6","v":4.799999999999998},{"$f":"EY3+$BJ$6","v":4.8599999999999977},{"$f":"EZ3+$BJ$6","v":4.9199999999999973},{"$f":"FA3+$BJ$6","v":4.9799999999999969},{"$f":"FB3+$BJ$6","v":5.0399999999999965},{"$f":"FC3+$BJ$6","v":5.0999999999999961},{"$f":"FD3+$BJ$6","v":5.1599999999999957},{"$f":"FE3+$BJ$6","v":5.2199999999999953},{"$f":"FF3+$BJ$6","v":5.2799999999999949},{"$f":"FG3+$BJ$6","v":5.3399999999999945},{"$f":"FH3+$BJ$6","v":5.3999999999999941},{"$f":"FI3+$BJ$6","v":5.4599999999999937},{"$f":"FJ3+$BJ$6","v":5.5199999999999934},{"$f":"FK3+$BJ$6","v":5.579999999999993},{"$f":"FL3+$BJ$6","v":5.6399999999999926},{"$f":"FM3+$BJ$6","v":5.6999999999999922},{"$f":"FN3+$BJ$6","v":5.7599999999999918},{"$f":"FO3+$BJ$6","v":5.8199999999999914},{"$f":"FP3+$BJ$6","v":5.879999999999991},{"$f":"FQ3+$BJ$6","v":5.9399999999999906},{"$f":"FR3+$BJ$6","v":5.9999999999999902},{"$f":"FS3+$BJ$6","v":6.0599999999999898},{"$f":"FT3+$BJ$6","v":6.1199999999999894},{"$f":"FU3+$BJ$6","v":6.1799999999999891},{"$f":"FV3+$BJ$6","v":6.2399999999999887},{"$f":"FW3+$BJ$6","v":6.2999999999999883},{"$f":"FX3+$BJ$6","v":6.3599999999999879},{"$f":"FY3+$BJ$6","v":6.4199999999999875},{"$f":"FZ3+$BJ$6","v":6.4799999999999871},{"$f":"GA3+$BJ$6","v":6.5399999999999867},{"$f":"GB3+$BJ$6","v":6.5999999999999863},{"$f":"GC3+$BJ$6","v":6.6599999999999859},{"$f":"GD3+$BJ$6","v":6.7199999999999855},{"$f":"GE3+$BJ$6","v":6.7799999999999851},{"$f":"GF3+$BJ$6","v":6.8399999999999848},{"$f":"GG3+$BJ$6","v":6.8999999999999844},{"$f":"GH3+$BJ$6","v":6.959999999999984},{"$f":"GI3+$BJ$6","v":7.0199999999999836},{"$f":"GJ3+$BJ$6","v":7.0799999999999832},{"$f":"GK3+$BJ$6","v":7.1399999999999828},{"$f":"GL3+$BJ$6","v":7.1999999999999824},{"$f":"GM3+$BJ$6","v":7.259999999999982},{"$f":"GN3+$BJ$6","v":7.3199999999999816},{"$f":"GO3+$BJ$6","v":7.3799999999999812},{"$f":"GP3+$BJ$6","v":7.4399999999999809},{"$f":"GQ3+$BJ$6","v":7.4999999999999805},null,null,null,"1D in columns"]
["Table 1",null,null,null,null,null,null,"LSS: Linear Solvent Strength method (slightly wrong for GC,error up to ~tM/2)",null,null,null,null,null,null,null,null,null,null,null,null,null,null,null,null,null,null,null,null,null,null,{"$f":"AE3+$B$31/100","v":0.2},{"$f":"IF('Macro input'!$F$19=1,GC!AG4,IF($K$29>0,IF($AE4<$I$29,$G$29,IF($AE4<$I$29+$J$29,$G$29+((H$29-G$29)*($AE4-I$29)/J$29),$H$29)),$G$29))","v":150},150,{"$f":"AH3+$C$34","v":6.0000000000000001E-3},{"$f":"AI3+$B$34","v":0.02},6,6,15,5,3,0,0,0,0,0,0,0,0,0,0,0,0,0,0,0,0,0,0,0,0,null,null,{"$f":"BK3+$BJ$38","v":0.4},0.12,15.000760572663197,{"$f":"$BJ$31*NORMDIST(BL4,$BJ$29,$BJ$30,FALSE)","v":3.5184171430964625E-2},0,{"$f":"BY$4*$N$32+$M$32","v":15.00706704282698},null,null,null,null,null,"2D Sum",{"$f":"0.01*SUM(BW6:BW256)","v":2.157896023258422E-3},{"$f":"0.01*SUM(BX6:BX256)","v":3.9622958731564267E-3},7.0670428269808405E-3,1.2244622154573561E-2,2.0611666764974911E-2,3.3712023968199001E-2,5.358029295063603E-2,8.2759709436443618E-2,0.12424300400243582,0.1813050321647689,0.25720460296426423,0.35475205129590393,0.47583796423036251,0.63032002424267175,1.1819734001662483,5.7467512583264853,20.125817032214453,31.997800186594979,31.368199122854769,23.982776898379836,12.522426163787488,5.9795569263655244,8.3828435086431465,15.41032871325215,19.087298798443047,14.956880046217448,7.7225724602944021,3.1330592813187725,1.5276710821685995,1.0855846120096175,0.8748207206551869,0.70151097883226865,0.55002382894671498,0.4267915113069472,0.35290575328191703,0.39142680668932611,0.68338176131734119,1.4295702937601076,2.726563172090791,4.3050678565472635,5.4841701299235757,5.5974510371495194,4.5698922442756231,2.9912499949531308,1.6009176843174127,0.79561048224599262,0.59757628462571577,0.89583436037405106,1.5959131330732885,2.5822992456873313,3.6290496114042754,4.4103519213295854,4.6461534187886562,4.2784795586823225,3.5263386895009581,2.765802326561734,2.33063656258479,2.3749947037157142,2.8582760840602099,3.6135774573460075,4.4337452726062097,5.1369417970449138,5.6020977338782902,5.7755937657979963,5.6567259628634226,{"$f":"0.01*SUM(EJ6:EJ256)","v":5.276486573959601},4.6838044959911107,3.9425072083469934,3.1306644452459991,2.3326778263527186,1.6232145619216816,1.0510074683404553,0.63156611752969871,0.35163117497003749,0.18121161456798626,8.6397558855569545E-2,3.8103065567478465E-2,1.5544407853646136E-2,5.8668929789193573E-3,2.049063198368234E-3,6.6241145113292779E-4,1.9826808619182568E-4,5.4963597245829597E-5,1.4118115572870443E-5,3.363422302470598E-6,7.4896834998650138E-7,1.716595354873958E-7,8.3480893606560929E-8,1.5241859571869652E-7,3.8681394071140376E-7,9.8154438461602452E-7,2.421768977564707E-6,5.7998356304209828E-6,1.3481620985754706E-5,3.041875581704021E-5,6.6626510033973831E-5,1.4167518090776421E-4,2.9249445649776897E-4,5.8634863805692326E-4,1.1414241036139215E-3,2.157896023258422E-3,0,0,0,0,0,0,0,0,0,0,0,0,0,0,0,0,0,0,0,0,0,0,0,0,0,null,null,null,"2D in rows"]
["","Conc","Analyte",null,"t1D(ref)","t2D(ref)",null,"OBS: Only VBA will use a complex temperature program (see sheet Macro input)",null,null,null,null,null,null,null,null,null,null,null,null,null,null,null,null,null,null,null,null,null,null,0.4,{"$f":"IF('Macro input'!$F$19=1,GC!AG5,IF($K$29>0,IF($AE5<$I$29,$G$29,IF($AE5<$I$29+$J$29,$G$29+((H$29-G$29)*($AE5-I$29)/J$29),$H$29)),$G$29))","v":150},150,9.0000000000000011E-3,0.03,6,6,15,5,4,0,0,0,0,0,0,0,0,0,0,0,0,0,0,0,0,0,0,0,0,"Time intervals",null,0.60000000000000009,0.18,15.000785898216311,6.3171908695970502E-2,0,{"$f":"BZ$4*$N$32+$M$32","v":15.012244622154574},null,null,null,null,"1D t, min","2D plot",{"$f":"BW2*$BJ$21","v":{"$error":"#DIV/0!"}},{"$error":"#DIV/0!"},{"$f":"BY2*$BJ$21","v":{"$error":"#DIV/0!"}},{"$error":"#DIV/0!"},{"$error":"#DIV/0!"},{"$error":"#DIV/0!"},{"$error":"#DIV/0!"},{"$error":"#DIV/0!"},{"$error":"#DIV/0!"},{"$error":"#DIV/0!"},{"$error":"#DIV/0!"},{"$error":"#DIV/0!"},{"$error":"#DIV/0!"},{"$error":"#DIV/0!"},{"$error":"#DIV/0!"},{"$error":"#DIV/0!"},{"$error":"#DIV/0!"},{"$error":"#DIV/0!"},{"$error":"#DIV/0!"},{"$error":"#DIV/0!"},{"$error":"#DIV/0!"},{"$error":"#DIV/0!"},{"$error":"#DIV/0!"},{"$error":"#DIV/0!"},{"$error":"#DIV/0!"},{"$error":"#DIV/0!"},{"$error":"#DIV/0!"},{"$error":"#DIV/0!"},{"$error":"#DIV/0!"},{"$error":"#DIV/0!"},{"$error":"#DIV/0!"},{"$error":"#DIV/0!"},{"$error":"#DIV/0!"},{"$error":"#DIV/0!"},{"$error":"#DIV/0!"},{"$error":"#DIV/0!"},{"$error":"#DIV/0!"},{"$error":"#DIV/0!"},{"$error":"#DIV/0!"},{"$error":"#DIV/0!"},{"$error":"#DIV/0!"},{"$error":"#DIV/0!"},{"$error":"#DIV/0!"},{"$error":"#DIV/0!"},{"$error":"#DIV/0!"},{"$error":"#DIV/0!"},{"$error":"#DIV/0!"},{"$error":"#DIV/0!"},{"$error":"#DIV/0!"},{"$error":"#DIV/0!"},{"$error":"#DIV/0!"},{"$error":"#DIV/0!"},{"$error":"#DIV/0!"},{"$error":"#DIV/0!"},{"$error":"#DIV/0!"},{"$error":"#DIV/0!"},{"$error":"#DIV/0!"},{"$error":"#DIV/0!"},{"$error":"#DIV/0!"},{"$error":"#DIV/0!"},{"$error":"#DIV/0!"},{"$error":"#DIV/0!"},{"$error":"#DIV/0!"},{"$error":"#DIV/0!"},{"$error":"#DIV/0!"},{"$error":"#DIV/0!"},{"$f":"EK2*$BJ$21","v":{"$error":"#DIV/0!"}},{"$error":"#DIV/0!"},{"$error":"#DIV/0!"},{"$error":"#DIV/0!"},{"$error":"#DIV/0!"},{"$error":"#DIV/0!"},{"$error":"#DIV/0!"},{"$error":"#DIV/0!"},{"$error":"#DIV/0!"},{"$error":"#DIV/0!"},{"$error":"#DIV/0!"},{"$error":"#DIV/0!"},{"$error":"#DIV/0!"},{"$error":"#DIV/0!"},{"$error":"#DIV/0!"},{"$error":"#DIV/0!"},{"$error":"#DIV/0!"},{"$error":"#DIV/0!"},{"$error":"#DIV/0!"},{"$error":"#DIV/0!"},{"$error":"#DIV/0!"},{"$error":"#DIV/0!"},{"$error":"#DIV/0!"},{"$error":"#DIV/0!"},{"$error":"#DIV/0!"},{"$error":"#DIV/0!"},{"$error":"#DIV/0!"},{"$error":"#DIV/0!"},{"$error":"#DIV/0!"},{"$error":"#DIV/0!"},{"$error":"#DIV/0!"},{"$error":"#DIV/0!"},{"$error":"#DIV/0!"},{"$error":"#DIV/0!"},{"$error":"#DIV/0!"},{"$error":"#DIV/0!"},{"$error":"#DIV/0!"},{"$error":"#DIV/0!"},{"$error":"#DIV/0!"},{"$error":"#DIV/0!"},{"$error":"#DIV/0!"},{"$error":"#DIV/0!"},{"$error":"#DIV/0!"},{"$error":"#DIV/0!"},{"$error":"#DIV/0!"},{"$error":"#DIV/0!"},{"$error":"#DIV/0!"},{"$error":"#DIV/0!"},{"$error":"#DIV/0!"},{"$error":"#DIV/0!"},{"$error":"#DIV/0!"},{"$error":"#DIV/0!"},{"$error":"#DIV/0!"},{"$error":"#DIV/0!"},{"$error":"#DIV/0!"},{"$error":"#DIV/0!"},{"$error":"#DIV/0!"},{"$error":"#DIV/0!"},{"$error":"#DIV/0!"},{"$error":"#DIV/0!"},null,"Index","1D SumC","1D Sum","1D Trans","1Dt plot"]
[{"$f":"IF(C6<>\"\",IF(C6<>VLOOKUP(C6,Compounds!$B$11:'Compounds'!$G$610,1),\"Name error\",1),\"\")","v":1},1,"Phenol",null,1.5549999999999999,1.476,null,"Do only change the white input cells!",null,null,null,null,null,null,null,null,null,null,null,null,null,null,null,null,null,null,null,null,null,null,0.60000000000000009,{"$f":"IF('Macro input'!$F$19=1,GC!AG6,IF($K$29>0,IF($AE6<$I$29,$G$29,IF($AE6<$I$29+$J$29,$G$29+((H$29-G$29)*($AE6-I$29)/J$29),$H$29)),$G$29))","v":150},150,1.2E-2,0.04,6,6,15,5,5,0,0,0,0,0,0,0,0,0,0,0,0,0,0,0,0,0,0,0,0,"2D dt",{"$f":"C31*60/BJ2","v":0.06},0.8,0.24,15.000812007354357,0.11013566360207266,0,{"$f":"CA$4*$N$32+$M$32","v":15.020611666764975},null,null,null,null,0,null,0,0,0,0,0,0,0,0,0,0,0,0,0,0,0,0,0,0,0,0,0,0,0,0,0,0,0,0,0,0,0,0,0,0,0,0,0,0,0,0,0,0,0,0,0,0,0,0,0,0,0,0,0,0,0,0,0,0,0,0,0,0,0,0,0,0,0,0,0,0,0,0,0,0,0,0,0,0,0,0,0,0,0,0,0,0,0,0,0,0,0,0,0,0,0,0,0,0,0,0,0,0,0,0,0,0,0,0,0,0,0,0,0,0,0,0,0,0,0,0,0,0,0,0,0,0,null,1,{"$f":"IF(BU6=\"\",\"\",0.01*SUM(BW6:GR6))","v":0},{"$f":"IF(BW6=\"\",\"\",0.01*SUM(BW6:GR6)*$N$32+$M$32)","v":15},{"$f":"INDEX($BW$6:$GR$261,$GT6,$BJ$14)","v":0},{"$f":"GW6*$BJ$16","v":0}]
[{"$f":"IF(C7<>\"\",IF(C7<>VLOOKUP(C7,Compounds!$B$11:'Compounds'!$G$610,1),\"Name error\",2),\"\")","v":2},1,"Benzonitrile",null,1.665,1.722,null,null,null,null,null,null,null,null,null,null,null,null,null,null,null,null,null,null,null,null,null,null,null,null,0.8,{"$f":"IF('Macro input'!$F$19=1,GC!AG7,IF($K$29>0,IF($AE7<$I$29,$G$29,IF($AE7<$I$29+$J$29,$G$29+((H$29-G$29)*($AE7-I$29)/J$29),$H$29)),$G$29))","v":150},150,1.4999999999999999E-2,0.05,6,6,15,5,6,0,0,0,0,0,0,0,0,0,0,0,0,0,0,0,0,0,0,0,0,"1D dt",{"$f":"C31*BJ3","v":0.1},1,0.3,15.000838922206615,0.18644865283818102,0,{"$f":"CB$4*$N$32+$M$32","v":15.033712023968199},null,null,null,null,{"$f":"BU6+$BJ$7","v":0.1},null,0,0,0,0,0,0,0,0,0,0,0,0,0,0,0,0,0,0,0,0,0,0,0,0,0,0,0,0,0,0,0,0,0,0,0,0,0,0,0,0,0,0,0,0,0,0,0,0,0,0,0,0,0,0,0,0,0,0,0,0,0,0,0,0,0,0,0,0,0,0,0,0,0,0,0,0,0,0,0,0,0,0,0,0,0,0,0,0,0,0,0,0,0,0,0,0,0,0,0,0,0,0,0,0,0,0,0,0,0,0,0,0,0,0,0,0,0,0,0,0,0,0,0,0,0,0,null,2,0,15,{"$f":"INDEX($BW$6:$GR$261,$GT7,$BJ$14)","v":0},0]
[{"$f":"IF(C8<>\"\",IF(C8<>VLOOKUP(C8,Compounds!$B$11:'Compounds'!$G$610,1),\"Name error\",3),\"\")","v":3},1,"Benzofuran",null,1.68,1.5660000000000001,null,"GC x GC simulation",null,null,null,null,null,null,null,null,null,null,null,null,null,null,null,null,null,null,null,null,null,null,1,{"$f":"IF('Macro input'!$F$19=1,GC!AG8,IF($K$29>0,IF($AE8<$I$29,$G$29,IF($AE8<$I$29+$J$29,$G$29+((H$29-G$29)*($AE8-I$29)/J$29),$H$29)),$G$29))","v":150},150,1.7999999999999999E-2,6.0000000000000005E-2,6,6,15,5,7,0,0,0,0,0,0,0,0,0,0,0,0,0,0,0,0,0,0,0,0,null,null,1.2,0.36,15.000866665456035,0.30649107301706363,0,{"$f":"CC$4*$N$32+$M$32","v":15.053580292950636},null,null,null,null,0.2,null,0,0,0,0,0,0,0,0,0,0,0,0,0,0,0,0,0,0,0,0,0,0,0,0,0,0,0,0,0,0,0,0,0,0,0,0,0,0,0,0,0,0,0,0,0,0,0,0,0,0,0,0,0,0,0,0,0,0,0,0,0,0,0,0,0,0,0,0,0,0,0,0,0,0,0,0,0,0,0,0,0,0,0,0,0,0,0,0,0,0,0,0,0,0,0,0,0,0,0,0,0,0,0,0,0,0,0,0,0,0,0,0,0,0,0,0,0,0,0,0,0,0,0,0,0,0,null,3,0,15,{"$f":"INDEX($BW$6:$GR$261,$GT8,$BJ$14)","v":0},0]
[{"$f":"IF(C9<>\"\",IF(C9<>VLOOKUP(C9,Compounds!$B$11:'Compounds'!$G$610,1),\"Name error\",4),\"\")","v":4},1,"o-Cresol",null,1.875,1.8480000000000001,null,null,null,null,null,null,null,null,null,null,null,null,null,null,null,null,null,null,null,null,null,null,null,null,1.2,{"$f":"IF('Macro input'!$F$19=1,GC!AG9,IF($K$29>0,IF($AE9<$I$29,$G$29,IF($AE9<$I$29+$J$29,$G$29+((H$29-G$29)*($AE9-I$29)/J$29),$H$29)),$G$29))","v":150},150,2.0999999999999998E-2,7.0000000000000007E-2,6,6,15,5,8,0,0,0,0,0,0,0,0,0,0,0,0,0,0,0,0,0,0,0,0,"Sum max",null,1.4,0.42,15.000895260350827,0.48921944702716108,0,{"$f":"CD$4*$N$32+$M$32","v":15.082759709436443},null,null,null,null,0.30000000000000004,null,0,0,0,0,0,0,0,0,0,0,0,0,0,0,0,0,0,0,0,0,0,0,0,0,0,0,0,0,0,0,0,0,0,0,0,0,0,0,0,0,0,0,0,0,0,0,0,0,0,0,0,0,0,0,0,0,0,0,0,0,0,0,0,0,0,0,0,0,0,0,0,0,0,0,0,0,0,0,0,0,0,0,0,0,0,0,0,0,0,0,0,0,0,0,0,0,0,0,0,0,0,0,0,0,0,0,0,0,0,0,0,0,0,0,0,0,0,0,0,0,0,0,0,0,0,0,null,4,0,15,{"$f":"INDEX($BW$6:$GR$261,$GT9,$BJ$14)","v":0},0]
[{"$f":"IF(C10<>\"\",IF(C10<>VLOOKUP(C10,Compounds!$B$11:'Compounds'!$G$610,1),\"Name error\",5),\"\")","v":5},1,"3,5-Dimethylphenol",null,2.54,2.6220000000000003,null,null,null,{"$f":"IF('Macro input'!B20>0,\"Please run\",\"ok\")","v":"ok"},null,null,null,null,null,null,null,null,null,null,null,null,null,null,null,null,null,null,null,null,1.4,{"$f":"IF('Macro input'!$F$19=1,GC!AG10,IF($K$29>0,IF($AE10<$I$29,$G$29,IF($AE10<$I$29+$J$29,$G$29+((H$29-G$29)*($AE10-I$29)/J$29),$H$29)),$G$29))","v":150},150,2.3999999999999997E-2,0.08,6,6,15,5,9,0,0,0,0,0,0,0,0,0,0,0,0,0,0,0,0,0,0,0,0,"1D",{"$f":"MAX(GU6:GU256)","v":58.252728835014295},1.5999999999999999,0.48,15.000924730716182,0.75825782042196144,0,{"$f":"CE$4*$N$32+$M$32","v":15.124243004002436},null,null,null,null,0.4,null,0,0,0,0,0,0,0,0,0,0,0,0,0,0,0,0,0,0,0,0,0,0,0,0,0,0,0,0,0,0,0,0,0,0,0,0,0,0,0,0,0,0,0,0,0,0,0,0,0,0,0,0,0,0,0,0,0,0,0,0,0,0,0,0,0,0,0,0,0,0,0,0,0,0,0,0,0,0,0,0,0,0,0,0,0,0,0,0,0,0,0,0,0,0,0,0,0,0,0,0,0,0,0,0,0,0,0,0,0,0,0,0,0,0,0,0,0,0,0,0,0,0,0,0,0,0,null,5,0,15,{"$f":"INDEX($BW$6:$GR$261,$GT10,$BJ$14)","v":0},0]
[{"$f":"IF(C11<>\"\",IF(C11<>VLOOKUP(C11,Compounds!$B$11:'Compounds'!$G$610,1),\"Name error\",6),\"\")","v":6},1,"Quinoline",null,3.6150000000000002,4.7580000000000009,null,null,{"$f":"IF('Macro input'!A2*B31>2^16,\"N(Fortran) too high\",\"\")","v":""},null,null,null,null,null,null,null,null,null,null,null,null,null,null,null,null,null,null,null,null,null,1.5999999999999999,{"$f":"IF('Macro input'!$F$19=1,GC!AG11,IF($K$29>0,IF($AE11<$I$29,$G$29,IF($AE11<$I$29+$J$29,$G$29+((H$29-G$29)*($AE11-I$29)/J$29),$H$29)),$G$29))","v":150},150,2.6999999999999996E-2,0.09,6,6,15,5,10,0,0,0,0,0,0,0,0,0,0,0,0,0,0,0,0,0,0,0,0,"2D",{"$f":"MAX(BW4:GR4)","v":31.997800186594979},1.7999999999999998,0.54,15.000955100966209,1.1411885010173759,0,{"$f":"CF$4*$N$32+$M$32","v":15.181305032164769},null,null,null,null,0.5,null,0,0,0,0,0,0,0,0,0,0,0,0,0,0,0,0,0,0,0,0,0,0,0,0,0,0,0,0,0,0,0,0,0,0,0,0,0,0,0,0,0,0,0,0,0,0,0,0,0,0,0,0,0,0,0,0,0,0,0,0,0,0,0,0,0,0,0,0,0,0,0,0,0,0,0,0,0,0,0,0,0,0,0,0,0,0,0,0,0,0,0,0,0,0,0,0,0,0,0,0,0,0,0,0,0,0,0,0,0,0,0,0,0,0,0,0,0,0,0,0,0,0,0,0,0,0,null,6,0,15,{"$f":"INDEX($BW$6:$GR$261,$GT11,$BJ$14)","v":0},0]
[{"$f":"IF(C12<>\"\",IF(C12<>VLOOKUP(C12,Compounds!$B$11:'Compounds'!$G$610,1),\"Name error\",7),\"\")","v":7},1,"Indole",null,4.51,0.53400000000000003,null,"Modulation time",null,{"$f":"C31","v":0.1},"min",null,null,null,null,null,null,null,null,null,null,null,null,null,null,null,null,null,null,null,1.7999999999999998,{"$f":"IF('Macro input'!$F$19=1,GC!AG12,IF($K$29>0,IF($AE12<$I$29,$G$29,IF($AE12<$I$29+$J$29,$G$29+((H$29-G$29)*($AE12-I$29)/J$29),$H$29)),$G$29))","v":150},150,2.9999999999999995E-2,9.9999999999999992E-2,6,6,15,5,11,0,0,0,0,0,0,0,0,0,0,0,0,0,0,0,0,0,0,0,0,null,null,1.9999999999999998,0.60000000000000009,15.000986396116009,1.6677278398712301,0,{"$f":"CG$4*$N$32+$M$32","v":15.257204602964265},null,null,null,null,0.6,null,0,0,0,0,0,0,0,0,0,0,0,0,0,0,0,0,0,0,0,0,0,0,0,0,0,0,0,0,0,0,0,0,0,0,0,0,0,0,0,0,0,0,0,0,0,0,0,0,0,0,0,0,0,0,0,0,0,0,0,0,0,0,0,0,0,0,0,0,0,0,0,0,0,0,0,0,0,0,0,0,0,0,0,0,0,0,0,0,0,0,0,0,0,0,0,0,0,0,0,0,0,0,0,0,0,0,0,0,0,0,0,0,0,0,0,0,0,0,0,0,0,0,0,0,0,0,null,7,0,15,{"$f":"INDEX($BW$6:$GR$261,$GT12,$BJ$14)","v":0},0]
[{"$f":"IF(C13<>\"\",IF(C13<>VLOOKUP(C13,Compounds!$B$11:'Compounds'!$G$610,1),\"Name error\",8),\"\")","v":8},1,"Tetradecane",null,5.83,2.052,null,"No of cycles",null,{"$f":"B31/C31","v":200},{"$f":"IF(J13>500,\"Too many!\",\"\")","v":""},null,null,null,null,null,null,null,null,null,null,null,null,null,null,null,null,null,null,null,1.9999999999999998,{"$f":"IF('Macro input'!$F$19=1,GC!AG13,IF($K$29>0,IF($AE13<$I$29,$G$29,IF($AE13<$I$29+$J$29,$G$29+((H$29-G$29)*($AE13-I$29)/J$29),$H$29)),$G$29))","v":150},150,3.2999999999999995E-2,0.10999999999999999,6,6,15,5,12,0,0,0,0,0,0,0,0,0,0,0,0,0,0,0,0,0,0,0,0,"1D trace",null,2.1999999999999997,0.66000000000000014,15.001018641793939,2.3665750048618639,0,{"$f":"CH$4*$N$32+$M$32","v":15.354752051295904},null,null,null,null,0.7,null,0,0,0,0,0,0,0,0,0,0,0,0,0,0,0,0,0,0,0,0,0,0,0,0,0,0,0,0,0,0,0,0,0,0,0,0,0,0,0,0,0,0,0,0,0,0,0,0,0,0,0,0,0,0,0,0,0,0,0,0,0,0,0,0,0,0,0,0,0,0,0,0,0,0,0,0,0,0,0,0,0,0,0,0,0,0,0,0,0,0,0,0,0,0,0,0,0,0,0,0,0,0,0,0,0,0,0,0,0,0,0,0,0,0,0,0,0,0,0,0,0,0,0,0,0,0,null,8,0,15,{"$f":"INDEX($BW$6:$GR$261,$GT13,$BJ$14)","v":0},0]
[{"$f":"IF(C14<>\"\",IF(C14<>VLOOKUP(C14,Compounds!$B$11:'Compounds'!$G$610,1),\"Name error\",9),\"\")","v":9},1,"Dibenzofuran",null,8.7949999999999999,3.7440000000000002,null,"Calibration range",null,{"$f":"SPmodel!B30","v":"HP-5"},{"$f":"SPmodel!X30","v":"Rxi-50-240"},null,"Column difference",null,null,null,null,null,null,null,null,null,null,null,null,null,null,null,null,null,2.1999999999999997,{"$f":"IF('Macro input'!$F$19=1,GC!AG14,IF($K$29>0,IF($AE14<$I$29,$G$29,IF($AE14<$I$29+$J$29,$G$29+((H$29-G$29)*($AE14-I$29)/J$29),$H$29)),$G$29))","v":150},150,3.5999999999999997E-2,0.11999999999999998,6,{"$f":"IF($N$30<>0,SUM(AO14:BH14)*$N$30+$M$30,-1)","v":6},15,5,13,0,0,0,0,0,0,0,0,0,0,0,0,0,0,0,0,0,0,0,0,"Column",{"$f":"ROUND(O67*BJ2/(60*C31),0)+1","v":53},2.4,0.7200000000000002,15.001051864254048,3.2609389706618961,0,{"$f":"CI$4*$N$32+$M$32","v":15.475837964230362},null,null,null,null,0.79999999999999993,null,0,0,0,0,0,0,0,0,0,0,0,0,0,0,0,0,0,0,0,0,0,0,0,0,0,0,0,0,0,0,0,0,0,0,0,0,0,0,0,0,0,0,0,0,0,0,0,0,0,0,0,0,0,0,0,0,0,0,0,0,0,0,0,0,0,0,0,0,0,0,0,0,0,0,0,0,0,0,0,0,0,0,0,0,0,0,0,0,0,0,0,0,0,0,0,0,0,0,0,0,0,0,0,0,0,0,0,0,0,0,0,0,0,0,0,0,0,0,0,0,0,0,0,0,0,0,null,9,0,15,{"$f":"INDEX($BW$6:$GR$261,$GT14,$BJ$14)","v":0},0]
[{"$f":"IF(C15<>\"\",IF(C15<>VLOOKUP(C15,Compounds!$B$11:'Compounds'!$G$610,1),\"Name error\",10),\"\")","v":10},1,"Diphenylamine",null,10.1,3.1320000000000001,null,"Min oC",null,{"$f":"MIN(SPmodel!B31:B50)","v":60},{"$f":"MIN(SPmodel!X31:X50)","v":60},null,"1 - Cos q","d",null,null,null,null,null,null,null,null,null,null,null,null,null,null,null,null,2.4,{"$f":"IF('Macro input'!$F$19=1,GC!AG15,IF($K$29>0,IF($AE15<$I$29,$G$29,IF($AE15<$I$29+$J$29,$G$29+((H$29-G$29)*($AE15-I$29)/J$29),$H$29)),$G$29))","v":150},150,3.9E-2,0.12999999999999998,6,6,15,5,14,0,0,0,0,0,0,0,0,0,0,0,0,0,0,0,0,0,0,0,0,"Max",{"$f":"MAX(GW6:GW256)","v":228.02086805626277},2.6,0.78000000000000025,15.001086090388682,4.3630719168860264,0,{"$f":"CJ$4*$N$32+$M$32","v":15.630320024242671},null,null,null,null,0.89999999999999991,null,0,0,0,0,0,0,0,0,0,0,0,0,0,0,0,0,0,0,0,0,0,0,0,0,0,0,0,0,0,0,0,0,0,0,0,0,0,0,0,0,0,0,0,0,0,0,0,0,0,0,0,0,0,0,0,0,0,0,0,0,0,0,0,0,0,0,0,0,0,0,0,0,0,0,0,0,0,0,0,0,0,0,0,0,0,0,0,0,0,0,0,0,0,0,0,0,0,0,0,0,0,0,0,0,0,0,0,0,0,0,0,0,0,0,0,0,0,0,0,0,0,0,0,0,0,0,null,10,0,15,{"$f":"INDEX($BW$6:$GR$261,$GT15,$BJ$14)","v":0},0]
[{"$f":"IF(C16<>\"\",IF(C16<>VLOOKUP(C16,Compounds!$B$11:'Compounds'!$G$610,1),\"Name error\",11),\"\")","v":11},1,"Carbazole",null,12.745000000000001,3.2220000000000004,null,"Max oC",null,{"$f":"MAX(SPmodel!B31:B50)","v":300},{"$f":"MAX(SPmodel!X31:X50)","v":240},null,{"$f":"SPmodel!J34","v":23.740122266013717},{"$f":"SPmodel!K34","v":0.41138571040875804},null,null,null,null,null,null,null,null,null,null,null,null,null,null,null,null,2.6,{"$f":"IF('Macro input'!$F$19=1,GC!AG16,IF($K$29>0,IF($AE16<$I$29,$G$29,IF($AE16<$I$29+$J$29,$G$29+((H$29-G$29)*($AE16-I$29)/J$29),$H$29)),$G$29))","v":150},150,4.2000000000000003E-2,0.13999999999999999,6,6,15,5,15,0,0,0,0,0,0,0,0,0,0,0,0,0,0,0,0,0,0,0,0,"Plot factor",{"$f":"O69*BJ10/BJ15","v":0.25547104232863804},2.8000000000000003,0.8400000000000003,15.001121347741266,5.6685159781076226,0,{"$f":"CK$4*$N$32+$M$32","v":16.18197340016625},null,null,null,null,0.99999999999999989,null,0,0,0,0,0,0,0,0,0,0,0,0,0,0,0,0,0,0,0,0,0,0,0,0,0,0,0,0,0,0,0,0,0,0,0,0,0,0,0,0,0,0,0,0,0,0,0,0,0,0,0,0,0,0,0,0,0,0,0,0,0,0,0,0,0,0,0,0,0,0,0,0,0,0,0,0,0,0,0,0,0,0,0,0,0,0,0,0,0,0,0,0,0,0,0,0,0,0,0,0,0,0,0,0,0,0,0,0,0,0,0,0,0,0,0,0,0,0,0,0,0,0,0,0,0,0,null,11,0,15,{"$f":"INDEX($BW$6:$GR$261,$GT16,$BJ$14)","v":0},0]
[{"$f":"IF(C17<>\"\",IF(C17<>VLOOKUP(C17,Compounds!$B$11:'Compounds'!$G$610,1),\"Name error\",12),\"\")","v":""},null,null,null,null,null,null,null,null,null,null,null,null,null,null,null,null,null,null,null,null,null,null,null,null,null,null,null,null,null,2.8000000000000003,{"$f":"IF('Macro input'!$F$19=1,GC!AG17,IF($K$29>0,IF($AE17<$I$29,$G$29,IF($AE17<$I$29+$J$29,$G$29+((H$29-G$29)*($AE17-I$29)/J$29),$H$29)),$G$29))","v":150},150,4.5000000000000005E-2,0.15,6,6,15,5,16,0,0,0,0,0,0,0,0,0,0,0,0,0,0,0,0,0,0,0,0,null,null,3.0000000000000004,0.90000000000000036,15.001157664519258,7.1511136749168847,0,{"$f":"CL$4*$N$32+$M$32","v":20.746751258326483},null,null,null,null,1.0999999999999999,null,0,0,0,0,0,0,0,0,0,0,0,0,0,0,0,0,0,0,0,0,0,0,0,0,0,0,0,0,0,0,0,0,0,0,0,0,0,0,0,0,0,0,0,0,0,0,0,0,0,0,0,0,0,0,0,0,0,0,0,0,0,0,0,0,0,0,0,0,0,0,0,0,0,0,0,0,0,0,0,0,0,0,0,0,0,0,0,0,0,0,0,0,0,0,0,0,0,0,0,0,0,0,0,0,0,0,0,0,0,0,0,0,0,0,0,0,0,0,0,0,0,0,0,0,0,0,null,12,0,15,{"$f":"INDEX($BW$6:$GR$261,$GT17,$BJ$14)","v":0},0]
[{"$f":"IF(C18<>\"\",IF(C18<>VLOOKUP(C18,Compounds!$B$11:'Compounds'!$G$610,1),\"Name error\",13),\"\")","v":""},null,null,null,null,null,null,"1) Fill in Table 1, 2 and 3",null,null,null,null,null,null,null,null,null,null,null,null,null,null,null,null,null,null,null,null,null,null,3.0000000000000004,{"$f":"IF('Macro input'!$F$19=1,GC!AG18,IF($K$29>0,IF($AE18<$I$29,$G$29,IF($AE18<$I$29+$J$29,$G$29+((H$29-G$29)*($AE18-I$29)/J$29),$H$29)),$G$29))","v":150},150,4.8000000000000008E-2,0.16,6,6,15,5,17,0,0,0,0,0,0,0,0,0,0,0,0,0,0,0,0,0,0,0,0,"2D trace",null,3.2000000000000006,0.96000000000000041,15.00119506960727,8.7600239030636953,0,{"$f":"CM$4*$N$32+$M$32","v":35.125817032214457},null,null,null,null,1.2,null,0,0,0,0,0,0,0,0,0,0,0,0,0,0,0,0,0,0,0,0,0,0,0,0,0,0,0,0,0,0,0,0,0,0,0,0,0,0,0,0,0,0,0,0,0,0,0,0,0,0,0,0,0,0,0,0,0,0,0,0,0,0,0,0,0,0,0,0,0,0,0,0,0,0,0,0,0,0,0,0,0,0,0,0,0,0,0,0,0,0,0,0,0,0,0,0,0,0,0,0,0,0,0,0,0,0,0,0,0,0,0,0,0,0,0,0,0,0,0,0,0,0,0,0,0,0,null,13,0,15,{"$f":"INDEX($BW$6:$GR$261,$GT18,$BJ$14)","v":0},0]
[{"$f":"IF(C19<>\"\",IF(C19<>VLOOKUP(C19,Compounds!$B$11:'Compounds'!$G$610,1),\"Name error\",14),\"\")","v":""},null,null,null,null,null,null,"2) Press Run simualtion",null,null,null,null,"R 1Dx2D",null,null,null,null,null,null,null,null,null,null,null,null,null,null,null,null,null,3.2000000000000006,{"$f":"IF('Macro input'!$F$19=1,GC!AG19,IF($K$29>0,IF($AE19<$I$29,$G$29,IF($AE19<$I$29+$J$29,$G$29+((H$29-G$29)*($AE19-I$29)/J$29),$H$29)),$G$29))","v":150},150,5.1000000000000011E-2,0.17,6,6,15,5,18,0,0,0,0,0,0,0,0,0,0,0,0,0,0,0,0,0,0,0,0,"Row",{"$f":"ROUND(O68/(BJ3*C31),0)+1","v":79},3.4000000000000008,1.0200000000000005,15.001233592580375,10.419915658731668,0,{"$f":"CN$4*$N$32+$M$32","v":46.997800186594979},null,null,null,null,1.3,null,0,0,0,0,0,0,0,0,0,0,0,0,0,0,0,0,0,0,0,0,0,0,0,0,0,0,0,0,0,0,0,0,0,0,0,0,0,0,0,0,0,0,0,0,0,0,0,0,0,0,0,0,0,0,0,0,0,0,0,0,0,0,0,0,0,0,0,0,0,0,0,0,0,0,0,0,0,0,0,0,0,0,0,0,0,0,0,0,0,0,0,0,0,0,0,0,0,0,0,0,0,0,0,0,0,0,0,0,0,0,0,0,0,0,0,0,0,0,0,0,0,0,0,0,0,0,null,14,0,15,{"$f":"INDEX($BW$6:$GR$261,$GT19,$BJ$14)","v":0},0]
[{"$f":"IF(C20<>\"\",IF(C20<>VLOOKUP(C20,Compounds!$B$11:'Compounds'!$G$610,1),\"Name error\",15),\"\")","v":""},null,null,null,null,null,null,"3) Analyse the results",null,null,null,null,{"$f":"CORREL(C85:C104,J85:J104)","v":0.92441901909850521},null,null,null,null,null,null,null,null,null,null,null,null,null,null,null,null,null,3.4000000000000008,{"$f":"IF('Macro input'!$F$19=1,GC!AG20,IF($K$29>0,IF($AE20<$I$29,$G$29,IF($AE20<$I$29+$J$29,$G$29+((H$29-G$29)*($AE20-I$29)/J$29),$H$29)),$G$29))","v":150},150,5.4000000000000013E-2,0.18000000000000002,6,6,15,5,19,0,0,0,0,0,0,0,0,0,0,0,0,0,0,0,0,0,0,0,0,"Max",{"$f":"MAX(BW2:GR2)","v":0},3.600000000000001,1.0800000000000005,15.00127326371757,12.035119840546708,0,{"$f":"CO$4*$N$32+$M$32","v":46.368199122854769},null,null,null,null,1.4000000000000001,null,2.1545145971255817E-72,1.0457805427060278E-63,1.4429013341575054E-55,5.6589736782143092E-48,6.3087551756496091E-41,1.9991925991835132E-34,1.8008210477918843E-28,4.6109609247385459E-23,3.3559639495132325E-18,6.9430148346824097E-14,4.0830421260796721E-10,6.8253447005526702E-7,3.2431742220434366E-4,4.3804722215765299E-2,1.6818084998436371,18.354270027100227,56.93805815079142,50.208026109391817,12.584866273413825,0.89666253407304064,1.8159939757715092E-2,1.0454535568928458E-4,1.7108031719722371E-7,7.957933584890387E-11,1.052217535183012E-14,3.9547198247389213E-19,4.2250404206881132E-24,1.283071849191114E-29,1.1075824006270327E-35,2.7177285525010859E-42,1.8955754228770037E-49,3.7582098160050073E-57,2.1179999089586462E-65,3.3929371339636991E-74,1.5450077060970514E-83,1.9998178853221331E-93,7.3579224743795818E-104,7.695288889322597E-115,2.2877028345419836E-126,1.9332109814692317E-138,4.643696823120395E-151,3.1706873758558801E-164,6.1538647962016006E-178,3.3950598792548315E-192,5.3241696780361069E-207,2.3733473197019434E-222,3.0072924920345984E-238,1.0831659594755574E-254,1.1089687220968949E-271,3.2273684767454755E-289,2.6698248400063768E-307,0,0,0,0,0,0,0,0,0,0,0,0,0,0,0,0,0,0,0,0,0,0,0,0,0,0,0,0,0,0,0,0,1.2208421897438448E-303,1.1475359625147574E-285,3.0660415891467583E-268,2.3285991765016149E-251,5.0270869708679355E-235,3.0849137002988855E-219,5.3811438388299885E-204,2.6681555445277846E-189,3.7605610892164209E-175,1.5066039906674428E-161,1.7157363011732368E-148,5.554013460066009E-136,5.110557476557871E-124,1.3367019675520823E-112,9.9381571265782729E-102,2.1003036717969698E-91,1.2617208667200085E-81,2.1545145971255817E-72,0,0,0,0,0,0,0,0,0,0,0,0,0,0,0,0,0,0,0,0,0,0,0,0,0,null,15,1.4072608597346812,16.407260859734681,{"$f":"INDEX($BW$6:$GR$261,$GT20,$BJ$14)","v":0},0]
[{"$f":"IF(C21<>\"\",IF(C21<>VLOOKUP(C21,Compounds!$B$11:'Compounds'!$G$610,1),\"Name error\",16),\"\")","v":""},null,null,null,null,null,null,"4) Have fun (or read the manual)",null,null,null,null,null,null,null,null,null,null,null,null,null,null,null,null,null,null,null,null,null,null,3.600000000000001,{"$f":"IF('Macro input'!$F$19=1,GC!AG21,IF($K$29>0,IF($AE21<$I$29,$G$29,IF($AE21<$I$29+$J$29,$G$29+((H$29-G$29)*($AE21-I$29)/J$29),$H$29)),$G$29))","v":150},150,5.7000000000000016E-2,0.19000000000000003,6,6,15,5,20,0,0,0,0,0,0,0,0,0,0,0,0,0,0,0,0,0,0,0,0,"Plot factor",{"$f":"O69*BJ11/BJ20","v":{"$error":"#DIV/0!"}},3.8000000000000012,1.1400000000000006,15.001314114015425,13.497829487383267,0,{"$f":"CP$4*$N$32+$M$32","v":38.982776898379839},null,null,null,null,1.5000000000000002,null,4.4090661668320383E-70,3.7123279051537995E-62,3.1682035922392348E-54,1.1629826884344409E-46,1.2845944931347077E-39,4.0642061623100716E-33,3.6596120883693772E-27,9.3694234263371581E-22,6.8190919083751012E-17,1.4107742784373197E-12,8.2966451532174298E-9,1.3869618596146875E-5,6.591041796319955E-3,0.8904288609743819,34.204386231760125,373.84113634872,1165.9724462278882,1055.8909206395772,314.79808026110589,58.60413677767334,11.223037401404168,1.1099743560674087,4.2318656205884528E-2,6.0207878898106411E-4,3.1875684116421497E-6,6.2779750834135691E-9,4.5995575422177705E-12,1.2535643191440875E-15,1.2708989531745263E-19,4.7930198848310549E-24,6.7242096623425402E-29,3.5091914997021118E-34,6.8125028616451616E-40,4.9197171374383374E-46,1.3216223543077592E-52,1.320712915522522E-59,4.9095680124294026E-67,6.7890958968460751E-75,3.4923230658061826E-83,6.6826803505502661E-92,4.7568643918505607E-101,1.259576820915612E-110,1.2406873550645353E-120,4.5460463424068571E-131,6.1963960431397093E-142,3.1417981813047556E-153,5.9258575403104802E-165,4.1577458245633601E-177,1.0851717320809541E-189,1.0535928506592269E-202,3.8052304595787056E-216,5.112377568696522E-230,2.5550457653788081E-244,4.750160162329802E-259,3.2851229583898714E-274,8.4514030200353996E-290,8.0879750328405485E-306,0,0,0,0,0,0,0,0,0,0,0,0,0,0,0,0,0,0,0,0,0,0,0,0,3.7224523856990975E-296,2.1490100461244262E-280,4.6151045803999733E-265,3.6868753483255318E-250,1.095643253795358E-235,1.2111939424918098E-221,4.9807187406232132E-208,7.6191084001698782E-195,4.3356088461043486E-182,9.1776151374889994E-170,7.22675607566824E-158,2.1168532781408585E-146,2.3065980765656736E-135,9.349468017081044E-125,1.4097291668270129E-114,7.907121736465606E-105,1.6498332660105486E-95,1.2809446085058172E-86,3.7228575260380111E-78,4.4090661668320383E-70,0,0,0,0,0,0,0,0,0,0,0,0,0,0,0,0,0,0,0,0,0,0,0,0,0,null,16,30.1658407595373,45.165840759537303,{"$f":"INDEX($BW$6:$GR$261,$GT21,$BJ$14)","v":2.5550457653788081E-244},6.5274020487869692E-245]
[{"$f":"IF(C22<>\"\",IF(C22<>VLOOKUP(C22,Compounds!$B$11:'Compounds'!$G$610,1),\"Name error\",17),\"\")","v":""},null,null,null,null,null,null,null,null,null,null,null,null,null,null,null,null,null,null,null,null,null,null,null,null,null,null,null,null,null,3.8000000000000012,{"$f":"IF('Macro input'!$F$19=1,GC!AG22,IF($K$29>0,IF($AE22<$I$29,$G$29,IF($AE22<$I$29+$J$29,$G$29+((H$29-G$29)*($AE22-I$29)/J$29),$H$29)),$G$29))","v":150},150,6.0000000000000019E-2,0.20000000000000004,6,6,15,5,21,0,0,0,0,0,0,0,0,0,0,0,0,0,0,0,0,0,0,0,0,null,null,4.0000000000000009,1.2000000000000006,15.0013561752019,14.699574341055179,0,{"$f":"CQ$4*$N$32+$M$32","v":27.522426163787486},null,null,null,null,1.6000000000000003,null,8.4616885651661657E-69,3.3927180342299048E-61,5.1328052365600731E-54,3.0492401242976058E-47,7.8084139050963834E-41,9.4365843596859747E-35,5.0896397485829969E-29,1.0489137515736157E-23,7.3920514682588458E-19,1.6944832786086089E-14,1.2391791287680895E-10,2.8703727092511637E-7,2.1013479909132079E-4,4.8647853363619036E-2,3.5749548830666411,84.268621658642786,654.89149618402234,1796.4846342510664,1990.7688096419292,1025.2681388348055,244.56218660009577,24.422221041503001,0.96717985152293839,1.5663940796856918E-2,1.1785277934246907E-4,4.8479144759318479E-7,1.0827737878943215E-9,1.129544153590514E-12,4.9577564018445514E-16,8.811289758623995E-20,6.2733620425328559E-24,1.7845202871821457E-28,2.0269616051632233E-33,9.1921910950207934E-39,1.6643006500012412E-44,1.203045088906973E-50,3.4719151726803694E-57,4.0003071613405109E-64,1.8401558199820447E-71,3.3795033760004184E-79,2.4779252130954137E-87,7.2537156963115522E-96,8.4775408238614686E-105,3.9556355824695116E-114,7.3688494710212542E-124,5.4804992169279022E-134,1.6273373042973407E-144,1.9291769540244396E-155,9.1306895199332418E-167,1.725329747649902E-178,1.3016003911955769E-190,3.920308602377172E-203,4.7141116653636688E-216,2.2631664728668388E-229,4.337806356761454E-243,3.3194096021501276E-257,1.0141181513274632E-271,1.2369532647179247E-286,6.0235851130723431E-302,0,0,0,0,0,0,0,0,0,0,0,0,0,0,0,0,0,0,0,0,0,4.6720108890187458E-305,1.1528098199525243E-289,1.135690623292787E-274,4.4674836072588232E-260,7.0212622942346723E-246,4.4200443585254458E-232,1.1262248407300679E-218,1.2056619860097502E-205,6.0091497420518764E-193,1.6218977444807197E-180,2.3985147058768827E-168,1.6516088125364001E-156,4.6217981693502837E-145,4.9577622531963063E-134,1.9982802642636217E-123,3.0065929187900893E-113,1.6849243838639209E-103,3.5142680041563992E-94,2.7271876529760184E-85,7.8740682336695538E-77,8.4616885651661657E-69,0,0,0,0,0,0,0,0,0,0,0,0,0,0,0,0,0,0,0,0,0,0,0,0,0,null,17,58.252728835014295,73.252728835014295,{"$f":"INDEX($BW$6:$GR$261,$GT22,$BJ$14)","v":4.7141116653636688E-216},1.2043190208040482E-216]
[{"$f":"IF(C23<>\"\",IF(C23<>VLOOKUP(C23,Compounds!$B$11:'Compounds'!$G$610,1),\"Name error\",18),\"\")","v":""},null,null,null,null,null,null,"Test for proper modulation:",null,null,"VBA temp.program.",null,"C-term.",null,null,null,null,null,null,null,null,null,null,null,null,null,null,null,null,null,4.0000000000000009,{"$f":"IF('Macro input'!$F$19=1,GC!AG23,IF($K$29>0,IF($AE23<$I$29,$G$29,IF($AE23<$I$29+$J$29,$G$29+((H$29-G$29)*($AE23-I$29)/J$29),$H$29)),$G$29))","v":150},150,6.3000000000000014E-2,0.21000000000000005,6,6,15,5,22,0,0,0,0,0,0,0,0,0,0,0,0,0,0,0,0,0,0,0,0,"Analyt # ",{"$f":"N61","v":11},4.2000000000000011,1.2600000000000007,15.001399479750319,15.544361344469806,0,{"$f":"CR$4*$N$32+$M$32","v":20.979556926365525},null,null,null,null,1.7000000000000004,null,2.0306329605751732E-70,5.413716721864835E-63,5.8484653913849611E-56,2.6694430932581208E-49,5.8066226295370376E-43,6.7512209367718679E-37,3.7347064360763665E-31,7.902202555917702E-26,5.657803076980931E-21,1.3096583774418188E-16,9.6548682842712817E-13,2.2589498274679222E-9,1.6839712295724634E-6,4.0663514951146161E-4,3.3481262655798226E-2,1.0807924869751224,17.323998704367842,151.03066916173057,620.08528277459925,1064.5001857241768,736.0582032360013,203.47657870489371,22.462118861945424,0.99002527962385645,1.7421511665241453E-2,1.2239529826229572E-4,3.4330600257851686E-7,3.8444596074976638E-10,1.7188037497362224E-13,3.0679927070265274E-17,2.1863484650983377E-21,6.2204451762301043E-26,7.0657875761993787E-31,3.2043261338824177E-36,5.8016279123711501E-42,4.1937260462310326E-48,1.2102839303986711E-54,1.3944774702314369E-61,6.4146470008666571E-69,1.178069865641928E-76,8.6378639051041341E-85,2.528591608009419E-93,2.9552079901165997E-102,1.3789052889489791E-111,2.5687263897845203E-121,1.9104614666209259E-131,5.6727774058465687E-142,6.724968086069351E-153,3.1828907917060394E-164,6.0143718110913583E-176,4.5372826341023921E-188,1.3665905651387766E-200,1.6433044380715891E-213,7.8892308306616963E-227,1.5121271924752626E-240,1.1571216208282041E-254,3.5351408220764189E-269,4.3119275356437606E-284,2.0997771907149154E-299,0,0,0,0,0,0,0,0,0,0,0,0,0,0,0,0,0,0,0,0,0,1.6286284190196446E-302,4.0185820840614758E-287,3.958773948410003E-272,1.5569891591370869E-257,2.4448234332434068E-243,1.5326621729989119E-229,3.8360337367238509E-216,3.8331470496594753E-203,1.5292052480858011E-190,2.435644066060029E-178,1.5488206945577427E-166,3.9321676082545658E-155,3.9858178374500533E-144,1.6131816515042884E-133,2.6072643755254209E-123,1.6831829304393134E-113,4.3422297689375019E-104,4.479481745842619E-95,1.8496151105321177E-86,3.060092124017601E-78,2.0306329605751732E-70,0,0,0,0,0,0,0,0,0,0,0,0,0,0,0,0,0,0,0,0,0,0,0,0,0,null,18,28.170592887690042,43.170592887690042,{"$f":"INDEX($BW$6:$GR$261,$GT23,$BJ$14)","v":1.6433044380715891E-213},4.198166976574257E-214]
[{"$f":"IF(C24<>\"\",IF(C24<>VLOOKUP(C24,Compounds!$B$11:'Compounds'!$G$610,1),\"Name error\",19),\"\")","v":""},null,null,null,null,null,null,{"$f":"IF('Macro input'!N6=\"Ok\",\"   Ok\",\"Change  tmax 1D to \")","v":"   Ok"},null,null,"1D",{"$f":"IF('Macro input'!F19=0,\"LSS\",\"Complex\")","v":"LSS"},"1D",{"$f":"IF(Columns!K7=0,\"Litt.\",\"Mean\")","v":"Mean"},null,null,null,null,null,null,null,null,null,null,null,null,null,null,null,null,4.2000000000000011,{"$f":"IF('Macro input'!$F$19=1,GC!AG24,IF($K$29>0,IF($AE24<$I$29,$G$29,IF($AE24<$I$29+$J$29,$G$29+((H$29-G$29)*($AE24-I$29)/J$29),$H$29)),$G$29))","v":150},150,6.6000000000000017E-2,0.22000000000000006,6,6,15,5,23,0,0,0,0,0,0,0,0,0,0,0,0,0,0,0,0,0,0,0,0,"sqrt(pi/2)",{"$f":"SQRT(PI()/2)","v":1.2533141373155001},4.4000000000000012,1.3200000000000007,15.001444060893533,15.961301845552788,0,{"$f":"CS$4*$N$32+$M$32","v":23.382843508643148},null,null,null,null,1.8000000000000005,null,1.4054628435082094E-71,3.6712224757932506E-64,3.8285917878028673E-57,1.5940592083292316E-50,2.6497619435028437E-44,1.7585158752314974E-38,4.6593223029563754E-33,4.9287437372602671E-28,2.0815495248394716E-23,3.5097346489659605E-19,2.3626470219746273E-15,6.3498055795317844E-12,6.8133239416506989E-9,2.9187350476860466E-6,4.9919167389683738E-4,3.4086076789790302E-2,0.92923108174607072,10.113639356919805,43.946897725915179,76.240547784270248,52.805701697228145,14.602010386779883,1.6120611546310506,7.1053814533562396E-2,1.2503462849481092E-3,8.784362374227238E-6,2.4639234057464282E-8,2.7591873363786838E-11,1.2335938573178131E-14,2.2019133936796589E-18,1.5691530062842927E-22,4.4644439845539382E-27,5.0711503678083519E-32,2.2997605684311809E-37,4.1638567824076762E-43,3.0098577338835565E-49,8.6862670759799286E-56,1.0008233137390493E-62,4.6038235861982995E-70,8.4550651546359549E-78,6.1994372527929572E-86,1.8147825879185646E-94,2.1209672559039218E-103,9.8964708292431487E-113,1.8435875174709106E-122,1.3711475564226839E-132,4.0713801424709341E-143,4.826542549713798E-154,2.2843763183180419E-165,4.3165441210292037E-177,3.2564299805283652E-189,9.8080874529992682E-202,1.1794076478840042E-214,5.6621396267411123E-228,1.0852610959120402E-241,8.3047185750816187E-256,2.5371878912446772E-270,3.0946915220576629E-285,1.5070203793082401E-300,0,0,0,0,0,0,0,0,0,0,0,0,0,0,0,0,0,0,0,0,0,1.1688745970935695E-303,2.8841560539288041E-288,2.8412314616631932E-273,1.1174587486224064E-258,1.7546617536084845E-244,1.0999991378220833E-230,2.7531400531416721E-217,2.7510677737919558E-204,1.0975171099106253E-191,1.7480680469123503E-179,1.1115842746802832E-167,2.8220420402899988E-156,2.8603658814547808E-145,1.1574886044142663E-134,1.8700313356582695E-124,1.2061965137169541E-114,3.1061632621568933E-105,3.1935043624162904E-96,1.3108342301105197E-87,2.1481522497322885E-79,1.4054628435082094E-71,0,0,0,0,0,0,0,0,0,0,0,0,0,0,0,0,0,0,0,0,0,0,0,0,0,null,19,2.0035699035135655,17.003569903513565,{"$f":"INDEX($BW$6:$GR$261,$GT24,$BJ$14)","v":1.1794076478840042E-214},3.0130450113529385E-215]
[{"$f":"IF(C25<>\"\",IF(C25<>VLOOKUP(C25,Compounds!$B$11:'Compounds'!$G$610,1),\"Name error\",20),\"\")","v":""},null,null,null,null,null,null,{"$f":"IF('Macro input'!N6=\"Ok\",\"\",'Macro input'!N6)","v":""},{"$f":"IF(H25=\"\",\"\",\"or\")","v":""},{"$f":"IF('Macro input'!N7=\"Ok\",\"\",'Macro input'!N7)","v":""},null,null,"2D",{"$f":"IF(Columns!L7=0,\"Litt.\",\"Mean\")","v":"Mean"},null,null,null,null,null,null,null,null,null,null,null,null,null,null,null,null,4.4000000000000012,{"$f":"IF('Macro input'!$F$19=1,GC!AG25,IF($K$29>0,IF($AE25<$I$29,$G$29,IF($AE25<$I$29+$J$29,$G$29+((H$29-G$29)*($AE25-I$29)/J$29),$H$29)),$G$29))","v":150},150,6.900000000000002E-2,0.23000000000000007,6,6,15,5,24,0,0,0,0,0,0,0,0,0,0,0,0,0,0,0,0,0,0,0,0,"Chart 2:",null,4.6000000000000014,1.3800000000000008,15.001489952638245,15.914428264738357,0,{"$f":"CT$4*$N$32+$M$32","v":30.410328713252149},null,null,null,null,1.9000000000000006,null,0,0,0,0,0,0,0,0,0,0,0,0,0,0,0,0,0,0,0,0,0,0,0,0,0,0,0,0,0,0,0,0,0,0,0,0,0,0,0,0,0,0,0,0,0,0,0,0,0,0,0,0,0,0,0,0,0,0,0,0,0,0,0,0,0,0,0,0,0,0,0,0,0,0,0,0,0,0,0,0,0,0,0,0,0,0,0,0,0,0,0,0,0,0,0,0,0,0,0,0,0,0,0,0,0,0,0,0,0,0,0,0,0,0,0,0,0,0,0,0,0,0,0,0,0,0,null,20,0,15,{"$f":"INDEX($BW$6:$GR$261,$GT25,$BJ$14)","v":0},0]
[null,null,null,null,null,null,null,"Copy/Paste Value… to cell B31",null,null,null,null,null,null,null,null,null,null,null,null,null,null,null,null,null,null,null,null,null,null,4.6000000000000014,{"$f":"IF('Macro input'!$F$19=1,GC!AG26,IF($K$29>0,IF($AE26<$I$29,$G$29,IF($AE26<$I$29+$J$29,$G$29+((H$29-G$29)*($AE26-I$29)/J$29),$H$29)),$G$29))","v":150},150,7.2000000000000022E-2,0.24000000000000007,6,6,15,5,25,0,0,0,0,0,0,0,0,0,0,0,0,0,0,0,0,0,0,0,0,"2D tR",{"$f":"INDEX(G85:H104,N61,1)","v":1.3440000000000001},4.8000000000000016,1.4400000000000008,15.001537189779494,15.407815671665119,0,{"$f":"CU$4*$N$32+$M$32","v":34.087298798443044},null,null,null,null,2.0000000000000004,null,5.4141329704382511E-77,6.4740444313369614E-71,4.3210287103138143E-65,1.6097682100011701E-59,3.3473741635210352E-54,3.8851687894457045E-49,2.5169827621747843E-44,9.1015489600805952E-40,1.837025126080698E-35,2.0695675285015759E-31,1.3013940756029087E-27,4.5677546397799873E-24,8.9487304765894593E-21,9.7855402326563723E-18,5.9727302956149954E-15,2.0348186992005433E-12,3.8693966753828639E-10,4.1070076026016916E-8,2.4331701382785749E-6,8.0460766830409581E-5,1.4851166776448073E-3,1.5300361835413761E-2,8.7984778738070049E-2,0.28240872453610522,0.50595674617768627,0.50595674617768627,0.28240872453610522,8.7984778738070479E-2,1.5300361835413761E-2,1.4851166776448073E-3,8.0460766830410584E-5,2.4331701382785749E-6,4.1070076026016916E-8,3.8693966753828639E-10,2.0348186992005433E-12,5.9727302956149102E-15,9.7855402326560949E-18,8.9487304765897783E-21,4.5677546397800851E-24,1.3013940756029365E-27,2.0695675285015759E-31,1.837025126080698E-35,9.1015489600805952E-40,2.5169827621747843E-44,3.8851687894458162E-49,3.3473741635212253E-54,1.6097682100011701E-59,4.3210287103138143E-65,6.4740444313369614E-71,5.4141329704382511E-77,2.5272422787221026E-83,6.5846024210579838E-90,9.5758416273492539E-97,7.7730072109815553E-104,3.5218098587338208E-111,8.9065079017767464E-119,1.2572270850103567E-126,9.9056896721608979E-135,4.3563265413143268E-143,1.0693524099103553E-151,1.4651631837921555E-160,1.1205103193283351E-169,4.7831108089402516E-179,1.1396454009114897E-188,1.515631981241841E-198,1.1250776506327155E-208,4.6616101742898522E-219,1.0780877882600482E-229,1.3916724147774555E-240,1.0027314338117664E-251,4.0327096875588336E-263,9.0526140699749344E-275,1.1342682400584657E-286,7.9327223892410335E-299,0,0,7.9327223892410335E-299,1.1342682400587235E-286,9.0526140699769944E-275,4.0327096875588336E-263,1.0027314338119942E-251,1.3916724147774555E-240,1.0780877882600482E-229,4.6616101742898522E-219,1.1250776506327155E-208,1.515631981241841E-198,1.1396454009114897E-188,4.7831108089394365E-179,1.120510319328144E-169,1.4651631837919056E-160,1.0693524099103553E-151,4.3563265413143268E-143,9.9056896721608979E-135,1.2572270850103567E-126,8.9065079017767464E-119,3.5218098587338208E-111,7.7730072109808923E-104,9.5758416273500709E-97,6.5846024210579838E-90,2.5272422787221026E-83,5.4141329704382511E-77,0,0,0,0,0,0,0,0,0,0,0,0,0,0,0,0,0,0,0,0,0,0,0,0,0,null,21,1.7864373267218906E-2,15.017864373267219,{"$f":"INDEX($BW$6:$GR$261,$GT26,$BJ$14)","v":9.5758416273492539E-97},2.4463502417128756E-97]
["Table 2",null,null,"Table 3",null,null,null,null,null,null,null,null,null,null,null,null,null,null,null,null,null,null,null,null,null,null,null,null,null,null,4.8000000000000016,{"$f":"IF('Macro input'!$F$19=1,GC!AG27,IF($K$29>0,IF($AE27<$I$29,$G$29,IF($AE27<$I$29+$J$29,$G$29+((H$29-G$29)*($AE27-I$29)/J$29),$H$29)),$G$29))","v":150},150,7.5000000000000025E-2,0.25000000000000006,6,6,15,5,26,0,0,0,0,0,0,0,0,0,0,0,0,0,0,0,0,0,0,0,0,"2D w",{"$f":"INDEX(G85:H104,N61,2)/4","v":0.34986629069877995},5.0000000000000018,1.5000000000000009,15.001585807915323,14.48499702857838,0,{"$f":"CV$4*$N$32+$M$32","v":29.956880046217449},null,null,null,null,2.1000000000000005,null,3.0516787943365457E-74,3.6490984267614665E-68,2.4355500237957175E-62,9.0734666789316496E-57,1.8867491447481584E-51,2.1898773583704446E-46,1.4186986102813928E-41,5.1300926868158407E-37,1.0354401438851441E-32,1.1665127869337365E-28,7.3353143066065795E-25,2.574617219055968E-21,5.0439564711006176E-18,5.5156247144604825E-15,3.366532459941475E-12,1.1469265916768074E-9,2.1809873982807625E-7,2.3149169179020078E-5,1.3714575823202595E-3,4.5351752026242316E-2,0.83708676846873753,8.6240567074636996,49.592665153480212,159.17982079644094,285.18277655766212,285.18277655766212,159.17982079644094,49.592665153480453,8.6240567074636996,0.83708676846873753,4.5351752026242878E-2,1.3714575823202595E-3,2.3149169179020078E-5,2.1809873982807625E-7,1.1469265916768074E-9,3.366532459941427E-12,5.5156247144603255E-15,5.0439564711007971E-18,2.5746172190560229E-21,7.3353143066067365E-25,1.1665127869337365E-28,1.0354401438851441E-32,5.1300926868158407E-37,1.4186986102813928E-41,2.1898773583705072E-46,1.8867491447482658E-51,9.0734666789316496E-57,2.4355500237957175E-62,3.6490984267614665E-68,3.0516787943365457E-74,1.4244813919859694E-80,3.7114144937325389E-87,5.3974279892393285E-94,4.3812594562222912E-101,1.9850699128125454E-108,5.0201576953960352E-116,7.0863668401574089E-124,5.5833470069659254E-132,2.4554456641389612E-140,6.0274102812291315E-149,8.2583997154011813E-158,6.3157620970893201E-167,2.6960028330119425E-176,6.4236170814682605E-186,8.5428673481575382E-196,6.3415058831477532E-206,2.6275189386773259E-216,6.0766472855949588E-227,7.8441686231724069E-238,5.6519008116092721E-249,2.2730388604110491E-260,5.1025105111925206E-272,6.3933086870521897E-284,4.4712829974410578E-296,0,0,4.4712829974410578E-296,6.3933086870536423E-284,5.1025105111936817E-272,2.2730388604110491E-260,5.6519008116105562E-249,7.8441686231724069E-238,6.0766472855949588E-227,2.6275189386773259E-216,6.3415058831477532E-206,8.5428673481575382E-196,6.4236170814682605E-186,2.6960028330114831E-176,6.3157620970882432E-167,8.2583997153997727E-158,6.0274102812291315E-149,2.4554456641389612E-140,5.5833470069659254E-132,7.0863668401574089E-124,5.0201576953960352E-116,1.9850699128125454E-108,4.3812594562219181E-101,5.3974279892397884E-94,3.7114144937325389E-87,1.4244813919859694E-80,3.0516787943365457E-74,0,0,0,0,0,0,0,0,0,0,0,0,0,0,0,0,0,0,0,0,0,0,0,0,0,null,22,10.069263051230852,25.069263051230852,{"$f":"INDEX($BW$6:$GR$261,$GT27,$BJ$14)","v":5.3974279892393285E-94},1.3788865543047363E-94]
["Settings","1D","2D",null,"Name*","Beta","To","Tmax","t(iso)","t(pgm)","dT","Degree","Offset","Amplify",null,null,null,null,null,null,null,null,null,null,null,null,null,null,null,null,5.0000000000000018,{"$f":"IF('Macro input'!$F$19=1,GC!AG28,IF($K$29>0,IF($AE28<$I$29,$G$29,IF($AE28<$I$29+$J$29,$G$29+((H$29-G$29)*($AE28-I$29)/J$29),$H$29)),$G$29))","v":150.00000000000003},150,7.8000000000000028E-2,0.26000000000000006,6.0000000000000009,6,15,4.9999999999999991,27,0,0,0,0,0,0,0,0,0,0,0,0,0,0,0,0,0,0,0,0,"Chart 5:",null,5.200000000000002,1.5600000000000009,15.001635843461587,13.222788446695809,0,{"$f":"CW$4*$N$32+$M$32","v":22.722572460294401},null,null,null,null,2.2000000000000006,null,5.9595304533487222E-74,7.1262130345798025E-68,4.7563113668456632E-62,1.7719296372505023E-56,3.6845748664059034E-51,4.2765447105794789E-46,2.770533251332433E-41,1.0018401560583416E-36,2.0220794801717839E-32,2.2780472475851354E-28,1.4324911611351414E-24,5.027891451470997E-21,9.8501887717264271E-18,1.0771295300171443E-14,6.5743985751193781E-12,2.2397979641692245E-9,4.259183778628896E-7,4.5207306531775653E-5,2.6782776884912989E-3,8.8566053483315629E-2,1.6347212223130694,16.841657344448631,96.848003398452533,310.85741767957643,556.92474739479439,556.92474739479439,310.85741767957643,96.848003398453002,16.841657344448631,1.6347212223130694,8.856605348331674E-2,2.6782776884912989E-3,4.5207306531775653E-5,4.259183778628896E-7,2.2397979641692245E-9,6.5743985751192836E-12,1.0771295300171137E-14,9.8501887717267784E-18,5.0278914514711046E-21,1.4324911611351723E-24,2.2780472475851354E-28,2.0220794801717839E-32,1.0018401560583416E-36,2.770533251332433E-41,4.2765447105796019E-46,3.6845748664061128E-51,1.7719296372505023E-56,4.7563113668456632E-62,7.1262130345798025E-68,5.9595304533487222E-74,2.7818262693713727E-80,7.2479081813744914E-87,1.0540472520018823E-93,8.5560279810035964E-101,3.8765824959650097E-108,9.8037128684213052E-116,1.3838749696034117E-123,1.0903548099943748E-131,4.79516495613379E-140,1.1770745726082074E-148,1.6127576955739101E-157,1.2333859193687631E-166,5.2649417151853779E-176,1.254448590353161E-185,1.6683105120613378E-195,1.238413344839768E-205,5.1312016064267191E-216,1.1866899170374564E-226,1.5318637688132471E-237,1.1037424734412338E-248,4.4389482718182862E-260,9.9645371709556977E-272,1.24852975643624E-283,8.731832209288433E-296,0,0,8.731832209288433E-296,1.2485297564365236E-283,9.964537170957966E-272,4.4389482718182862E-260,1.1037424734414847E-248,1.5318637688132471E-237,1.1866899170374564E-226,5.1312016064267191E-216,1.238413344839768E-205,1.6683105120613378E-195,1.254448590353161E-185,5.2649417151844808E-176,1.2333859193685528E-166,1.6127576955736348E-157,1.1770745726082074E-148,4.79516495613379E-140,1.0903548099943748E-131,1.3838749696034117E-123,9.8037128684213052E-116,3.8765824959650097E-108,8.556027981002868E-101,1.0540472520019721E-93,7.2479081813744914E-87,2.7818262693713727E-80,5.9595304533487222E-74,0,0,0,0,0,0,0,0,0,0,0,0,0,0,0,0,0,0,0,0,0,0,0,0,0,null,23,19.663956740124572,34.663956740124576,{"$f":"INDEX($BW$6:$GR$261,$GT28,$BJ$14)","v":1.0540472520018823E-93},2.6927855013255746E-94]
["tM, min",1,0.01,"1D LSS","HP-5",1,150,350,5,20,{"$f":"IF(H29>G29,H29-G29,0)","v":200},null,6,1,null,null,null,null,null,null,null,null,null,null,null,null,null,null,null,null,5.200000000000002,{"$f":"IF('Macro input'!$F$19=1,GC!AG29,IF($K$29>0,IF($AE29<$I$29,$G$29,IF($AE29<$I$29+$J$29,$G$29+((H$29-G$29)*($AE29-I$29)/J$29),$H$29)),$G$29))","v":152.00000000000003},152.00000000000045,8.100000000000003E-2,0.27000000000000007,6.0000000000000018,6,15,4.9999999999999982,28,0,0,0,0,0,0,0,0,0,0,0,0,0,0,0,0,0,0,0,0,"2D tR",{"$f":"INDEX(G85:H104,N61,1)","v":1.3440000000000001},5.4000000000000021,1.620000000000001,15.001687333666959,11.720738911881417,0,{"$f":"CX$4*$N$32+$M$32","v":18.133059281318772},null,null,null,null,2.3000000000000007,null,7.5437758890840789E-76,9.0206022926743017E-70,6.0207003372262668E-64,2.2429686666225121E-58,4.6640599047697462E-53,5.4133954224752005E-48,3.5070350097067205E-43,1.2681632677524824E-38,2.5596168268189864E-34,2.8836295132732513E-30,1.8132959244507447E-26,6.3644756246234141E-23,1.2468703220959683E-19,1.3634671123121667E-16,8.3220968236425236E-14,2.8352122723066318E-11,5.3914193656556146E-9,5.7224942752530436E-7,3.3902547874991531E-5,1.1210991605611186E-3,2.0692855987219469E-2,0.21318741401158015,1.225934893130125,3.934938684836196,7.0497424492064278,7.0497424492064278,3.934938684836196,1.225934893130131,0.21318741401158015,2.0692855987219469E-2,1.1210991605611325E-3,3.3902547874991531E-5,5.7224942752530436E-7,5.3914193656556146E-9,2.8352122723066318E-11,8.322096823642405E-14,1.363467112312128E-16,1.2468703220960129E-19,6.3644756246235492E-23,1.8132959244507837E-26,2.8836295132732513E-30,2.5596168268189864E-34,1.2681632677524824E-38,3.5070350097067205E-43,5.4133954224753555E-48,4.6640599047700114E-53,2.2429686666225121E-58,6.0207003372262668E-64,9.0206022926743017E-70,7.5437758890840789E-76,3.521330095177636E-82,9.1746481393051333E-89,1.3342487814856457E-95,1.0830510573724024E-102,4.9071096781917896E-110,1.2409872445360648E-117,1.7517558993821461E-125,1.3802081205173611E-133,6.0698825290735196E-142,1.4899809389355852E-150,2.0414834212263993E-159,1.5612617526338243E-168,6.664541892915529E-178,1.5879235963437643E-187,2.1118040615636069E-197,1.5676256384045604E-207,6.4952491246756858E-218,1.5021523682182141E-228,1.9390851435353242E-239,1.3971546792290192E-250,5.6189713615806519E-262,1.2613449305204697E-273,1.5804313355115585E-285,1.105304953193825E-297,0,0,1.105304953193825E-297,1.5804313355119176E-285,1.2613449305207568E-273,5.6189713615806519E-262,1.3971546792293365E-250,1.9390851435353242E-239,1.5021523682182141E-228,6.4952491246756858E-218,1.5676256384045604E-207,2.1118040615636069E-197,1.5879235963437643E-187,6.6645418929143936E-178,1.5612617526335581E-168,2.0414834212260511E-159,1.4899809389355852E-150,6.0698825290735196E-142,1.3802081205173611E-133,1.7517558993821461E-125,1.2409872445360648E-117,4.9071096781917896E-110,1.0830510573723102E-102,1.3342487814857593E-95,9.1746481393051333E-89,3.521330095177636E-82,7.5437758890840789E-76,0,0,0,0,0,0,0,0,0,0,0,0,0,0,0,0,0,0,0,0,0,0,0,0,0,null,24,0.2489130375309854,15.248913037530986,{"$f":"INDEX($BW$6:$GR$261,$GT29,$BJ$14)","v":1.3342487814856457E-95},3.4086192693185314E-96]
["N",2000,500,"1D VBA",null,null,null,null,null,null,null,2,6,1,null,null,null,null,null,null,null,null,null,null,null,null,null,null,null,null,5.4000000000000021,{"$f":"IF('Macro input'!$F$19=1,GC!AG30,IF($K$29>0,IF($AE30<$I$29,$G$29,IF($AE30<$I$29+$J$29,$G$29+((H$29-G$29)*($AE30-I$29)/J$29),$H$29)),$G$29))","v":154.00000000000003},154.00000000000091,8.4000000000000033E-2,0.28000000000000008,6.0000000000000036,6,15,4.9999999999999964,29,0,0,0,0,0,0,0,0,0,0,0,0,0,0,0,0,0,0,0,0,"2D w",{"$f":"INDEX(G85:H104,N61,2)/4","v":0.34986629069877995},5.6000000000000023,1.680000000000001,15.001740316628071,10.088212853977353,0,{"$f":"CY$4*$N$32+$M$32","v":16.527671082168599},null,null,null,null,2.4000000000000008,null,0,0,0,0,0,0,0,0,0,0,0,0,0,0,0,0,0,0,0,0,0,0,0,0,0,0,0,0,0,0,0,0,0,0,0,0,0,0,0,0,0,0,0,0,0,0,0,0,0,0,0,0,0,0,0,0,0,0,0,0,0,0,0,0,0,0,0,0,0,0,0,0,0,0,0,0,0,0,0,0,0,0,0,0,0,0,0,0,0,0,0,0,0,0,0,0,0,0,0,0,0,0,0,0,0,0,0,0,0,0,0,0,0,0,0,0,0,0,0,0,0,0,0,0,0,0,null,25,0,15,{"$f":"INDEX($BW$6:$GR$261,$GT30,$BJ$14)","v":0},0]
["tmax",20,0.1,"2D  LSS","Rxi-50-240",1,"Offset",30,"oC",null,null,null,15,0.1,null,null,null,null,null,null,null,null,null,null,null,null,null,null,null,null,5.6000000000000023,{"$f":"IF('Macro input'!$F$19=1,GC!AG31,IF($K$29>0,IF($AE31<$I$29,$G$29,IF($AE31<$I$29+$J$29,$G$29+((H$29-G$29)*($AE31-I$29)/J$29),$H$29)),$G$29))","v":156.00000000000003},156.00000000000136,8.7000000000000036E-2,0.29000000000000009,6.0000000000000089,6,15,4.9999999999999911,30,0,0,0,0,0,0,0,0,0,0,0,0,0,0,0,0,0,0,0,0,"h",{"$f":"$O$61*BJ11*BJ24*BJ30","v":14.030791184303499},5.8000000000000025,1.7400000000000011,15.001794831304819,8.4314211924836435,0,{"$f":"CZ$4*$N$32+$M$32","v":16.085584612009619},null,null,null,null,2.5000000000000009,null,0,0,0,0,0,0,0,0,0,0,0,0,0,0,0,0,0,0,0,0,0,0,0,0,0,0,0,0,0,0,0,0,0,0,0,0,0,0,0,0,0,0,0,0,0,0,0,0,0,0,0,0,0,0,0,0,0,0,0,0,0,0,0,0,0,0,0,0,0,0,0,0,0,0,0,0,0,0,0,0,0,0,0,0,0,0,0,0,0,0,0,0,0,0,0,0,0,0,0,0,0,0,0,0,0,0,0,0,0,0,0,0,0,0,0,0,0,0,0,0,0,0,0,0,0,0,null,26,0,15,{"$f":"INDEX($BW$6:$GR$261,$GT31,$BJ$14)","v":0},0]
["tM size",0.1,null,"2D VBA",null,"Extra column peakwidth 2D VBA",null,0.1,"s",null,null,2,15,1,null,null,null,null,null,null,null,null,null,null,null,null,null,null,null,null,5.8000000000000025,{"$f":"IF('Macro input'!$F$19=1,GC!AG32,IF($K$29>0,IF($AE32<$I$29,$G$29,IF($AE32<$I$29+$J$29,$G$29+((H$29-G$29)*($AE32-I$29)/J$29),$H$29)),$G$29))","v":158.00000000000003},158.00000000000182,9.0000000000000038E-2,0.3000000000000001,6.0000000000000222,6,15,4.9999999999999778,31,0,0,0,0,0,0,0,0,0,0,0,0,0,0,0,0,0,0,0,0,"Chart 12:",null,6.0000000000000027,1.8000000000000012,15.001850917535846,6.842497322531317,0,{"$f":"DA$4*$N$32+$M$32","v":15.874820720655187},null,null,null,null,2.600000000000001,null,0,0,0,0,0,0,0,0,0,0,0,0,0,0,0,0,0,0,0,0,0,0,0,0,0,0,0,0,0,0,0,0,0,0,0,0,0,0,0,0,0,0,0,0,0,0,0,0,0,0,0,0,0,0,0,0,0,0,0,0,0,0,0,0,0,0,0,0,0,0,0,0,0,0,0,0,0,0,0,0,0,0,0,0,0,0,0,0,0,0,0,0,0,0,0,0,0,0,0,0,0,0,0,0,0,0,0,0,0,0,0,0,0,0,0,0,0,0,0,0,0,0,0,0,0,0,null,27,0,15,{"$f":"INDEX($BW$6:$GR$261,$GT32,$BJ$14)","v":0},0]
["4/sqrt(N)",{"$f":"4/SQRT(B30)","v":8.9442719099991588E-2},{"$f":"4/SQRT(C30)","v":0.17888543819998318},"Reference",null,null,null,null,null,null,null,null,5,-1,null,null,null,null,null,null,null,null,null,null,null,null,null,null,null,null,6.0000000000000027,{"$f":"IF('Macro input'!$F$19=1,GC!AG33,IF($K$29>0,IF($AE33<$I$29,$G$29,IF($AE33<$I$29+$J$29,$G$29+((H$29-G$29)*($AE33-I$29)/J$29),$H$29)),$G$29))","v":160.00000000000003},160.00000000000227,9.3000000000000041E-2,0.31000000000000011,6.0000000000000533,6,15,4.9999999999999467,32,0,0,0,0,0,0,0,0,0,0,0,0,0,0,0,0,0,0,0,0,"1D tR",{"$f":"INDEX(C85:D104,N61,1)","v":10.35},6.2000000000000028,1.8600000000000012,15.001908616054154,5.3920733348562164,0,{"$f":"DB$4*$N$32+$M$32","v":15.701510978832269},null,null,null,null,2.7000000000000011,null,7.9023772555253608E-84,6.5881034144069634E-80,4.3851296880945999E-76,2.330364530541353E-72,9.8874583321402818E-69,3.3493833451191579E-65,9.0586698532696386E-62,1.9560654972743328E-58,3.3722653391713694E-55,4.6417256753262394E-52,5.1010148391376611E-49,4.4756187949191452E-46,3.1352268971837077E-43,1.7534938578645324E-40,7.8299485248173084E-38,2.7914699062300238E-35,7.9455941634586576E-33,1.8056733685342022E-30,3.2762074383906513E-28,4.7459480120695084E-26,5.4890090451022782E-24,5.0685566121741887E-22,3.7367499907133033E-20,2.1994959565303789E-18,1.0336456446692643E-16,3.8782837048427931E-15,1.1617879220531437E-13,2.7786479398893424E-12,5.305906305191742E-11,8.0891895916955136E-10,9.8462268501861699E-9,9.5687243907057616E-8,7.4243363593736267E-7,4.5991822370560378E-6,2.2746940026627595E-5,8.9822415965584942E-5,2.8318214500293272E-4,7.1279786016394337E-4,1.4324724982710676E-3,2.298399844670881E-3,2.9443149205355076E-3,3.0113575308426529E-3,2.4590070170004653E-3,1.6031590098725835E-3,8.3447401496479338E-4,3.4679148089417663E-4,1.150650441171998E-4,3.0481601543402758E-5,6.446909004126147E-6,1.0886409944687841E-6,1.4676997275747005E-7,1.5798255317555109E-8,1.3576894026501685E-9,9.3156060315193171E-11,5.1031834883190212E-12,2.2319817530558687E-13,7.7939834813792379E-15,2.1729398645031035E-16,4.8367686990378343E-18,8.5957211135465744E-20,1.2196316862605393E-21,1.3816386275798248E-23,1.2496247542808529E-25,9.0236898123479982E-28,5.202451998611692E-30,2.3947015252724791E-32,8.8006365366553469E-35,2.5822373870493081E-37,6.0491956299705855E-40,1.1314060064690102E-42,1.6895020209349748E-45,2.0142730239376847E-48,1.9173320974549905E-51,1.4571213924314848E-54,8.841246742731131E-58,4.2830256298623483E-61,1.6565601915871918E-64,5.1154418657336248E-68,1.2611840556640961E-71,2.482522395208238E-75,3.9014609442649303E-79,4.8953160720207447E-83,4.9040354074180324E-87,3.9223454634915547E-91,2.5047101275994916E-95,1.276992913214042E-99,5.1980312694601309E-104,1.6893073578790703E-108,4.383266183102684E-113,9.0804297202616103E-118,1.501878960740812E-122,1.6168120382419267E-123,1.0224320128786824E-118,5.1627608181085827E-114,2.0813684019455012E-109,6.6993905157512961E-105,1.7216347357501933E-100,3.53236948229762E-96,5.7864288446200483E-92,7.5678844993005416E-88,7.9023772555253608E-84,0,0,0,0,0,0,0,0,0,0,0,0,0,0,0,0,0,0,0,0,0,0,0,0,0,null,28,1.6197219912498934E-4,15.000161972199125,{"$f":"INDEX($BW$6:$GR$261,$GT33,$BJ$14)","v":1.3576894026501685E-9},3.4685032685358452E-10]
["dt",{"$f":"B31/2000","v":0.01},{"$f":"C31*60/2000","v":3.0000000000000001E-3},null,null,null,null,null,null,null,null,null,null,null,null,null,null,null,null,null,null,null,null,null,null,null,null,null,null,null,6.2000000000000028,{"$f":"IF('Macro input'!$F$19=1,GC!AG34,IF($K$29>0,IF($AE34<$I$29,$G$29,IF($AE34<$I$29+$J$29,$G$29+((H$29-G$29)*($AE34-I$29)/J$29),$H$29)),$G$29))","v":162.00000000000003},162.00000000000273,9.6000000000000044E-2,0.32000000000000012,6.0000000000001252,6,15,4.9999999999998748,33,0,0,0,0,0,0,0,0,0,0,0,0,0,0,0,0,0,0,0,0,"1D w",{"$f":"INDEX(C85:D105,N61,2)/4","v":6.3809765870007806E-2},6.400000000000003,1.9200000000000013,15.0019679685029,{"$f":"$BJ$31*NORMDIST(BL34,$BJ$29,$BJ$30,FALSE)","v":4.1259527217857155},{"$f":"$BJ$35*NORMDIST(AI34,$BJ$33,$BJ$34,FALSE)","v":0},{"$f":"DC$4*$N$32+$M$32","v":15.550023828946715},null,null,null,null,2.8000000000000012,null,6.7273604689278078E-81,5.6085080529787023E-77,3.7330979224236131E-73,1.9838589976192126E-69,8.4172767473614242E-66,2.8513583169526646E-62,7.7117221187262593E-59,1.6652150707935447E-55,2.8708379516574564E-52,3.9515402525187333E-49,4.3425369949574049E-46,3.810132062965865E-43,2.6690451249319218E-40,1.4927641240688061E-37,6.6657012790379201E-35,2.3764018965613166E-32,6.7641513874854446E-30,1.5371849819975634E-27,2.7890630498089578E-25,4.040265607625731E-23,4.6728397379141973E-21,4.3149050323333886E-19,3.1811268124682557E-17,1.8724494757806035E-15,8.7995126326895614E-14,3.3016156581241008E-12,9.8903986577371993E-11,2.3654864483733791E-9,4.5169628296882283E-8,6.8863953877657328E-7,8.3821760387006899E-6,8.1459358522892629E-5,6.3204002184470557E-4,3.9153226643706719E-3,1.9364662072695833E-2,7.6466580985862287E-2,0.2410753506442487,0.60681083574571126,1.2194759306077159,1.9566471906941063,2.506520147546166,2.5635940876695216,2.0933734323324513,1.3647827988573118,0.71039477350900138,0.29522651527389232,9.7955843427778994E-2,2.5949244717381421E-2,5.4883080595536111E-3,9.2676926882006552E-4,1.2494651682996288E-4,1.344918811956708E-5,1.1558124499921428E-6,7.9304540563069023E-8,4.3443831843130768E-9,1.9001049086055054E-10,6.6350839339447877E-12,1.8498420504531697E-13,4.1175820251435583E-15,7.31760994842013E-17,1.0382827505563631E-18,1.1762006273523895E-20,1.063816102561374E-22,7.6819433145906826E-25,4.428891305142834E-27,2.0386296243620915E-29,7.4920561779938566E-32,2.198280486656931E-34,5.1497313066673502E-37,9.6317548455500616E-40,1.4382873330762E-42,1.7147676296257999E-45,1.6322410005427699E-48,1.2404597422906665E-51,7.526627989254604E-55,3.6461758756953992E-58,1.410243675659884E-61,4.3548188444904668E-65,1.0736566334117178E-68,2.1133922723158557E-72,3.3213466377047503E-76,4.1674238980166116E-80,4.1748467418483237E-84,3.3391258052279817E-88,2.1322808762077671E-92,1.0871148473012224E-96,4.4251279010966335E-101,1.438121614773377E-105,3.7315115048924206E-110,7.7302464771917523E-115,1.2785622380325617E-119,1.3764057371660147E-120,8.7040500386096272E-116,4.3951018681104537E-111,1.771886491338198E-106,5.7032477018308189E-102,1.4656421844604575E-97,3.0071359602884668E-93,4.9260357240401802E-89,6.4426039617898861E-85,6.7273604689278078E-81,0,0,0,0,0,0,0,0,0,0,0,0,0,0,0,0,0,0,0,0,0,0,0,0,0,null,29,0.13788830047273104,15.137888300472731,{"$f":"INDEX($BW$6:$GR$261,$GT34,$BJ$14)","v":1.1558124499921428E-6},2.9527661133590957E-7]
[null,null,null,null,null,null,null,null,null,null,null,null,null,null,null,null,null,null,null,null,null,null,null,null,null,null,null,null,null,null,6.400000000000003,{"$f":"IF('Macro input'!$F$19=1,GC!AG35,IF($K$29>0,IF($AE35<$I$29,$G$29,IF($AE35<$I$29+$J$29,$G$29+((H$29-G$29)*($AE35-I$29)/J$29),$H$29)),$G$29))","v":164.00000000000003},164.00000000000318,9.9000000000000046E-2,0.33000000000000013,6.0000000000002913,6,15,4.9999999999997087,34,0,0,0,0,0,0,0,0,0,0,0,0,0,0,0,0,0,0,0,0,"h",{"$f":"$O$61*BJ10*BJ24*BJ34","v":4.6586851918916912},6.6000000000000032,{"$f":"BL34+$BJ$6","v":1.9800000000000013},15.002029017451322,3.0656319044156914,0,{"$f":"DD$4*$N$32+$M$32","v":15.426791511306947},null,null,null,null,2.9000000000000012,null,2.9985461471380618E-79,2.4998467513563158E-75,1.663931410227596E-71,8.8425360603939172E-68,3.7517824229534748E-64,1.2709188893472731E-60,3.4372997780794466E-57,7.4222635426581021E-54,1.2796014304213683E-50,1.7612964035714083E-47,1.9355730431238997E-44,1.6982673769693744E-41,1.1896575206379245E-38,6.6536082516860245E-36,2.9710631651967886E-33,1.0592194046829789E-30,3.0149447432293837E-28,6.8516026850303558E-26,1.2431523924958759E-23,1.8008434254588716E-21,2.0827969092831152E-19,1.9232568136834232E-17,1.4179046285897236E-15,8.3459570618303126E-14,3.922154138062605E-12,1.4716094011499531E-10,4.4083882416878988E-9,1.0543541272447622E-7,2.0133188272407438E-6,3.0694318303632205E-5,3.7361371940107725E-4,3.6308392686156643E-3,2.8171541886197624E-2,0.17451533546145995,0.86312950104139508,3.4082991815142241,10.745307423068404,27.047016463158627,54.354971316620393,87.212465008574313,111.72162344894167,114.26554604754969,93.306682004540761,60.831647450669827,31.664001370093537,13.158954897634841,4.3661272241420299,1.156620165187134,0.24462707271733464,4.1308332341365835E-2,5.5691663672441556E-3,5.9946261842707901E-4,5.1517337070693766E-5,3.5347938564357105E-6,1.9363959340638021E-7,8.4692239685577911E-9,2.9574162790831865E-10,8.2451903370124709E-12,1.835305209828745E-13,3.2616345174961954E-15,4.6278756069345706E-17,5.2426087106508015E-19,4.7416838897399479E-21,3.42402664981175E-23,1.9740632333391052E-25,9.0866618992793896E-28,3.3393893920843903E-30,9.7982641394634317E-33,2.2953589360530736E-35,4.2931044821663211E-38,6.4107921093166532E-41,7.6431311995252721E-44,7.2752901914268145E-47,5.5290270204866386E-50,3.3547988787522008E-53,1.6251881661986669E-56,6.2857947923366167E-60,1.9410473584615709E-63,4.7855454993614032E-67,9.4198969786348564E-71,1.4804039726723329E-74,1.8575209297325512E-78,1.8608294695194693E-82,1.4883285746796641E-86,9.504088023081646E-91,4.8455319912286447E-95,1.9723857937615797E-99,6.4100534630366827E-104,1.6632243058293879E-108,3.4455565295886698E-113,5.6988589959410668E-118,6.1349709728512048E-119,3.8796041669414922E-114,1.9590024696569179E-109,7.8977236856982622E-105,2.5420744884247895E-100,6.5327192523657795E-96,1.3403527266438293E-91,2.1956524418765532E-87,2.8716233322696336E-83,2.9985461471380618E-79,0,0,0,0,0,0,0,0,0,0,0,0,0,0,0,0,0,0,0,0,0,0,0,0,0,null,30,6.1460127493929306,21.146012749392931,{"$f":"INDEX($BW$6:$GR$261,$GT35,$BJ$14)","v":5.1517337070693766E-5},1.3161187799445921E-5]
[null,null,null,null,null,null,null,null,null,null,null,null,null,null,null,null,null,null,null,null,null,null,null,null,null,null,null,null,null,null,{"$f":"AE35+$B$31/100","v":6.6000000000000032},{"$f":"IF('Macro input'!$F$19=1,GC!AG36,IF($K$29>0,IF($AE36<$I$29,$G$29,IF($AE36<$I$29+$J$29,$G$29+((H$29-G$29)*($AE36-I$29)/J$29),$H$29)),$G$29))","v":166.00000000000003},166.00000000000364,0.10200000000000005,0.34000000000000014,6.0000000000006697,6,15,4.9999999999993303,35,0,0,0,0,0,0,0,0,0,0,0,0,0,0,0,0,0,0,0,0,null,null,6.8000000000000034,2.0400000000000014,15.00209180641083,2.2117858235807191,0,{"$f":"DE$4*$N$32+$M$32","v":15.352905753281917},null,null,null,null,3.0000000000000013,null,9.2052973869273451E-79,7.6743300382228779E-75,5.1081366472260537E-71,2.7145880068660868E-67,1.1517672645223898E-63,3.901619570628003E-60,1.0552236021260009E-56,2.2785756777339629E-53,3.9282742788563697E-50,5.4070394070389841E-47,5.9420547831425705E-44,5.2135453251039615E-41,3.6521536533693132E-38,2.0426046372953661E-35,9.1209268255169643E-33,3.2517190463842563E-30,9.2556397683153379E-28,2.1033873483311894E-25,3.8163786410681073E-23,5.5284456083705469E-21,6.3940203037473683E-19,5.9042449415987188E-17,4.3528540606009248E-15,2.562142217020783E-13,1.2040700214900382E-11,4.51772342670558E-10,1.3533400111418196E-8,3.2367830328993751E-7,6.1807281362468639E-6,9.4229107777320565E-5,1.1469643040863265E-3,1.1146386812702962E-2,8.6484385494030896E-2,0.53574815349612159,2.6497386902314797,10.463206504060159,32.987236310406637,83.032182182731447,166.86542440074001,267.73530799823226,342.9764685727452,350.78610794476634,286.44406785569902,186.74830329177976,97.205957410388152,40.396941447609983,13.40366215999291,3.5507316085252096,0.75098559193622572,0.12681328387199678,1.7096896326470261E-2,1.8403024012934558E-3,1.5815411370971892E-4,1.0851535061760149E-5,5.9445809926611523E-7,2.599984173712898E-8,9.0790319741733763E-10,2.5312076366228711E-11,5.6342405363264247E-13,1.0012957689404322E-14,1.4207208807574885E-16,1.6094390380117214E-18,1.4556591153855911E-20,1.0511488576677376E-22,6.0602165955757516E-25,2.7895326912731868E-27,1.025165894953024E-29,3.0079889004047317E-32,7.0465687634244127E-35,1.3179488169361872E-37,1.9680620192672956E-40,2.3463802858623606E-43,2.2334560317572411E-46,1.6973671735055316E-49,1.0298964843919252E-52,4.9891979797785029E-56,1.9296888404363653E-59,5.9588604943773881E-63,1.469124279522557E-66,2.8918332014104474E-70,4.5447220594701207E-74,5.7024410236107057E-78,5.7125979767341827E-82,4.5690499552472629E-86,2.9176791802088195E-90,1.4875396538319866E-94,6.0550669899328768E-99,1.9678352607537616E-103,5.1059658931506759E-108,1.0577583589502342E-112,1.7495042347063234E-117,1.8833871314324672E-118,1.191007519905767E-113,6.0139812529244163E-109,2.4245381474626029E-104,7.8039658212383521E-100,2.0054926792015067E-95,4.1147759102895981E-91,6.7404777829074634E-87,8.8156544737559277E-83,9.2052973869273451E-79,0,0,0,0,0,0,0,0,0,0,0,0,0,0,0,0,0,0,0,0,0,0,0,0,0,null,31,18.86776868717104,33.867768687171036,{"$f":"INDEX($BW$6:$GR$261,$GT36,$BJ$14)","v":1.5815411370971892E-4},4.0403796277983836E-5]
[null,null,null,null,null,null,null,null,null,null,null,null,null,null,null,null,null,null,null,null,null,null,null,null,null,null,null,null,null,null,6.8000000000000034,{"$f":"IF('Macro input'!$F$19=1,GC!AG37,IF($K$29>0,IF($AE37<$I$29,$G$29,IF($AE37<$I$29+$J$29,$G$29+((H$29-G$29)*($AE37-I$29)/J$29),$H$29)),$G$29))","v":168.00000000000003},168.00000000000409,0.10500000000000005,0.35000000000000014,6.0000000000015179,6,15,4.9999999999984821,36,0,0,0,0,0,0,0,0,0,0,0,0,0,0,0,0,0,0,0,0,"2D Plot X ",null,7.0000000000000036,2.1000000000000014,15.002156379851229,1.5495066200625631,0,{"$f":"DF$4*$N$32+$M$32","v":15.391426806689326},null,null,null,null,3.1000000000000014,null,2.3260559466874557E-79,1.9392009048616939E-75,1.2907580413041212E-71,6.8594020494594431E-68,2.9103623514074243E-64,9.8588725844529357E-61,2.6664093854217547E-57,5.7576570124690057E-54,9.9262254791783776E-51,1.3662867844527694E-47,1.5014780384498733E-44,1.3173934091477028E-41,9.2285054643645892E-39,5.1613896472910985E-36,2.3047366304454108E-33,8.2166605888695333E-31,2.3387767954200828E-28,5.3149794559826072E-26,9.6434801177353053E-24,1.396964513232402E-21,1.6156837009843022E-19,1.4919239954820403E-17,1.0999081992833975E-15,6.4741918589438098E-14,3.0425244465131385E-12,1.1415684904543198E-10,3.4197098132614008E-9,8.178919273705018E-8,1.5617876133575221E-6,2.3810439498430038E-5,2.8982259106012046E-4,2.8165433706233175E-3,2.1853451411540874E-2,0.13537641707656362,0.66955364704823195,2.6439128131537557,8.335434908770246,20.981125651286149,42.164668495672018,67.653143524932915,86.665581867072163,88.638973636964536,72.380597760513453,47.188806960492109,24.562649720472905,10.207768628490026,3.386926762292032,0.89722254762027132,0.1897640487400849,3.2044026463319157E-2,4.3201578068038302E-3,4.6501988630056555E-4,3.9963436402391949E-5,2.7420382634177945E-6,1.502116377921841E-7,6.5698134393209804E-9,2.2941503599527558E-10,6.3960242977360318E-12,1.4236974813221251E-13,2.5301409393296157E-15,3.5899722891756247E-17,4.0668379171698893E-19,3.6782565509517523E-21,2.6561130493231122E-23,1.5313359534013114E-25,7.0487772771248895E-28,2.5904575659696393E-30,7.600786998247916E-33,1.7805739985307E-35,3.3302809830105834E-38,4.9730303877715959E-41,5.92899021912222E-44,5.6436456813569552E-47,4.289020595088551E-50,2.6024111349127993E-53,1.2607038254457235E-56,4.8760664798594574E-60,1.5057246176653992E-63,3.7122812258725119E-67,7.3072770299866083E-71,1.1483906850727766E-74,1.4409308353732249E-78,1.4434973620393423E-82,1.1545380200543902E-86,7.3725863732429046E-91,3.7588144220555661E-95,1.5300347166975721E-99,4.9724573992339124E-104,1.2902095206845702E-108,2.6728143780434891E-113,4.4207639990780115E-118,4.7590682330420797E-119,3.0095172461897056E-114,1.5196528986122289E-109,6.1264847172508701E-105,1.9719581392357678E-100,5.0676126760657815E-96,1.0397490241877126E-91,1.7032288878262973E-87,2.2275983763156282E-83,2.3260559466874557E-79,0,0,0,0,0,0,0,0,0,0,0,0,0,0,0,0,0,0,0,0,0,0,0,0,0,null,32,4.7676336473217251,19.767633647321723,{"$f":"INDEX($BW$6:$GR$261,$GT37,$BJ$14)","v":3.9963436402391949E-5},1.0209500752753307E-5]
[null,null,null,null,null,null,null,null,null,null,null,null,null,null,null,null,null,null,null,null,null,null,null,null,null,null,null,null,null,null,7.0000000000000036,{"$f":"IF('Macro input'!$F$19=1,GC!AG38,IF($K$29>0,IF($AE38<$I$29,$G$29,IF($AE38<$I$29+$J$29,$G$29+((H$29-G$29)*($AE38-I$29)/J$29),$H$29)),$G$29))","v":170.00000000000003},170.00000000000455,0.10800000000000005,0.36000000000000015,6.0000000000033999,6,15,4.9999999999966001,37,0,0,0,0,0,0,0,0,0,0,0,0,0,0,0,0,0,0,0,0,"dt",{"$f":"B31/BJ2","v":0.2},7.2000000000000037,2.1600000000000015,15.002222783217109,1.0540740093711345,0,{"$f":"DG$4*$N$32+$M$32","v":15.683381761317341},null,null,null,null,3.2000000000000015,null,2.3646658842848605E-77,3.274625634440969E-77,2.1784551781320978E-73,1.1576840448500716E-69,4.911915111558932E-66,1.6639146395082462E-62,4.5001875957354186E-59,9.717388788655954E-56,1.6752820109977433E-52,2.3059275418004731E-49,2.5340943070423888E-46,2.2234085699331701E-43,1.5575254889438633E-40,8.7110485712651782E-38,3.8897804862147363E-35,1.3867530718361237E-32,3.9472312021519795E-30,8.9702671877599957E-28,1.6275621381483634E-25,2.3577033625987936E-23,2.7268429932357422E-21,2.5179696317057827E-19,1.8563515647222743E-17,1.0926708424841917E-15,5.1349694644246061E-14,1.9266630204895508E-12,5.7715577235265096E-11,1.3803833448439429E-9,2.6358807777863187E-8,4.0185668811680143E-7,4.8914320373040835E-6,4.7535737042264715E-5,3.6882795081504373E-4,2.2847927111959423E-3,1.1300279070885112E-2,4.4622193849331838E-2,0.14067990087296067,0.35410542028243325,0.71162710757675163,1.1418045976312958,1.4626840649521706,1.4959908713003247,1.2215982435674113,0.79644833511725355,0.41464465614148155,0.17255241324932424,5.7853615146779683E-2,1.6655603304671404E-2,6.0586656533847105E-3,5.1915822622352224E-3,6.606079393341663E-3,7.9246446375683659E-3,8.2763140157714084E-3,7.4624719032683395E-3,5.8047699396828268E-3,3.8950765582463891E-3,2.2546207878380345E-3,1.1257899915628965E-3,4.8491723191725555E-4,1.801790149439355E-4,5.77520169115249E-5,1.5968218276636925E-5,3.8086592733693242E-6,7.8363556890437375E-7,1.3908571112244649E-7,2.1294980527582382E-8,2.8125375933393965E-9,3.2043930545002786E-10,3.1493402538742525E-11,2.670052148294152E-12,1.9527482611801426E-13,1.2319671645644823E-14,6.7046847540379167E-16,3.1476319822371006E-17,1.2747232086053873E-18,4.4532204361369273E-20,1.3420195752532437E-21,3.4887501228939022E-23,7.8236107680156169E-25,1.5134600568496574E-26,2.5255795260172359E-28,3.6356116777782115E-30,4.5146105079229274E-32,4.8360350884654051E-34,4.4687386420444082E-36,3.56210587943188E-38,2.4493736979220737E-40,1.4528796223902332E-42,7.4341372009647304E-45,3.2813901359711402E-47,1.2494288256888176E-49,4.103850499584243E-52,1.1627809235340008E-54,2.8420428516583563E-57,5.9922469406154836E-60,1.0898711078076507E-62,1.7099638687150407E-65,2.3143289339010518E-68,2.7020264305300106E-71,2.7213252895051068E-74,2.3646658842848605E-77,0,0,0,0,0,0,0,0,0,0,0,0,0,0,0,0,0,0,0,0,0,0,0,0,0,null,33,8.1006173670175735E-2,15.081006173670175,{"$f":"INDEX($BW$6:$GR$261,$GT38,$BJ$14)","v":8.2763140157714084E-3},2.1143585682482377E-3]
[null,null,null,null,null,null,null,null,null,null,null,null,null,null,null,null,null,null,null,null,null,null,null,null,null,null,null,null,null,null,7.2000000000000037,{"$f":"IF('Macro input'!$F$19=1,GC!AG39,IF($K$29>0,IF($AE39<$I$29,$G$29,IF($AE39<$I$29+$J$29,$G$29+((H$29-G$29)*($AE39-I$29)/J$29),$H$29)),$G$29))","v":172.00000000000003},172.000000000005,0.11100000000000006,0.37000000000000016,6.0000000000075184,6,15,4.9999999999924816,38,0,0,0,0,0,0,0,0,0,0,0,0,0,0,0,0,0,0,0,0,null,null,7.4000000000000039,2.2200000000000015,15.002291062944359,0.69626742448895496,0,{"$f":"DH$4*$N$32+$M$32","v":16.429570293760108},null,null,null,null,3.3000000000000016,null,5.1619994370970545E-75,3.8970458099984818E-78,1.8874371070832436E-76,1.0028314219179017E-72,4.2546848420595402E-69,1.4412571471452388E-65,3.8979760463073333E-62,8.4170034025584169E-59,1.4510942684351087E-55,1.9973458580443749E-52,2.1949789278594578E-49,1.92586944166873E-46,1.3490955892339645E-43,7.5453257062022157E-41,3.3692454277067586E-38,1.2011761209341469E-35,3.4190080078656185E-33,7.7698553121927347E-31,1.4097598271317735E-28,2.042192679759428E-26,2.3619336038252897E-24,2.1810119258774388E-22,1.6079323803871591E-20,9.4644832582408798E-19,4.447801728299479E-17,1.6688346834104667E-15,4.9992010345555794E-14,1.1956588254395579E-12,2.2831441755891685E-11,3.4807978258415949E-10,4.2368557641146233E-9,4.1174471544772453E-8,3.1947143001686886E-7,1.9790472823014504E-6,9.7881857309759567E-6,3.8652390693503654E-5,1.2187165112096671E-4,3.0688839643907499E-4,6.1780103402783368E-4,9.9903227009446411E-4,1.328667158459309E-3,1.6235863508732651E-3,2.559829640891772E-3,6.6245851963668192E-3,2.0591275119357388E-2,5.9648364368302627E-2,0.15098961308365172,0.33032556613356023,0.62355324077434238,1.015417938272978,1.4264088656268152,1.7285014493911266,1.8068489156580134,1.6292971171752797,1.2673748822593811,0.85042547097178878,0.49225912969277946,0.24579761055674654,0.10587365123793803,3.9339105589703084E-2,1.2609196981170304E-2,3.4863961547334371E-3,8.3155771140681412E-4,1.7109385573328727E-4,3.0367062876709999E-5,4.6494065236514894E-6,6.1407103037965724E-7,6.9962618433201958E-8,6.8760631654935628E-9,5.8296169187330477E-10,4.2635026093685796E-11,2.68979638860502E-12,1.4638569400931787E-13,6.8723334371269847E-15,2.783147133787356E-16,9.7228697251989356E-18,2.9300776114674443E-19,7.6171084353719158E-21,1.7081559147803323E-22,3.3043895262024108E-24,5.5141848611017694E-26,7.9377563319352797E-28,9.8569047856581664E-30,1.0558682155071802E-31,9.756751159224273E-34,7.7772685879267888E-36,5.3478020490456664E-38,3.1721221748345788E-40,1.6231208079817732E-42,7.1643722261538686E-45,2.7279210354156242E-47,8.9600782964527119E-50,2.5387396830225029E-52,6.2051301516252701E-55,1.3083079358040296E-57,2.3795531684176899E-60,3.7334230740969121E-63,5.0529541594169078E-66,5.8994274716114226E-69,5.9415633357540652E-72,5.1619994370970545E-75,0,0,0,0,0,0,0,0,0,0,0,0,0,0,0,0,0,0,0,0,0,0,0,0,0,null,34,0.11824019195199253,15.118240191951992,{"$f":"INDEX($BW$6:$GR$261,$GT39,$BJ$14)","v":1.8068489156580134},0.46159757581352212]
[null,null,null,null,null,null,null,null,null,null,null,null,null,null,null,null,null,null,null,null,null,null,null,null,null,null,null,null,null,null,7.4000000000000039,{"$f":"IF('Macro input'!$F$19=1,GC!AG40,IF($K$29>0,IF($AE40<$I$29,$G$29,IF($AE40<$I$29+$J$29,$G$29+((H$29-G$29)*($AE40-I$29)/J$29),$H$29)),$G$29))","v":174.00000000000003},174.00000000000546,0.11400000000000006,0.38000000000000017,6.0000000000164224,6,15,4.9999999999835776,39,0,0,0,0,0,0,0,0,0,0,0,0,0,0,0,0,0,0,0,0,null,null,7.6000000000000041,2.2800000000000016,15.002361266476829,0.44658933925128175,0,{"$f":"DI$4*$N$32+$M$32","v":17.726563172090792},null,null,null,null,3.4000000000000017,null,1.5067887316726427E-73,1.1292734895468836E-76,1.4753001484232084E-78,2.0445576303987789E-75,2.571498718733829E-72,2.7899706423926206E-69,2.6111950356550851E-66,2.1081686280240152E-63,1.4682423203045843E-60,8.8209728721680777E-58,4.5715301866465441E-55,2.0437748664553152E-52,7.8818991396725828E-50,2.6221350095323814E-47,7.5249840169009542E-45,1.8628696681456857E-42,3.9781918002287305E-40,7.3285038645365734E-38,1.1645852395068724E-35,1.5964436668855747E-33,1.8878273436591356E-31,1.9257384549930263E-29,1.6945667882780131E-27,1.286312336583168E-25,8.4228785004462462E-24,4.7577431663604816E-22,2.318290251925413E-20,9.7445318816678557E-19,3.5332999679616526E-17,1.1051631483411021E-15,2.9819381910738751E-14,6.9406035240713059E-13,1.3935488345453293E-11,2.413645617192772E-10,3.60621134222521E-9,4.6478831541348244E-8,5.1675606788893054E-7,4.9561258428207218E-6,4.1003924224268671E-5,2.9264080055696587E-4,1.8016510825853251E-3,9.56825750277643E-3,4.3835037164360199E-2,0.17323524731802645,0.59057831799321747,1.7367811368590163,4.4059447360433293,9.6418274299554856,18.201451372705939,29.640057522923012,41.636903256754678,50.454993841679851,52.74195822835366,47.559217473372286,36.994699746073131,24.82393757005692,14.369054456731783,7.1748374755968927,3.0904541295565635,1.1483093281588366,0.36806272783842886,0.10176797784607998,2.4273187267399323E-2,4.9942332847704909E-3,8.8641521070167257E-4,1.3571627522993335E-4,1.7924746426406764E-5,2.042210318840895E-6,2.0071242992398777E-7,1.7016664174301727E-8,1.2445173177117045E-9,7.8515213744248428E-11,4.2730015189746356E-12,2.0060355907370689E-13,8.1240123979917649E-15,2.8381077389927894E-16,8.5529027745819288E-18,2.2234355709969126E-19,4.9861107452462318E-21,9.6455200491436127E-23,1.6095917327751304E-24,2.3170327601446488E-26,2.8772326016246318E-28,3.0820815648911938E-30,2.8479977367849293E-32,2.2701863535633171E-34,1.5610245545779397E-36,9.2594313694195388E-39,4.7378930877931158E-41,2.0912817753151848E-43,7.9628072994836883E-46,2.6154487588409465E-48,7.4105865298188425E-51,1.8112788099117364E-53,3.8189536448973913E-56,6.9459207554001028E-59,1.0897869887186932E-61,1.4749583929371746E-64,1.7220441326508121E-67,1.7343436003483427E-70,1.5067887316726427E-73,0,0,0,0,0,0,0,0,0,0,0,0,0,0,0,0,0,0,0,0,0,0,0,0,0,null,35,3.4493992582756601,18.449399258275662,{"$f":"INDEX($BW$6:$GR$261,$GT40,$BJ$14)","v":52.74195822835366},13.474043043050997]
[null,null,null,null,null,null,null,null,null,null,null,null,null,null,null,null,null,null,null,null,null,null,null,null,null,null,null,null,null,null,7.6000000000000041,{"$f":"IF('Macro input'!$F$19=1,GC!AG41,IF($K$29>0,IF($AE41<$I$29,$G$29,IF($AE41<$I$29+$J$29,$G$29+((H$29-G$29)*($AE41-I$29)/J$29),$H$29)),$G$29))","v":176.00000000000003},176.00000000000591,0.11700000000000006,0.39000000000000018,6.0000000000354241,6,15,4.9999999999645759,40,0,0,0,0,0,0,0,0,0,0,0,0,0,0,0,0,0,0,0,0,null,null,7.8000000000000043,2.3400000000000016,15.002433442283122,0.27814286860159093,0,{"$f":"DJ$4*$N$32+$M$32","v":19.305067856547264},null,null,null,null,3.5000000000000018,null,6.514344292751073E-73,4.8822214799938264E-76,6.3782087693920266E-78,8.8392964792110968E-75,1.1117436472732921E-71,1.2061962602439999E-68,1.1289056733850856E-65,9.114307786785825E-63,6.3476954523241867E-60,3.8135972932670066E-57,1.9764231676634364E-54,8.835912332701046E-52,3.4076047688230741E-49,1.1336353846506656E-46,3.2532985980805498E-44,8.0537995378773536E-42,1.7199034280354162E-39,3.168353752642733E-37,5.0348858130775712E-35,6.9019521260489781E-33,8.1616997946445356E-31,8.3256020236422479E-29,7.3261707191361355E-27,5.56115217241772E-25,3.6414879760222687E-23,2.0569291759801486E-21,1.0022732818559316E-19,4.212882291627401E-18,1.5275620262515427E-16,4.7779845287021798E-15,1.2891901583837181E-13,3.0006516510839393E-12,6.0247708959921588E-11,1.0434985489723814E-9,1.5590840163505257E-8,2.0094330719411084E-7,2.2341067933657021E-6,2.1426965452877801E-5,1.7727347844859903E-4,1.2651826290326562E-3,7.7891314161475517E-3,4.1366730680015444E-2,0.18951331276362349,0.74895306883319701,2.553264710820438,7.5086772610091916,19.048351200210671,41.684797722304104,78.690873098016468,128.14373740831493,180.01005542255146,218.13356727752947,228.02086805626277,205.61417165062738,159.94027967367938,107.32206356069426,62.122158153208311,31.019187081845985,13.361051750458421,4.9645196841235126,1.5912564781441239,0.43997650880392852,0.10494098848664207,2.1591716483834379E-2,3.8322650995884278E-3,5.8674618703587829E-4,7.7494586419061111E-5,8.8291482777220689E-6,8.6774598513761153E-7,7.3568647558486878E-8,5.3804585310812162E-9,3.3944714597195159E-10,1.8473593857547209E-11,8.6727530057031531E-13,3.5122783099359092E-14,1.2270075136012518E-15,3.6977017550564813E-17,9.6126447708066833E-19,2.1556600068453592E-20,4.1700762132063646E-22,6.9587955482142499E-24,1.001729626714835E-25,1.2439224811898058E-27,1.3324854393989611E-29,1.2312832856002253E-31,9.8147638119114221E-34,6.7488236301519965E-36,4.0031573522944994E-38,2.0483473327988267E-40,9.0413003569756868E-43,3.442584032871418E-45,1.1307446981120624E-47,3.2038407941154795E-50,7.8307552544751377E-53,1.6510595253325197E-55,3.0029504654320886E-58,4.7115083229971641E-61,6.3767312477905156E-64,7.4449643348119053E-67,7.4981389873130176E-70,6.514344292751073E-73,0,0,0,0,0,0,0,0,0,0,0,0,0,0,0,0,0,0,0,0,0,0,0,0,0,null,36,14.912889842641642,29.91288984264164,{"$f":"INDEX($BW$6:$GR$261,$GT41,$BJ$14)","v":228.02086805626277},58.252728835014295]
[null,null,null,null,null,null,null,null,null,null,null,null,null,null,null,null,null,null,null,null,null,null,null,null,null,null,null,null,null,null,7.8000000000000043,{"$f":"IF('Macro input'!$F$19=1,GC!AG42,IF($K$29>0,IF($AE42<$I$29,$G$29,IF($AE42<$I$29+$J$29,$G$29+((H$29-G$29)*($AE42-I$29)/J$29),$H$29)),$G$29))","v":178.00000000000006},178.00000000000637,0.12000000000000006,0.40000000000000019,6.0000000000754641,6,15,4.9999999999245359,41,0,0,0,0,0,0,0,0,0,0,0,0,0,0,0,0,0,0,0,0,null,null,8.0000000000000036,2.4000000000000017,15.002507639873532,0.16821116170127123,0,{"$f":"DK$4*$N$32+$M$32","v":20.484170129923577},null,null,null,null,3.6000000000000019,null,4.5295749596668894E-73,3.394722042544781E-76,4.4349167669130227E-78,6.1461682395048423E-75,7.7302119138244154E-72,8.3869628796327463E-69,7.8495434692959783E-66,6.3373899920612579E-63,4.413700148522026E-60,2.6516828140412404E-57,1.3742529543480953E-54,6.1438151637994595E-52,2.369386777803253E-49,7.8824302507620195E-47,2.2620941116948345E-44,5.5999939637117393E-42,1.1958888186710328E-39,2.2030299868102992E-37,3.5008731007778955E-35,4.799087692948519E-33,5.6750195195052995E-31,5.7889845479008275E-29,5.0940567382307767E-27,3.8667983292056838E-25,2.5320112064805806E-23,1.4302306526376826E-21,6.9690390256001476E-20,2.9293149515314884E-18,1.0621493726001628E-16,3.3222436681720825E-15,8.9640387385754949E-14,2.0864228187259376E-12,4.1891632007511287E-11,7.2556878873191082E-10,1.0840673447881086E-8,1.3972055078389394E-7,1.5534263670576404E-6,1.4898666974817734E-5,1.2326236884460374E-4,8.7971088084011809E-4,5.4159640686164802E-3,2.8763249074812446E-2,0.13177301005917685,0.52076447207856436,1.7753442832922905,5.2209577776743767,13.244761213407971,28.984408480195604,54.715592593982116,89.101318278298791,125.1651744040534,151.67333806759018,158.54820804888374,142.96831137674104,111.21019296726024,74.623524621693633,43.194980087920115,21.568361566566217,9.2902497510047581,3.4519458962281351,1.1064376050602409,0.30592589024463562,7.2967907793993064E-2,1.5013222194938754E-2,2.6646629735577573E-3,4.0797825798601778E-4,5.3883786668156403E-5,6.1391119591971673E-6,6.0336394715958492E-7,5.1153990151900992E-8,3.7411578416312674E-9,2.3602548828066625E-10,1.2845119077497213E-11,6.0303666924271169E-13,2.4421687232236006E-14,8.531668360107869E-16,2.5710979532748751E-17,6.6838952768385124E-19,1.4988804935329209E-20,2.8995508905264195E-22,4.8386122452427688E-24,6.9652588650757098E-26,8.6492820602587009E-28,9.2650808879390296E-30,8.561398796371956E-32,6.8244333427308326E-34,4.6926138915256741E-36,2.7834883278639219E-38,1.4242634976586067E-40,6.2866262296507215E-43,2.3937086729043859E-45,7.86233063555428E-48,2.2277049513537731E-50,5.4449060906130234E-53,1.1480200534054665E-55,2.0880212377594369E-58,3.2760212176469906E-61,4.4338894118105268E-64,5.1766566996009514E-67,5.2136302710970185E-70,4.5295749596668894E-73,0,0,0,0,0,0,0,0,0,0,0,0,0,0,0,0,0,0,0,0,0,0,0,0,0,null,37,10.369278836346803,25.369278836346801,{"$f":"INDEX($BW$6:$GR$261,$GT42,$BJ$14)","v":158.54820804888374},40.504475969586089]
[null,null,null,null,null,null,null,null,null,null,null,null,null,null,null,null,null,null,null,null,null,null,null,null,null,null,null,null,null,null,8.0000000000000036,{"$f":"IF('Macro input'!$F$19=1,GC!AG43,IF($K$29>0,IF($AE43<$I$29,$G$29,IF($AE43<$I$29+$J$29,$G$29+((H$29-G$29)*($AE43-I$29)/J$29),$H$29)),$G$29))","v":180.00000000000003},180.00000000000682,0.12300000000000007,0.4100000000000002,6.0000000001587619,6,15,4.9999999998412381,42,0,0,0,0,0,0,0,0,0,0,0,0,0,0,0,0,0,0,0,0,null,null,8.2000000000000028,2.4600000000000017,15.002583909817094,9.8779993644697306E-2,0,{"$f":"DL$4*$N$32+$M$32","v":20.597451037149519},null,null,null,null,3.700000000000002,null,4.9455565885471655E-74,3.7064824212619503E-77,4.8422052911291225E-79,6.7106126075542153E-76,8.4401297697238302E-73,9.1571946367167751E-70,8.5704203523146915E-67,6.9193955522344077E-64,4.8190402065892694E-61,2.8952048544270849E-58,1.5004599356948163E-55,6.7080434329270757E-53,2.5869836561095721E-50,8.6063273502568232E-48,2.4698375758481468E-45,6.1142794389466695E-43,1.305715410168057E-40,2.4053491912711162E-38,3.8223820520442258E-36,5.2398205063864551E-34,6.1961951010271446E-32,6.3206263119165033E-30,5.5618785622311516E-28,4.221912679195998E-26,2.7645429904544933E-24,1.5615784461627681E-22,7.6090532060504393E-21,3.1983338365023264E-19,1.1596937625402008E-17,3.6273478655701185E-16,9.7872672907071853E-15,2.2780331950625335E-13,4.5738825060746283E-12,7.922026979372871E-11,1.1836246109590689E-9,1.5255203780434673E-8,1.6960880596597493E-7,1.6266912739931474E-6,1.3458238925009243E-5,9.6050070514241585E-5,5.9133488288381803E-4,3.1404773568516711E-3,1.4387462044314644E-2,5.685898100599783E-2,0.19383862051863318,0.57004337859115495,1.4461117580780891,3.1646243543989261,5.9740497035362221,9.7284097422660807,13.66599423660149,16.560253071565821,17.310876669456157,15.609806230797037,12.14233802156313,8.1476709655903203,4.7161868446413147,2.3549130679922228,1.0143436475706129,0.37689615300361173,0.1208049284148382,3.3402114228788055E-2,7.9669046291624482E-3,1.6391988343860467E-3,2.90937707014024E-4,4.4544567199636941E-5,5.8832300722575638E-6,6.702908301106703E-7,6.587749558705512E-8,5.5851808454190057E-9,4.0847337724233354E-10,2.5770131171807649E-11,1.4024773593560539E-12,6.5841762180002785E-14,2.666449661839909E-15,9.3151894041585423E-17,2.8072193386449237E-18,7.2977227704294211E-20,1.6365328681483417E-21,3.1658363396474866E-23,5.2829748667290382E-25,7.6049258877139789E-27,9.4436043691086168E-29,1.0115956185023379E-30,9.347650188284091E-33,7.4511674013063448E-35,5.123568492715588E-37,3.0391149636750716E-39,1.5550632868190268E-41,6.8639698087851084E-44,2.613539196007781E-46,8.5843818508881116E-49,2.4322902253762498E-51,5.944948793259876E-54,1.2534505311114691E-56,2.279778407770739E-59,3.5768804935167426E-62,4.8410835870307981E-65,5.6520642389901136E-68,5.6924333446441116E-71,4.9455565885471655E-74,0,0,0,0,0,0,0,0,0,0,0,0,0,0,0,0,0,0,0,0,0,0,0,0,0,null,38,1.1321560129639396,16.132156012963939,{"$f":"INDEX($BW$6:$GR$261,$GT43,$BJ$14)","v":17.310876669456157},4.4224277063684667]
[null,null,null,null,null,null,null,null,null,null,null,null,null,null,null,null,null,null,null,null,null,null,null,null,null,null,null,null,null,null,8.2000000000000028,{"$f":"IF('Macro input'!$F$19=1,GC!AG44,IF($K$29>0,IF($AE44<$I$29,$G$29,IF($AE44<$I$29+$J$29,$G$29+((H$29-G$29)*($AE44-I$29)/J$29),$H$29)),$G$29))","v":182.00000000000003},182.00000000000728,0.12600000000000006,0.42000000000000021,6.0000000003298553,6,15,4.9999999996701447,43,0,0,0,0,0,0,0,0,0,0,0,0,0,0,0,0,0,0,0,0,null,null,8.4000000000000021,2.5200000000000018,15.002662303758768,5.632620358871189E-2,0,{"$f":"DM$4*$N$32+$M$32","v":19.569892244275621},null,null,null,null,3.800000000000002,null,7.6570634922815687E-76,5.7386404794865709E-79,7.497047641250309E-81,1.038984912782942E-77,1.3067610970124652E-74,1.4177821947664464E-71,1.3269336144123247E-68,1.0713101775918394E-65,7.461181804928369E-63,4.4825626795673624E-60,2.3231191049044361E-57,1.0385871348404486E-54,4.0053526339579941E-52,1.3324929919694803E-49,3.8239787161039568E-47,9.466563577896442E-45,2.0216017387527936E-42,3.7241331989452802E-40,5.9180845553438798E-38,8.1126638806384391E-36,9.5933912492277156E-34,9.7860445259908873E-32,8.6112971360973633E-30,6.5366663720592542E-28,4.2802626612489192E-26,2.4177471425838638E-24,1.1780878950976174E-22,4.9518885927468659E-21,1.7955206077182543E-19,5.6161187154511397E-18,1.5153345375609347E-16,3.5270134917702014E-15,7.0816111651323317E-14,1.2265447272224076E-12,1.8325720543019981E-11,2.3619194693877091E-10,2.626004521187877E-9,2.5185594673308496E-8,2.0837005521630021E-7,1.4871157071963116E-6,9.1554684743227615E-6,4.862311063869553E-5,2.2275695039306243E-4,8.8033130320980659E-4,3.0011477939704745E-3,8.8258182169732666E-3,2.2389733794941188E-2,4.8996971679524541E-2,9.2494498985119605E-2,0.15062217920621321,0.21158667114867985,0.25639765099620604,0.26801934098184138,0.24168215502420884,0.1879963387562131,0.12614805387571429,7.30193689311118E-2,3.6460443951197678E-2,1.5704791914477535E-2,5.8353750925193787E-3,1.870388075621398E-3,5.1715535925432783E-4,1.2334930050890273E-4,2.5379245645342184E-5,4.5045051148825791E-6,6.8967076440635937E-7,9.1088364669203143E-8,1.0377920771015302E-8,1.0199623791399455E-9,8.6473753931529448E-11,6.3242762031968612E-12,3.9899155343589439E-13,2.1714154908156468E-14,1.0194091290422135E-15,4.1283875725863984E-17,1.442244071687468E-18,4.3463372277536437E-20,1.1298854962381978E-21,2.5337969254333619E-23,4.9015736499689426E-25,8.1794785396552155E-27,1.1774488742313248E-28,1.4621261925848186E-30,1.5662244968188122E-32,1.447269881838628E-34,1.1536428885587145E-36,7.932674220456447E-39,4.7053745762596058E-41,2.4076599081413573E-43,1.0627287686219974E-45,4.0464678151174388E-48,1.3290952332131617E-50,3.7658452297343829E-53,9.2043937933639201E-56,1.9406815247814324E-58,3.5297155545764814E-61,5.5379815300439017E-64,7.4953109389506493E-67,8.7509290340796729E-70,8.8134313631067246E-73,7.6570634922815687E-76,0,0,0,0,0,0,0,0,0,0,0,0,0,0,0,0,0,0,0,0,0,0,0,0,0,null,39,1.7528846994711852E-2,15.017528846994711,{"$f":"INDEX($BW$6:$GR$261,$GT44,$BJ$14)","v":0.26801934098184138},6.8471180404865675E-2]
[null,null,null,null,null,null,null,null,null,null,null,null,null,null,null,null,null,null,null,null,null,null,null,null,null,null,null,null,null,null,8.4000000000000021,{"$f":"IF('Macro input'!$F$19=1,GC!AG45,IF($K$29>0,IF($AE45<$I$29,$G$29,IF($AE45<$I$29+$J$29,$G$29+((H$29-G$29)*($AE45-I$29)/J$29),$H$29)),$G$29))","v":184.00000000000003},184.00000000000773,0.12900000000000006,0.43000000000000022,6.0000000006768195,6,15,4.9999999993231805,44,0,0,0,0,0,0,0,0,0,0,0,0,0,0,0,0,0,0,0,0,null,null,8.6000000000000014,2.5800000000000018,15.00274287443675,3.1187407167227003E-2,0,{"$f":"DN$4*$N$32+$M$32","v":17.991249994953129},null,null,null,null,3.9000000000000021,null,7.5991357200392348E-78,1.1440762395883182E-71,9.2800535148143034E-66,4.0555591923127892E-60,9.5489530412013382E-55,1.2113384985649742E-49,8.2790409736791277E-45,3.0485919122896135E-40,6.0481604463819286E-36,6.464754892984408E-32,3.7229360197202807E-28,1.1551112970381213E-24,1.9309313745196006E-21,1.7390601217141492E-18,8.4385359127050234E-16,2.2060957548559843E-13,3.1073227462969846E-11,2.3580505927432697E-9,9.6410563833995461E-8,2.1237376972262386E-6,2.520472008387404E-5,1.6116384890315852E-4,5.5521108954747415E-4,1.0305127812110892E-3,1.0305127812110892E-3,5.5521108954747415E-4,1.6116384890315765E-4,2.520472008387404E-5,2.1237376972262386E-6,9.6410563833994243E-8,2.3580505927432697E-9,3.1073227462969846E-11,2.2060957548559843E-13,8.4385359127049622E-16,1.7390601217140876E-18,1.9309313745195318E-21,1.1551112970380801E-24,3.7229360197203341E-28,6.464754892984408E-32,6.0481604463819286E-36,3.0485919122896135E-40,8.2790409736791277E-45,1.2113384985649398E-49,9.5489530412010687E-55,4.0555591923130202E-60,9.2800535148143034E-66,1.1440762395883182E-71,7.5991357200392348E-78,2.7194318848124909E-84,5.2432059734193947E-91,5.4465362906647785E-98,3.0482363236491446E-105,9.1913989202849537E-113,1.4932046938794856E-120,1.3069585876520321E-128,6.1632396679685901E-137,1.5658892234644123E-145,2.1434717475226932E-154,1.5808084226899895E-163,6.2812411642914993E-173,1.3446722564166084E-182,1.5509299051846585E-192,9.6376831700873201E-203,3.2266946538353436E-213,5.8203331401476345E-224,5.6564319440630009E-235,2.9617066372267931E-246,8.354996269576491E-258,1.2698582106635009E-269,1.0398458233709617E-281,4.5876198321968955E-294,1.0904622625119884E-306,0,0,0,0,1.0904622625119884E-306,4.5876198321979385E-294,1.0398458233711981E-281,1.2698582106637899E-269,8.3549962695783895E-258,2.9617066372274674E-246,5.6564319440630009E-235,5.8203331401476345E-224,3.2266946538353436E-213,9.6376831700873201E-203,1.5509299051846585E-192,1.3446722564164555E-182,6.2812411642914993E-173,1.5808084226899895E-163,2.1434717475226932E-154,1.5658892234644123E-145,6.1632396679685901E-137,1.3069585876520321E-128,1.4932046938794856E-120,9.1913989202857361E-113,3.0482363236494036E-105,5.4465362906652424E-98,5.2432059734193947E-91,2.7194318848124909E-84,7.5991357200392348E-78,0,0,0,0,0,0,0,0,0,0,0,0,0,0,0,0,0,0,0,0,0,0,0,0,0,null,40,3.5486299547038628E-5,15.000035486299547,{"$f":"INDEX($BW$6:$GR$261,$GT45,$BJ$14)","v":9.1913989202849537E-113},2.3481362626235155E-113]
[null,null,null,null,null,null,null,null,null,null,null,null,null,null,null,null,null,null,null,null,null,null,null,null,null,null,null,null,null,null,8.6000000000000014,{"$f":"IF('Macro input'!$F$19=1,GC!AG46,IF($K$29>0,IF($AE46<$I$29,$G$29,IF($AE46<$I$29+$J$29,$G$29+((H$29-G$29)*($AE46-I$29)/J$29),$H$29)),$G$29))","v":186},186.00000000000819,0.13200000000000006,0.44000000000000022,6.0000000013714923,6,15,4.9999999986285077,45,0,0,0,0,0,0,0,0,0,0,0,0,0,0,0,0,0,0,0,0,null,null,8.8000000000000007,2.6400000000000019,15.002825675699894,1.6767772110319872E-2,0,{"$f":"DO$4*$N$32+$M$32","v":16.600917684317412},null,null,null,null,4.0000000000000018,null,1.0882046600893013E-75,1.6383298591895972E-69,1.3289139518943721E-63,5.8076057264048899E-58,1.3674206621954571E-52,1.7346501597647168E-47,1.1855678462051969E-42,4.3656174174067569E-38,8.6610328137245367E-34,9.2576006799420919E-30,5.3312856555390065E-26,1.6541321838007532E-22,2.7651151360855296E-19,2.4903533748375188E-16,1.2084076983019222E-13,3.1591535794087809E-11,4.4497206228399965E-9,3.3767545919502498E-7,1.380609962911009E-5,3.0412159277989345E-4,3.6093438598799664E-3,2.3078841841429783E-2,7.9506843572429362E-2,0.14757057277425545,0.14757057277425545,7.9506843572429362E-2,2.3078841841429661E-2,3.6093438598799664E-3,3.0412159277989345E-4,1.3806099629109917E-5,3.3767545919502498E-7,4.4497206228399965E-9,3.1591535794087809E-11,1.2084076983019136E-13,2.4903533748374306E-16,2.7651151360854304E-19,1.6541321838006942E-22,5.3312856555390823E-26,9.2576006799420919E-30,8.6610328137245367E-34,4.3656174174067569E-38,1.1855678462051969E-42,1.7346501597646674E-47,1.3674206621954185E-52,5.8076057264052203E-58,1.3289139518943721E-63,1.6383298591895972E-69,1.0882046600893013E-75,3.8942566087411656E-82,7.5083290841048286E-89,7.799500352674723E-96,4.3651082105312797E-103,1.3162185156685447E-110,2.1382856764380639E-118,1.8715791874543989E-126,8.8258275348923901E-135,2.2423707286396419E-143,3.0694753066101446E-152,2.2637351873362553E-161,8.9948069858811089E-171,1.9255855792476809E-180,2.2209488190126574E-190,1.3801269150248975E-200,4.6206625178826611E-211,8.3347815853302735E-222,8.1000732554037918E-233,4.2411967402405731E-244,1.1964447287875159E-255,1.8184510362838324E-267,1.489070747588694E-279,6.5695224615477517E-292,1.5615540496109763E-304,0,0,0,0,1.5615540496109763E-304,6.5695224615492461E-292,1.4890707475890322E-279,1.8184510362842463E-267,1.1964447287877878E-255,4.2411967402415383E-244,8.1000732554037918E-233,8.3347815853302735E-222,4.6206625178826611E-211,1.3801269150248975E-200,2.2209488190126574E-190,1.9255855792474619E-180,8.9948069858811089E-171,2.2637351873362553E-161,3.0694753066101446E-152,2.2423707286396419E-143,8.8258275348923901E-135,1.8715791874543989E-126,2.1382856764380639E-118,1.3162185156686568E-110,4.3651082105316504E-103,7.7995003526753867E-96,7.5083290841048286E-89,3.8942566087411656E-82,1.0882046600893013E-75,0,0,0,0,0,0,0,0,0,0,0,0,0,0,0,0,0,0,0,0,0,0,0,0,0,null,41,5.0816774379459171E-3,15.005081677437946,{"$f":"INDEX($BW$6:$GR$261,$GT46,$BJ$14)","v":1.3162185156685447E-110},3.3625571613009588E-111]
[null,null,null,null,null,null,null,null,null,null,null,null,null,null,null,null,null,null,null,null,null,null,null,null,null,null,null,null,null,null,8.8000000000000007,{"$f":"IF('Macro input'!$F$19=1,GC!AG47,IF($K$29>0,IF($AE47<$I$29,$G$29,IF($AE47<$I$29+$J$29,$G$29+((H$29-G$29)*($AE47-I$29)/J$29),$H$29)),$G$29))","v":188},188.00000000000864,0.13500000000000006,0.45000000000000023,6.0000000027446374,6,15,4.9999999972553626,46,0,0,0,0,0,0,0,0,0,0,0,0,0,0,0,0,0,0,0,0,null,null,9,2.700000000000002,15.002910762525245,8.7538431046720495E-3,0,{"$f":"DP$4*$N$32+$M$32","v":15.795610482245992},null,null,null,null,4.1000000000000014,null,4.5462874024927821E-74,6.8445933684479977E-68,5.5519195791704196E-62,2.4262940346563833E-56,5.7127924171335431E-51,7.2469990786689488E-46,4.9530500664837007E-41,1.8238620175758739E-36,3.618395125268182E-32,3.8676284794696158E-28,2.2272976494034172E-24,6.9106121165242136E-21,1.1552062374550154E-17,1.0404166229953556E-14,5.0484701061788254E-12,1.3198271104102327E-9,1.8589985463368352E-7,1.4107361809526958E-5,5.7678945076593095E-4,1.2705552703365625E-2,0.15079070255121296,0.96418487970089417,3.3216266627238782,6.1651843682344269,6.1651843682344269,3.3216266627238782,0.96418487970088906,0.15079070255121296,1.2705552703365625E-2,5.767894507659238E-4,1.4107361809526958E-5,1.8589985463368352E-7,1.3198271104102327E-9,5.048470106178789E-12,1.0404166229953187E-14,1.1552062374549741E-17,6.9106121165239669E-21,2.2272976494034492E-24,3.8676284794696158E-28,3.618395125268182E-32,1.8238620175758739E-36,4.9530500664837007E-41,7.2469990786687419E-46,5.7127924171333816E-51,2.4262940346565214E-56,5.5519195791704196E-62,6.8445933684479977E-68,4.5462874024927821E-74,1.6269375064926986E-80,3.1368200468866515E-87,3.2584652041641921E-94,1.8236492817837799E-101,5.4988807493441496E-109,8.9333023375615485E-117,7.8190594056023977E-125,3.6872428514653153E-133,9.3681475270436505E-142,1.2823614371913464E-150,9.4574036872088894E-160,3.7578388686930967E-169,8.0446866131202713E-179,9.2786513491220207E-189,5.7658764364269655E-199,1.9304144309119792E-209,3.4820943075915777E-220,3.3840381640425033E-231,1.7718817074415815E-242,4.9984913663383913E-254,7.5971013004380086E-266,6.2210205758790292E-278,2.7446066261907892E-290,6.5238403807932445E-303,0,0,0,0,6.5238403807932445E-303,2.7446066261914135E-290,6.2210205758804421E-278,7.597101300439737E-266,4.9984913663395271E-254,1.7718817074419847E-242,3.3840381640425033E-231,3.4820943075915777E-220,1.9304144309119792E-209,5.7658764364269655E-199,9.2786513491220207E-189,8.0446866131193575E-179,3.7578388686930967E-169,9.4574036872088894E-160,1.2823614371913464E-150,9.3681475270436505E-142,3.6872428514653153E-133,7.8190594056023977E-125,8.9333023375615485E-117,5.4988807493446186E-109,1.8236492817839347E-101,3.2584652041644694E-94,3.1368200468866515E-87,1.6269375064926986E-80,4.5462874024927821E-74,0,0,0,0,0,0,0,0,0,0,0,0,0,0,0,0,0,0,0,0,0,0,0,0,0,null,42,0.21230166499902184,15.212301664999021,{"$f":"INDEX($BW$6:$GR$261,$GT47,$BJ$14)","v":5.4988807493441496E-109},1.4048047966758322E-109]
[null,null,null,null,null,null,null,null,null,null,null,null,null,null,null,null,null,null,null,null,null,null,null,null,null,null,null,null,null,null,9,{"$f":"IF('Macro input'!$F$19=1,GC!AG48,IF($K$29>0,IF($AE48<$I$29,$G$29,IF($AE48<$I$29+$J$29,$G$29+((H$29-G$29)*($AE48-I$29)/J$29),$H$29)),$G$29))","v":190},190.00000000000909,0.13800000000000007,0.46000000000000024,6.0000000054243552,6,15,4.9999999945756448,47,0,0,0,0,0,0,0,0,0,0,0,0,0,0,0,0,0,0,0,0,null,null,9.1999999999999993,2.760000000000002,15.002998191035685,4.4376133260215049E-3,0,{"$f":"DQ$4*$N$32+$M$32","v":15.597576284625715},null,null,null,null,4.2000000000000011,null,5.6691730351185255E-73,8.5351366346703533E-67,6.9231858844035111E-61,3.0255633880517168E-55,7.1237926376332914E-50,9.0369323637110345E-45,6.1764018401267354E-40,2.2743369379042309E-35,4.5121010306842925E-31,4.8228924272678374E-27,2.7774169684602942E-23,8.6174613258460036E-20,1.4405301450563317E-16,1.2973886915156836E-13,6.2953896356965722E-11,1.6458106588803523E-8,2.3181518232742336E-6,1.7591733229047234E-4,7.1925043705554238E-3,0.15843691875419669,1.8803443539033318,12.023285016851696,41.420338491402362,76.879206883763089,76.879206883763089,41.420338491402362,12.023285016851633,1.8803443539033318,0.15843691875419669,7.1925043705553336E-3,1.7591733229047234E-4,2.3181518232742336E-6,1.6458106588803523E-8,6.295389635696527E-11,1.2973886915156376E-13,1.4405301450562801E-16,8.6174613258456966E-20,2.7774169684603336E-23,4.8228924272678374E-27,4.5121010306842925E-31,2.2743369379042309E-35,6.1764018401267354E-40,9.0369323637107781E-45,7.1237926376330901E-50,3.0255633880518892E-55,6.9231858844035111E-61,8.5351366346703533E-67,5.6691730351185255E-73,2.0287741238211393E-79,3.9115819242044204E-86,4.0632721682291281E-93,2.2740716585874235E-100,6.8570470160819745E-108,1.1139734962399493E-115,9.7502856326077529E-124,4.5979534281090567E-132,1.1681982384177367E-140,1.5990913546325365E-149,1.1793283886178658E-158,4.6859859262382013E-168,1.0031640410167145E-177,1.1570381582533969E-187,7.1899878567496563E-198,2.4072066874455018E-208,4.3421353308006632E-219,4.2198603411835703E-230,2.2095180326126627E-241,6.2330666677123592E-253,9.4735061874644462E-265,7.7575478576987972E-277,3.4224958740349137E-289,8.135161000145139E-302,0,0,0,0,8.135161000145139E-302,3.422495874035692E-289,7.7575478577005599E-277,9.4735061874666025E-265,6.2330666677137754E-253,2.2095180326131655E-241,4.2198603411835703E-230,4.3421353308006632E-219,2.4072066874455018E-208,7.1899878567496563E-198,1.1570381582533969E-187,1.0031640410166005E-177,4.6859859262382013E-168,1.1793283886178658E-158,1.5990913546325365E-149,1.1681982384177367E-140,4.5979534281090567E-132,9.7502856326077529E-124,1.1139734962399493E-115,6.8570470160825584E-108,2.2740716585876166E-100,4.0632721682294739E-93,3.9115819242044204E-86,2.0287741238211393E-79,5.6691730351185255E-73,0,0,0,0,0,0,0,0,0,0,0,0,0,0,0,0,0,0,0,0,0,0,0,0,0,null,43,2.6473796484210097,17.647379648421008,{"$f":"INDEX($BW$6:$GR$261,$GT48,$BJ$14)","v":6.8570470160819745E-108},1.7517769484949393E-108]
[null,null,null,null,null,null,null,null,null,null,null,null,null,null,null,null,null,null,null,null,null,null,null,null,null,null,null,null,null,null,9.1999999999999993,{"$f":"IF('Macro input'!$F$19=1,GC!AG49,IF($K$29>0,IF($AE49<$I$29,$G$29,IF($AE49<$I$29+$J$29,$G$29+((H$29-G$29)*($AE49-I$29)/J$29),$H$29)),$G$29))","v":192},192.00000000000955,0.14100000000000007,0.47000000000000025,6.0000000105872351,6,15,4.9999999894127649,48,0,0,0,0,0,0,0,0,0,0,0,0,0,0,0,0,0,0,0,0,null,null,9.3999999999999986,2.8200000000000021,15.003088018517694,2.184376313549165E-3,0,{"$f":"DR$4*$N$32+$M$32","v":15.895834360374051},null,null,null,null,4.3000000000000007,null,2.1636318301908755E-72,3.2574227640266264E-66,2.6422240515561251E-60,1.1547019662475307E-54,2.7187853337661547E-49,3.4489323907183364E-44,2.3572149826025391E-39,8.6799745940821563E-35,1.7220369444626567E-30,1.8406500391824895E-26,1.0599972379476513E-22,3.2888418653902433E-19,5.4977628216426387E-16,4.9514654989435089E-13,2.4026265056420301E-10,6.2812129846139008E-8,8.8471934812733817E-6,6.7138599804261127E-4,2.7450090689629742E-2,0.6046722482634167,7.1763074978004928,45.886696357246564,158.08013306724692,293.40840024309057,293.40840024309057,158.08013306724692,45.886696357246315,7.1763074978004928,0.6046722482634167,2.7450090689629399E-2,6.7138599804261127E-4,8.8471934812733817E-6,6.2812129846139008E-8,2.4026265056420131E-10,4.9514654989433343E-13,5.4977628216424424E-16,3.2888418653901258E-19,1.0599972379476664E-22,1.8406500391824895E-26,1.7220369444626567E-30,8.6799745940821563E-35,2.3572149826025391E-39,3.4489323907182383E-44,2.7187853337660779E-49,1.1547019662475965E-54,2.6422240515561251E-60,3.2574227640266264E-66,2.1636318301908755E-72,7.7427876047802623E-79,1.4928496811053883E-85,1.5507420471115383E-92,8.6789621593404749E-100,2.6169822464768264E-107,4.2514640133988775E-115,3.7211826517695725E-123,1.7548023899016551E-131,4.4584119711221356E-140,6.1029094240614698E-149,4.5008900311471654E-158,1.7883998676754933E-167,3.8285613026826417E-177,4.415819683814146E-187,2.7440486450461979E-197,9.1870701044787147E-208,1.6571697767062927E-218,1.6105037007313741E-229,8.4325941634299231E-241,2.3788410335022137E-252,3.6155501699693227E-264,2.9606571126286395E-276,1.306190685288205E-288,3.1047726316706909E-301,0,0,0,0,3.1047726316706909E-301,1.3061906852885022E-288,2.9606571126293121E-276,3.6155501699701455E-264,2.378841033502754E-252,8.4325941634318425E-241,1.6105037007313741E-229,1.6571697767062927E-218,9.1870701044787147E-208,2.7440486450461979E-197,4.415819683814146E-187,3.8285613026822064E-177,1.7883998676754933E-167,4.5008900311471654E-158,6.1029094240614698E-149,4.4584119711221356E-140,1.7548023899016551E-131,3.7211826517695725E-123,4.2514640133988775E-115,2.616982246477049E-107,8.6789621593412119E-100,1.5507420471116705E-92,1.4928496811053883E-85,7.7427876047802623E-79,2.1636318301908755E-72,0,0,0,0,0,0,0,0,0,0,0,0,0,0,0,0,0,0,0,0,0,0,0,0,0,null,44,10.103686796011639,25.103686796011637,{"$f":"INDEX($BW$6:$GR$261,$GT49,$BJ$14)","v":2.6169822464768264E-107},6.6856318226297555E-108]
[null,null,null,null,null,null,null,null,null,null,null,null,null,null,null,null,null,null,null,null,null,null,null,null,null,null,null,null,null,null,9.3999999999999986,{"$f":"IF('Macro input'!$F$19=1,GC!AG50,IF($K$29>0,IF($AE50<$I$29,$G$29,IF($AE50<$I$29+$J$29,$G$29+((H$29-G$29)*($AE50-I$29)/J$29),$H$29)),$G$29))","v":194},194.00000000001,0.14400000000000007,0.48000000000000026,6.0000000204074304,6,15,4.9999999795925696,49,0,0,0,0,0,0,0,0,0,0,0,0,0,0,0,0,0,0,0,0,null,null,9.5999999999999979,2.8800000000000021,15.003180303439184,1.0440775632910822E-3,0,{"$f":"DS$4*$N$32+$M$32","v":16.595913133073289},null,null,null,null,4.4000000000000004,null,2.5750400797358103E-72,3.8768121530511875E-66,3.1446352089388178E-60,1.3742651599717061E-54,3.2357543945118078E-49,4.1047367738231463E-44,2.8054325010645651E-39,1.0330446316681473E-34,2.0494772210787529E-30,2.190644248029971E-26,1.2615526052247343E-22,3.9142055044299462E-19,6.5431463047769584E-16,5.8929721477076742E-13,2.8594788920802765E-10,7.4755672194519726E-8,1.0529461385048369E-5,7.99048077315739E-4,3.2669644960780397E-2,0.71964890359599532,8.5408613302359466,54.61191714680637,188.1386069376785,349.19914738473369,349.19914738473369,188.1386069376785,54.611917146806078,8.5408613302359466,0.71964890359599532,3.2669644960779988E-2,7.99048077315739E-4,1.0529461385048369E-5,7.4755672194519726E-8,2.8594788920802558E-10,5.8929721477074652E-13,6.5431463047767247E-16,3.9142055044298066E-19,1.2615526052247522E-22,2.190644248029971E-26,2.0494772210787529E-30,1.0330446316681473E-34,2.8054325010645651E-39,4.1047367738230298E-44,3.2357543945117166E-49,1.3742651599717843E-54,3.1446352089388178E-60,3.8768121530511875E-66,2.5750400797358103E-72,9.2150559688483976E-79,1.7767106714861316E-85,1.8456111011694111E-92,1.0329241370441745E-99,3.1145937486232988E-107,5.0598674318313988E-115,4.42875462387651E-123,2.088472919911846E-131,5.3061659370210956E-140,7.2633597595803902E-149,5.3567210756299723E-158,2.1284588595890385E-167,4.5565510104663299E-177,5.2554748511462785E-187,3.265821450369095E-197,1.0933964551764024E-207,1.9722757515399874E-218,1.9167362580260607E-229,1.0036027222368369E-240,2.831170682143254E-252,4.3030364353371911E-264,3.5236173830466686E-276,1.5545590148292399E-288,3.6951360455413279E-301,0,0,0,0,3.6951360455413279E-301,1.5545590148295934E-288,3.523617383047469E-276,4.3030364353381704E-264,2.8311706821438971E-252,1.0036027222370652E-240,1.9167362580260607E-229,1.9722757515399874E-218,1.0933964551764024E-207,3.265821450369095E-197,5.2554748511462785E-187,4.5565510104658118E-177,2.1284588595890385E-167,5.3567210756299723E-158,7.2633597595803902E-149,5.3061659370210956E-140,2.088472919911846E-131,4.42875462387651E-123,5.0598674318313988E-115,3.1145937486235638E-107,1.0329241370442622E-99,1.8456111011695682E-92,1.7767106714861316E-85,9.2150559688483976E-79,2.5750400797358103E-72,0,0,0,0,0,0,0,0,0,0,0,0,0,0,0,0,0,0,0,0,0,0,0,0,0,null,45,12.024873220011843,27.024873220011841,{"$f":"INDEX($BW$6:$GR$261,$GT50,$BJ$14)","v":3.1145937486232988E-107},7.9568851139105421E-108]
[null,null,null,null,null,null,null,null,null,null,null,null,null,null,null,null,null,null,null,null,null,null,null,null,null,null,null,null,null,null,9.5999999999999979,{"$f":"IF('Macro input'!$F$19=1,GC!AG51,IF($K$29>0,IF($AE51<$I$29,$G$29,IF($AE51<$I$29+$J$29,$G$29+((H$29-G$29)*($AE51-I$29)/J$29),$H$29)),$G$29))","v":195.99999999999997},196.00000000001046,0.14700000000000008,0.49000000000000027,6.0000000388477082,6,15,4.9999999611522918,50,0,0,0,0,0,0,0,0,0,0,0,0,0,0,0,0,0,0,0,0,null,null,9.7999999999999972,2.9400000000000022,15.003275105467456,4.8457987164626136E-4,0,{"$f":"DT$4*$N$32+$M$32","v":17.582299245687331},null,null,null,null,4.5,null,9.5839375570926203E-73,1.4428950402679695E-66,1.1703890638236815E-60,5.1148219337261793E-55,1.2043023450831434E-49,1.5277253833136043E-44,1.0441425794661605E-39,3.8448470458809474E-35,7.6278664033523227E-31,8.1532702532060664E-27,4.6953216334799051E-23,1.4568123205264274E-19,2.4352671675051137E-16,2.1932814768114506E-13,1.0642578872144551E-10,2.7823011377138165E-8,3.9189176595059019E-6,2.9739447313358492E-4,1.2159183065943898E-2,0.26784321569867758,3.1787886455408629,20.32578863245525,70.022547422022868,129.96701876068002,129.96701876068002,70.022547422022868,20.325788632455144,3.1787886455408629,0.26784321569867758,1.2159183065943746E-2,2.9739447313358492E-4,3.9189176595059019E-6,2.7823011377138165E-8,1.0642578872144475E-10,2.1932814768113729E-13,2.4352671675050265E-16,1.4568123205263756E-19,4.6953216334799721E-23,8.1532702532060664E-27,7.6278664033523227E-31,3.8448470458809474E-35,1.0441425794661605E-39,1.5277253833135608E-44,1.2043023450831094E-49,5.1148219337264698E-55,1.1703890638236815E-60,1.4428950402679695E-66,9.5839375570926203E-73,3.4297144221389222E-79,6.6126676110960505E-86,6.8691053345077769E-93,3.8443985818118987E-100,1.1592080541744123E-107,1.8832116010720105E-115,1.6483202768351619E-123,7.7730029181400454E-132,1.9748804458686122E-140,2.7033205012350575E-149,1.993696358499663E-158,7.9218249702873674E-168,1.6958842972454602E-177,1.9560139355743213E-187,1.2154928810336137E-197,4.0694680576125909E-208,7.3405333753354436E-219,7.1338231800344696E-230,3.7352683935827641E-241,1.0537219690155693E-252,1.6015297325545757E-264,1.3114409068797899E-276,5.7858503423633767E-289,1.3752777443783935E-301,0,0,0,0,1.3752777443783935E-301,5.7858503423646928E-289,1.311440906880088E-276,1.6015297325549402E-264,1.0537219690158086E-252,3.7352683935836146E-241,7.1338231800344696E-230,7.3405333753354436E-219,4.0694680576125909E-208,1.2154928810336137E-197,1.9560139355743213E-187,1.6958842972452673E-177,7.9218249702873674E-168,1.993696358499663E-158,2.7033205012350575E-149,1.9748804458686122E-140,7.7730029181400454E-132,1.6483202768351619E-123,1.8832116010720105E-115,1.1592080541745111E-107,3.8443985818122256E-100,6.8691053345083619E-93,6.6126676110960505E-86,3.4297144221389222E-79,9.5839375570926203E-73,0,0,0,0,0,0,0,0,0,0,0,0,0,0,0,0,0,0,0,0,0,0,0,0,0,null,46,4.4754889440156811,19.47548894401568,{"$f":"INDEX($BW$6:$GR$261,$GT51,$BJ$14)","v":1.1592080541744123E-107},2.9614408987568943E-108]
[null,null,null,null,null,null,null,null,null,null,null,null,null,null,null,null,null,null,null,null,null,null,null,null,null,null,null,null,null,null,9.7999999999999972,{"$f":"IF('Macro input'!$F$19=1,GC!AG52,IF($K$29>0,IF($AE52<$I$29,$G$29,IF($AE52<$I$29+$J$29,$G$29+((H$29-G$29)*($AE52-I$29)/J$29),$H$29)),$G$29))","v":197.99999999999997},198.00000000001091,0.15000000000000008,0.50000000000000022,6.0000000730321004,6,15,4.9999999269678996,51,0,0,0,0,0,0,0,0,0,0,0,0,0,0,0,0,0,0,0,0,null,null,9.9999999999999964,3.0000000000000022,15.003372485487228,2.1838624501800298E-4,0,{"$f":"DU$4*$N$32+$M$32","v":18.629049611404277},null,null,null,null,4.5999999999999996,null,1.0991292173078339E-73,1.6547771589907929E-67,1.3422550053178936E-61,5.8659086572667932E-56,1.3811482869831805E-50,1.7520644253155838E-45,1.197469838769039E-40,4.4094441340344621E-36,8.7479814843333868E-32,9.3505383340834128E-28,5.3848067782913178E-24,1.6707381241644571E-20,2.7928743064216662E-17,2.5153541940175668E-14,1.2205389816235092E-11,3.1908685272546674E-9,4.4943916570062264E-7,3.4106540504856281E-5,1.3944699959447396E-3,3.0717468919049192E-2,0.36455782971735745,2.3310531832734793,8.0305017935881029,14.905204333321416,14.905204333321416,8.0305017935881029,2.3310531832734669,0.36455782971735745,3.0717468919049192E-2,1.3944699959447223E-3,3.4106540504856281E-5,4.4943916570062264E-7,3.1908685272546674E-9,1.2205389816235005E-11,2.5153541940174775E-14,2.7928743064215663E-17,1.6707381241643975E-20,5.384806778291395E-24,9.3505383340834128E-28,8.7479814843333868E-32,4.4094441340344621E-36,1.197469838769039E-40,1.752064425315534E-45,1.3811482869831415E-50,5.8659086572671274E-56,1.3422550053178936E-61,1.6547771589907929E-67,1.0991292173078339E-73,3.9333513036144171E-80,7.583705687149465E-87,7.8778000429846024E-94,4.4089298151981095E-101,1.3294321187837281E-108,2.1597520651409932E-116,1.890368092402373E-124,8.9144305904039512E-133,2.2648820339378344E-141,3.1002899684543451E-150,2.2864609718220808E-159,9.0851064370696855E-169,1.9449166578684488E-178,2.243245068369598E-188,1.3939820987095446E-198,4.6670496488291464E-209,8.4184549986801483E-220,8.1813904165945015E-231,4.2837743896140008E-242,1.2084559150816255E-253,1.8367065842736309E-265,1.5040196254800463E-277,6.6354743239701418E-290,1.577230592076257E-302,0,0,0,0,1.577230592076257E-302,6.6354743239716513E-290,1.5040196254803883E-277,1.8367065842740488E-265,1.2084559150819E-253,4.2837743896149757E-242,8.1813904165945015E-231,8.4184549986801483E-220,4.6670496488291464E-209,1.3939820987095446E-198,2.243245068369598E-188,1.9449166578682277E-178,9.0851064370696855E-169,2.2864609718220808E-159,3.1002899684543451E-150,2.2648820339378344E-141,8.9144305904039512E-133,1.890368092402373E-124,2.1597520651409932E-116,1.3294321187838412E-108,4.4089298151984838E-101,7.877800042985273E-94,7.583705687149465E-87,3.9333513036144171E-80,1.0991292173078339E-73,0,0,0,0,0,0,0,0,0,0,0,0,0,0,0,0,0,0,0,0,0,0,0,0,0,null,47,0.51326927275996226,15.513269272759961,{"$f":"INDEX($BW$6:$GR$261,$GT52,$BJ$14)","v":1.3294321187837281E-108},3.3963140909084877E-109]
[null,null,null,null,null,null,null,null,null,null,null,null,null,null,null,null,null,null,null,null,null,null,null,null,null,null,null,null,null,null,9.9999999999999964,{"$f":"IF('Macro input'!$F$19=1,GC!AG53,IF($K$29>0,IF($AE53<$I$29,$G$29,IF($AE53<$I$29+$J$29,$G$29+((H$29-G$29)*($AE53-I$29)/J$29),$H$29)),$G$29))","v":199.99999999999997},200.00000000001137,0.15300000000000008,0.51000000000000023,6.000000135591824,6,15,4.999999864408176,52,0,0,0,0,0,0,0,0,0,0,0,0,0,0,0,0,0,0,0,0,null,null,10.199999999999996,3.0600000000000023,15.00347250561876,9.5567999343051523E-5,0,{"$f":"DV$4*$N$32+$M$32","v":19.410351921329585},null,null,null,null,4.6999999999999993,null,3.7910605311010059E-75,5.7075731191853711E-69,4.6296376196760472E-63,2.0232393461504737E-57,4.7637863464357767E-52,6.0431314045396682E-47,4.1302519953573005E-42,1.5208830187935136E-37,3.0173092307826803E-33,3.2251400713117883E-29,1.8573001357189819E-25,5.762624867565206E-22,9.6330398507056497E-19,8.6758316097138775E-16,4.2098209082610312E-13,1.1005781252214326E-10,1.5501826858828708E-8,1.1763854287948137E-6,4.8097349066739283E-5,1.0594912972977093E-3,1.2574143037799352E-2,8.0401499476566246E-2,0.27698397890992638,0.51410271846339861,0.51410271846339861,0.27698397890992638,8.0401499476565816E-2,1.2574143037799352E-2,1.0594912972977093E-3,4.809734906673868E-5,1.1763854287948137E-6,1.5501826858828708E-8,1.1005781252214326E-10,4.2098209082610009E-13,8.6758316097135708E-16,9.6330398507053069E-19,5.762624867565E-22,1.8573001357190083E-25,3.2251400713117883E-29,3.0173092307826803E-33,1.5208830187935136E-37,4.1302519953573005E-42,6.0431314045394961E-47,4.7637863464356424E-52,2.0232393461505889E-57,4.6296376196760472E-63,5.7075731191853711E-69,3.7910605311010059E-75,1.3566715038847895E-81,2.6157331510537453E-88,2.7171706788047614E-95,1.520705622559277E-102,4.585409572355523E-110,7.4493068532694266E-118,6.5201613709375253E-126,3.0747200089263775E-134,7.8119157886571953E-143,1.0693362299260826E-151,7.886344762455582E-161,3.13358865291453E-170,6.7083075054503905E-180,7.737286668725831E-190,4.8080520763729456E-200,1.6097350012859931E-210,2.9036506332273996E-221,2.8218835246550197E-232,1.477537650430648E-243,4.1681446103878821E-255,6.3350748294255871E-267,5.187587910841429E-279,2.2886740174510363E-291,5.4401034490840221E-304,0,0,0,0,5.4401034490840221E-304,2.2886740174515568E-291,5.1875879108426072E-279,6.3350748294270289E-267,4.1681446103888295E-255,1.4775376504309842E-243,2.8218835246550197E-232,2.9036506332273996E-221,1.6097350012859931E-210,4.8080520763729456E-200,7.737286668725831E-190,6.7083075054496277E-180,3.13358865291453E-170,7.886344762455582E-161,1.0693362299260826E-151,7.8119157886571953E-143,3.0747200089263775E-134,6.5201613709375253E-126,7.4493068532694266E-118,4.5854095723559136E-110,1.5207056225594062E-102,2.717170678804993E-95,2.6157331510537453E-88,1.3566715038847895E-81,3.7910605311010059E-75,0,0,0,0,0,0,0,0,0,0,0,0,0,0,0,0,0,0,0,0,0,0,0,0,0,null,48,1.77034224106358E-2,15.017703422410635,{"$f":"INDEX($BW$6:$GR$261,$GT53,$BJ$14)","v":4.585409572355523E-110},1.1714393629533799E-110]
[null,null,null,null,null,null,null,null,null,null,null,null,null,null,null,null,null,null,null,null,null,null,null,null,null,null,null,null,null,null,10.199999999999996,{"$f":"IF('Macro input'!$F$19=1,GC!AG54,IF($K$29>0,IF($AE54<$I$29,$G$29,IF($AE54<$I$29+$J$29,$G$29+((H$29-G$29)*($AE54-I$29)/J$29),$H$29)),$G$29))","v":201.99999999999994},202.05000000001183,0.15600000000000008,0.52000000000000024,6.0000002486134001,6,15,4.9999997513865999,53,0,0,0,0,0,0,0,0,0,0,0,0,0,0,0,0,0,0,0,0,null,null,10.399999999999995,3.1200000000000023,15.003575229236043,4.0609440948331468E-5,0,{"$f":"DW$4*$N$32+$M$32","v":19.646153418788657},null,null,null,null,4.7999999999999989,null,3.8390057204620277E-77,5.7797562647052733E-71,4.6881882153543E-65,2.0488270656759337E-59,4.8240335085640428E-54,6.1195583244337809E-49,4.1824869075676392E-44,1.5401174846464871E-39,3.0554688595313725E-35,3.2659281173390975E-31,1.8807892375090384E-27,5.8355042474182373E-24,9.7548680082819722E-21,8.7855540438400525E-18,4.2630621211002108E-15,1.1144970342410716E-12,1.5697877018959614E-10,1.1912630657205247E-8,4.870563175962951E-7,1.0728905850322525E-5,1.2733167053389201E-4,8.1418329750229668E-4,2.8048696948732789E-3,5.2060452764991268E-3,5.2060452764991268E-3,2.8048696948732789E-3,8.1418329750229234E-4,1.2733167053389201E-4,1.0728905850322525E-5,4.8705631759628896E-7,1.1912630657205247E-8,1.5697877018959614E-10,1.1144970342410716E-12,4.26306212110018E-15,8.7855540438397413E-18,9.7548680082816246E-21,5.8355042474180294E-24,1.8807892375090653E-27,3.2659281173390975E-31,3.0554688595313725E-35,1.5401174846464871E-39,4.1824869075676392E-44,6.1195583244336069E-49,4.8240335085639066E-54,2.04882706567605E-59,4.6881882153543E-65,5.7797562647052733E-71,3.8390057204620277E-77,1.3738292020066834E-83,2.6488140845329979E-90,2.7515344832475449E-97,1.5399378448986021E-104,4.6434008200396053E-112,7.5435175430640928E-120,6.6026212443764832E-128,3.1136057064378557E-136,7.910712359877004E-145,1.0828600256064215E-153,7.9860826299732027E-163,3.1732188566823138E-172,6.7931468455248076E-182,7.835139412418328E-192,4.8688590630639242E-202,1.6300931698840838E-212,2.9403728322812634E-223,2.8575716227042053E-234,1.4962239314479976E-245,4.2208587469704308E-257,6.4151939306167358E-269,5.2531948518733105E-281,2.3176186645364976E-293,5.5089039306036697E-306,0,0,0,0,5.5089039306036697E-306,2.3176186645370247E-293,5.2531948518745044E-281,6.4151939306181964E-269,4.2208587469713905E-257,1.496223931448338E-245,2.8575716227042053E-234,2.9403728322812634E-223,1.6300931698840838E-212,4.8688590630639242E-202,7.835139412418328E-192,6.7931468455240357E-182,3.1732188566823138E-172,7.9860826299732027E-163,1.0828600256064215E-153,7.910712359877004E-145,3.1136057064378557E-136,6.6026212443764832E-128,7.5435175430640928E-120,4.6434008200400005E-112,1.5399378448987331E-104,2.7515344832477793E-97,2.6488140845329979E-90,1.3738292020066834E-83,3.8390057204620277E-77,0,0,0,0,0,0,0,0,0,0,0,0,0,0,0,0,0,0,0,0,0,0,0,0,0,null,49,1.7927315944609422E-4,15.000179273159446,{"$f":"INDEX($BW$6:$GR$261,$GT54,$BJ$14)","v":4.6434008200396053E-112},1.1862544474451707E-112]
[null,null,null,null,null,null,null,null,null,null,null,null,null,null,null,null,null,null,null,null,null,null,null,null,null,null,null,null,null,null,10.399999999999995,{"$f":"IF('Macro input'!$F$19=1,GC!AG55,IF($K$29>0,IF($AE55<$I$29,$G$29,IF($AE55<$I$29+$J$29,$G$29+((H$29-G$29)*($AE55-I$29)/J$29),$H$29)),$G$29))","v":203.99999999999994},204.05000000001229,0.15900000000000009,0.53000000000000025,6.0000004501807096,6,15,4.9999995498192904,54,0,0,0,0,0,0,0,0,0,0,0,0,0,0,0,0,0,0,0,0,null,null,10.599999999999994,3.1800000000000024,15.003680720985072,1.675594129569688E-5,0,{"$f":"DX$4*$N$32+$M$32","v":19.278479558682321},null,null,null,null,4.8999999999999986,null,0,0,0,0,0,0,0,0,0,0,0,0,0,0,0,0,0,0,0,0,0,0,0,0,0,0,0,0,0,0,0,0,0,0,0,0,0,0,0,0,0,0,0,0,0,0,0,0,0,0,0,0,0,0,0,0,0,0,0,0,0,0,0,0,0,0,0,0,0,0,0,0,0,0,0,0,0,0,0,0,0,0,0,0,0,0,0,0,0,0,0,0,0,0,0,0,0,0,0,0,0,0,0,0,0,0,0,0,0,0,0,0,0,0,0,0,0,0,0,0,0,0,0,0,0,0,null,50,0,15,{"$f":"INDEX($BW$6:$GR$261,$GT55,$BJ$14)","v":0},0]
[null,null,null,null,null,null,null,null,null,null,null,null,null,null,null,null,null,null,null,null,null,null,null,null,null,null,null,null,null,null,10.599999999999994,{"$f":"IF('Macro input'!$F$19=1,GC!AG56,IF($K$29>0,IF($AE56<$I$29,$G$29,IF($AE56<$I$29+$J$29,$G$29+((H$29-G$29)*($AE56-I$29)/J$29),$H$29)),$G$29))","v":205.99999999999994},206.05000000001274,0.16200000000000009,0.54000000000000026,6.000000805045727,6,15,4.999999194954273,55,0,0,0,0,0,0,0,0,0,0,0,0,0,0,0,0,0,0,0,0,null,null,10.799999999999994,3.2400000000000024,15.003789046802185,6.7133293291326078E-6,0,{"$f":"DY$4*$N$32+$M$32","v":18.526338689500957},null,null,null,null,4.9999999999999982,null,0,0,0,0,0,0,0,0,0,0,0,0,0,0,0,0,0,0,0,0,0,0,0,0,0,0,0,0,0,0,0,0,0,0,0,0,0,0,0,0,0,0,0,0,0,0,0,0,0,0,0,0,0,0,0,0,0,0,0,0,0,0,0,0,0,0,0,0,0,0,0,0,0,0,0,0,0,0,0,0,0,0,0,0,0,0,0,0,0,0,0,0,0,0,0,0,0,0,0,0,0,0,0,0,0,0,0,0,0,0,0,0,0,0,0,0,0,0,0,0,0,0,0,0,0,0,null,51,0,15,{"$f":"INDEX($BW$6:$GR$261,$GT56,$BJ$14)","v":0},0]
[null,null,null,null,null,null,null,null,null,null,null,null,null,null,null,null,null,null,null,null,null,null,null,null,null,null,null,null,null,null,10.799999999999994,{"$f":"IF('Macro input'!$F$19=1,GC!AG57,IF($K$29>0,IF($AE57<$I$29,$G$29,IF($AE57<$I$29+$J$29,$G$29+((H$29-G$29)*($AE57-I$29)/J$29),$H$29)),$G$29))","v":207.99999999999994},208.0500000000132,0.16500000000000009,0.55000000000000027,6.0000014217575259,6,15,4.9999985782424741,56,0,0,0,0,0,0,0,0,0,0,0,0,0,0,0,0,0,0,0,0,null,null,10.999999999999993,3.3000000000000025,15.003900273932452,2.6117666844801847E-6,0,{"$f":"DZ$4*$N$32+$M$32","v":17.765802326561733},null,null,null,null,5.0999999999999979,null,0,0,0,0,0,0,0,0,0,0,0,0,0,0,0,0,0,0,0,0,0,0,0,0,0,0,0,0,0,0,0,0,0,0,0,0,0,0,0,0,0,0,0,0,0,0,0,0,0,0,0,0,0,0,0,0,0,0,0,0,0,0,0,0,0,0,0,0,0,0,0,0,0,0,0,0,0,0,0,0,0,0,0,0,0,0,0,0,0,0,0,0,0,0,0,0,0,0,0,0,0,0,0,0,0,0,0,0,0,0,0,0,0,0,0,0,0,0,0,0,0,0,0,0,0,0,null,52,0,15,{"$f":"INDEX($BW$6:$GR$261,$GT57,$BJ$14)","v":0},0]
[null,null,null,null,null,null,null,null,null,null,null,null,null,null,null,null,null,null,null,null,null,null,null,null,null,null,null,null,null,null,10.999999999999993,{"$f":"IF('Macro input'!$F$19=1,GC!AG58,IF($K$29>0,IF($AE58<$I$29,$G$29,IF($AE58<$I$29+$J$29,$G$29+((H$29-G$29)*($AE58-I$29)/J$29),$H$29)),$G$29))","v":209.99999999999994},210.05000000001365,0.16800000000000009,0.56000000000000028,6.0000024797154126,6,15,4.9999975202845874,57,0,0,0,0,0,0,0,0,0,0,0,0,0,0,0,0,0,0,0,0,null,null,11.199999999999992,3.3600000000000025,15.004014470948134,9.8663860852350435E-7,0,{"$f":"EA$4*$N$32+$M$32","v":17.33063656258479},null,null,null,null,5.1999999999999975,null,0,0,0,0,0,0,0,0,0,0,0,0,0,0,0,0,0,0,0,0,0,0,0,0,0,0,0,0,0,0,0,0,0,0,0,0,0,0,0,0,0,0,0,0,0,0,0,0,0,0,0,0,0,0,0,0,0,0,0,0,0,0,0,0,0,0,0,0,0,0,0,0,0,0,0,0,0,0,0,0,0,0,0,0,0,0,0,0,0,0,0,0,0,0,0,0,0,0,0,0,0,0,0,0,0,0,0,0,0,0,0,0,0,0,0,0,0,0,0,0,0,0,0,0,0,0,null,53,0,15,{"$f":"INDEX($BW$6:$GR$261,$GT58,$BJ$14)","v":0},0]
[null,null,null,null,null,null,null,null,null,null,null,null,null,null,null,null,null,null,null,null,null,null,null,null,null,null,null,null,null,null,11.199999999999992,{"$f":"IF('Macro input'!$F$19=1,GC!AG59,IF($K$29>0,IF($AE59<$I$29,$G$29,IF($AE59<$I$29+$J$29,$G$29+((H$29-G$29)*($AE59-I$29)/J$29),$H$29)),$G$29))","v":211.99999999999991},212.05000000001411,0.1710000000000001,0.57000000000000028,6.0000042711956532,6,15,4.9999957288043468,58,0,0,0,0,0,0,0,0,0,0,0,0,0,0,0,0,0,0,0,0,null,null,11.399999999999991,3.4200000000000026,15.004131707767176,3.6191712826001372E-7,0,{"$f":"EB$4*$N$32+$M$32","v":17.374994703715714},null,null,null,null,5.2999999999999972,null,0,0,0,0,0,0,0,0,0,0,0,0,0,0,0,0,0,0,0,0,0,0,0,0,0,0,0,0,0,0,0,0,0,0,0,0,0,0,0,0,0,0,0,0,0,0,0,0,0,0,0,0,0,0,0,0,0,0,0,0,0,0,0,0,0,0,0,0,0,0,0,0,0,0,0,0,0,0,0,0,0,0,0,0,0,0,0,0,0,0,0,0,0,0,0,0,0,0,0,0,0,0,0,0,0,0,0,0,0,0,0,0,0,0,0,0,0,0,0,0,0,0,0,0,0,0,null,54,0,15,{"$f":"INDEX($BW$6:$GR$261,$GT59,$BJ$14)","v":0},0]
["Peaks","Analyte",null,"1D LSS",{"$f":"J14","v":"HP-5"},null,null,"2D LSS",{"$f":"K14","v":"Rxi-50-240"},null,"       Reference",null,null,"Analyte #","Scale",null,null,null,null,null,null,null,null,null,null,null,null,null,null,null,11.399999999999991,{"$f":"IF('Macro input'!$F$19=1,GC!AG60,IF($K$29>0,IF($AE60<$I$29,$G$29,IF($AE60<$I$29+$J$29,$G$29+((H$29-G$29)*($AE60-I$29)/J$29),$H$29)),$G$29))","v":213.99999999999991},214.05000000001456,0.1740000000000001,0.58000000000000029,6.000007265548553,6,15,4.999992734451447,59,0,0,0,0,0,0,0,0,0,0,0,0,0,0,0,0,0,0,0,0,null,null,11.599999999999991,3.4800000000000026,15.004252055671749,1.2891025616284861E-7,0,{"$f":"EC$4*$N$32+$M$32","v":17.858276084060211},null,null,null,null,5.3999999999999968,null,0,0,0,0,0,0,0,0,0,0,0,0,0,0,0,0,0,0,0,0,0,0,0,0,0,0,0,0,0,0,0,0,0,0,0,0,0,0,0,0,0,0,0,0,0,0,0,0,0,0,0,0,0,0,0,0,0,0,0,0,0,0,0,0,0,0,0,0,0,0,0,0,0,0,0,0,0,0,0,0,0,0,0,0,0,0,0,0,0,0,0,0,0,0,0,0,0,0,0,0,0,0,0,0,0,0,0,0,0,0,0,0,0,0,0,0,0,0,0,0,0,0,0,0,0,0,null,55,0,15,{"$f":"INDEX($BW$6:$GR$261,$GT60,$BJ$14)","v":0},0]
[null,null,"tR","w","a","RS","tR","w","Wrap-around",null,"tR","w",null,11,1,null,null,null,null,null,null,null,null,null,null,null,null,null,null,null,11.599999999999991,{"$f":"IF('Macro input'!$F$19=1,GC!AG61,IF($K$29>0,IF($AE61<$I$29,$G$29,IF($AE61<$I$29+$J$29,$G$29+((H$29-G$29)*($AE61-I$29)/J$29),$H$29)),$G$29))","v":215.99999999999991},216.05000000001502,0.1770000000000001,0.5900000000000003,6.0000122055870326,6,15,4.9999877944129674,60,0,0,0,0,0,0,0,0,0,0,0,0,0,0,0,0,0,0,0,0,null,null,11.79999999999999,3.5400000000000027,15.004375587326813,4.4585445302370458E-8,0,{"$f":"ED$4*$N$32+$M$32","v":18.613577457346008},null,null,null,null,5.4999999999999964,null,0,0,0,0,0,0,0,0,0,0,0,0,0,0,0,0,0,0,0,0,0,0,0,0,0,0,0,0,0,0,0,0,0,0,0,0,0,0,0,0,0,0,0,0,0,0,0,0,0,0,0,0,0,0,0,0,0,0,0,0,0,0,0,0,0,0,0,0,0,0,0,0,0,0,0,0,0,0,0,0,0,0,0,0,0,0,0,0,0,0,0,0,0,0,0,0,0,0,0,0,0,0,0,0,0,0,0,0,0,0,0,0,0,0,0,0,0,0,0,0,0,0,0,0,0,0,null,56,0,15,{"$f":"INDEX($BW$6:$GR$261,$GT61,$BJ$14)","v":0},0]
[1,{"$f":"IF(C6=\"\",\"\",C6)","v":"Phenol"},{"$f":"IF(B6>0,IF(H108*B108=0,G108-IF(E108<>\"\",$B$29*0.5*D108/E108,0),$J$29+$I$29+I108-IF(E108>0,$B$29*0.5*D108/E108,0)),\"\")","v":1.7033461271876182},{"$f":"IF(B6>0,IF(OR(B108=0,C62<$I$29),$B$33*C62,$B$33*(SQRT(($B$29*(1+D108/2))^2+I108^2))),\"\")","v":0.15235190918410069},{"$f":"IF(AND(B7>0,C63>C62),(C63-$B$29)/(C62-$B$29),\"\")","v":1.1946339174595548},{"$f":"IF(E62<>\"\",2*ABS(C63-C62)/(D63+D62),\"\")","v":0.86383240976168396},{"$f":"IF(E131=\"\",\"\",(E131-I62*$C$31*60))","v":1.1007027930582076},{"$f":"IF(D131=\"\",\"\",$C$29*$C$33*(1+D131)*60)","v":0.19689970146416286},{"$f":"IF(E131=\"\",\"\",ROUNDDOWN(E131/(60*$C$31),0))","v":0},null,{"$f":"IF(E6<>\"\",E6,\"\")","v":1.5549999999999999},{"$f":"IF(K62<>\"\",D62,\"\")","v":0.15235190918410069},null,null,null,null,null,null,null,null,null,null,null,null,null,null,null,null,null,null,11.79999999999999,{"$f":"IF('Macro input'!$F$19=1,GC!AG62,IF($K$29>0,IF($AE62<$I$29,$G$29,IF($AE62<$I$29+$J$29,$G$29+((H$29-G$29)*($AE62-I$29)/J$29),$H$29)),$G$29))","v":217.99999999999989},218.05000000001547,0.1800000000000001,0.60000000000000031,6.00002024977739,6,15,4.99997975022261,61,0,0,0,0,0,0,0,0,0,0,0,0,0,0,0,0,0,0,0,0,null,null,11.999999999999989,3.6000000000000028,15.004502376798726,1.4973593840542407E-8,0,{"$f":"EE$4*$N$32+$M$32","v":19.43374527260621},null,null,null,null,5.5999999999999961,null,0,0,0,0,0,0,0,0,0,0,0,0,0,0,0,0,0,0,0,0,0,0,0,0,0,0,0,0,0,0,0,0,0,0,0,0,0,0,0,0,0,0,0,0,0,0,0,0,0,0,0,0,0,0,0,0,0,0,0,0,0,0,0,0,0,0,0,0,0,0,0,0,0,0,0,0,0,0,0,0,0,0,0,0,0,0,0,0,0,0,0,0,0,0,0,0,0,0,0,0,0,0,0,0,0,0,0,0,0,0,0,0,0,0,0,0,0,0,0,0,0,0,0,0,0,0,null,57,0,15,{"$f":"INDEX($BW$6:$GR$261,$GT62,$BJ$14)","v":0},0]
[2,{"$f":"IF(C7=\"\",\"\",C7)","v":"Benzonitrile"},{"$f":"IF(B7>0,IF(H109*B109=0,G109-IF(E109<>\"\",$B$29*0.5*D109/E109,0),$J$29+$I$29+I109-IF(E109>0,$B$29*0.5*D109/E109,0)),\"\")","v":1.8402411392521507},{"$f":"IF(B7>0,IF(OR(B109=0,C63<$I$29),$B$33*C63,$B$33*(SQRT(($B$29*(1+D109/2))^2+I109^2))),\"\")","v":0.16459617129437862},1.0227375939179961,0.1154729244331662,{"$f":"IF(E132=\"\",\"\",(E132-I63*$C$31*60))","v":1.2404315296801924},0.22189513774391667,0,null,1.665,0.16459617129437862,null,null,null,null,null,null,null,null,null,null,null,null,null,null,null,null,null,null,11.999999999999989,{"$f":"IF('Macro input'!$F$19=1,GC!AG63,IF($K$29>0,IF($AE63<$I$29,$G$29,IF($AE63<$I$29+$J$29,$G$29+((H$29-G$29)*($AE63-I$29)/J$29),$H$29)),$G$29))","v":219.99999999999989},220.05000000001593,0.18300000000000011,0.61000000000000032,6.0000331782254372,6,15,4.9999668217745628,62,0,0,0,0,0,0,0,0,0,0,0,0,0,0,0,0,0,0,0,0,null,null,12.199999999999989,3.6600000000000028,15.00463249957385,4.8829951372175977E-9,0,{"$f":"EF$4*$N$32+$M$32","v":20.136941797044912},null,null,null,null,5.6999999999999957,null,0,0,0,0,0,0,0,0,0,0,0,0,0,0,0,0,0,0,0,0,0,0,0,0,0,0,0,0,0,0,0,0,0,0,0,0,0,0,0,0,0,0,0,0,0,0,0,0,0,0,0,0,0,0,0,0,0,0,0,0,0,0,0,0,0,0,0,0,0,0,0,0,0,0,0,0,0,0,0,0,0,0,0,0,0,0,0,0,0,0,0,0,0,0,0,0,0,0,0,0,0,0,0,0,0,0,0,0,0,0,0,0,0,0,0,0,0,0,0,0,0,0,0,0,0,0,null,58,0,15,{"$f":"INDEX($BW$6:$GR$261,$GT63,$BJ$14)","v":0},0]
[3,"Benzofuran",1.8593462010696606,0.16630497997191013,1.2828970902279495,{"$f":"IF(E64<>\"\",2*ABS(C65-C64)/(D65+D64),\"\")","v":1.3721108937993893},1.1541101956797137,0.20645350808523394,0,null,1.68,0.16630497997191013,null,null,null,null,null,null,null,null,null,null,null,null,null,null,null,null,null,null,12.199999999999989,{"$f":"IF('Macro input'!$F$19=1,GC!AG64,IF($K$29>0,IF($AE64<$I$29,$G$29,IF($AE64<$I$29+$J$29,$G$29+((H$29-G$29)*($AE64-I$29)/J$29),$H$29)),$G$29))","v":221.99999999999989},222.05000000001638,0.18600000000000011,0.62000000000000033,6.0000536855458471,6,15,4.9999463144541529,63,0,0,0,0,0,0,0,0,0,0,0,0,0,0,0,0,0,0,0,0,null,null,12.399999999999988,3.7200000000000029,15.004766032577182,1.5462290837145645E-9,0,{"$f":"EG$4*$N$32+$M$32","v":20.602097733878288},null,null,null,null,5.7999999999999954,null,0,0,0,0,0,0,0,0,0,0,0,0,0,0,0,0,0,0,0,0,0,0,0,0,0,0,0,0,0,0,0,0,0,0,0,0,0,0,0,0,0,0,0,0,0,0,0,0,0,0,0,0,0,0,0,0,0,0,0,0,0,0,0,0,0,0,0,0,0,0,0,0,0,0,0,0,0,0,0,0,0,0,0,0,0,0,0,0,0,0,0,0,0,0,0,0,0,0,0,0,0,0,0,0,0,0,0,0,0,0,0,0,0,0,0,0,0,0,0,0,0,0,0,0,0,0,null,59,0,15,{"$f":"INDEX($BW$6:$GR$261,$GT64,$BJ$14)","v":0},0]
[4,"o-Cresol",2.1024527408507101,0.18804908992091748,1.7564750606580164,{"$f":"IF(E65<>\"\",2*ABS(C66-C65)/(D66+D65),\"\")","v":3.7008823760056746},1.3115740255731501,0.23462149429636889,0,null,1.875,0.18804908992091748,null,null,null,null,null,null,null,null,null,null,null,null,null,null,null,null,null,null,12.399999999999988,{"$f":"IF('Macro input'!$F$19=1,GC!AG65,IF($K$29>0,IF($AE65<$I$29,$G$29,IF($AE65<$I$29+$J$29,$G$29+((H$29-G$29)*($AE65-I$29)/J$29),$H$29)),$G$29))","v":223.99999999999989},224.05000000001684,0.18900000000000011,0.63000000000000034,6.0000857892579909,6,15,4.9999142107420091,64,0,0,0,0,0,0,0,0,0,0,0,0,0,0,0,0,0,0,0,0,null,null,12.599999999999987,3.7800000000000029,15.004903054190985,4.7543230362956553E-10,0,{"$f":"EH$4*$N$32+$M$32","v":20.775593765797996},null,null,null,null,5.899999999999995,null,0,0,0,0,0,0,0,0,0,0,0,0,0,0,0,0,0,0,0,0,0,0,0,0,0,0,0,0,0,0,0,0,0,0,0,0,0,0,0,0,0,0,0,0,0,0,0,0,0,0,0,0,0,0,0,0,0,0,0,0,0,0,0,0,0,0,0,0,0,0,0,0,0,0,0,0,0,0,0,0,0,0,0,0,0,0,0,0,0,0,0,0,0,0,0,0,0,0,0,0,0,0,0,0,0,0,0,0,0,0,0,0,0,0,0,0,0,0,0,0,0,0,0,0,0,0,null,60,0,15,{"$f":"INDEX($BW$6:$GR$261,$GT65,$BJ$14)","v":0},0]
[5,"3,5-Dimethylphenol",2.9364307448583475,0.26264235026894422,1.7138177127763286,4.2601970621486132,1.7502307603617613,0.31309079651840344,0,null,2.54,0.26264235026894422,null,"  Trace coordinates",null,null,null,null,null,null,null,null,null,null,null,null,null,null,null,null,12.599999999999987,{"$f":"IF('Macro input'!$F$19=1,GC!AG66,IF($K$29>0,IF($AE66<$I$29,$G$29,IF($AE66<$I$29+$J$29,$G$29+((H$29-G$29)*($AE66-I$29)/J$29),$H$29)),$G$29))","v":225.99999999999989},226.05000000001729,0.19200000000000012,0.64000000000000035,{"$f":"IF($N$29=0,-1,$N$29*($B$32*NORMDIST($AI66,$B$29,$B$33*$B$29,FALSE)+IF(C$62<>\"\",B$6*NORMDIST($AI66,C$62,D$62/4,FALSE),0)+IF(C$63<>\"\",B$7*NORMDIST($AI66,C$63,D$63/4,FALSE),0)+IF(C$64<>\"\",B$8*NORMDIST($AI66,C$64,D$64/4,FALSE),0)+IF(C$65<>\"\",B$9*NORMDIST($AI66,C$65,D$65/4,FALSE),0)+IF(C$66<>\"\",B$10*NORMDIST($AI66,C$66,D$66/4,FALSE),0)+IF(C$67<>\"\",B$11*NORMDIST($AI66,C$67,D$67/4,FALSE),0)+IF(C$68<>\"\",B$12*NORMDIST($AI66,C$68,D$68/4,FALSE),0)+IF(C$69<>\"\",B$13*NORMDIST($AI66,C$69,D$69/4,FALSE),0)+IF(C$70<>\"\",B$14*NORMDIST($AI66,C$70,D$70/4,FALSE),0)+IF(C$71<>\"\",B$15*NORMDIST($AI66,C$71,D$71/4,FALSE),0)+IF(C$72<>\"\",B$16*NORMDIST($AI66,C$72,D$72/4,FALSE),0)+IF(C$73<>\"\",B$17*NORMDIST($AI66,C$73,D$73/4,FALSE),0)+IF(C$74<>\"\",B$18*NORMDIST($AI66,C$74,D$74/4,FALSE),0)+IF(C$75<>\"\",B$19*NORMDIST($AI66,C$75,D$75/4,FALSE),0)+IF(C$76<>\"\",B$20*NORMDIST($AI66,C$76,D$76/4,FALSE),0)+IF(C$77<>\"\",B$21*NORMDIST($AI66,C$77,D$77/4,FALSE),0)+IF(C$78<>\"\",B$22*NORMDIST($AI66,C$78,D$78/4,FALSE),0)+IF(C$79<>\"\",B$23*NORMDIST($AI66,C$79,D$79/4,FALSE),0)+IF(C$80<>\"\",B$24*NORMDIST($AI66,C$80,D$80/4,FALSE),0)+IF(C$81<>\"\",B$25*NORMDIST($AI66,C$81,D$81/4,FALSE),0))+$M$29)","v":6.0001353878741108},{"$f":"IF($N$30<>0,SUM(AO66:BH66)*$N$30+$M$30,-1)","v":6},{"$f":"IF($N$31=0,-1,$N$31*($B$32*NORMDIST($AH66,$B$29,$B$33*$B$29,FALSE)+IF(G$62<>\"\",B$6*NORMDIST($AH66,G$62,H$62/4,FALSE),0)+IF(G$63<>\"\",B$7*NORMDIST($AH66,G$63,H$63/4,FALSE),0)+IF(G$64<>\"\",B$8*NORMDIST($AH66,G$64,H$64/4,FALSE),0)+IF(G$65<>\"\",B$9*NORMDIST($AH66,G$65,H$65/4,FALSE),0)+IF(G$66<>\"\",B$10*NORMDIST($AH66,G$66,H$66/4,FALSE),0)+IF(G$67<>\"\",B$11*NORMDIST($AH66,G$67,H$67/4,FALSE),0)+IF(G$68<>\"\",B$12*NORMDIST($AH66,G$68,H$68/4,FALSE),0)+IF(G$69<>\"\",B$13*NORMDIST($AH66,G$69,H$69/4,FALSE),0)+IF(G$70<>\"\",B$14*NORMDIST($AH66,G$70,H$70/4,FALSE),0)+IF(G$71<>\"\",B$15*NORMDIST($AH66,G$71,H$71/4,FALSE),0)+IF(G$72<>\"\",B$16*NORMDIST($AH66,G$72,H$72/4,FALSE),0)+IF(G$73<>\"\",B$17*NORMDIST($AH66,G$73,H$73/4,FALSE),0)+IF(G$74<>\"\",B$18*NORMDIST($AH66,G$74,H$74/4,FALSE),0)+IF(G$75<>\"\",B$19*NORMDIST($AH66,G$75,H$75/4,FALSE),0)+IF(G$76<>\"\",B$20*NORMDIST($AH66,G$76,H$76/4,FALSE),0)+IF(G$77<>\"\",B$21*NORMDIST($AH66,G$77,H$77/4,FALSE),0)+IF(G$78<>\"\",B$22*NORMDIST($AH66,G$78,H$78/4,FALSE),0)+IF(G$79<>\"\",B$23*NORMDIST($AH66,G$79,H$79/4,FALSE),0)+IF(G$80<>\"\",B$24*NORMDIST($AH66,G$80,H$80/4,FALSE),0)+IF(G$81<>\"\",B$25*NORMDIST($AH66,G$81,H$81/4,FALSE),0))+$M$31)","v":15},{"$f":"IF($N$33=0,-1,$N$33*($B$32*NORMDIST($AI66,$B$29,$B$33*$B$29,FALSE)+IF(K$62<>\"\",B$6*NORMDIST($AI66,K$62,L$62/4,FALSE),0)+IF(K$63<>\"\",B$7*NORMDIST($AI66,K$63,L$63/4,FALSE),0)+IF(K$64<>\"\",B$8*NORMDIST($AI66,K$64,L$64/4,FALSE),0)+IF(K$65<>\"\",B$9*NORMDIST($AI66,K$65,L$65/4,FALSE),0)+IF(K$66<>\"\",B$10*NORMDIST($AI66,K$66,L$66/4,FALSE),0)+IF(K$67<>\"\",B$11*NORMDIST($AI66,K$67,L$67/4,FALSE),0)+IF(K$68<>\"\",B$12*NORMDIST($AI66,K$68,L$68/4,FALSE),0)+IF(K$69<>\"\",B$13*NORMDIST($AI66,K$69,L$69/4,FALSE),0)+IF(K$70<>\"\",B$14*NORMDIST($AI66,K$70,L$70/4,FALSE),0)+IF(K$71<>\"\",B$15*NORMDIST($AI66,K$71,L$71/4,FALSE),0)+IF(K$72<>\"\",B$16*NORMDIST($AI66,K$72,L$72/4,FALSE),0)+IF(K$73<>\"\",B$17*NORMDIST($AI66,K$73,L$73/4,FALSE),0)+IF(K$74<>\"\",B$18*NORMDIST($AI66,K$74,L$74/4,FALSE),0)+IF(K$75<>\"\",B$19*NORMDIST($AI66,K$75,L$75/4,FALSE),0)+IF(K$76<>\"\",B$20*NORMDIST($AI66,K$76,L$76/4,FALSE),0)+IF(K$77<>\"\",B$21*NORMDIST($AI66,K$77,L$77/4,FALSE),0)+IF(K$78<>\"\",B$22*NORMDIST($AI66,K$78,L$78/4,FALSE),0)+IF(K$79<>\"\",B$23*NORMDIST($AI66,K$79,L$79/4,FALSE),0)+IF(K$80<>\"\",B$24*NORMDIST($AI66,K$80,L$80/4,FALSE),0)+IF(K$81<>\"\",B$25*NORMDIST($AI66,K$81,L$81/4,FALSE),0))+$M$33)","v":4.9998646121258892},65,{"$f":"IF($C$85>0,$B$6*NORMDIST($AI66,$C$85,$D$85/4,FALSE),0)","v":0},{"$f":"IF($C$86>0,$B$7*NORMDIST($AI66,$C$86,$D$86/4,FALSE),0)","v":0},{"$f":"IF($C$87>0,$B$8*NORMDIST($AI66,$C$87,$D$87/4,FALSE),0)","v":0},{"$f":"IF($C$88>0,$B$9*NORMDIST($AI66,$C$88,$D$88/4,FALSE),0)","v":0},{"$f":"IF($C$89>0,$B$10*NORMDIST($AI66,$C$89,$D$89/4,FALSE),0)","v":0},{"$f":"IF($C$90>0,$B$11*NORMDIST($AI66,$C$90,$D$90/4,FALSE),0)","v":0},{"$f":"IF($C$91>0,$B$12*NORMDIST($AI66,$C$91,$D$91/4,FALSE),0)","v":0},{"$f":"IF($C$92>0,$B$13*NORMDIST($AI66,$C$92,$D$92/4,FALSE),0)","v":0},{"$f":"IF($C$93>0,$B$14*NORMDIST($AI66,$C$93,$D$93/4,FALSE),0)","v":0},{"$f":"IF($C$94>0,$B$15*NORMDIST($AI66,$C$94,$D$94/4,FALSE),0)","v":0},{"$f":"IF($C$95>0,$B$16*NORMDIST($AI66,$C$95,$D$95/4,FALSE),0)","v":0},0,0,0,0,0,0,0,0,0,null,null,12.799999999999986,3.840000000000003,15.005043644273405,{"$f":"$BJ$31*NORMDIST(BL66,$BJ$29,$BJ$30,FALSE)","v":1.419485102230761E-10},{"$f":"$BJ$35*NORMDIST(AI66,$BJ$33,$BJ$34,FALSE)","v":0},{"$f":"EI$4*$N$32+$M$32","v":20.656725962863423},null,null,null,null,5.9999999999999947,null,0,0,0,0,0,0,0,0,0,0,0,0,0,0,0,0,0,0,0,0,0,0,0,0,0,0,0,0,0,0,0,0,0,0,0,0,0,0,0,0,0,0,0,0,0,0,0,0,0,0,0,0,0,0,0,0,0,0,0,0,0,0,0,0,0,0,0,0,0,0,0,0,0,0,0,0,0,0,0,0,0,0,0,0,0,0,0,0,0,0,0,0,0,0,0,0,0,0,0,0,0,0,0,0,0,0,0,0,0,0,0,0,0,0,0,0,0,0,0,0,0,0,0,0,0,0,null,61,0,15,{"$f":"INDEX($BW$6:$GR$261,$GT66,$BJ$14)","v":0},0]
[6,"Quinoline",4.3186893101028954,0.38627531484366973,1.3478560738511396,3.9206833528123655,2.9633809093425132,0.5301056925212001,0,null,3.6150000000000002,0.38627531484366973,null,"2D ",{"$f":"O72*C31*60","v":3.1497108433734939},null,null,null,null,null,null,null,null,null,null,null,null,null,null,null,12.799999999999986,{"$f":"IF('Macro input'!$F$19=1,GC!AG67,IF($K$29>0,IF($AE67<$I$29,$G$29,IF($AE67<$I$29+$J$29,$G$29+((H$29-G$29)*($AE67-I$29)/J$29),$H$29)),$G$29))","v":227.99999999999986},228.05000000001775,0.19500000000000012,0.65000000000000036,6.0002110075258583,6,15,4.9997889924741417,66,0,0,0,0,0,0,0,0,0,0,0,{"$f":"IF($C$96>0,$B$17*NORMDIST($AI67,$C$96,$D$96/4,FALSE),0)","v":0},{"$f":"IF($C$97>0,$B$18*NORMDIST($AI67,$C$97,$D$97/4,FALSE),0)","v":0},{"$f":"IF($C$98>0,$B$19*NORMDIST($AI67,$C$98,$D$98/4,FALSE),0)","v":0},{"$f":"IF($C$99>0,$B$20*NORMDIST($AI67,$C$99,$D$99/4,FALSE),0)","v":0},{"$f":"IF($C$100>0,$B$21*NORMDIST($AI67,$C$100,$D$100/4,FALSE),0)","v":0},{"$f":"IF($C$101>0,$B$22*NORMDIST($AI67,$C$101,$D$101/4,FALSE),0)","v":0},{"$f":"IF($C$102>0,$B$23*NORMDIST($AI67,$C$102,$D$102/4,FALSE),0)","v":0},{"$f":"IF($C$103>0,$B$24*NORMDIST($AI67,$C$103,$D$103/4,FALSE),0)","v":0},{"$f":"IF($C$104>0,$B$25*NORMDIST($AI67,$C$104,$D$104/4,FALSE),0)","v":0},null,null,12.999999999999986,{"$f":"BL66+$BJ$6","v":3.900000000000003},{"$f":"$N$32*$O$61*NORMDIST(AH67,$BJ$26,$BJ$27,FALSE)+$M$32","v":15.005187884177086},4.1152885688161885E-11,0,{"$f":"EJ$4*$N$32+$M$32","v":20.276486573959602},null,null,null,null,6.0999999999999943,null,0,0,0,0,0,0,0,0,0,0,0,0,0,0,0,0,0,0,0,0,0,0,0,0,0,0,0,0,0,0,0,0,0,0,0,0,0,0,0,0,0,0,0,0,0,0,0,0,0,0,0,0,0,0,0,0,0,0,0,0,0,0,0,0,0,0,0,0,0,0,0,0,0,0,0,0,0,0,0,0,0,0,0,0,0,0,0,0,0,0,0,0,0,0,0,0,0,0,0,0,0,0,0,0,0,0,0,0,0,0,0,0,0,0,0,0,0,0,0,0,0,0,0,0,0,0,null,62,0,15,{"$f":"INDEX($BW$6:$GR$261,$GT67,$BJ$14)","v":0},0]
[7,"Indole",5.4731155438470358,0.20261500343008373,1.3235349752168639,6.9223654342082046,3.9683384520532576,0.70987796292139005,0,null,4.51,0.20261500343008373,null,"1D",{"$f":"N72*B31","v":7.7674819277108442},null,null,null,null,null,null,null,null,null,null,null,null,null,null,null,{"$f":"AE67+$B$31/100","v":12.999999999999986},{"$f":"IF('Macro input'!$F$19=1,GC!AG68,IF($K$29>0,IF($AE68<$I$29,$G$29,IF($AE68<$I$29+$J$29,$G$29+((H$29-G$29)*($AE68-I$29)/J$29),$H$29)),$G$29))","v":229.99999999999986},230.0500000000182,{"$f":"AH67+$C$34","v":0.19800000000000012},{"$f":"AI67+$B$34","v":0.66000000000000036},6.0003247786263065,6,15,4.9996752213736935,67,0,0,0,0,0,0,0,0,0,0,0,0,0,0,0,0,0,0,0,0,null,null,{"$f":"BK67+$BJ$38","v":13.199999999999985},3.9600000000000031,15.005335856767749,1.1585027039871605E-11,0,{"$f":"EK$4*$N$32+$M$32","v":19.683804495991112},null,null,null,null,6.199999999999994,null,0,0,0,0,0,0,0,0,0,0,0,0,0,0,0,0,0,0,0,0,0,0,0,0,0,0,0,0,0,0,0,0,0,0,0,0,0,0,0,0,0,0,0,0,0,0,0,0,0,0,0,0,0,0,0,0,0,0,0,0,0,0,0,0,0,0,0,0,0,0,0,0,0,0,0,0,0,0,0,0,0,0,0,0,0,0,0,0,0,0,0,0,0,0,0,0,0,0,0,0,0,0,0,0,0,0,0,0,0,0,0,0,0,0,0,0,0,0,0,0,0,0,0,0,0,0,null,63,0,15,{"$f":"INDEX($BW$6:$GR$261,$GT68,$BJ$14)","v":0},0]
[8,"Tetradecane",6.9203248704677556,0.21551066195852911,1.4271763873279053,10.801702828686686,1.6918090879092353,0.30264001004135743,0,null,5.83,0.21551066195852911,null,"Scale",1,null,null,null,null,null,null,null,null,null,null,null,null,null,null,null,13.199999999999985,{"$f":"IF('Macro input'!$F$19=1,GC!AG69,IF($K$29>0,IF($AE69<$I$29,$G$29,IF($AE69<$I$29+$J$29,$G$29+((H$29-G$29)*($AE69-I$29)/J$29),$H$29)),$G$29))","v":231.99999999999986},232.05000000001866,0.20100000000000012,0.67000000000000037,6.000493683093608,6,15,4.999506316906392,68,0,0,0,0,0,0,0,0,0,0,0,0,0,0,0,0,0,0,0,0,null,null,13.399999999999984,4.0200000000000031,15.005487646442758,3.1668034739981245E-12,0,{"$f":"EL$4*$N$32+$M$32","v":18.942507208346992},null,null,null,null,6.2999999999999936,null,0,0,0,0,0,0,0,0,0,0,0,0,0,0,0,0,0,0,0,0,0,0,0,0,0,0,0,0,0,0,0,0,0,0,0,0,0,0,0,0,0,0,0,0,0,0,0,0,0,0,0,0,0,0,0,0,0,0,0,0,0,0,0,0,0,0,0,0,0,0,0,0,0,0,0,0,0,0,0,0,0,0,0,0,0,0,0,0,0,0,0,0,0,0,0,0,0,0,0,0,0,0,0,0,0,0,0,0,0,0,0,0,0,0,0,0,0,0,0,0,0,0,0,0,0,0,null,64,0,15,{"$f":"INDEX($BW$6:$GR$261,$GT69,$BJ$14)","v":0},0]
[9,"Dibenzofuran",9.4493478604417209,0.25275309794745487,{"$f":"IF(AND(B15>0,C71>C70),(C71-$B$29)/(C70-$B$29),\"\")","v":1.1162264979188736},{"$f":"IF(E70<>\"\",2*ABS(C71-C70)/(D71+D70),\"\")","v":3.8243880143832301},4.0374248350890785,0.72223651082440465,0,null,8.7949999999999999,{"$f":"IF(K70<>\"\",D70,\"\")","v":0.25275309794745487},null,null,null,null,null,null,null,null,null,null,null,null,null,null,null,null,null,null,13.399999999999984,{"$f":"IF('Macro input'!$F$19=1,GC!AG70,IF($K$29>0,IF($AE70<$I$29,$G$29,IF($AE70<$I$29+$J$29,$G$29+((H$29-G$29)*($AE70-I$29)/J$29),$H$29)),$G$29))","v":233.99999999999983},234.05000000001911,0.20400000000000013,0.68000000000000038,6.0007411061003593,6,15,4.9992588938996407,69,0,0,0,0,0,0,0,0,0,0,0,0,0,0,0,0,0,0,0,0,null,null,13.599999999999984,4.0800000000000027,15.005643339149614,8.405672721672628E-13,0,{"$f":"EM$4*$N$32+$M$32","v":18.130664445245998},null,null,null,null,6.3999999999999932,null,0,0,0,0,0,0,0,0,0,0,0,0,0,0,0,0,0,0,0,0,0,0,0,0,0,0,0,0,0,0,0,0,0,0,0,0,0,0,0,0,0,0,0,0,0,0,0,0,0,0,0,0,0,0,0,0,0,0,0,0,0,0,0,0,0,0,0,0,0,0,0,0,0,0,0,0,0,0,0,0,0,0,0,0,0,0,0,0,0,0,0,0,0,0,0,0,0,0,0,0,0,0,0,0,0,0,0,0,0,0,0,0,0,0,0,0,0,0,0,0,0,0,0,0,0,0,null,65,{"$f":"IF(BU70=\"\",\"\",0.01*SUM(BW70:GR70))","v":0},{"$f":"IF(BW70=\"\",\"\",0.01*SUM(BW70:GR70)*$N$32+$M$32)","v":15},{"$f":"INDEX($BW$6:$GR$261,$GT70,$BJ$14)","v":0},{"$f":"GW70*$BJ$16","v":0}]
[10,"Diphenylamine",10.431385971959189,0.26081305058355109,1.213405993994811,7.525503780644005,3.8734765376688478,0.6929085477982454,0,null,10.1,{"$f":"IF(K71<>\"\",D71,\"\")","v":0.26081305058355109},null,"   Mouse coord. rel.",null,null,null,null,null,null,null,null,null,null,null,null,null,null,null,null,13.599999999999984,{"$f":"IF('Macro input'!$F$19=1,GC!AG71,IF($K$29>0,IF($AE71<$I$29,$G$29,IF($AE71<$I$29+$J$29,$G$29+((H$29-G$29)*($AE71-I$29)/J$29),$H$29)),$G$29))","v":235.99999999999983},236.05000000001957,0.20700000000000013,0.69000000000000039,6.0010987119305295,6,15,4.9989012880694705,70,0,0,0,0,0,0,0,0,0,0,0,0,0,0,0,0,0,0,0,0,null,null,13.799999999999983,4.1400000000000023,15.005803022404443,2.1664623369465532E-13,0,{"$f":"EN$4*$N$32+$M$32","v":17.332677826352718},null,null,null,null,{"$f":"BU70+$BJ$7","v":6.4999999999999929},null,0,0,0,0,0,0,0,0,0,0,0,0,0,0,0,0,0,0,0,0,0,0,0,0,0,0,0,0,0,0,0,0,0,0,0,0,0,0,0,0,0,0,0,0,0,0,0,0,0,0,0,0,0,0,0,0,0,0,0,0,0,0,0,0,0,0,0,0,0,0,0,0,0,0,0,0,0,0,0,0,0,0,0,0,0,0,0,0,0,0,0,0,0,0,0,0,0,0,0,0,0,0,0,0,0,0,0,0,0,0,0,0,0,0,0,0,0,0,0,0,0,0,0,0,0,0,null,66,0,15,{"$f":"INDEX($BW$6:$GR$261,$GT71,$BJ$14)","v":0},0]
[11,"Carbazole",12.444100270053857,0.27409181605713179,"","",4.9541781521586516,0.8862303296696834,0,null,12.745000000000001,0.27409181605713179,null,0.38837409638554221,0.52495180722891566,null,null,null,null,null,null,null,null,null,null,null,null,null,null,null,13.799999999999983,{"$f":"IF('Macro input'!$F$19=1,GC!AG72,IF($K$29>0,IF($AE72<$I$29,$G$29,IF($AE72<$I$29+$J$29,$G$29+((H$29-G$29)*($AE72-I$29)/J$29),$H$29)),$G$29))","v":237.99999999999983},238.05000000002002,0.21000000000000013,0.7000000000000004,6.0016086390668484,6,15,4.9983913609331516,71,0,0,0,0,0,0,0,0,0,0,0,0,0,0,0,0,0,0,0,0,null,null,13.999999999999982,4.200000000000002,15.00596678531037,5.4219700366434144E-14,0,{"$f":"EO$4*$N$32+$M$32","v":16.623214561921682},null,null,null,null,6.5999999999999925,null,0,0,0,0,0,0,0,0,0,0,0,0,0,0,0,0,0,0,0,0,0,0,0,0,0,0,0,0,0,0,0,0,0,0,0,0,0,0,0,0,0,0,0,0,0,0,0,0,0,0,0,0,0,0,0,0,0,0,0,0,0,0,0,0,0,0,0,0,0,0,0,0,0,0,0,0,0,0,0,0,0,0,0,0,0,0,0,0,0,0,0,0,0,0,0,0,0,0,0,0,0,0,0,0,0,0,0,0,0,0,0,0,0,0,0,0,0,0,0,0,0,0,0,0,0,0,null,67,0,15,{"$f":"INDEX($BW$6:$GR$261,$GT72,$BJ$14)","v":0},0]
[12,"","","","","","","","",null,"","",null,0.87618023157119751,0.55256414413452148,null,null,null,null,null,null,null,null,null,null,null,null,null,null,null,13.999999999999982,{"$f":"IF('Macro input'!$F$19=1,GC!AG73,IF($K$29>0,IF($AE73<$I$29,$G$29,IF($AE73<$I$29+$J$29,$G$29+((H$29-G$29)*($AE73-I$29)/J$29),$H$29)),$G$29))","v":239.99999999999983},240.05000000002047,0.21300000000000013,0.71000000000000041,6.002325973175183,6,15,4.997674026824817,72,0,0,0,0,0,0,0,0,0,0,0,0,0,0,0,0,0,0,0,0,null,null,14.199999999999982,4.2600000000000016,15.006134718575874,1.3176206300780149E-14,0,{"$f":"EP$4*$N$32+$M$32","v":16.051007468340455},null,null,null,null,6.6999999999999922,null,0,0,0,0,0,0,0,0,0,0,0,0,0,0,0,0,0,0,0,0,0,0,0,0,0,0,0,0,0,0,0,0,0,0,0,0,0,0,0,0,0,0,0,0,0,0,0,0,0,0,0,0,0,0,0,0,0,0,0,0,0,0,0,0,0,0,0,0,0,0,0,0,0,0,0,0,0,0,0,0,0,0,0,0,0,0,0,0,0,0,0,0,0,0,0,0,0,0,0,0,0,0,0,0,0,0,0,0,0,0,0,0,0,0,0,0,0,0,0,0,0,0,0,0,0,0,null,68,0,15,{"$f":"INDEX($BW$6:$GR$261,$GT73,$BJ$14)","v":0},0]
[13,"","","","","","","","",null,"","",null,null,null,null,null,null,null,null,null,null,null,null,null,null,null,null,null,null,14.199999999999982,{"$f":"IF('Macro input'!$F$19=1,GC!AG74,IF($K$29>0,IF($AE74<$I$29,$G$29,IF($AE74<$I$29+$J$29,$G$29+((H$29-G$29)*($AE74-I$29)/J$29),$H$29)),$G$29))","v":241.99999999999983},242.05000000002093,0.21600000000000014,0.72000000000000042,6.0033214071099428,6,15,4.9966785928900572,73,0,0,0,0,0,0,0,0,0,0,0,0,0,0,0,0,0,0,0,0,null,null,14.399999999999981,4.3200000000000012,15.006306914533026,3.1092164855786239E-15,0,{"$f":"EQ$4*$N$32+$M$32","v":15.631566117529699},null,null,null,null,6.7999999999999918,null,2.307430911551058E-26,8.8394856575274936E-28,3.0799388596520355E-29,9.7605436032915917E-31,2.81334327907679E-32,7.3754455183398255E-34,1.7586143072077719E-35,3.8139039854613658E-37,7.5229074637590973E-39,1.3496417202274176E-40,2.2022574124340952E-42,3.2683945439649565E-44,4.4118189725690853E-46,5.4164869593099788E-48,6.0483168113076377E-50,6.1430066029961312E-52,7.8726814847528016E-54,2.4258183393664528E-52,2.4337497504864984E-50,2.2212412127522758E-48,1.8438786797244259E-46,1.3921491719767407E-44,9.5599586728460978E-43,5.9709449479884071E-41,3.3919303815914357E-39,1.7525386458598366E-37,8.2357866555127111E-36,3.5201355157099022E-34,1.3684548993256734E-32,4.8385853405414758E-31,1.5560485119645983E-29,4.5513964936680724E-28,1.2108295724987433E-26,2.9298013770944177E-25,6.4477790823285638E-24,1.290621602026838E-22,2.3496572837315646E-21,3.8906926448248523E-20,5.8595752653457391E-19,8.0264251659496218E-18,9.9998847677460161E-17,1.1331427926584737E-15,1.1678608417685851E-14,1.0947485121094284E-13,9.3337129648086291E-13,7.2378791810374541E-12,5.10487401314705E-11,3.2747302982671058E-10,1.9106575658940337E-9,1.0139277037767597E-8,4.8938193231474494E-8,2.1483532047010112E-7,8.5778855495954629E-7,3.1150973362372972E-6,1.0289157288086627E-5,3.0910412570997345E-5,8.4459130877628273E-5,2.0989651362163548E-4,4.7443929592662343E-4,9.7537785511439795E-4,1.8238198593089762E-3,3.1017572090330683E-3,4.7978920342105292E-3,6.7500960446211025E-3,8.6374638826112078E-3,1.0052621878694285E-2,1.0641167044689159E-2,1.0245094887387089E-2,8.9713855291365489E-3,7.1452900989685385E-3,5.1760328308128219E-3,3.410287471433016E-3,2.0436276382218071E-3,1.1138567888147543E-3,5.5217120571073204E-4,2.489630900702903E-4,1.0209700129845899E-4,3.8080953860823479E-5,1.2918719257413583E-5,3.9860974650885516E-6,1.1186472963395931E-6,2.8553230538826808E-7,6.6287881118395853E-8,1.3996834679521087E-8,2.6880809293344065E-9,4.6953898542469763E-10,7.4596385625456135E-11,1.077905590226722E-11,1.4166431758004801E-12,1.6933901694230923E-13,1.8410704410812162E-14,1.8205415161277448E-15,1.637372830453758E-16,1.3394033566531137E-17,9.9653371622155896E-19,6.7435630400782342E-20,4.1505309548152538E-21,2.3234573421281898E-22,1.1829940500534952E-23,5.4783178717430873E-25,2.307430911551058E-26,0,0,0,0,0,0,0,0,0,0,0,0,0,0,0,0,0,0,0,0,0,0,0,0,0,null,69,8.6659719436079263E-4,15.00086659719436,{"$f":"INDEX($BW$6:$GR$261,$GT74,$BJ$14)","v":8.5778855495954629E-7},2.1914013623309151E-7]
[14,"","","","","","","","",null,"","",null,"Crosshair coordinates",null,null,null,null,null,null,null,null,null,null,null,null,null,null,null,null,14.399999999999981,{"$f":"IF('Macro input'!$F$19=1,GC!AG75,IF($K$29>0,IF($AE75<$I$29,$G$29,IF($AE75<$I$29+$J$29,$G$29+((H$29-G$29)*($AE75-I$29)/J$29),$H$29)),$G$29))","v":243.9999999999998},244.05000000002138,0.21900000000000014,0.73000000000000043,6.0046839347790284,6,15,4.9953160652209716,74,0,0,0,0,0,0,0,0,0,0,0,0,0,0,0,0,0,0,0,0,null,null,14.59999999999998,4.3800000000000008,15.006483467155656,7.1242449046929348E-16,0,{"$f":"ER$4*$N$32+$M$32","v":15.351631174970038},null,null,null,null,6.8999999999999915,null,4.8411752252848859E-27,1.4834041405274089E-28,4.1248111361514647E-30,1.0408413707559049E-31,2.3834218712540253E-33,4.9528273714985077E-35,9.3398813345273272E-37,1.5983262138367395E-38,2.4821349094186916E-40,3.4980115531415159E-42,4.4735571813816768E-44,5.1918321423038819E-46,5.4679456508433236E-48,5.2259314662503265E-50,4.5458932227367246E-52,1.7691359534824082E-52,2.0378507393123284E-50,2.1740283648986907E-48,2.1047207386464943E-46,1.8490968176334982E-44,1.4742146357183114E-42,1.0665904291520424E-40,7.0027809661594473E-39,4.1723362345401224E-37,2.2559213419061931E-35,1.1068900989577633E-33,4.9285702263455631E-32,1.9914678152078981E-30,7.3023312803708764E-29,2.4298847049908051E-27,7.3374592071588686E-26,2.0106738455053376E-24,5.0000397180988477E-23,1.1283430966122411E-21,2.3107065459213493E-20,4.2942201912535882E-19,7.24202002145777E-18,1.1083349519380919E-16,1.5392821517754098E-15,1.9399982346386332E-14,2.2188111124422305E-13,2.3029007771794491E-12,2.1690322879884348E-11,1.8539273184270671E-10,1.4379880852131036E-9,1.0121707148947618E-8,6.4652920016292643E-8,3.7476447615467143E-7,1.9713538579991593E-6,9.4103689988535705E-6,4.0764734297810868E-5,1.6025016123180776E-4,5.71673723693431E-4,1.8506908724736182E-3,5.436951160045749E-3,1.4494821683481264E-2,3.5067614100364262E-2,7.6990201627625543E-2,0.15339125183338606,0.27733304690672977,0.45502844966656303,0.677503237917356,0.91541936622940889,1.1224440788095766,1.2489505025910104,1.2611351705046321,1.1556170593199497,0.96095300164780395,0.72514732221155642,0.49657659241582836,0.30859020494509531,0.1740259151621846,8.9059778819819815E-2,4.1360444233551272E-2,1.7431095152945896E-2,6.6665332431266556E-3,2.3137227724127642E-3,7.2871630937094956E-4,2.0827711560040806E-4,5.402073838649351E-5,1.2714971003527936E-5,2.7158521826702399E-6,5.2642048345778428E-7,9.2596661166950822E-8,1.4780658104646955E-8,2.1410564208290118E-9,2.8144811804286523E-10,3.3574107961597352E-11,3.6345153947530709E-12,3.5704621980046214E-13,3.1830119017889648E-14,2.5750637321060667E-15,1.8904865780973707E-16,1.259491123363024E-17,7.6146951312587231E-19,4.1777824956000499E-20,2.0800560037779121E-21,9.3981014080226835E-23,3.8533736395882927E-24,1.4337651299072092E-25,4.8411752252848859E-27,0,0,0,0,0,0,0,0,0,0,0,0,0,0,0,0,0,0,0,0,0,0,0,0,0,null,70,0.10224578656600182,15.102245786566002,{"$f":"INDEX($BW$6:$GR$261,$GT75,$BJ$14)","v":5.71673723693431E-4},1.4604608206385464E-4]
[15,"","","","","","","","",null,"","",null,"x","y",null,null,null,null,null,null,null,null,null,null,null,null,null,null,null,14.59999999999998,{"$f":"IF('Macro input'!$F$19=1,GC!AG76,IF($K$29>0,IF($AE76<$I$29,$G$29,IF($AE76<$I$29+$J$29,$G$29+((H$29-G$29)*($AE76-I$29)/J$29),$H$29)),$G$29))","v":245.9999999999998},246.05000000002184,0.22200000000000014,0.74000000000000044,6.0065233530905484,6,15,4.9934766469094516,75,0,0,0,0,0,0,0,0,0,0,0,0,0,0,0,0,0,0,0,0,null,null,14.799999999999979,4.4400000000000004,15.006664472077405,1.5850903504934072E-16,0,{"$f":"ES$4*$N$32+$M$32","v":15.181211614567987},null,null,null,null,6.9999999999999911,null,1.7368670008550406E-28,4.2573020495076061E-30,9.4476082873405715E-32,1.8981424760399185E-33,3.4526714360611534E-35,5.6859260979811376E-37,8.4774782512553283E-39,1.1443310248428614E-40,1.398479729010102E-42,1.5473201936852111E-44,1.5499715474550088E-46,1.4056809957877165E-48,1.154176410240458E-50,9.7542098502677048E-53,1.6446910306680195E-51,2.0836341350475266E-49,2.3907303953146421E-47,2.4834719816928308E-45,2.3356482641718256E-43,1.9887268262579403E-41,1.5330712448160865E-39,1.0699637356637369E-37,6.7607564886532681E-36,3.8675954769092213E-34,2.003116961670948E-32,9.3927137679256768E-31,3.9874512103487379E-29,1.5325660163826739E-27,5.332888638918073E-26,1.6800621716282159E-24,4.791899560388575E-23,1.237398469408554E-21,2.8928835849540784E-20,6.1231070832322186E-19,1.1733626688248274E-17,2.0356925801846412E-16,3.1975079677654917E-15,4.5470590247096752E-14,5.8542203211177327E-13,6.82381192959777E-12,7.2011946373738054E-11,6.8802079508255955E-10,5.9513856691669249E-9,4.6607320938036299E-8,3.3045300027993886E-7,2.1212154108055113E-6,1.2327623518841777E-5,6.4862467565156125E-5,3.0897766377468289E-4,1.3325398892375549E-3,5.2029885052279944E-3,1.8392680603432798E-2,5.8864940141591431E-2,0.17056420682610035,0.44744391470988737,1.0626954662158865,2.2850650310375396,4.448440801363061,7.8403704188608918,12.510793683254841,18.073932566923951,23.63959151578414,27.992829101341762,30.010493175315442,29.128558087460728,25.596722254482543,20.364288447637261,14.668092450131944,9.565277015842975,5.6473015712206029,3.0185885680715403,1.4607852687336911,0.64001234779308036,0.25386909803762742,9.1169766366166249E-2,2.9642263152052456E-2,8.725521435650356E-3,2.3253639526608187E-3,5.6106089044555372E-4,1.2255994917400022E-4,2.4238551484192786E-5,4.3399454172912206E-6,7.0352800080352949E-7,1.032518927900981E-7,1.3719370070261141E-8,1.6504023564017893E-9,1.7974839193124338E-10,1.7723916986430739E-11,1.5822456686466642E-12,1.2788147547404967E-13,9.3575224160878197E-15,6.1991711763193043E-16,3.7181413479376434E-17,2.0190063168063519E-18,9.9258789472544054E-20,4.4179397189053794E-21,1.7802873746663929E-22,6.4950119258866024E-24,2.1453063017355579E-25,6.4153178542632582E-27,1.7368670008550406E-28,0,0,0,0,0,0,0,0,0,0,0,0,0,0,0,0,0,0,0,0,0,0,0,0,0,null,71,2.3904247274952635,17.390424727495265,{"$f":"INDEX($BW$6:$GR$261,$GT76,$BJ$14)","v":5.8864940141591431E-2},1.5038287614585248E-2]
[16,"","","","","","","","",null,"","",null,0,{"$f":"O67","v":3.1497108433734939},null,null,null,null,null,null,null,null,null,null,null,null,null,null,null,14.799999999999979,{"$f":"IF('Macro input'!$F$19=1,GC!AG77,IF($K$29>0,IF($AE77<$I$29,$G$29,IF($AE77<$I$29+$J$29,$G$29+((H$29-G$29)*($AE77-I$29)/J$29),$H$29)),$G$29))","v":247.9999999999998},248.05000000002229,0.22500000000000014,0.75000000000000044,6.0089722683096678,6,15,4.9910277316903322,76,3.32669201341189E-300,3.6977739897785449E-304,0,0,0,0,0,0,0,0,0,0,0,0,0,0,0,0,0,0,null,null,14.999999999999979,4.5,15.00685002660968,3.4244947661588252E-17,0,{"$f":"ET$4*$N$32+$M$32","v":15.08639755885557},null,null,null,null,7.0999999999999908,null,1.9086130435484423E-31,3.397097333136228E-33,5.4471760542549726E-35,7.8687935736586464E-37,1.024043042982485E-38,1.200608985307928E-40,1.2681139667747999E-42,1.2066694041965555E-44,1.034407438865687E-46,7.9885560708039443E-49,5.5579963894712163E-51,3.4839965863111636E-53,7.5532050451668207E-55,9.6882985148915171E-53,1.5137508485549333E-50,2.130782355125083E-48,2.7020731549893979E-46,3.0869417359693154E-44,3.1771160681997018E-42,2.9458528422646144E-40,2.4607207652538336E-38,1.8517695517397633E-36,1.2554079143211513E-34,7.6675409538252924E-33,4.2189139272757892E-31,2.0913106289216786E-29,9.3392014421631779E-28,3.7572860499540079E-26,1.3617961305162839E-24,4.4465507179448077E-23,1.3079999383326397E-21,3.4662949580987473E-20,8.2755454103669817E-19,1.7799223463532406E-17,3.4488857162927242E-16,6.0204627061763931E-15,9.4679129455838736E-14,1.3413804128638166E-12,1.7120757795583091E-11,1.9686446239620034E-10,2.0393181555945932E-9,1.9031629081818789E-8,1.6000747167394873E-7,1.2119309583809756E-6,8.2696821008079141E-6,5.0836198762780986E-5,2.8153386461433362E-4,1.404628685911563E-3,6.3134354402513528E-3,2.5564851412647981E-2,9.3259722885914803E-2,0.30649139591784152,0.90743551457864469,2.4203968348483582,5.8160843848123456,12.590649681882043,24.554941317500759,43.142268705624396,68.287368473142934,97.375812260262379,125.09361077078172,144.77463617189008,150.94653726809395,141.78397436184619,119.97878397569603,91.465030724433063,62.817266198726649,38.866577393644945,21.664410844004475,10.879045337655839,4.9216192107081911,2.0058504491003779,0.73648246279778584,0.24361251107023096,7.2595564323610792E-2,1.9489195026323184E-2,4.713581669684848E-3,1.027026121651694E-3,2.0159755556906631E-4,3.5650231367617176E-5,5.6795347663567302E-6,8.1514804385755779E-7,1.0539828342228109E-7,1.2277329271798182E-8,1.2883907201596558E-9,1.218048528182417E-10,1.0374207094378905E-11,7.9601005564948696E-13,5.5024425069650865E-14,3.4266187868579874E-15,1.9224249245060554E-16,9.716420556580366E-18,4.4242182051070405E-19,1.8148473079232478E-20,6.7068248278534539E-22,2.2328891011636199E-23,6.6971598226026273E-25,1.8096204321188222E-26,4.4051189282127119E-28,9.6605333322603888E-30,1.9086130435484423E-31,0,0,0,0,0,0,0,0,0,0,0,0,0,0,0,0,0,0,0,0,0,0,0,0,0,null,72,11.718038401491226,26.718038401491228,{"$f":"INDEX($BW$6:$GR$261,$GT77,$BJ$14)","v":0.90743551457864469},0.23182349675543037]
[17,"","","","","","","","",null,"","",null,{"$f":"B31","v":20},{"$f":"O67","v":3.1497108433734939},null,null,null,null,null,null,null,null,null,null,null,null,null,null,null,14.999999999999979,{"$f":"IF('Macro input'!$F$19=1,GC!AG78,IF($K$29>0,IF($AE78<$I$29,$G$29,IF($AE78<$I$29+$J$29,$G$29+((H$29-G$29)*($AE78-I$29)/J$29),$H$29)),$G$29))","v":249.99999999999977},250.05000000002275,0.22800000000000015,0.76000000000000045,6.0121872280403199,6,15,4.9878127719596801,77,2.3398341393058603E-291,2.1431209907651615E-296,4.4547545718967398E-308,0,0,0,0,0,0,0,0,0,0,0,0,0,0,0,0,0,null,null,15.199999999999978,4.5599999999999996,15.007040229759474,7.1839995161769032E-18,0,{"$f":"EU$4*$N$32+$M$32","v":15.038103065567478},null,null,null,null,7.1999999999999904,null,1.7686482330031306E-35,2.2229361083415423E-37,2.5036611005241129E-39,2.5268947238385673E-41,2.2853977789646002E-43,1.8522495539419047E-45,1.3452414555705299E-47,8.7551588705563211E-50,5.1061182194032593E-52,2.668583250872121E-54,1.2515125624667439E-56,4.2716282444454556E-57,9.2087859857891664E-55,1.8011081770626873E-52,3.1567512013235126E-50,4.9579707057675343E-48,6.9779941963509514E-46,8.80076241423826E-44,9.9465629475088365E-42,1.0073695506334646E-39,9.1425564179099149E-38,7.4354888046982014E-36,5.4189412753688796E-34,3.5390150595687315E-32,2.0711589137664371E-30,1.0861941998132593E-28,5.1046336844124146E-27,2.1497340237786192E-25,8.1127468355471699E-24,2.7435581075677344E-22,8.3142570520734268E-21,2.2578535943936528E-19,5.4945376455988814E-18,1.1982007151146743E-16,2.3414831732552165E-15,4.1002992458325453E-14,6.4343267413804816E-13,9.048023382119554E-12,1.1401641014914147E-10,1.2874905711050106E-9,1.3028181400566625E-8,1.1813717520652369E-7,9.5995839940187784E-7,6.9900662067060314E-6,4.5611379863521986E-5,2.6670317035849074E-4,1.3974818980780825E-3,6.5618643678807776E-3,2.7610314476459934E-2,0.10410665738139775,0.35176181816465296,1.0650792841635428,2.8898694477145717,7.0264758018156774,15.309462094996361,29.891337917262085,52.299052653748667,81.998391931289802,115.20727236753207,145.04992175853758,163.65080608013395,165.45574226205591,149.90239968342749,121.70218393928856,88.542382472840913,57.725417302875798,33.724537632752543,17.655823256228704,8.2831015669111281,3.4822588132387562,1.3118740796703083,0.4428802379736122,0.13398108728436328,3.632149697065494E-2,8.8236246748694697E-3,1.9208495893353113E-3,3.7471643120174936E-4,6.5505107063384678E-5,1.0261494812208721E-5,1.4404863409475521E-6,1.8120522016349125E-7,2.0426563588222677E-8,2.0633977920688147E-9,1.8678141370766763E-10,1.5151212883656203E-11,1.1013470377382212E-12,7.1740437563378782E-14,4.187616476773046E-15,2.1904473766826755E-16,1.0267431021728242E-17,4.3127452856956556E-19,1.6233376818362389E-20,5.4755402545867293E-22,1.6550386027671998E-23,4.4828305729187772E-25,1.0880768440629786E-26,2.3666272252085064E-28,4.6127847584596003E-30,8.0567440936820024E-32,1.2610113460704548E-33,1.7686482330031306E-35,0,0,0,0,0,0,0,0,0,0,0,0,0,0,0,0,0,0,0,0,0,0,0,0,0,null,73,12.632895283038353,27.632895283038351,{"$f":"INDEX($BW$6:$GR$261,$GT78,$BJ$14)","v":2.8898694477145717},0.73827796000132717]
[18,"","","","","","","","",null,"","",null,{"$f":"O68","v":7.7674819277108442},0,null,null,null,null,null,null,null,null,null,null,null,null,null,null,null,15.199999999999978,{"$f":"IF('Macro input'!$F$19=1,GC!AG79,IF($K$29>0,IF($AE79<$I$29,$G$29,IF($AE79<$I$29+$J$29,$G$29+((H$29-G$29)*($AE79-I$29)/J$29),$H$29)),$G$29))","v":251.99999999999977},252.0500000000232,0.23100000000000015,0.77000000000000046,6.0163485387691935,6,15,4.9836514612308065,78,1.2142558389474333E-282,9.8624292975478479E-289,2.897441431042416E-300,0,2.3961845122652101E-307,0,0,0,0,0,0,0,0,0,0,0,0,0,0,0,null,null,{"$f":"BK78+$BJ$38","v":15.399999999999977},4.6199999999999992,15.007235182247049,1.4634011264646482E-18,0,{"$f":"EV$4*$N$32+$M$32","v":15.015544407853646},null,null,null,null,7.2999999999999901,null,1.9715082463452433E-40,1.7160053354861319E-42,1.3307920673636347E-44,9.1954567647936944E-47,5.6611927759139537E-49,3.1053754447380333E-51,1.51772056577609E-53,6.6090807365918851E-56,2.5642588958676836E-58,8.9521000589916659E-61,2.7819697032820972E-60,7.8561172445162854E-58,1.9786158644592207E-55,4.4400366547914675E-53,8.877346216963455E-51,1.581434808520382E-48,2.5100996514782121E-46,3.5497859555914921E-44,4.4728558695495829E-42,5.0215659965240425E-40,5.0230208331533973E-38,4.4767445927181142E-36,3.5549311154052734E-34,2.5151946204347459E-32,1.5855631175083911E-30,8.9056784040002696E-29,4.4567883993703148E-27,1.9872319255643882E-25,7.8948999373468856E-24,2.7945780144490915E-22,8.8136820573649873E-21,2.4766809023374358E-19,6.2008933873935724E-18,1.3832797123635755E-16,2.7493959217872906E-15,4.8689587423113193E-14,7.6825684535465294E-13,1.0800610796877078E-11,1.3528876365493842E-10,1.5098947436639267E-9,1.5014233033739661E-8,1.3302435594304657E-7,1.0501001277598515E-6,7.3858722476890822E-6,4.6285440929605722E-5,2.5843929811464837E-4,1.2857135892840354E-3,5.6990366408761059E-3,2.2507652321444416E-2,7.9200966319664307E-2,0.24831462362067047,0.69365839462153311,1.7264759385184216,3.8286612905807704,7.5649297335526331,13.317858099955323,20.889853857288131,29.194964663634714,36.353986354568441,40.333662462169421,39.870787432381249,35.116684031948395,27.55774776858193,19.268392098548489,12.003800351430167,6.6629044542347389,3.29518605644878,1.4520040597898527,0.57006877527527877,0.19941517805950784,6.2152800386265548E-2,1.725975892725589E-2,4.2705153131907718E-3,9.4145025027064105E-4,1.8492090094289105E-4,3.2362805254449661E-5,5.0463556252470727E-6,7.0110179551448474E-7,8.6787232500431065E-8,9.5719877405099883E-9,9.4063245972563772E-10,8.2358669683383872E-11,6.4249568925968086E-12,4.4658347328603748E-13,2.7657098074407674E-14,1.5260968857707282E-15,7.50289962097219E-17,3.2866064256136077E-18,1.2827375185552125E-19,4.4606631534003478E-21,1.3820781267572298E-22,3.8153755510747489E-24,9.384551562007181E-26,2.0566542670253186E-27,4.0158787403096036E-29,6.9866892012658429E-31,1.0830133039906231E-32,1.4957798988796909E-34,1.8406581043843129E-36,2.0181344492213235E-38,1.9715082463452433E-40,0,0,0,0,0,0,0,0,0,0,0,0,0,0,0,0,0,0,0,0,0,0,0,0,0,null,74,3.0034320995791619,18.003432099579161,{"$f":"INDEX($BW$6:$GR$261,$GT79,$BJ$14)","v":1.7264759385184216},0.44106460756861476]
[19,"","","","","","","","",null,"","",null,{"$f":"O68","v":7.7674819277108442},{"$f":"C31*60","v":6},null,null,null,null,null,null,null,null,null,null,null,null,null,null,null,15.399999999999977,{"$f":"IF('Macro input'!$F$19=1,GC!AG80,IF($K$29>0,IF($AE80<$I$29,$G$29,IF($AE80<$I$29+$J$29,$G$29+((H$29-G$29)*($AE80-I$29)/J$29),$H$29)),$G$29))","v":253.99999999999977},254.05000000002366,0.23400000000000015,0.78000000000000047,6.0216582949889155,6,15,4.9783417050110845,79,4.6493043580162142E-274,3.6037279803455268E-281,1.4963611898382252E-292,9.1524743799292609E-304,9.0048069969756085E-303,0,0,0,0,0,0,0,0,0,0,0,0,0,0,0,null,null,{"$f":"BK79+$BJ$38","v":15.599999999999977},4.6799999999999988,15.007434986523483,2.8945948064837678E-19,0,{"$f":"EW$4*$N$32+$M$32","v":15.005866892978919},null,null,null,null,7.3999999999999897,null,2.3407017130652714E-45,1.5598703399686251E-47,9.2338487816863963E-50,4.8554428445040075E-52,2.2679149550333768E-54,9.4097159555325681E-57,3.4679920510700068E-59,1.1353553070716872E-61,3.6105617257968935E-64,1.1137318488333715E-62,3.5667546648500307E-60,1.0147309947748037E-57,2.564368566800604E-55,5.7565435425199235E-53,1.1478759946874957E-50,2.0331994508901962E-48,3.1990190349558626E-46,4.4710084966433687E-44,5.5506775186503686E-42,6.121224789679612E-40,5.996288095413652E-38,5.2176925305066709E-36,4.0329822112092001E-34,2.7690191544859985E-32,1.6887969810132169E-30,9.1491502200126231E-29,4.4028704115638419E-27,1.8821007963443032E-25,7.146636352861612E-24,2.4105287760374271E-22,7.2222877384236041E-21,1.9221580017278763E-19,4.5441767081603917E-18,9.5427417122650174E-17,1.7800940866664199E-15,2.9496098591285178E-14,4.3414822064662342E-13,5.6762733968040229E-12,6.5923524022403924E-11,6.800946453987362E-10,6.2323254851824411E-9,5.0732086907869211E-8,3.668319543021114E-7,2.3561526375838014E-6,1.3442855005653047E-5,6.8128909490636363E-5,3.0670664893917845E-4,1.2264978037620144E-3,4.3567454793717918E-3,1.3747047523878434E-2,3.8530842858789875E-2,9.5931097917645938E-2,0.21215933772452897,0.41678945022423547,0.72731595469201116,1.1274085963299265,1.5523562686817696,1.8986866116201002,2.0628469472262876,1.9908225706686731,1.7066714969541581,1.2996282571296505,0.87910385770372579,0.52821782995986821,0.28192770627469455,0.13366394956807384,5.6291478020028915E-2,2.105827750393538E-2,6.9976927121464414E-3,2.0655643098386493E-3,5.4159469891391563E-4,1.2614264093447125E-4,2.6097641677699864E-5,4.7961464870256773E-6,7.8295255334363005E-7,1.1353513503167462E-7,1.4624362626289546E-8,1.6733062925004374E-9,1.7006924024806577E-10,1.535422602283438E-11,1.2313511422746746E-12,8.7717801091563958E-14,5.5506697065782077E-15,3.1200019457790903E-16,1.5578160528933216E-17,6.9092246726628069E-19,2.7220386412570751E-20,9.5260111888718196E-22,2.961281673853994E-23,8.1771164221260593E-25,2.0057300151520332E-26,4.3701525436021268E-28,8.4580948301140503E-30,1.4541202883314566E-31,2.2206491514363187E-33,3.0123913571421294E-35,3.6299000602646221E-37,3.8853466596670347E-39,3.6941685753938269E-41,3.1200063369033167E-43,2.3407017130652714E-45,0,0,0,0,0,0,0,0,0,0,0,0,0,0,0,0,0,0,0,0,0,0,0,0,0,null,75,0.15058894682101817,15.150588946821019,{"$f":"INDEX($BW$6:$GR$261,$GT80,$BJ$14)","v":0.21215933772452897},5.4200567148238954E-2]
[20,"","","","","","","","",null,"","",null,null,null,null,null,null,null,null,null,null,null,null,null,null,null,null,null,null,15.599999999999977,{"$f":"IF('Macro input'!$F$19=1,GC!AG81,IF($K$29>0,IF($AE81<$I$29,$G$29,IF($AE81<$I$29+$J$29,$G$29+((H$29-G$29)*($AE81-I$29)/J$29),$H$29)),$G$29))","v":255.99999999999977},256.05000000002411,0.23700000000000015,0.79000000000000048,6.0283361541594269,6,15,4.9716638458405731,80,1.3134646952699811E-265,1.0455648793095696E-273,6.1360528497676819E-285,6.877533222271124E-297,3.1272258076532789E-298,0,0,0,0,0,0,0,0,0,0,0,0,0,0,0,null,null,15.799999999999976,4.7399999999999984,15.007639746788053,5.5595478833608684E-20,0,{"$f":"EX$4*$N$32+$M$32","v":15.002049063198369},null,null,null,null,7.4999999999999893,null,3.0755165431868519E-51,1.5495957202001382E-53,6.9135015927067038E-56,2.7312222664694304E-58,9.5542222530459096E-61,2.9594632631069716E-63,8.1173103994267383E-66,3.9429033402378744E-68,8.1173103994267383E-66,2.9594632631068038E-63,9.5542222530459096E-61,2.731222266469585E-58,6.913501592707096E-56,1.5495957202001823E-53,3.0755165431868519E-51,5.4050167580394467E-49,8.4111492704595555E-47,1.1590254012484517E-44,1.4141969165480988E-42,1.5279394216925965E-40,1.4617789523918956E-38,1.2383305601527521E-36,9.2890391958663053E-35,6.1699879837346039E-33,3.6289180362585533E-31,1.8899456640444158E-29,8.7156703504673864E-28,3.5590295283831347E-26,1.2868908262066425E-24,4.1203218074100542E-23,1.1681534256568416E-21,2.9325670808418289E-20,6.5189153489626756E-19,1.2831636438918602E-17,2.2364957074080801E-16,3.451702919771728E-15,4.7171324315180972E-14,5.7082376585671946E-13,6.1165332631434914E-12,5.8034728299555098E-11,4.8758449571997123E-10,3.6273639911826821E-9,2.3895256990491075E-8,1.3938357264727792E-7,7.1993087084686751E-7,3.2926784355862256E-6,1.3334820079402626E-5,4.7819421670882311E-5,1.5184510518281201E-4,4.2694958151974575E-4,1.062996184964843E-3,2.3435063665737136E-3,4.5748819044549201E-3,7.9081146302906677E-3,1.2104457844484438E-2,1.6405786173413331E-2,1.9689199957383899E-2,2.092369642995396E-2,1.9689199957383899E-2,1.6405786173413331E-2,1.2104457844484469E-2,7.9081146302906937E-3,4.5748819044549201E-3,2.3435063665737136E-3,1.062996184964843E-3,4.2694958151974575E-4,1.5184510518281201E-4,4.7819421670882311E-5,1.3334820079402626E-5,3.2926784355862256E-6,7.1993087084686751E-7,1.393835726472762E-7,2.3895256990490777E-8,3.6273639911827206E-9,4.8758449571997992E-10,5.8034728299555938E-11,6.1165332631436013E-12,5.7082376585673158E-13,4.7171324315180972E-14,3.451702919771728E-15,2.2364957074080801E-16,1.2831636438918602E-17,6.5189153489626756E-19,2.9325670808418289E-20,1.1681534256568416E-21,4.1203218074100542E-23,1.2868908262066243E-24,3.5590295283830584E-26,8.7156703504676967E-28,1.8899456640444558E-29,3.6289180362586563E-31,6.169987983734868E-33,9.2890391958665705E-35,1.2383305601528049E-36,1.4617789523919368E-38,1.5279394216926397E-40,1.4141969165480988E-42,1.1590254012484517E-44,8.4111492704595555E-47,5.4050167580394467E-49,3.0755165431868519E-51,0,0,0,0,0,0,0,0,0,0,0,0,0,0,0,0,0,0,0,0,0,0,0,0,0,null,76,1.5038984054570629E-3,15.001503898405456,{"$f":"INDEX($BW$6:$GR$261,$GT81,$BJ$14)","v":4.5748819044549201E-3},1.1687498486615232E-3]
[null,null,null,null,null,null,null,null,null,null,null,null,null,null,null,null,null,null,null,null,null,null,null,null,null,null,null,null,null,null,15.799999999999976,{"$f":"IF('Macro input'!$F$19=1,GC!AG82,IF($K$29>0,IF($AE82<$I$29,$G$29,IF($AE82<$I$29+$J$29,$G$29+((H$29-G$29)*($AE82-I$29)/J$29),$H$29)),$G$29))","v":257.99999999999977},258.05000000002457,0.24000000000000016,0.80000000000000049,6.0366124564048169,6,15,4.9633875435951831,81,2.7377984915837914E-257,2.4086897134496996E-266,1.9978948781319165E-277,4.3126600356269202E-290,1.0036325883853752E-293,0,0,0,0,0,0,0,0,0,0,0,0,0,0,0,null,null,15.999999999999975,4.799999999999998,15.007849569005437,1.0368560702337901E-20,0,{"$f":"EY$4*$N$32+$M$32","v":15.000662411451133},null,null,null,null,7.599999999999989,null,0,0,0,0,0,0,0,0,0,0,0,0,0,0,0,0,0,0,0,0,0,0,0,0,0,0,0,0,0,0,0,0,0,0,0,0,0,0,0,0,0,0,0,0,0,0,0,0,0,0,0,0,0,0,0,0,0,0,0,0,0,0,0,0,0,0,0,0,0,0,0,0,0,0,0,0,0,0,0,0,0,0,0,0,0,0,0,0,0,0,0,0,0,0,0,0,0,0,0,0,0,0,0,0,0,0,0,0,0,0,0,0,0,0,0,0,0,0,0,0,0,0,0,0,0,0,null,77,0,15,{"$f":"INDEX($BW$6:$GR$261,$GT82,$BJ$14)","v":0},0]
["Peaks","Analyte",null,"1D VBA",{"$f":"J14","v":"HP-5"},null,null,"2D VBA",{"$f":"K14","v":"Rxi-50-240"},null,null,"DtR 1D",null,null,null,null,null,null,null,null,null,null,null,null,null,null,null,null,null,null,15.999999999999975,{"$f":"IF('Macro input'!$F$19=1,GC!AG83,IF($K$29>0,IF($AE83<$I$29,$G$29,IF($AE83<$I$29+$J$29,$G$29+((H$29-G$29)*($AE83-I$29)/J$29),$H$29)),$G$29))","v":259.99999999999977},260.05000000002502,0.24300000000000016,0.8100000000000005,6.0467184200924846,6,15,4.9532815799075154,82,4.2105342605638436E-249,4.4059708060703969E-259,5.1651990396406418E-270,2.2567118219175361E-283,2.9766032268537289E-289,0,0,0,0,0,0,0,0,0,0,0,0,0,0,0,null,null,16.199999999999974,4.8599999999999977,15.008064560922758,1.8776938206150739E-21,0,{"$f":"EZ$4*$N$32+$M$32","v":15.000198268086192},null,null,null,null,7.6999999999999886,null,0,0,0,0,0,0,0,0,0,0,0,0,0,0,0,0,0,0,0,0,0,0,0,0,0,0,0,0,0,0,0,0,0,0,0,0,0,0,0,0,0,0,0,0,0,0,0,0,0,0,0,0,0,0,0,0,0,0,0,0,0,0,0,0,0,0,0,0,0,0,0,0,0,0,0,0,0,0,0,0,0,0,0,0,0,0,0,0,0,0,0,0,0,0,0,0,0,0,0,0,0,0,0,0,0,0,0,0,0,0,0,0,0,0,0,0,0,0,0,0,0,0,0,0,0,0,null,78,0,15,{"$f":"INDEX($BW$6:$GR$261,$GT83,$BJ$14)","v":0},0]
[null,null,"tR","w","a","RS","tR","w","h ","tR-total",null,"LSS-VBA",null,null,null,null,null,null,null,null,null,null,null,null,null,null,null,null,null,null,16.199999999999974,{"$f":"IF('Macro input'!$F$19=1,GC!AG84,IF($K$29>0,IF($AE84<$I$29,$G$29,IF($AE84<$I$29+$J$29,$G$29+((H$29-G$29)*($AE84-I$29)/J$29),$H$29)),$G$29))","v":261.99999999999977},262.05000000002548,0.24600000000000016,0.82000000000000051,6.0588733497037746,6,15,4.9411266502962254,83,4.7777737576177038E-241,6.3993116129542908E-252,1.0603088243368939E-262,9.8542899327611906E-277,8.158265267212513E-285,0,0,0,0,0,0,0,0,0,0,0,0,0,0,0,null,null,16.399999999999974,4.9199999999999973,15.008284832086403,3.3018579273605103E-22,0,{"$f":"FA$4*$N$32+$M$32","v":15.000054963597245},null,null,null,null,7.7999999999999883,null,0,0,0,0,0,0,0,0,0,0,0,0,0,0,0,0,0,0,0,0,0,0,0,0,0,0,0,0,0,0,0,0,0,0,0,0,0,0,0,0,0,0,0,0,0,0,0,0,0,0,0,0,0,0,0,0,0,0,0,0,0,0,0,0,0,0,0,0,0,0,0,0,0,0,0,0,0,0,0,0,0,0,0,0,0,0,0,0,0,0,0,0,0,0,0,0,0,0,0,0,0,0,0,0,0,0,0,0,0,0,0,0,0,0,0,0,0,0,0,0,0,0,0,0,0,0,null,79,0,15,{"$f":"INDEX($BW$6:$GR$261,$GT84,$BJ$14)","v":0},0]
[1,{"$f":"IF(C6=\"\",\"\",C6)","v":"Phenol"},1.425,7.2541628568008679E-2,{"$f":"IF(AND(B6>0,C86>C85),(C86-$B$29)/(C85-$B$29),\"\")","v":1.2470588235294118},{"$f":"IF(E85<>\"\",2*ABS(C86-C85)/(D86+D85),\"\")","v":1.3476209814893418},0.9840000000000001,0.21398817217501048,3.6481891056330604,0.9840000000000001,null,{"$f":"IF(AND(C85<>\"\",C85<999),C62-C85,\"\")","v":0.2783461271876182},null,null,null,null,null,null,null,null,null,null,null,null,null,null,null,null,null,null,16.399999999999974,{"$f":"IF('Macro input'!$F$19=1,GC!AG85,IF($K$29>0,IF($AE85<$I$29,$G$29,IF($AE85<$I$29+$J$29,$G$29+((H$29-G$29)*($AE85-I$29)/J$29),$H$29)),$G$29))","v":263.99999999999972},264.05000000002593,0.24900000000000017,0.83000000000000052,6.0732690675178924,6,15,4.9267309324821076,84,4.0000609193284251E-233,7.379990249246246E-245,1.7282580009034872E-255,3.5908140860269239E-270,2.0663571009878449E-280,0,0,0,0,0,0,0,0,0,0,0,0,0,0,0,null,null,16.599999999999973,4.9799999999999969,15.008510493858651,5.6379249559856359E-23,0,{"$f":"FB$4*$N$32+$M$32","v":15.000014118115573},null,null,null,null,7.8999999999999879,null,1.5824180306614973E-18,1.1773129139625152E-19,8.0483330114753712E-21,5.0554906587439634E-22,2.9178571863295052E-23,1.5474196085960977E-24,7.5404194472448911E-26,3.3761851755079363E-27,1.3889939597798746E-28,5.2507071939814749E-30,1.8238057837798309E-31,5.8208005921660764E-33,1.7069869435381175E-34,4.599610130094276E-36,1.1388202712454545E-37,2.5907929176046863E-39,5.4156870213394439E-41,1.0402021802574738E-42,1.8358001932714765E-44,2.980395767039821E-46,2.8540584730397637E-47,1.56395230384724E-45,9.3229443046821726E-44,5.1067297760591471E-42,2.5702538237000323E-40,1.1886458952549241E-38,5.0509412934865633E-37,1.9721297810610183E-35,7.0752535319648331E-34,2.3323400346725235E-32,7.064559252123151E-31,1.9661725193274244E-29,5.0280723285089896E-28,1.1814755966419086E-26,2.550887700970263E-25,5.0605913497273608E-24,9.2247486693139877E-23,1.5450806763935221E-21,2.3778865168577954E-20,3.3625939901430087E-19,4.3691915526580464E-18,5.2164023632868364E-17,5.722481870562552E-16,5.7682106586782894E-15,5.3424583460054601E-14,4.5465766959946397E-13,3.5552589893770632E-12,2.5544729583812792E-11,1.6864548582130073E-10,1.0230373197606099E-9,5.7023199000288907E-9,2.9204852901499758E-8,1.3743641352367002E-7,5.9428114116195943E-7,2.3611600612374193E-6,8.6199005103867364E-6,2.8914948478632279E-5,8.9122207899450549E-5,2.5240200251018595E-4,6.5681490571988898E-4,1.570494966289819E-3,3.4504317562145618E-3,6.965522195851578E-3,1.2920438806148007E-2,2.2021362768643828E-2,3.4486924315064317E-2,4.9625864036404746E-2,6.5615288627674462E-2,7.9715972840244537E-2,8.8987499252320898E-2,9.1275873724365991E-2,8.6025328599078757E-2,7.4497213103527013E-2,5.9278479755993242E-2,4.3340850854475768E-2,2.9116633072208232E-2,1.7973316365722192E-2,1.0194328612822138E-2,5.312909078828771E-3,2.5441896612035404E-3,1.119463473936175E-3,4.5259913244397385E-4,1.6813605418608166E-4,5.739199612512674E-5,1.8000524244945605E-5,5.1875503148194231E-6,1.3736713333883106E-6,3.3423097296076266E-7,7.472293052787371E-8,1.5349860874067923E-8,2.8973324857655848E-9,5.0249942949377985E-10,8.0078541568761157E-11,1.1725735181017298E-11,1.577637980955284E-12,1.9503743172463436E-13,2.2155008988138876E-14,2.3124334153524186E-15,2.2177362081479997E-16,1.9543119272498663E-17,1.5824180306614973E-18,0,0,0,0,0,0,0,0,0,0,0,0,0,0,0,0,0,0,0,0,0,0,0,0,0,null,80,7.8778050556406933E-3,15.007877805055641,{"$f":"INDEX($BW$6:$GR$261,$GT85,$BJ$14)","v":1.3743641352367002E-7},3.5111023816801706E-8]
[2,{"$f":"IF(C7=\"\",\"\",C7)","v":"Benzonitrile"},1.53,8.3288536504009997E-2,{"$f":"IF(AND(B7>0,C87>C86),(C87-$B$29)/(C86-$B$29),\"\")","v":1.0283018867924527},0.18009681319442689,1.0920000000000001,0.24134533349701306,3.0478393376548278,1.0920000000000001,null,0.31024113925215069,null,"To select traces:",null,null,null,null,null,null,null,null,null,null,null,null,null,null,null,null,16.599999999999973,{"$f":"IF('Macro input'!$F$19=1,GC!AG86,IF($K$29>0,IF($AE86<$I$29,$G$29,IF($AE86<$I$29+$J$29,$G$29+((H$29-G$29)*($AE86-I$29)/J$29),$H$29)),$G$29))","v":265.99999999999972},266.05000000002639,0.25200000000000017,0.84000000000000052,6.090052111680385,6,15,4.909947888319615,85,2.4709290761672746E-225,6.7578602048955421E-238,2.2367408144702225E-248,1.0918899198625067E-263,4.8366383172186139E-276,5.5201118833796509E-308,0,0,0,0,0,0,0,0,0,0,0,0,0,0,null,null,16.799999999999972,5.0399999999999965,15.008741659434079,9.3477588959530915E-24,0,{"$f":"FC$4*$N$32+$M$32","v":15.000003363422303},null,null,null,null,7.9999999999999876,null,3.9748915617320364E-19,2.2995407277944885E-20,1.2176417473579882E-21,5.9014747940801954E-23,2.6179671125679644E-24,1.0629930368820506E-25,3.9505654018125086E-27,1.3438496896501569E-28,4.1841258414788377E-30,1.1923983969740244E-31,3.1102881968483102E-33,7.4257869371995331E-35,1.6227325183456237E-36,3.2457420149133298E-38,5.9421506557539772E-40,9.9571700237630974E-42,1.527181980648714E-43,2.1439400419087383E-45,2.9484161950868324E-47,1.5923309872556287E-46,1.1936964090936219E-44,8.2073193278247318E-43,5.1650140217298814E-41,2.975118590468859E-39,1.5685546758182105E-37,7.5693335768085359E-36,3.3433221918561332E-34,1.3516411973788348E-32,5.0015799212601557E-31,1.6940085910089408E-29,5.2515391468461229E-28,1.4901164499444364E-26,3.8700485567590096E-25,9.1997329786384098E-24,2.0016891421098034E-22,3.9863979219305286E-21,7.2665332521900371E-20,1.2123736419690161E-18,1.8514343184201082E-17,2.5878716710225853E-16,3.3108519914471107E-15,3.8770321249383539E-14,4.1554842041637249E-13,4.0766786148205538E-12,3.6606138425998685E-11,3.0085966201008623E-10,2.263271277815462E-9,1.55837461030625E-8,9.8213167738725469E-8,5.6653947659982643E-7,2.9912536271057327E-6,1.4455692540554834E-5,6.3942140449659192E-5,2.5887972626305908E-4,9.5933770612224845E-4,3.2539253948650642E-3,1.0101974579446756E-2,2.8705661178679287E-2,7.4660593971522679E-2,0.17773703460850421,0.38728174151226413,0.77239369174932759,1.4099802094611225,2.3558623890911039,3.6028769001521881,5.0432620157374357,6.461543065034788,7.5774583434145537,8.133425163612225,7.9907215214723895,7.18556826087499,5.9142386662975062,4.4555279900632767,3.0722893077445708,1.9390439180577781,1.1201489730353151,0.59227926334168013,0.2866420315422063,0.12697429843904137,5.1481877137822311E-2,1.9105373345256162E-2,6.4896202919422106E-3,2.0176491472970195E-3,5.7416222020677905E-4,1.4954991829359176E-4,3.5653350670830839E-5,7.7799557073103228E-6,1.5538765095291886E-6,2.8406549338343862E-7,4.753166904069574E-8,7.2796458345386792E-9,1.0204695262758619E-9,1.3093399909295491E-10,1.5376851785047629E-11,1.6528940908410317E-12,1.6262422089279858E-13,1.4644954743691388E-14,1.2071283289443714E-15,9.1071282674224674E-17,6.288862041526298E-18,3.9748915617320364E-19,0,0,0,0,0,0,0,0,0,0,0,0,0,0,0,0,0,0,0,0,0,0,0,0,0,null,81,0.68803140789116546,15.688031407891165,{"$f":"INDEX($BW$6:$GR$261,$GT86,$BJ$14)","v":6.3942140449659192E-5},1.6335365269398602E-5]
[3,"Benzofuran",1.5449999999999999,8.3288536504010094E-2,1.2110091743119271,{"$f":"IF(E87<>\"\",2*ABS(C88-C87)/(D88+D87),\"\")","v":1.297060886945733},1.032,0.22310722594901142,3.4618997226029795,1.032,null,0.31434620106966071,null,"1) Place the cursor at the",null,null,null,null,null,null,null,null,null,null,null,null,null,null,null,null,16.799999999999972,{"$f":"IF('Macro input'!$F$19=1,GC!AG87,IF($K$29>0,IF($AE87<$I$29,$G$29,IF($AE87<$I$29+$J$29,$G$29+((H$29-G$29)*($AE87-I$29)/J$29),$H$29)),$G$29))","v":267.99999999999972},268.05000000002684,0.25500000000000017,0.85000000000000053,6.1093046044963373,6,15,4.8906953955036627,86,1.1261768713780366E-217,4.9135287921994188E-231,2.2985483048269323E-241,2.7706594298604162E-257,1.0461947294932328E-271,4.6705503641469347E-305,0,0,0,0,0,0,0,0,0,0,0,0,0,0,null,null,16.999999999999972,5.0999999999999961,15.008978443855725,1.5049532756095978E-24,0,{"$f":"FD$4*$N$32+$M$32","v":15.00000074896835},null,null,null,null,8.0999999999999872,null,2.1488650050442922E-20,1.0164365419581626E-21,4.3916738086010724E-23,1.733239387052155E-24,6.2483549502881821E-26,2.0575552423054779E-27,6.1889358995821372E-29,1.7004314695495833E-30,4.267572930166075E-32,9.7832114059023574E-34,2.0486161575909104E-35,3.9184870681620555E-37,6.8462839997937057E-39,1.0926223309268971E-40,1.5928097399534904E-42,2.1209793398023528E-44,2.5816536062704263E-46,2.0394742910421952E-47,1.5215771055188916E-45,1.2064406526198643E-43,8.7378569469013697E-42,5.7807284313151593E-40,3.4933240460319231E-38,1.9282966552382629E-36,9.7227135616457003E-35,4.4779558091026513E-33,1.8838693670384836E-31,7.2393643345379445E-30,2.5411409346653772E-28,8.1477133103507417E-27,2.386279965866783E-25,6.3838947708293133E-24,1.5600147800528357E-22,3.4821732509960738E-21,7.0998750533191051E-20,1.3222991094242794E-18,2.2495071284332436E-17,3.4956159376980323E-16,4.9617938510220993E-15,6.4332790695584709E-14,7.6191186082250114E-13,8.2424390883165533E-12,8.1448938219161072E-11,7.3518015703493307E-10,6.0615095664368099E-9,4.5650599152448458E-8,3.1404424390083935E-7,1.9733942668269606E-6,1.1327017079705333E-5,5.9387619504188907E-5,2.8441660499996203E-4,1.2442070204742659E-3,4.9717469472274657E-3,1.8146967134811499E-2,6.0503118278762237E-2,0.18425960373243003,0.5125794326229629,1.3024794741565004,3.0231470239910232,6.4095319694662063,12.412865117400834,21.95818416020418,35.481296340457725,52.369834709940314,70.605998042638177,86.952216725303515,97.813407560934138,100.50664780504245,94.334348914514649,80.876731791586394,63.336782692732555,45.307184320782504,29.604437677191669,17.669539376140666,9.6332384114413312,4.7973130349418716,2.1822398194802064,0.90674582151785521,0.34414963913329599,0.11931299370569072,3.7783904585972777E-2,1.0929608296693774E-2,2.8878925355897856E-3,6.9700537547812635E-4,1.5366320796240013E-4,3.0944418953102218E-5,5.6921120131428542E-6,9.5640802626085794E-7,1.4678837243038642E-7,2.0578739370217023E-8,2.6352665372254162E-9,3.0825419573143313E-10,3.2936095602020737E-11,3.2145034879080336E-12,2.8657239733164629E-13,2.3336379623178885E-14,1.7358463237110536E-15,1.1794179568662219E-16,7.3198615399233292E-18,4.1496996614700359E-19,2.1488650050442922E-20,0,0,0,0,0,0,0,0,0,0,0,0,0,0,0,0,0,0,0,0,0,0,0,0,0,null,82,8.3878218580694597,23.387821858069458,{"$f":"INDEX($BW$6:$GR$261,$GT87,$BJ$14)","v":4.9717469472274657E-3},1.2701373748024249E-3]
[4,"o-Cresol",1.6600000000000001,9.4035444440011162E-2,1.6818181818181812,{"$f":"IF(E88<>\"\",2*ABS(C89-C88)/(D89+D88),\"\")","v":3.8065917334276835},1.1460000000000001,0.25046438727101372,2.7705437539022486,1.1460000000000001,null,0.44245274085070996,null,"    selected position",null,null,null,null,null,null,null,null,null,null,null,null,null,null,null,null,16.999999999999972,{"$f":"IF('Macro input'!$F$19=1,GC!AG88,IF($K$29>0,IF($AE88<$I$29,$G$29,IF($AE88<$I$29+$J$29,$G$29+((H$29-G$29)*($AE88-I$29)/J$29),$H$29)),$G$29))","v":269.99999999999972},270.0500000000273,0.25800000000000017,0.86000000000000054,6.1310250493631999,6,15,4.8689749506368001,87,3.7870895743929253E-210,2.8366691989059523E-224,1.8755234287639379E-234,5.8668608338659575E-251,2.0912797105503941E-267,3.826615910680094E-302,0,0,0,0,0,0,0,0,0,0,0,0,0,0,null,null,17.199999999999971,5.1599999999999957,15.009220964031002,2.3526961070709856E-25,0,{"$f":"FE$4*$N$32+$M$32","v":15.000000171659536},null,null,null,null,8.1999999999999869,null,4.3456439883751581E-23,1.5578448431826699E-24,5.0793842546536694E-26,1.5063113429781899E-27,4.0628916001036596E-29,9.967185358299719E-31,2.2239583272281804E-32,4.5133349598563719E-34,8.3307729437921283E-36,1.3985881375676669E-37,2.1355571274457627E-39,2.9658511950951671E-41,3.7463153533275277E-43,4.3040382039430662E-45,4.4974408333453898E-47,4.3706318233053231E-49,1.0966030367159933E-48,1.1283446171129846E-46,1.0595377034740925E-44,9.0491542748739273E-43,7.0293696159969709E-41,4.9663986599525795E-39,3.1914172417525331E-37,1.8652730122634018E-35,9.9155780424185979E-34,4.7941374160796348E-32,2.1082384517410586E-30,8.432295018335989E-29,3.0675289210247261E-27,1.014958651987913E-25,3.0543925013266198E-24,8.3602285521128614E-23,2.0812692445814175E-21,4.7125415631710225E-20,9.7050757900129113E-19,1.817856007352445E-17,3.0969688623732562E-16,4.798781863136772E-15,6.7630405191791102E-14,8.6690155260218597E-13,1.010681655020614E-11,1.0717063295121446E-10,1.0336036141203665E-9,9.0666959814683254E-9,7.2337067458452122E-8,5.2491568999274125E-7,3.4644557664461444E-6,2.0796837476993182E-5,1.1354718864500806E-4,5.6386129507970972E-4,2.5467422538567016E-3,1.0461995141490488E-2,3.9089565661768362E-2,0.13283850718672324,0.41058581267932226,1.1542521755498631,2.9513062365411429,6.8634845445686885,14.517500688136719,27.929030560935512,48.869362977483242,77.77397664907032,112.57675952488984,148.21084809150281,177.47126789532888,193.28267269032929,191.45847855731256,172.49364332323634,141.34758663815131,105.34659695819528,71.411710387957484,44.02862976030778,24.689808144556221,12.592648220705552,5.841619136398152,2.4647122065611704,0.94583635803946897,0.33012818440665825,0.10480114155521382,3.0259812581373093E-2,7.946634989005618E-3,1.8980913374932104E-3,4.1235167202945453E-4,8.1477036317894783E-5,1.4642643794747135E-5,2.3934291857258896E-6,3.5582665519543429E-7,4.8114190640070675E-8,5.9173151747879482E-9,6.6190098845998566E-10,6.7340783998372791E-11,6.2313209069897827E-12,5.2444370593822405E-13,4.0145276034546917E-14,2.7950322928548067E-15,1.7699297214768121E-16,1.0193938875750066E-17,5.3400440419417602E-19,2.5442774180079268E-20,1.1025566131275621E-21,4.3456439883751581E-23,0,0,0,0,0,0,0,0,0,0,0,0,0,0,0,0,0,0,0,0,0,0,0,0,0,null,83,15.852935017661741,30.852935017661743,{"$f":"INDEX($BW$6:$GR$261,$GT88,$BJ$14)","v":3.9089565661768362E-2},9.9862520837857016E-3]
[5,"3,5-Dimethylphenol",2.11,0.14239653015201725,1.7477477477477479,4.5430303955810132,1.47,0.31429776368901974,1.3664894079384016,1.47,null,0.82643074485834767,null,"2) Press the left mouse button",null,null,null,null,null,null,null,null,null,null,null,null,null,null,null,null,17.199999999999971,{"$f":"IF('Macro input'!$F$19=1,GC!AG89,IF($K$29>0,IF($AE89<$I$29,$G$29,IF($AE89<$I$29+$J$29,$G$29+((H$29-G$29)*($AE89-I$29)/J$29),$H$29)),$G$29))","v":271.99999999999972},272.05000000002775,0.26100000000000018,0.87000000000000055,6.1551106171525731,6,15,4.8448893828474269,88,9.3963070601741703E-203,1.3003335469694849E-217,1.2151285876701064E-227,1.0366849170350609E-244,3.8631573761036696E-263,3.0359059984232778E-299,0,0,0,0,0,0,0,0,0,0,0,0,0,0,null,null,17.39999999999997,5.2199999999999953,15.009469338747358,3.5713791113042055E-26,0,{"$f":"FF$4*$N$32+$M$32","v":15.000000083480893},null,null,null,null,8.2999999999999865,null,2.8638985281663407E-26,8.2788087297436469E-28,2.171770692510082E-29,5.1700647690821659E-31,1.1168989844747583E-32,2.1896147238942843E-34,3.8954479880593171E-36,6.2890205203823265E-38,9.2139215463464647E-40,1.2250164054668595E-41,1.4780025934533628E-43,1.6182454102265717E-45,1.6078645862422305E-47,1.4498291731261424E-49,2.3724513860530354E-51,1.4498291731261424E-49,1.6078645862422305E-47,1.6182454102265717E-45,1.4780025934533628E-43,1.2250164054668595E-41,9.2139215463464647E-40,6.2890205203823265E-38,3.8954479880592068E-36,2.1896147238941598E-34,1.1168989844747902E-32,5.1700647690822394E-31,2.1717706925101131E-29,8.2788087297436469E-28,2.8638985281663407E-26,8.9904887119722306E-25,2.561208122364988E-23,6.6212858486536128E-22,1.5533728156907955E-20,3.3070819773964085E-19,6.3892534614179309E-18,1.1201886547243088E-16,1.7822479310632678E-15,2.5732439783455095E-14,3.371550799270912E-13,4.0087996012876821E-12,4.3254857141017523E-11,4.2353695892207294E-10,3.7634282660998526E-9,3.0346727676613958E-8,2.220628907107447E-7,1.47460603501542E-6,8.8861148389277393E-6,4.8594121201483748E-5,2.4115231761668402E-4,1.0860130505458169E-3,4.4382784408663794E-3,1.6460004205597407E-2,5.5396360832089556E-2,0.16918755938643706,0.46891217837132815,1.1793711378918557,2.6918160294377458,5.5754015454858843,10.479554577387461,17.874972938772363,27.668388090872636,38.864959626758477,49.541423314131663,57.307918533784907,60.158456730122822,57.307918533784907,49.541423314131663,38.864959626758477,27.668388090872636,17.874972938772299,10.479554577387423,5.5754015454858568,2.6918160294377302,1.1793711378918628,0.46891217837133148,0.16918755938643842,5.5396360832089556E-2,1.6460004205597407E-2,4.4382784408663794E-3,1.0860130505458169E-3,2.4115231761668402E-4,4.8594121201483748E-5,8.8861148389277393E-6,1.47460603501542E-6,2.220628907107447E-7,3.0346727676613428E-8,3.7634282660997996E-9,4.2353695892206384E-10,4.3254857141017988E-11,4.0087996012877669E-12,3.3715507992710085E-13,2.5732439783455827E-14,1.7822479310632678E-15,1.1201886547243088E-16,6.3892534614179309E-18,3.3070819773964085E-19,1.5533728156907955E-20,6.6212858486536128E-22,2.561208122364988E-23,8.9904887119722306E-25,2.8638985281663407E-26,0,0,0,0,0,0,0,0,0,0,0,0,0,0,0,0,0,0,0,0,0,0,0,0,0,null,84,4.8395762983535029,19.839576298353503,{"$f":"INDEX($BW$6:$GR$261,$GT89,$BJ$14)","v":5.5396360832089556E-2},1.4152166042987257E-2]
[6,"Quinoline",2.94,0.22299833967202687,1.2757731958762888,2.1644243817605737,2.4360000000000004,0.50579789294303723,0.70178373155316109,2.4360000000000004,null,1.3786893101028954,null,"            or",null,null,null,null,null,null,null,null,null,null,null,null,null,null,null,null,17.39999999999997,{"$f":"IF('Macro input'!$F$19=1,GC!AG90,IF($K$29>0,IF($AE90<$I$29,$G$29,IF($AE90<$I$29+$J$29,$G$29+((H$29-G$29)*($AE90-I$29)/J$29),$H$29)),$G$29))","v":273.99999999999972},274.05000000002821,0.26400000000000018,0.88000000000000056,6.1813426837098087,6,15,4.8186573162901913,89,1.720130804218022E-195,{"$f":"IF($C$86>0,$B$7*NORMDIST($AI90,$C$86,$D$86/4,FALSE),0)","v":4.7329479341743485E-211},6.2510485109253946E-221,1.5286431889034732E-238,6.5948262486608968E-259,2.3323214238581977E-296,0,0,0,0,0,0,0,0,0,0,0,0,0,0,null,null,17.599999999999969,5.2799999999999949,15.009723688687652,5.2642120793591371E-27,0,{"$f":"FG$4*$N$32+$M$32","v":15.000000152418595},null,null,null,null,8.3999999999999861,null,4.79454544633973E-31,1.0202339482814898E-32,1.9607310948959407E-34,3.4033156960061671E-36,5.3352204830675524E-38,7.5538514769964105E-40,9.659406565788205E-42,1.1155740031302665E-43,1.1636228983051133E-45,1.0962057288553605E-47,9.3269105265104805E-50,7.1671996365013898E-52,4.9782283985223025E-54,6.9323237893334795E-55,9.9359498960655455E-53,1.3467611182954739E-50,1.6486879072808611E-48,1.82285561407926E-46,1.8202541189162038E-44,1.6416391832520455E-42,1.3371783338105661E-40,9.8370954977581537E-39,6.5359749427833512E-37,3.9221103116401231E-35,2.1256666785983618E-33,1.0404865241045916E-31,4.599850210914177E-30,1.8366096169136214E-28,6.6230182719271784E-27,2.1570538490395578E-25,6.3450048084169531E-24,1.6856556429203201E-22,4.0445638572931934E-21,8.7647688924699448E-20,1.7154385932969688E-18,3.0323255020150785E-17,4.8410815101296547E-16,6.9803131494157549E-15,9.0901981941490861E-14,1.0691477662779355E-12,1.13571156510906E-11,1.0895929845221822E-10,9.4411844634499365E-10,7.3884715000319617E-9,5.2221417543561959E-8,3.3335628322011261E-7,1.9219167364750626E-6,1.0007519081578567E-5,4.706349980370578E-5,1.9989776902634387E-4,7.6682737671735131E-4,2.6567653973039456E-3,8.3133245918742531E-3,2.3494283446752862E-2,5.9967453204977844E-2,0.13824038686410961,0.28781949760835024,0.54121698270180241,0.91915457965323277,1.4098458482135019,1.9530827251554173,2.4436307550409837,2.7613182346403589,2.8181446047430985,2.5976224057053932,2.1624929687830439,1.6259205538586796,1.104103719586941,0.67715230238154389,0.37508420884314159,0.18764506039822462,8.4783516789679866E-2,3.4598052408109314E-2,1.2751398317709555E-2,4.2445329240480582E-3,1.2760507171416435E-3,3.4647499716074492E-4,8.4965339779315304E-5,1.8818180584252486E-5,3.7642581539067016E-6,6.8005979859246791E-7,1.1096365153937399E-7,1.6352355190847972E-8,2.1764355878538567E-9,2.6162380643825265E-10,2.8403681632381936E-11,2.7850817464909499E-12,2.466420902909827E-13,1.9727060319499235E-14,1.4250282939512366E-15,9.2971649627780144E-17,5.4782711117383052E-18,2.9154288020068219E-19,1.4012876469333247E-20,6.0830037156510028E-22,2.3849254314469547E-23,8.4449573831859011E-25,2.7007603840834268E-26,7.8008258315814815E-28,2.0349842074110859E-29,4.79454544633973E-31,0,0,0,0,0,0,0,0,0,0,0,0,0,0,0,0,0,0,0,0,0,0,0,0,0,null,85,0.22236041156709568,15.222360411567095,{"$f":"INDEX($BW$6:$GR$261,$GT90,$BJ$14)","v":8.3133245918742531E-3},2.1238136987024149E-3]
[7,"Indole",3.4750000000000001,0.27135942538403252,1.3373737373737375,2.6791988560561948,3.1080000000000005,0.62434559200504813,0.42132938996580149,3.1080000000000005,null,1.9981155438470357,null,"3) Press Set coordinates…",null,null,null,null,null,null,null,null,null,null,null,null,null,null,null,null,17.599999999999969,{"$f":"IF('Macro input'!$F$19=1,GC!AG91,IF($K$29>0,IF($AE91<$I$29,$G$29,IF($AE91<$I$29+$J$29,$G$29+((H$29-G$29)*($AE91-I$29)/J$29),$H$29)),$G$29))","v":275.99999999999972},276.05000000002866,0.26700000000000018,0.89000000000000057,6.2093774327119498,6,15,4.7906225672880502,90,2.3233700978399482E-188,1.3678534591536729E-204,2.5533737316725469E-214,1.8809784654721445E-232,1.0403871883936588E-254,1.7350624737022395E-293,0,0,0,0,0,0,0,0,0,0,0,0,0,0,null,null,17.799999999999969,5.3399999999999945,15.009984136445238,7.5345636076207074E-28,0,{"$f":"FH$4*$N$32+$M$32","v":15.000000386813941},null,null,null,null,8.4999999999999858,null,3.0481236337898329E-36,5.1494321545073929E-38,7.83717278205038E-40,1.0745653224949709E-41,1.3273319235705013E-43,1.4770648962895069E-45,1.4807881584191047E-47,1.3373947296620625E-49,1.0881771465278726E-51,7.9765099794144414E-54,5.2674417249310513E-56,3.1819088958706991E-58,8.8230987689620434E-58,1.4496674122908023E-55,2.1498907194100437E-53,2.872352502718868E-51,3.4572629097428124E-49,3.7488701338554328E-47,3.6621970119707755E-45,3.2229705007853468E-43,2.5553140085136209E-41,1.8251793218445553E-39,1.1744651179361464E-37,6.808446420019335E-36,3.5557338345670455E-34,1.6729531662934999E-32,7.091067849941683E-31,2.7077765154054603E-29,9.3150955145497876E-28,2.8869225061748555E-26,8.060393772759994E-25,2.0274526025008616E-23,4.5942907931141956E-22,9.3790655020508296E-21,1.7249399331055981E-19,2.857996565956493E-18,4.2660186286151736E-17,5.7366335862042183E-16,6.9496797728833101E-15,7.5848290124120844E-14,7.4576176704684527E-13,6.6058354790583519E-12,5.2714332370310909E-11,3.7896838989053955E-10,2.4544296085864156E-9,1.4320938998872197E-8,7.5277593516035315E-8,3.5647844770196633E-7,1.5208071570577102E-6,5.845051420227323E-6,2.0238384528883549E-5,6.3130127886119202E-5,1.7740702523534062E-4,4.4913642418031727E-4,1.0243752079200218E-3,2.1048112669528533E-3,3.8961940550052876E-3,6.4974256351329491E-3,9.7614733859169196E-3,1.321182310504122E-2,1.6109551317793513E-2,1.7696095679886007E-2,1.7512364567012498E-2,1.5612966945704909E-2,1.254005408472007E-2,9.0737476649440704E-3,5.9148986079281722E-3,3.4736113882322494E-3,1.8377586441393123E-3,8.7592926639599035E-4,3.7611696140970826E-4,1.4549568692282628E-4,5.0704982648093559E-5,1.5919318664750055E-5,4.5026856985880811E-6,1.1473399299701216E-6,2.6338188546953818E-7,5.4469453143829105E-8,1.0148303492388974E-8,1.7033629509831644E-9,2.5756939974329792E-10,3.5087679998792087E-11,4.3061421280471323E-12,4.7609693452015274E-13,4.742154825464413E-14,4.2552922424580166E-15,3.4399836072698869E-16,2.5052823172498821E-17,1.6437292819205629E-18,9.7157700928010059E-20,5.1736552479824598E-21,2.4819387557408351E-22,1.0726497956712811E-23,4.1763623007187171E-25,1.4649125443643529E-26,4.6291211596246965E-28,1.3178279566058357E-29,3.3798093561260683E-31,7.8090644995842121E-33,1.6254706597105524E-34,3.0481236337898329E-36,0,0,0,0,0,0,0,0,0,0,0,0,0,0,0,0,0,0,0,0,0,0,0,0,0,null,86,1.3845502458943192E-3,15.001384550245895,{"$f":"INDEX($BW$6:$GR$261,$GT91,$BJ$14)","v":1.7740702523534062E-4},4.5322357653295459E-5]
[8,"Tetradecane",4.3100000000000005,0.3519612349040418,1.8429003021148036,8.5117887285170024,1.41,0.305178709915019,0.88155984127827913,1.41,null,2.6103248704677551,null,"    to select Analyte # coord.",null,null,null,null,null,null,null,null,null,null,null,null,null,null,null,null,17.799999999999969,{"$f":"IF('Macro input'!$F$19=1,GC!AG92,IF($K$29>0,IF($AE92<$I$29,$G$29,IF($AE92<$I$29+$J$29,$G$29+((H$29-G$29)*($AE92-I$29)/J$29),$H$29)),$G$29))","v":277.99999999999966},278.05000000002912,0.27000000000000018,0.90000000000000058,6.23874320576678,6,15,4.76125679423322,91,2.3154103352941861E-181,3.1389059643780519E-198,8.2814577251665606E-208,1.9314340067079795E-226,1.5167615604767179E-250,1.2498804243098942E-290,0,0,0,0,0,0,0,0,0,0,0,0,0,0,null,null,17.999999999999968,5.3999999999999941,15.010250806538751,1.0471529794838781E-28,0,{"$f":"FI$4*$N$32+$M$32","v":15.000000981544385},null,null,null,null,8.5999999999999854,null,0,0,0,0,0,0,0,0,0,0,0,0,0,0,0,0,0,0,0,0,0,0,0,0,0,0,0,0,0,0,0,0,0,0,0,0,0,0,0,0,0,0,0,0,0,0,0,0,0,0,0,0,0,0,0,0,0,0,0,0,0,0,0,0,0,0,0,0,0,0,0,0,0,0,0,0,0,0,0,0,0,0,0,0,0,0,0,0,0,0,0,0,0,0,0,0,0,0,0,0,0,0,0,0,0,0,0,0,0,0,0,0,0,0,0,0,0,0,0,0,0,0,0,0,0,0,null,87,0,15,{"$f":"INDEX($BW$6:$GR$261,$GT92,$BJ$14)","v":0},0]
[9,"Dibenzofuran",7.1000000000000005,0.30360014919203598,1.1688524590163936,3.5828605889707816,3.6360000000000001,0.72465518351905778,0.2996557382151297,3.6360000000000001,null,{"$f":"IF(AND(C93<>\"\",C93<999),C70-C93,\"\")","v":2.3493478604417204},null,null,null,null,null,null,null,null,null,null,null,null,null,null,null,null,null,null,17.999999999999968,{"$f":"IF('Macro input'!$F$19=1,GC!AG93,IF($K$29>0,IF($AE93<$I$29,$G$29,IF($AE93<$I$29+$J$29,$G$29+((H$29-G$29)*($AE93-I$29)/J$29),$H$29)),$G$29))","v":279.99999999999966},280.05000000002957,0.27300000000000019,0.91000000000000059,6.2688459452829708,6,15,4.7311540547170292,92,1.7025120287334672E-174,5.719366451619538E-192,2.1327015196002594E-201,1.6549858168939092E-220,2.0434796279157998E-246,8.7186340537802651E-288,0,0,0,0,0,0,0,0,0,0,0,0,0,0,null,null,18.199999999999967,5.4599999999999937,15.010523825426558,1.4131539114048213E-29,0,{"$f":"FJ$4*$N$32+$M$32","v":15.000002421768977},null,null,null,null,8.6999999999999851,null,0,0,0,0,0,0,0,0,0,0,0,0,0,0,0,0,0,0,0,0,0,0,0,0,0,0,0,0,0,0,0,0,0,0,0,0,0,0,0,0,0,0,0,0,0,0,0,0,0,0,0,0,0,0,0,0,0,0,0,0,0,0,0,0,0,0,0,0,0,0,0,0,0,0,0,0,0,0,0,0,0,0,0,0,0,0,0,0,0,0,0,0,0,0,0,0,0,0,0,0,0,0,0,0,0,0,0,0,0,0,0,0,0,0,0,0,0,0,0,0,0,0,0,0,0,0,null,88,0,15,{"$f":"INDEX($BW$6:$GR$261,$GT93,$BJ$14)","v":0},0]
[10,"Diphenylamine",8.1300000000000008,0.2713594253840319,1.3113604488078539,8.4314712136330225,3.9239999999999999,0.779369506163063,0.34606257645814054,3.9239999999999999,null,2.3013859719591885,null,"4) To move the cursor:",null,null,null,null,null,null,null,null,null,null,null,null,null,null,null,null,18.199999999999967,{"$f":"IF('Macro input'!$F$19=1,GC!AG94,IF($K$29>0,IF($AE94<$I$29,$G$29,IF($AE94<$I$29+$J$29,$G$29+((H$29-G$29)*($AE94-I$29)/J$29),$H$29)),$G$29))","v":281.99999999999966},282.05000000003002,0.27600000000000019,0.9200000000000006,6.2989835399182068,6,15,4.7010164600817932,93,9.2364495000566763E-168,8.2746270391759383E-186,4.3609815936958366E-195,1.183387645755745E-214,2.5442160714797839E-242,5.8891832300445408E-285,5.7330215637560319E-308,0,0,0,0,0,0,0,0,0,0,0,0,0,null,null,18.399999999999967,5.5199999999999934,15.010803321520893,1.8518086142960776E-30,0,{"$f":"FK$4*$N$32+$M$32","v":15.00000579983563},null,null,null,null,8.7999999999999847,null,0,0,0,0,0,0,0,0,0,0,0,0,0,0,0,0,0,0,0,0,0,0,0,0,0,0,0,0,0,0,0,0,0,0,0,0,0,0,0,0,0,0,0,0,0,0,0,0,0,0,0,0,0,0,0,0,0,0,0,0,0,0,0,0,0,0,0,0,0,0,0,0,0,0,0,0,0,0,0,0,0,0,0,0,0,0,0,0,0,0,0,0,0,0,0,0,0,0,0,0,0,0,0,0,0,0,0,0,0,0,0,0,0,0,0,0,0,0,0,0,0,0,0,0,0,0,null,89,0,15,{"$f":"INDEX($BW$6:$GR$261,$GT94,$BJ$14)","v":0},0]
[11,"Carbazole",10.35,0.25523906348003123,"","",1.3440000000000001,1.3994651627951198,6.3874925385900796E-2,7.3440000000000003,null,2.0941002700538576,null,"SHIFT + Arrow keys",null,null,null,null,null,null,null,null,null,null,null,null,null,null,null,null,18.399999999999967,{"$f":"IF('Macro input'!$F$19=1,GC!AG95,IF($K$29>0,IF($AE95<$I$29,$G$29,IF($AE95<$I$29+$J$29,$G$29+((H$29-G$29)*($AE95-I$29)/J$29),$H$29)),$G$29))","v":283.99999999999966},284.05000000003048,0.27900000000000019,0.9300000000000006,6.3283691790887975,6,15,4.6716308209112025,94,3.6971969045282555E-161,9.5056062053229201E-180,7.0805878421179235E-189,7.0611939124321779E-209,2.9273075401803322E-238,3.8520180898070295E-282,1.4612032253374762E-305,0,0,0,0,0,0,0,0,0,0,0,0,0,null,null,18.599999999999966,5.579999999999993,15.011089425201616,2.3562970423090686E-31,0,{"$f":"FL$4*$N$32+$M$32","v":15.000013481620986},null,null,null,null,8.8999999999999844,null,0,0,0,0,0,0,0,0,0,0,0,0,0,0,0,0,0,0,0,0,0,0,0,0,0,0,0,0,0,0,0,0,0,0,0,0,0,0,0,0,0,0,0,0,0,0,0,0,0,0,0,0,0,0,0,0,0,0,0,0,0,0,0,0,0,0,0,0,0,0,0,0,0,0,0,0,0,0,0,0,0,0,0,0,0,0,0,0,0,0,0,0,0,0,0,0,0,0,0,0,0,0,0,0,0,0,0,0,0,0,0,0,0,0,0,0,0,0,0,0,0,0,0,0,0,0,null,90,0,15,{"$f":"INDEX($BW$6:$GR$261,$GT95,$BJ$14)","v":0},0]
[12,"",null,null,"","",null,null,null,null,null,"",null,null,null,null,null,null,null,null,null,null,null,null,null,null,null,null,null,null,18.599999999999966,{"$f":"IF('Macro input'!$F$19=1,GC!AG96,IF($K$29>0,IF($AE96<$I$29,$G$29,IF($AE96<$I$29+$J$29,$G$29+((H$29-G$29)*($AE96-I$29)/J$29),$H$29)),$G$29))","v":285.99999999999966},286.05000000003093,0.28200000000000019,0.94000000000000061,6.3561630107569336,6,15,4.6438369892430664,95,1.0919248531098442E-154,8.6704591248830126E-174,9.1282024287388679E-183,3.5159897270295153E-203,3.1125288933188225E-234,2.4397661598093423E-279,3.644190674083276E-303,0,0,0,0,0,0,0,0,0,0,0,0,0,null,null,18.799999999999965,5.6399999999999926,15.01138226882963,2.9113289511756254E-32,0,{"$f":"FM$4*$N$32+$M$32","v":15.000030418755816},null,null,null,null,8.999999999999984,null,0,0,0,0,0,0,0,0,0,0,0,0,0,0,0,0,0,0,0,0,0,0,0,0,0,0,0,0,0,0,0,0,0,0,0,0,0,0,0,0,0,0,0,0,0,0,0,0,0,0,0,0,0,0,0,0,0,0,0,0,0,0,0,0,0,0,0,0,0,0,0,0,0,0,0,0,0,0,0,0,0,0,0,0,0,0,0,0,0,0,0,0,0,0,0,0,0,0,0,0,0,0,0,0,0,0,0,0,0,0,0,0,0,0,0,0,0,0,0,0,0,0,0,0,0,0,null,91,0,15,{"$f":"INDEX($BW$6:$GR$261,$GT96,$BJ$14)","v":0},0]
[13,"",null,null,"","",null,null,null,null,null,"",null,"To zoom contour plot:",null,null,null,null,null,null,null,null,null,null,null,null,null,null,null,null,18.799999999999965,{"$f":"IF('Macro input'!$F$19=1,GC!AG97,IF($K$29>0,IF($AE97<$I$29,$G$29,IF($AE97<$I$29+$J$29,$G$29+((H$29-G$29)*($AE97-I$29)/J$29),$H$29)),$G$29))","v":287.99999999999966},288.05000000003139,0.2850000000000002,0.95000000000000062,6.381510556521941,6,15,4.618489443478059,96,2.3793896648244932E-148,6.2796473854293238E-168,9.3439842148890237E-177,1.4609501896373516E-197,3.0583635734073574E-230,1.4963552870887521E-276,8.8931370655545136E-301,0,0,0,0,0,0,0,0,0,0,0,0,0,null,null,18.999999999999964,5.6999999999999922,15.011681986759903,3.4928490981417231E-33,0,{"$f":"FN$4*$N$32+$M$32","v":15.000066626510034},null,null,null,null,9.0999999999999837,null,0,0,0,0,0,0,0,0,0,0,0,0,0,0,0,0,0,0,0,0,0,0,0,0,0,0,0,0,0,0,0,0,0,0,0,0,0,0,0,0,0,0,0,0,0,0,0,0,0,0,0,0,0,0,0,0,0,0,0,0,0,0,0,0,0,0,0,0,0,0,0,0,0,0,0,0,0,0,0,0,0,0,0,0,0,0,0,0,0,0,0,0,0,0,0,0,0,0,0,0,0,0,0,0,0,0,0,0,0,0,0,0,0,0,0,0,0,0,0,0,0,0,0,0,0,0,null,92,0,15,{"$f":"INDEX($BW$6:$GR$261,$GT97,$BJ$14)","v":0},0]
[14,"",null,null,"","",null,null,null,null,null,"",null,"1) Set the lower left limit:",null,null,null,null,null,null,null,null,null,null,null,null,null,null,null,null,18.999999999999964,{"$f":"IF('Macro input'!$F$19=1,GC!AG98,IF($K$29>0,IF($AE98<$I$29,$G$29,IF($AE98<$I$29+$J$29,$G$29+((H$29-G$29)*($AE98-I$29)/J$29),$H$29)),$G$29))","v":289.99999999999966},290.05000000003184,0.2880000000000002,0.96000000000000063,6.403585564678842,6,15,4.596414435321158,97,3.8255249631830072E-142,3.6112645677234544E-162,7.5946858775668904E-171,5.0657245714275449E-192,2.7771255473932944E-226,8.8868505294051379E-274,2.1235979764593327E-298,0,0,0,0,0,0,0,0,0,0,0,0,0,null,null,19.199999999999964,5.7599999999999918,15.011988715354089,{"$f":"$BJ$31*NORMDIST(BL98,$BJ$29,$BJ$30,FALSE)","v":4.0690747700073155E-34},{"$f":"$BJ$35*NORMDIST(AI98,$BJ$33,$BJ$34,FALSE)","v":0},{"$f":"FO$4*$N$32+$M$32","v":15.000141675180908},null,null,null,null,9.1999999999999833,null,0,0,0,0,0,0,0,0,0,0,0,0,0,0,0,0,0,0,0,0,0,0,0,0,0,0,0,0,0,0,0,0,0,0,0,0,0,0,0,0,0,0,0,0,0,0,0,0,0,0,0,0,0,0,0,0,0,0,0,0,0,0,0,0,0,0,0,0,0,0,0,0,0,0,0,0,0,0,0,0,0,0,0,0,0,0,0,0,0,0,0,0,0,0,0,0,0,0,0,0,0,0,0,0,0,0,0,0,0,0,0,0,0,0,0,0,0,0,0,0,0,0,0,0,0,0,null,93,0,15,{"$f":"INDEX($BW$6:$GR$261,$GT98,$BJ$14)","v":0},0]
[15,"",null,null,"","",null,null,null,null,null,"",null,"    Press left mouse button",null,null,null,null,null,null,null,null,null,null,null,null,null,null,null,null,19.199999999999964,{"$f":"IF('Macro input'!$F$19=1,GC!AG99,IF($K$29>0,IF($AE99<$I$29,$G$29,IF($AE99<$I$29+$J$29,$G$29+((H$29-G$29)*($AE99-I$29)/J$29),$H$29)),$G$29))","v":291.99999999999966},292.0500000000323,0.2910000000000002,0.97000000000000064,6.4216343720069045,6,15.000000000000002,4.5783656279930955,98,4.5380487739690981E-136,1.6489756468486528E-156,4.9013805335946575E-165,1.4657708794202438E-186,2.3304113961232082E-222,5.1107856052858303E-271,4.9619575335786114E-296,0,0,0,0,0,0,0,0,0,0,0,0,0,null,null,19.399999999999963,{"$f":"BL98+$BJ$6","v":5.8199999999999914},15.012302592992741,4.602977162086214E-35,0,{"$f":"FP$4*$N$32+$M$32","v":15.000292494456497},null,null,null,null,9.2999999999999829,null,0,0,0,0,0,0,0,0,0,0,0,0,0,0,0,0,0,0,0,0,0,0,0,0,0,0,0,0,0,0,0,0,0,0,0,0,0,0,0,0,0,0,0,0,0,0,0,0,0,0,0,0,0,0,0,0,0,0,0,0,0,0,0,0,0,0,0,0,0,0,0,0,0,0,0,0,0,0,0,0,0,0,0,0,0,0,0,0,0,0,0,0,0,0,0,0,0,0,0,0,0,0,0,0,0,0,0,0,0,0,0,0,0,0,0,0,0,0,0,0,0,0,0,0,0,0,null,94,0,15,{"$f":"INDEX($BW$6:$GR$261,$GT99,$BJ$14)","v":0},0]
[16,"",null,null,"","",null,null,null,null,null,"",null,"2) Set right limit and zoom:",null,null,null,null,null,null,null,null,null,null,null,null,null,null,null,null,19.399999999999963,{"$f":"IF('Macro input'!$F$19=1,GC!AG100,IF($K$29>0,IF($AE100<$I$29,$G$29,IF($AE100<$I$29+$J$29,$G$29+((H$29-G$29)*($AE100-I$29)/J$29),$H$29)),$G$29))","v":293.99999999999966},294.05000000003275,0.29400000000000021,0.98000000000000065,6.4350184836931472,6,15.000000000000002,4.5649815163068528,99,3.9719148350666058E-130,5.9786077782509995E-151,2.511643022066782E-159,3.5392313953024631E-181,1.807175614351199E-218,2.8461257472025983E-268,1.1344809473680253E-293,0,0,0,0,0,0,0,0,0,0,0,0,0,null,null,19.599999999999962,5.879999999999991,15.012623760087097,5.0560257026850196E-36,0,{"$f":"FQ$4*$N$32+$M$32","v":15.000586348638057},null,null,null,null,9.3999999999999826,null,0,0,0,0,0,0,0,0,0,0,0,0,0,0,0,0,0,0,0,0,0,0,0,0,0,0,0,0,0,0,0,0,0,0,0,0,0,0,0,0,0,0,0,0,0,0,0,0,0,0,0,0,0,0,0,0,0,0,0,0,0,0,0,0,0,0,0,0,0,0,0,0,0,0,0,0,0,0,0,0,0,0,0,0,0,0,0,0,0,0,0,0,0,0,0,0,0,0,0,0,0,0,0,0,0,0,0,0,0,0,0,0,0,0,0,0,0,0,0,0,0,0,0,0,0,0,null,95,0,15,{"$f":"INDEX($BW$6:$GR$261,$GT100,$BJ$14)","v":0},0]
[17,"",null,null,"","",null,null,null,null,null,"",null,"    Pressright mouse button",null,null,null,null,null,null,null,null,null,null,null,null,null,null,null,null,19.599999999999962,{"$f":"IF('Macro input'!$F$19=1,GC!AG101,IF($K$29>0,IF($AE101<$I$29,$G$29,IF($AE101<$I$29+$J$29,$G$29+((H$29-G$29)*($AE101-I$29)/J$29),$H$29)),$G$29))","v":295.9999999999996},296.05000000003321,0.29700000000000021,0.99000000000000066,6.4432520285295141,6,15.000000000000002,4.5567479714704859,100,2.5649762374564661E-124,1.7211422672293002E-145,1.0219468080422522E-153,7.131324167730511E-176,1.2950865720039098E-214,1.5347835626706689E-265,2.5380770003838026E-291,0,0,0,0,0,0,0,0,0,0,0,0,0,null,null,19.799999999999962,5.9399999999999906,15.012952359090402,5.3927095377815185E-37,0,{"$f":"FR$4*$N$32+$M$32","v":15.001141424103613},null,null,null,null,9.4999999999999822,null,0,0,0,0,0,0,0,0,0,0,0,0,0,0,0,0,0,0,0,0,0,0,0,0,0,0,0,0,0,0,0,0,0,0,0,0,0,0,0,0,0,0,0,0,0,0,0,0,0,0,0,0,0,0,0,0,0,0,0,0,0,0,0,0,0,0,0,0,0,0,0,0,0,0,0,0,0,0,0,0,0,0,0,0,0,0,0,0,0,0,0,0,0,0,0,0,0,0,0,0,0,0,0,0,0,0,0,0,0,0,0,0,0,0,0,0,0,0,0,0,0,0,0,0,0,0,null,96,0,15,{"$f":"INDEX($BW$6:$GR$261,$GT101,$BJ$14)","v":0},0]
[18,"",null,null,"","",null,null,null,null,null,"",null,"3) The high limit will be",null,null,null,null,null,null,null,null,null,null,null,null,null,null,null,null,19.799999999999962,{"$f":"IF('Macro input'!$F$19=1,GC!AG102,IF($K$29>0,IF($AE102<$I$29,$G$29,IF($AE102<$I$29+$J$29,$G$29+((H$29-G$29)*($AE102-I$29)/J$29),$H$29)),$G$29))","v":297.9999999999996},298.05000000003366,0.30000000000000021,1.0000000000000007,6.4460310290381928,6,15.000000000000002,4.5539689709618072,101,1.2221356530110828E-118,3.9342718301294881E-140,3.3016387697764911E-148,1.1990843965775885E-170,8.5768521516014296E-211,8.0143227554002557E-263,5.5561735654891678E-289,2.3550452721074909E-307,0,0,0,0,0,0,0,0,0,0,0,0,null,null,19.999999999999961,5.9999999999999902,15.013288534508785,5.5851145877224007E-38,0,{"$f":"FS$4*$N$32+$M$32","v":15.002157896023258},null,null,null,null,9.5999999999999819,null,0,0,0,0,0,0,0,0,0,0,0,0,0,0,0,0,0,0,0,0,0,0,0,0,0,0,0,0,0,0,0,0,0,0,0,0,0,0,0,0,0,0,0,0,0,0,0,0,0,0,0,0,0,0,0,0,0,0,0,0,0,0,0,0,0,0,0,0,0,0,0,0,0,0,0,0,0,0,0,0,0,0,0,0,0,0,0,0,0,0,0,0,0,0,0,0,0,0,0,0,0,0,0,0,0,0,0,0,0,0,0,0,0,0,0,0,0,0,0,0,0,0,0,0,0,0,null,97,0,15,{"$f":"INDEX($BW$6:$GR$261,$GT102,$BJ$14)","v":0},0]
[19,"",null,null,"","",null,null,null,null,null,"",null,"    calculated to fix aspect ratio",null,null,null,null,null,null,null,null,null,null,null,null,null,null,null,null,19.999999999999961,{"$f":"IF('Macro input'!$F$19=1,GC!AG103,IF($K$29>0,IF($AE103<$I$29,$G$29,IF($AE103<$I$29+$J$29,$G$29+((H$29-G$29)*($AE103-I$29)/J$29),$H$29)),$G$29))","v":299.9999999999996},300.05000000003412,0.30300000000000021,1.0100000000000007,6.4432520285295132,6,15.000000000000004,4.5567479714704868,102,4.2964338660300514E-113,7.1407337898658318E-135,8.469576710703441E-143,1.6824713477774147E-165,5.2491348213058302E-207,4.0524078845557716E-260,1.1901733940883336E-286,1.6822802795259569E-305,0,0,0,0,0,0,0,0,0,0,0,0,null,null,{"$f":"BK102+$BJ$38","v":20.19999999999996},6.0599999999999898,15.013632432911647,5.6167416666329737E-39,0,{"$f":"FT$4*$N$32+$M$32","v":15},null,null,null,null,9.6999999999999815,null,0,0,0,0,0,0,0,0,0,0,0,0,0,0,0,0,0,0,0,0,0,0,0,0,0,0,0,0,0,0,0,0,0,0,0,0,0,0,0,0,0,0,0,0,0,0,0,0,0,0,0,0,0,0,0,0,0,0,0,0,0,0,0,0,0,0,0,0,0,0,0,0,0,0,0,0,0,0,0,0,0,0,0,0,0,0,0,0,0,0,0,0,0,0,0,0,0,0,0,0,0,0,0,0,0,0,0,0,0,0,0,0,0,0,0,0,0,0,0,0,0,0,0,0,0,0,null,98,0,15,{"$f":"INDEX($BW$6:$GR$261,$GT103,$BJ$14)","v":0},0]
[20,"",null,null,"","",null,null,null,null,null,"",null,null,null,null,null,null,null,null,null,null,null,null,null,null,null,null,null,null,null,null,null,0.30600000000000022,1.0200000000000007,6.4350184836931454,6,15.000000000000004,4.5649815163068546,103,1.1144215410633625E-107,1.0290872752732844E-129,1.7251415775361569E-137,1.9699896961559787E-160,2.9687813414666692E-203,1.9842030315308564E-257,2.4946412223877326E-284,1.1862823551868996E-303,0,0,0,0,0,0,0,0,0,0,0,0,null,null,{"$f":"BK103+$BJ$38","v":20.399999999999959},6.1199999999999894,15.013984202941543,5.4848419104913522E-40,0,{"$f":"FU$4*$N$32+$M$32","v":15},null,null,null,null,9.7999999999999812,null,0,0,0,0,0,0,0,0,0,0,0,0,0,0,0,0,0,0,0,0,0,0,0,0,0,0,0,0,0,0,0,0,0,0,0,0,0,0,0,0,0,0,0,0,0,0,0,0,0,0,0,0,0,0,0,0,0,0,0,0,0,0,0,0,0,0,0,0,0,0,0,0,0,0,0,0,0,0,0,0,0,0,0,0,0,0,0,0,0,0,0,0,0,0,0,0,0,0,0,0,0,0,0,0,0,0,0,0,0,0,0,0,0,0,0,0,0,0,0,0,0,0,0,0,0,0,null,99,0,15,{"$f":"INDEX($BW$6:$GR$261,$GT104,$BJ$14)","v":0},0]
[null,null,null,null,null,null,null,"If tR-total > tR: Wrap-around",null,null,null,null,null,null,null,null,null,null,null,null,null,null,null,null,null,null,null,null,null,null,null,null,null,0.30900000000000022,1.0300000000000007,6.4216343720069018,6,15.000000000000005,4.5783656279930982,104,2.1327675024864467E-102,1.1775855280481045E-124,2.7900929044716137E-132,1.924857504312174E-155,1.5516700468070649E-199,9.4077485261178626E-255,5.1164575451851234E-282,8.2578770134050145E-302,0,0,0,0,0,0,0,0,0,0,0,0,null,null,20.599999999999959,6.1799999999999891,15.014343995323566,5.2008111270012799E-41,0,{"$f":"FV$4*$N$32+$M$32","v":15},null,null,null,null,9.8999999999999808,null,0,0,0,0,0,0,0,0,0,0,0,0,0,0,0,0,0,0,0,0,0,0,0,0,0,0,0,0,0,0,0,0,0,0,0,0,0,0,0,0,0,0,0,0,0,0,0,0,0,0,0,0,0,0,0,0,0,0,0,0,0,0,0,0,0,0,0,0,0,0,0,0,0,0,0,0,0,0,0,0,0,0,0,0,0,0,0,0,0,0,0,0,0,0,0,0,0,0,0,0,0,0,0,0,0,0,0,0,0,0,0,0,0,0,0,0,0,0,0,0,0,0,0,0,0,0,null,100,0,15,{"$f":"INDEX($BW$6:$GR$261,$GT105,$BJ$14)","v":0},0]
["Calc",null,null,{"$f":"D60","v":"1D LSS"},null,null,null,null,null,null,"Column 1",null,null,null,"     Execution time, s",null,null,"XY-Plot data",null,null,"1D retention times",null,null,"2D retention times",null,null,null,"1D","2D",null,null,null,null,0.31200000000000022,1.0400000000000007,6.4035855646788393,6,15.000000000000007,4.5964144353211607,105,3.0115507124145838E-97,1.0699502818217693E-119,3.5829724860489492E-127,1.5694647529744762E-150,7.4946476853057743E-196,4.3192856365641163E-252,1.0268194311425045E-279,5.6746538282586196E-300,0,0,0,0,0,0,0,0,0,0,0,0,null,null,20.799999999999958,6.2399999999999887,15.014711962874177,4.7885646253063136E-42,0,{"$f":"FW$4*$N$32+$M$32","v":15},null,null,null,null,9.9999999999999805,null,0,0,0,0,0,0,0,0,0,0,0,0,0,0,0,0,0,0,0,0,0,0,0,0,0,0,0,0,0,0,0,0,0,0,0,0,0,0,0,0,0,0,0,0,0,0,0,0,0,0,0,0,0,0,0,0,0,0,0,0,0,0,0,0,0,0,0,0,0,0,0,0,0,0,0,0,0,0,0,0,0,0,0,0,0,0,0,0,0,0,0,0,0,0,0,0,0,0,0,0,0,0,0,0,0,0,0,0,0,0,0,0,0,0,0,0,0,0,0,0,0,0,0,0,0,0,null,101,0,15,{"$f":"INDEX($BW$6:$GR$261,$GT106,$BJ$14)","v":0},0]
["Param","b","ko",{"$f":"IF(B108=0,\"k'\",\"k*\")","v":"k*"},{"$f":"IF(B108=0,\"\",\"k**\")","v":"k**"},"ke","tRuncorr","tR-tD-tG","tadd",null,"ko","log(ko)","Slope",null,"1D",1.91015625,null,"No","Analyte","Sim","Ref","D2t1D","Sim","Ref","D2t2D",null,"MSE",{"$f":"SUM(V108:V127)/COUNT(V108:V127)","v":1.5101522727272725},{"$f":"SUM(Y108:Y127)/COUNT(Y108:Y127)","v":1.7581058181818192},null,null,null,null,0.31500000000000022,1.0500000000000007,6.3815105565219383,6,15.000000000000009,4.6184894434780617,106,3.1375416270456305E-92,7.7190814100680082E-115,3.6534163485351521E-122,1.0678811026605063E-145,3.3452898113278648E-192,1.9202809972552179E-249,2.0164256140556954E-277,3.8494701752267387E-298,0,0,0,0,0,0,0,0,0,0,0,0,null,null,20.999999999999957,6.2999999999999883,15.015088260509502,4.2812138983426452E-43,0,{"$f":"FX$4*$N$32+$M$32","v":15},null,null,null,null,10.09999999999998,null,0,0,0,0,0,0,0,0,0,0,0,0,0,0,0,0,0,0,0,0,0,0,0,0,0,0,0,0,0,0,0,0,0,0,0,0,0,0,0,0,0,0,0,0,0,0,0,0,0,0,0,0,0,0,0,0,0,0,0,0,0,0,0,0,0,0,0,0,0,0,0,0,0,0,0,0,0,0,0,0,0,0,0,0,0,0,0,0,0,0,0,0,0,0,0,0,0,0,0,0,0,0,0,0,0,0,0,0,0,0,0,0,0,0,0,0,0,0,0,0,0,0,0,0,0,0,null,102,0,15,{"$f":"INDEX($BW$6:$GR$261,$GT107,$BJ$14)","v":0},0]
[1,{"$f":"IF(B6>0,IF($K$29>0,$B$29*$K$29*M108/$J$29,0),\"\")","v":0.12748555769230757},{"$f":"IF(B6>0,K$108*10^(-M$108*$G$29),\"\")","v":0.75305402584859971},{"$f":"IF(B6>0,IF($D$107=\"k'\",C108,1/(LN(10)*B108*0.5+1/C108)),\"\")","v":0.67810441414117173},{"$f":"IF(AND(B6>0,B108>0),1/(1.15*B108),\"\")","v":6.8208919749956403},{"$f":"IF(B6>0,K108*10^(-M108*$H$29),\"\")","v":2.1238066717724226E-3},{"$f":"IF(B6>0,IF(B108>0,IF($I$29<$B$29*C108,($B$29/B108)*LOG(LN(10)*C108*B108*(1-$I$29/($B$29*C108))+1)+$B$29+$I$29,$B$29*(1+C108)),$B$29*(1+D108)),\"\")","v":1.7530540258485998},{"$f":"IF(B6>0,IF(G108>$J$29+$I$29,G108-$J$29-$I$29,0),\"\")","v":0},{"$f":"IF(AND(B6>0,B108>0),(1+F108)*MIN(H108*B108/(LOG(LN(10)*F108*B108+1)+B108),$B$29),\"\")","v":0},null,{"$f":"IF($B6>0,10^L108,\"\")","v":61.533199869732407},{"$f":"IF(C6<>\"\",SPmodel!J7+LOG($F$29),\"\")","v":1.7891094999999988},{"$f":"SPmodel!K7","v":1.2748555769230759E-2},null,"2D",10.91796875,null,1,{"$f":"IF(C6=\"\",\"\",C6)","v":"Phenol"},{"$f":"IF(C85=\"\",NA(),C85)","v":1.425},{"$f":"IF(E6=\"\",NA(),E6)","v":1.5549999999999999},{"$f":"IF(ISNUMBER(U108),(T108-U108)^2,\"\")","v":1.6899999999999971E-2},{"$f":"IF(G85=\"\",NA(),G85)","v":0.9840000000000001},{"$f":"IF(F6=\"\",NA(),F6)","v":1.476},{"$f":"IF(ISNUMBER(X108),(W108-X108)^2,\"\")","v":0.24206399999999989},null,"RMSE",{"$f":"SQRT(AB107)","v":1.2288825300765214},{"$f":"SQRT(AC107)","v":1.3259358273241655},null,null,null,null,0.31800000000000023,1.0600000000000007,6.35616301075693,6,15.000000000000011,4.64383698924307,107,2.4118009493899058E-87,4.421794256124449E-110,2.9579154008752614E-117,6.0633493008186225E-141,1.3798979014042928E-188,8.2669303252541538E-247,3.8746613966259907E-275,2.5778234377546881E-296,0,0,0,0,0,0,0,0,0,0,0,0,null,null,21.199999999999957,6.3599999999999879,15.015473045253051,3.7166854140618675E-44,0,{"$f":"FY$4*$N$32+$M$32","v":15},null,null,null,null,10.19999999999998,null,4.8429297977330791E-5,1.0066440361865693E-4,2.0368593374840742E-4,4.0120239209303499E-4,7.6927806862447348E-4,1.435887950044287E-3,2.6090062089331755E-3,4.6147378648353863E-3,7.9457760852264248E-3,1.3318121429003862E-2,2.1730362959221566E-2,3.451503773057131E-2,5.3366299191776136E-2,8.0323603376422692E-2,0.11768920831650204,0.16786009396285501,0.2330642407470325,0.31500771403200606,0.41446140588730701,0.53084088512337735,0.66185369159172214,0.80329856016828638,0.94909425292014149,1.0915887741757029,1.2221545811009042,1.3320194958123808,1.4132284923860101,1.4595922551209541,1.46746610152679,1.4362232981688061,1.3683374686899319,1.2690590575082901,1.1457445735164122,1.0069575140629052,0.86149318675081965,0.71748018143607506,0.58168160981389172,0.45906916191156888,0.35268603882177002,0.26376415703468986,0.19202627237888997,0.13608895716727787,9.3886355946181235E-2,6.3052083464360739E-2,4.1220548149784521E-2,2.6232848175475248E-2,1.6251538867671056E-2,9.8007858097881109E-3,5.7536662626495542E-3,3.2881059173815183E-3,1.8292130545937294E-3,9.9060416056377231E-4,5.2221983753698159E-4,2.6799330524412686E-4,1.3387882338029717E-4,6.5105426863829217E-5,3.0820512538254981E-5,1.4202993382854488E-5,6.3714352634344028E-6,2.7823517091986651E-6,1.182780460455155E-6,4.8945595612955214E-7,1.9716982738263619E-7,7.7318720186523877E-8,2.9515233233429556E-8,1.0967941974120046E-8,3.9675410692391809E-9,1.3971244078299796E-9,4.7892343731543791E-10,1.5981386837361517E-10,5.1913486800235787E-11,1.641584726669188E-11,5.0531693217802152E-12,1.514199085887903E-12,4.4171019554103606E-13,1.2550863857261549E-13,3.5026838647873575E-14,1.0748009267548519E-14,7.9201959194755561E-15,2.1196018121032421E-14,7.5386072412984709E-14,2.6784299761383779E-13,9.2802928445574152E-13,3.1304954722527485E-12,1.0279817759007773E-11,3.2860589926561097E-11,1.0225455772032557E-10,3.09747176766818E-10,9.1337558982935419E-10,2.6218558296894637E-9,7.3263147959711407E-9,1.9928733790694063E-8,5.2770498694603726E-8,1.3602541294176529E-7,3.4132356237453207E-7,8.3373848436278771E-7,1.9824890139407685E-6,4.5889052673644164E-6,1.0340100438942037E-5,2.2680769472299103E-5,4.8429297977330791E-5,0,0,0,0,0,0,0,0,0,0,0,0,0,0,0,0,0,0,0,0,0,0,0,0,0,null,103,0.22454653857476789,15.224546538574767,{"$f":"INDEX($BW$6:$GR$261,$GT108,$BJ$14)","v":5.2221983753698159E-4},1.3341204622026469E-4]
[2,0.1292827857142857,{"$f":"IF(B7>0,K$109*10^(-M$109*$G$29),\"\")","v":0.89919486615788657},{"$f":"IF(B7>0,IF($D$107=\"k'\",C109,1/(LN(10)*B109*0.5+1/C109)),\"\")","v":0.79305392546393938},6.7260711670696756,2.3345227171793531E-3,1.8991948661578866,0,0,null,78.179988892894912,{"$f":"IF(C7<>\"\",SPmodel!J8+LOG($F$29),\"\")","v":1.893095604395604},{"$f":"SPmodel!K8","v":1.2928278571428571E-2},null,null,null,null,2,"Benzonitrile",{"$f":"IF(C86=\"\",NA(),C86)","v":1.53},1.665,{"$f":"IF(ISNUMBER(U109),(T109-U109)^2,\"\")","v":1.8225000000000002E-2},{"$f":"IF(G86=\"\",NA(),G86)","v":1.0920000000000001},1.722,{"$f":"IF(ISNUMBER(X109),(W109-X109)^2,\"\")","v":0.39689999999999986},null,null,null,null,null,null,null,null,0.32100000000000023,1.0700000000000007,6.3283691790887939,6,15.000000000000014,4.6716308209112061,108,1.3678739430711036E-82,2.0112327267724644E-105,1.9015301485062199E-112,2.8729007791236911E-136,5.2600617313889139E-185,3.4462787682499799E-244,7.28532162930077E-273,1.704103623325685E-294,0,0,0,0,0,0,0,0,0,0,0,0,null,null,21.399999999999956,6.4199999999999875,15.015866476242849,3.1330835973679641E-45,0,{"$f":"FZ$4*$N$32+$M$32","v":15},null,null,null,null,10.299999999999979,null,5.4314193426783699E-3,1.086324293135881E-2,2.1121173808989108E-2,3.991986013462382E-2,7.33453141907143E-2,0.1309990473435558,0.22744495242650048,0.38388122389681684,0.62983942228542233,1.0045584500316931,1.5575176756142233,2.3474867982388314,3.4394241385432389,4.8986985249731196,6.7824733006588049,9.1286777086631101,11.943732216682839,15.190939806558742,18.781991069833527,22.574129822863306,26.375020671373992,29.956219268013484,33.074523391405073,35.498711545965662,37.037698124172906,37.565380032983953,37.037698124172906,35.498711545965669,33.074523391405087,29.956219268013484,26.375020671374003,22.574129822863316,18.781991069833527,15.190939806558742,11.943732216682839,9.1286777086631101,6.7824733006588023,4.8986985249731241,3.439424138543242,2.3474867982388359,1.5575176756142244,1.0045584500316931,0.62983942228542233,0.38388122389681684,0.22744495242650106,0.13099904734355627,7.3345314190714411E-2,3.9919860134623862E-2,2.1121173808989108E-2,1.086324293135881E-2,5.4314193426783699E-3,2.6398519994796869E-3,1.247263535718279E-3,5.7286102266059609E-4,2.5577183773093802E-4,1.1101165456909688E-4,4.6837836807636597E-5,1.9210447615529814E-5,7.6593257657015701E-6,2.9686295081127449E-6,1.1184945196285216E-6,4.0966053017877392E-7,1.458568354342174E-7,5.0482616065950633E-8,1.6985147393549954E-8,5.5553213912520677E-9,1.766287763281274E-9,5.4591638963241278E-10,1.6402241746872126E-10,4.7906307974988747E-11,1.3601752672177453E-11,3.7541716242744221E-12,1.0074533567051826E-12,2.6362491674630618E-13,7.054133691247221E-14,3.2833711186426409E-14,7.0541336912472286E-14,2.6362491674630618E-13,1.0074533567051899E-12,3.7541716242744496E-12,1.3601752672177645E-11,4.7906307974988909E-11,1.6402241746872126E-10,5.4591638963241278E-10,1.766287763281274E-9,5.5553213912520677E-9,1.6985147393549954E-8,5.0482616065950276E-8,1.4585683543421584E-7,4.0966053017876947E-7,1.1184945196285178E-6,2.9686295081127449E-6,7.6593257657015701E-6,1.9210447615529814E-5,4.6837836807636597E-5,1.1101165456909649E-4,2.5577183773093704E-4,5.7286102266059403E-4,1.247263535718279E-3,2.6398519994796869E-3,5.4314193426783699E-3,0,0,0,0,0,0,0,0,0,0,0,0,0,0,0,0,0,0,0,0,0,0,0,0,0,null,104,5.5980991816396815,20.598099181639682,{"$f":"INDEX($BW$6:$GR$261,$GT109,$BJ$14)","v":1.247263535718279E-3},3.1863971552845117E-4]
[3,0.12874574999999994,{"$f":"IF(B8>0,K$110*10^(-M$110*$G$29),\"\")","v":0.91923598933506956},0.80900653811919243,6.7541275528808127,2.4463129775639078E-3,1.9192359893350694,0,0,null,78.453670882229957,{"$f":"IF(C8<>\"\",SPmodel!J9+LOG($F$29),\"\")","v":1.8946132692307682},{"$f":"SPmodel!K9","v":1.2874574999999992E-2},null,null,null,null,3,"Benzofuran",1.5449999999999999,1.68,1.8225000000000002E-2,1.032,1.5660000000000001,0.28515600000000002,null,null,null,null,null,null,null,null,0.32400000000000023,1.0800000000000007,6.2989835399182024,6,15.000000000000018,4.7010164600817976,109,5.7240489775663196E-78,7.2636851212482645E-101,9.7062521318507253E-108,1.1359180965734217E-131,1.8529572868497883E-181,1.3911794876350864E-241,1.3403774926193482E-270,1.1120631622598413E-292,0,0,0,0,0,0,0,0,0,0,0,0,null,null,21.599999999999955,6.4799999999999871,15.016268714737972,2.5645753613257362E-46,0,{"$f":"GA$4*$N$32+$M$32","v":15},null,null,null,null,10.399999999999979,null,7.2528157600540585E-2,0.13811114011679992,0.25537482284780433,0.4585162684261293,0.79939002220901778,1.353287280963458,2.2245828249711952,3.5508674650303353,5.5036099668614993,8.2830090756885983,12.104752914279141,17.177146655520076,23.66864638504434,31.668181245456413,41.143395022376161,51.90443070343855,63.58227183996199,75.63014864962247,87.353672752027052,97.970356384085463,106.6928974198148,112.82455613357592,115.85080635552758,115.51058710607862,111.8334761795816,105.13544584621631,95.974045140001053,85.071823536900666,73.222573266798648,61.197197654931493,49.664422111136446,39.136910623946655,29.94711549401859,22.251062698544668,16.053651113611807,11.246676062171815,7.6507120237235027,5.0536693902952186,3.2414483206117231,2.018825025761442,1.2209153682863441,0.7169679532575699,0.40882856347435936,0.22636538694794256,0.12170435335182699,6.3537410181151346E-2,3.2209219967660602E-2,1.5854706574520462E-2,7.5781555148455105E-3,3.5171923579354353E-3,1.5850976835790776E-3,6.936545585573405E-4,2.9475267901298154E-4,1.2161848257341882E-4,4.8726891054124793E-5,1.8956804359529598E-5,7.1612503469318045E-6,2.6268779043536012E-6,9.3566034077134792E-7,3.2361143470507434E-7,1.0868179408250679E-7,3.5441903771429029E-8,1.1222886948199163E-8,3.4507972016302055E-9,1.0302949928360101E-9,2.9869712625249742E-10,8.4086796063795545E-11,2.2985392173017745E-11,6.1010455679239735E-12,1.5725397078973497E-12,3.9387756363359271E-13,9.719349676803763E-14,2.9526842192120033E-14,3.5365689322980996E-14,1.2835904369306224E-13,5.2063801000834565E-13,2.067183029447626E-12,7.9732493916293242E-12,2.9862688018352613E-11,1.0860511201741201E-10,3.8352967197250533E-10,1.3151490468694039E-9,4.3790336567023573E-9,1.4158227768479143E-8,4.4449492749003556E-8,1.3550397229575876E-7,4.0111097694142997E-7,1.1529337980402171E-6,3.2178922442922839E-6,8.7209927692774164E-6,2.295026257846303E-5,5.8645770169481221E-5,1.4551676534344416E-4,3.5060384417745071E-4,8.2025260402246902E-4,1.8633990295739947E-3,4.1104693587515843E-3,8.8044912918466209E-3,1.8312364505672425E-2,3.6983829935204472E-2,7.2528157600540585E-2,0,0,0,0,0,0,0,0,0,0,0,0,0,0,0,0,0,0,0,0,0,0,0,0,0,null,105,16.973844477786674,31.973844477786674,{"$f":"INDEX($BW$6:$GR$261,$GT110,$BJ$14)","v":2.9475267901298154E-4},7.5300774136604864E-5]
[4,0.1351535274725274,{"$f":"IF(B9>0,K$111*10^(-M$111*$G$29),\"\")","v":1.1799248605761627},0.99689681639308203,6.4339069327514258,2.3376732228763087E-3,2.179924860576163,0,0,null,125.64848710014022,{"$f":"IF(C9<>\"\",SPmodel!J10+LOG($F$29),\"\")","v":2.0991572637362634},{"$f":"SPmodel!K10","v":1.351535274725274E-2},null,null,null,null,4,"o-Cresol",1.6600000000000001,1.875,4.622499999999994E-2,1.1460000000000001,1.8480000000000001,0.49280399999999996,null,null,null,null,null,null,null,null,0.32700000000000023,1.0900000000000007,6.2688459452829663,6,15.000000000000023,4.7311540547170337,110,1.7673121174558942E-73,2.082967901931005E-96,3.9339678606720785E-103,3.747932512113412E-127,6.0321294954627895E-178,5.4380420394459825E-239,2.4130645916102322E-268,7.163966273510448E-291,0,0,0,0,0,0,0,0,0,0,0,0,null,null,21.799999999999955,6.5399999999999867,15.016679924124446,2.0383851705172122E-47,0,{"$f":"GB$4*$N$32+$M$32","v":15},null,null,null,null,10.499999999999979,null,0.11898368975726616,0.21474767023603644,0.37590871065709047,0.63818885845914131,1.0508214919726939,1.6781144434510216,2.5991246265684111,3.9043211473981883,5.6882262482290331,8.0375019466591944,11.014840690630795,14.640241794945974,18.872575819632047,23.595381750324705,28.611177895742941,33.647853714795509,38.378844668390556,42.456024633650308,45.55118257949745,47.399404591190347,47.83645810880116,46.822871741864446,44.449816914328252,40.925576581916154,36.545384624920402,31.650688915601322,26.585614183150927,21.658238329742719,17.112460515366642,13.11338131037089,9.7460766037439566,7.0251863930677212,4.9113262275119425,3.3300642551712958,2.189875095839021,1.3966866301472685,0.86395576544873998,0.51831877264298865,0.30158884219626542,0.17019488414297285,9.3151667420560011E-2,4.9447878665140159E-2,2.5457608108123329E-2,1.271160615444669E-2,6.1559652636044362E-3,2.8913774699644425E-3,1.3171229731383561E-3,5.8191661436186783E-4,2.4934926319499005E-4,1.0362590147323127E-4,4.1767785906277307E-5,1.6327793029546685E-5,6.1905098544609111E-6,2.2763458813244081E-6,8.1182605348651366E-7,2.8080227217003012E-7,9.4200053753873117E-8,3.0648878229381743E-8,9.6714349875604947E-9,2.9599212048672918E-9,8.7858196338593606E-10,2.5292823689504159E-10,7.061959948210846E-11,1.912344292763521E-11,5.0224986168835104E-12,1.2793419269901452E-12,3.1606023848437154E-13,7.5742753654311039E-14,1.7669432194712745E-14,4.3093620534657853E-15,2.4656444260668693E-15,7.4083273805995484E-15,3.170254378298462E-14,1.3461089554257819E-13,5.5494477157729958E-13,2.2189846757573349E-12,8.6054340047451029E-12,3.2367130761975023E-11,1.1807243744011234E-10,4.1773970460648663E-10,1.4334279947617494E-9,4.7704451714611881E-9,1.5397663896586908E-8,4.8201845064855153E-8,1.4634752745718128E-7,4.3094318439586194E-7,1.230743479781883E-6,3.4090076113698375E-6,9.1580138967937205E-6,2.3860938733267974E-5,6.0295743269137567E-5,1.4777422169857902E-4,3.5125588427940499E-4,8.0976953923051257E-4,1.8105568417586448E-3,3.9262304939967829E-3,8.257571061799425E-3,1.6843864839091321E-2,3.332299868542353E-2,6.3938037826594352E-2,0.11898368975726616,0,0,0,0,0,0,0,0,0,0,0,0,0,0,0,0,0,0,0,0,0,0,0,0,0,null,106,6.8606785793104086,21.860678579310409,{"$f":"INDEX($BW$6:$GR$261,$GT111,$BJ$14)","v":6.1905098544609111E-6},1.5814960050648343E-6]
[5,0.1465270329670329,{"$f":"IF(B10>0,K$112*10^(-M$112*$G$29),\"\")","v":2.0654863520565336},1.5317619534970912,5.9345036870223655,2.4237156679597222E-3,3.0654863520565336,0,0,null,325.7825543818488,{"$f":"IF(C10<>\"\",SPmodel!J11+LOG($F$29),\"\")","v":2.5129278241758231},{"$f":"SPmodel!K11","v":1.4652703296703288E-2},null,null,null,null,5,"3,5-Dimethylphenol",2.11,2.54,0.18490000000000015,1.47,2.6220000000000003,1.3271040000000007,null,null,null,null,null,null,null,null,0.33000000000000024,1.1000000000000008,6.2387432057667764,6,15.000000000000028,4.7612567942332236,111,4.0260189878633484E-69,4.7428460940400769E-92,1.2660210675581521E-98,1.0319409768639955E-122,1.8147072930817095E-174,2.0583943906351696E-236,4.2508344421318713E-266,4.5558375888394889E-289,0,0,0,0,0,0,0,0,0,0,0,0,null,null,21.999999999999954,6.5999999999999863,15.017100269920515,1.5732014559698574E-48,0,{"$f":"GC$4*$N$32+$M$32","v":15},null,null,null,null,10.599999999999978,null,1.8481523246008241E-2,3.1894977375699268E-2,5.329470718007679E-2,8.622299590128199E-2,0.13506393036608769,0.20484855498949039,0.30081789810239756,0.42771224752840575,0.58881239936280849,0.78483697245267936,1.0128828250815192,1.2656575285805212,1.5312653418213951,1.7937501297859948,2.0344671624794017,2.2341723353761682,2.3755266211421766,2.4455715860972846,2.4376879163705225,2.3526269928806034,2.1983928002769222,1.9889998801927389,1.7423743427538996,1.4778332173854813,1.2136309049055281,0.9649950302475131,0.74291781490942876,0.55377547095234969,0.39967216579684517,0.27928739751235832,0.18896267174741471,0.12378782973186006,7.8515811441295782E-2,4.8218483149475008E-2,2.8671288555338726E-2,1.6506618930701527E-2,9.2012384483085123E-3,4.9660569089616706E-3,2.5951014783075969E-3,1.3130287772410256E-3,6.4323755180549275E-4,3.0510251146270842E-4,1.4011912648822719E-4,6.2305488629932828E-5,2.6824549549310588E-5,1.1181905450769946E-5,4.5131154159589732E-6,1.7636577488086211E-6,6.6731275803329735E-7,2.4446787167135701E-7,8.6714435571234567E-8,2.9780930152706006E-8,9.902899254767407E-9,3.1883332634259645E-9,9.9389911936411944E-10,2.9998403879495593E-10,8.7666009137930748E-11,2.4805133648932197E-11,6.7956210460288504E-12,1.8025776436371186E-12,4.6295209595926639E-13,1.1512121795813293E-13,2.7717365826394089E-14,6.4613913999349517E-15,1.4584254335859808E-15,3.1885430800671643E-16,6.8172979739967151E-17,1.7613728314997104E-17,2.1761009701383599E-17,9.2768937444246647E-17,4.3323088991405955E-16,1.9692112610729416E-15,8.6682807166099266E-15,3.6944896585065607E-14,1.5245909295768438E-13,6.0915730986474561E-13,2.3565835141748538E-12,8.8270067095677519E-12,3.2012627754192314E-11,1.1241038596747904E-10,3.8218074243178641E-10,1.2580804305503004E-9,4.0098235351942909E-9,1.2374263524077539E-8,3.6973512186746963E-8,1.0696440996906814E-7,2.9961609482668123E-7,8.1258392170186788E-7,2.1337746780633619E-6,5.4250798585492724E-6,1.3354909840831492E-5,3.1831201500141206E-5,7.345854966881757E-5,1.641379155259904E-4,3.5510167790240926E-4,7.4383015618093202E-4,1.5085929884429456E-3,2.9624268463937396E-3,5.6324900221703805E-3,1.0368847180762034E-2,1.8481523246008241E-2,0,0,0,0,0,0,0,0,0,0,0,0,0,0,0,0,0,0,0,0,0,0,0,0,0,null,107,0.34221752318779436,15.342217523187795,{"$f":"INDEX($BW$6:$GR$261,$GT112,$BJ$14)","v":9.902899254767407E-9},2.5299039946909226E-9]
[6,0.15097578296703293,{"$f":"IF(B11>0,K$113*10^(-M$113*$G$29),\"\")","v":3.5078651304244386},2.179166884784443,5.75963376577542,3.3537232990519146E-3,4.5078651304244381,0,0,null,645.17812175347115,{"$f":"IF(C11<>\"\",SPmodel!J12+LOG($F$29),\"\")","v":2.8096796318681312},{"$f":"SPmodel!K12","v":1.5097578296703293E-2},null,null,null,null,6,"Quinoline",2.94,3.6150000000000002,0.45562500000000034,2.4360000000000004,4.7580000000000009,5.3916840000000024,null,null,null,null,null,null,null,null,0.33300000000000024,1.1100000000000008,6.2093774327119462,6,15.000000000000037,4.7906225672880538,112,6.7669198418549552E-65,8.5748468560430998E-88,3.2350570515374646E-94,2.3710259445312978E-118,5.0451396666457113E-171,7.5446874426319546E-234,7.3272811834638401E-264,2.8600495508450364E-287,0,0,0,0,0,0,0,0,0,0,0,0,null,null,22.199999999999953,6.6599999999999859,15.017529919781243,1.1789889404064949E-49,0,{"$f":"GD$4*$N$32+$M$32","v":15},null,null,null,null,10.699999999999978,null,3.1595794323349208E-4,5.1124374528745695E-4,8.0022668929394638E-4,1.2116699871928724E-3,1.7747695295285771E-3,2.5146982035722243E-3,3.4467999164941587E-3,4.570172265860077E-3,5.8618589174877665E-3,7.2731818686188471E-3,8.729710219047896E-3,1.0135880983051831E-2,1.1384382304931856E-2,1.2369260481600109E-2,1.3000626862785344E-2,1.3218164316218925E-2,1.3000626862785344E-2,1.2369260481600109E-2,1.1384382304931856E-2,1.0135880983051836E-2,8.7297102190478995E-3,7.2731818686188471E-3,5.8618589174877717E-3,4.5701722658600796E-3,3.4467999164941587E-3,2.5146982035722256E-3,1.7747695295285771E-3,1.2116699871928742E-3,8.0022668929394703E-4,5.112437452874576E-4,3.1595794323349252E-4,1.8889342570502002E-4,1.0924226653561149E-4,6.1115427789718932E-5,3.3074805912786154E-5,1.7315301068241636E-5,8.7689801008431523E-6,4.2959025035344559E-6,2.0358512488649503E-6,9.3330579752932845E-7,4.1389309295220585E-7,1.7755736396397747E-7,7.3684390109212417E-8,2.9580028769593645E-8,1.1487036087243408E-8,4.3152272668180821E-9,1.5681429709049378E-9,5.5125676555243627E-10,1.8745995307660746E-10,6.1666509934727547E-11,1.9623502738928989E-11,6.0407377962481805E-12,1.7988283957994321E-12,5.1817419157642078E-13,1.4439365739866654E-13,3.8923039758710416E-14,1.0149664278678931E-14,2.5602530915236316E-15,6.2474158589088545E-16,1.4747018585334947E-16,3.3673972975568045E-17,7.4382620973347953E-18,1.5894761536910678E-18,3.289659534297899E-19,6.8070434536658078E-20,2.5413780379192191E-20,6.8070434536658078E-20,3.289659534297899E-19,1.5894761536910678E-18,7.4382620973347953E-18,3.3673972975568045E-17,1.4747018585334947E-16,6.2474158589088535E-16,2.5602530915236316E-15,1.0149664278678931E-14,3.8923039758710416E-14,1.4439365739866654E-13,5.1817419157642067E-13,1.7988283957994381E-12,6.0407377962481805E-12,1.9623502738928989E-11,6.1666509934727547E-11,1.8745995307660746E-10,5.5125676555243627E-10,1.5681429709049378E-9,4.3152272668180821E-9,1.1487036087243408E-8,2.9580028769593645E-8,7.3684390109212417E-8,1.7755736396397747E-7,4.1389309295220585E-7,9.3330579752932845E-7,2.0358512488649503E-6,4.2959025035344415E-6,8.7689801008431659E-6,1.7315301068241666E-5,3.3074805912786154E-5,6.1115427789718932E-5,1.0924226653561149E-4,1.8889342570502002E-4,3.1595794323349208E-4,0,0,0,0,0,0,0,0,0,0,0,0,0,0,0,0,0,0,0,0,0,0,0,0,0,null,108,1.8218777845643655E-3,15.001821877784565,{"$f":"INDEX($BW$6:$GR$261,$GT113,$BJ$14)","v":1.7988283957994321E-12},4.5954856524523279E-13]
[7,0.15857877747252749,{"$f":"IF(B12>0,K114*10^(-M114*$G$29),\"\")","v":4.7038635697840867},2.5306092093102035,5.4834904849859223,3.1686857267065791E-3,5.7038635697840867,0,0,null,1124.9581829713802,{"$f":"IF(C12<>\"\",SPmodel!J13+LOG($F$29),\"\")","v":3.0511363791208796},{"$f":"SPmodel!K13","v":1.5857877747252749E-2},null,null,null,null,7,"Indole",3.4750000000000001,4.51,1.0712249999999994,3.1080000000000005,0.53400000000000003,6.6254760000000035,null,null,null,null,null,null,null,null,0.33600000000000024,1.1200000000000008,6.1813426837098051,6,15.000000000000048,4.8186573162901949,113,8.3918728472505788E-61,1.230961865636537E-83,6.5637773577735389E-90,4.5460698744974407E-114,1.2961954209128498E-167,2.6778148756942719E-231,1.2358761414749882E-261,1.7724316818188835E-285,0,0,0,0,0,0,0,0,0,0,0,0,null,null,22.399999999999952,6.7199999999999855,15.017969043502436,8.5795088322532715E-51,0,{"$f":"GE$4*$N$32+$M$32","v":15},null,null,null,null,10.799999999999978,null,4.2513813801885609E-7,6.4850684217241319E-7,9.555810810682862E-7,1.3601568938834394E-6,1.8701608239482407E-6,2.4839187580089181E-6,3.1868696710370214E-6,3.9496599200510726E-6,4.7285021041769449E-6,5.4683456003891753E-6,6.1088126461307253E-6,6.5921357363415144E-6,6.8716963512995487E-6,6.9194291006467176E-6,6.7304647006495307E-6,6.3239484611587374E-6,5.7398438371242396E-6,5.0324598143987168E-6,4.262153026064057E-6,3.4869542149465195E-6,2.7556999952899477E-6,2.1037111554580621E-6,1.5513463500575831E-6,1.1050957545009817E-6,7.6043051574691281E-7,5.0546099346604709E-7,3.2455196323605385E-7,2.0130256948271231E-7,1.2060987854148979E-7,6.9804741915628715E-8,3.9026127158703209E-8,2.1076304708317919E-8,1.0995170443640373E-8,5.5408698268075005E-9,2.6972575189009474E-9,1.2683390430038144E-9,5.7612509717894193E-10,2.5279397052348913E-10,1.0714825731473594E-10,4.3870440647144075E-11,1.7351114077999594E-11,6.6290488225861812E-12,2.4464906140269431E-12,8.7217648662923803E-13,3.0035417858367505E-13,9.9915177986625288E-14,3.2106852900514536E-14,9.9662664548398565E-15,2.9883793992841367E-15,8.6558048715139987E-16,2.4218523642347714E-16,6.5457039115480723E-17,1.7089664304787234E-17,4.3100190640454662E-18,1.050009756039871E-18,2.4710182977292992E-19,5.6172929340681014E-20,1.2335213431263794E-20,2.6165846138150801E-21,5.3615764155705958E-22,1.0613394541677475E-22,2.0347788115581E-23,4.0800882185289211E-24,2.5572898009806754E-24,1.048332269543461E-23,5.5000807501107668E-23,2.816500720259267E-22,1.393674334409395E-21,6.661709422668244E-21,3.0759458965964523E-20,1.3719560136359455E-19,5.9111253233003539E-19,2.4601898949041069E-18,9.8908946816495206E-18,3.8412361609248019E-17,1.4410363088870193E-16,5.2221257135007686E-16,1.8280505686471218E-15,6.1815526410771848E-15,2.0191817977885466E-14,6.371207609716519E-14,1.9419434343320233E-13,5.7176804227271427E-13,1.626191414815577E-12,4.4677815881401056E-12,1.1857160212822591E-11,3.0397504116860458E-11,7.527723310438365E-11,1.8007683685760046E-10,4.1612187150374411E-10,9.2886311307142143E-10,2.0028636009054618E-9,4.1717619174463503E-9,8.3937521348419618E-9,1.6314029736151582E-8,3.062914279663513E-8,5.5549086255599972E-8,9.7316723903247465E-8,1.6468973282864908E-7,2.6922417426503055E-7,4.2513813801885609E-7,0,0,0,0,0,0,0,0,0,0,0,0,0,0,0,0,0,0,0,0,0,0,0,0,0,null,109,9.3799442342774905E-7,15.000000937994423,{"$f":"INDEX($BW$6:$GR$261,$GT114,$BJ$14)","v":1.7089664304787234E-17},4.3659143529905139E-18]
[8,0.17556277472527471,{"$f":"IF(B13>0,K115*10^(-M115*$G$29),\"\")","v":6.5523918677089661},2.8189649001524906,4.9530159155437321,2.019037420373303E-3,7.2048954178090145,0,0,null,2817.3544157138635,{"$f":"IF(C13<>\"\",SPmodel!J14+LOG($F$29),\"\")","v":3.4498414835164835},{"$f":"SPmodel!K14","v":1.7556277472527471E-2},null,null,null,null,8,"Tetradecane",4.3100000000000005,5.83,2.3103999999999987,1.41,2.052,0.41216400000000014,null,null,null,null,null,null,null,null,0.33900000000000025,1.1300000000000008,6.1551106171525696,6,15.000000000000062,4.8448893828474304,114,7.6785533710373647E-57,1.4031164350693007E-79,1.0574421680364491E-85,7.2736811517172785E-110,3.0775027719791382E-164,9.203361495204943E-229,2.0397195668581016E-259,1.084316519524101E-283,0,0,0,0,0,0,0,0,0,0,0,0,null,null,22.599999999999952,6.7799999999999851,15.018417813023873,6.0623697809689946E-52,0,{"$f":"GF$4*$N$32+$M$32","v":15},null,null,null,null,10.899999999999977,null,0,0,0,0,0,0,0,0,0,0,0,0,0,0,0,0,0,0,0,0,0,0,0,0,0,0,0,0,0,0,0,0,0,0,0,0,0,0,0,0,0,0,0,0,0,0,0,0,0,0,0,0,0,0,0,0,0,0,0,0,0,0,0,0,0,0,0,0,0,0,0,0,0,0,0,0,0,0,0,0,0,0,0,0,0,0,0,0,0,0,0,0,0,0,0,0,0,0,0,0,0,0,0,0,0,0,0,0,0,0,0,0,0,0,0,0,0,0,0,0,0,0,0,0,0,0,null,110,0,15,{"$f":"INDEX($BW$6:$GR$261,$GT115,$BJ$14)","v":0},0]
[9,0.17652648076923066,{"$f":"IF(B14>0,K116*10^(-M116*$G$29),\"\")","v":14.162479311678544},3.6517310853417166,4.9259760552756315,4.1745500573262392E-3,9.820008521838032,0,0,null,6295.5909152217364,{"$f":"IF(C14<>\"\",SPmodel!J15+LOG($F$29),\"\")","v":3.7990364999999997},{"$f":"SPmodel!K15","v":1.7652648076923069E-2},null,null,null,null,9,"Dibenzofuran",7.1000000000000005,8.7949999999999999,2.8730249999999979,3.6360000000000001,3.7440000000000002,1.1664000000000022E-2,null,null,null,null,null,null,null,null,0.34200000000000025,1.1400000000000008,6.1310250493631964,6,15.000000000000078,4.8689749506368036,115,5.1838517062517463E-53,1.2699122437909796E-75,1.3526651298659952E-81,9.7115995095185028E-106,6.7523835501185546E-161,3.0629439239910336E-226,3.2940440246692942E-257,6.5483708599668273E-282,0,0,0,0,0,0,0,0,0,0,0,0,null,null,{"$f":"BK115+$BJ$38","v":22.799999999999951},6.8399999999999848,15.018876402431816,4.1595823193281403E-53,0,{"$f":"GG$4*$N$32+$M$32","v":15},null,null,null,null,10.999999999999977,null,0,0,0,0,0,0,0,0,0,0,0,0,0,0,0,0,0,0,0,0,0,0,0,0,0,0,0,0,0,0,0,0,0,0,0,0,0,0,0,0,0,0,0,0,0,0,0,0,0,0,0,0,0,0,0,0,0,0,0,0,0,0,0,0,0,0,0,0,0,0,0,0,0,0,0,0,0,0,0,0,0,0,0,0,0,0,0,0,0,0,0,0,0,0,0,0,0,0,0,0,0,0,0,0,0,0,0,0,0,0,0,0,0,0,0,0,0,0,0,0,0,0,0,0,0,0,null,111,0,15,{"$f":"INDEX($BW$6:$GR$261,$GT116,$BJ$14)","v":0},0]
[10,{"$f":"IF(B15>0,IF($K$29>0,$B$29*$K$29*M117/$J$29,0),\"\")","v":0.18567390109890108},{"$f":"IF(B15>0,K117*10^(-M117*$G$29),\"\")","v":21.187214193688611},3.8319571052391148,{"$f":"IF(AND(B15>0,B117>0),1/(1.15*B117),\"\")","v":4.6832926558058459},{"$f":"IF(B15>0,K117*10^(-M117*$H$29),\"\")","v":4.0982253481018933E-3},{"$f":"IF(B15>0,IF(B117>0,IF($I$29<$B$29*C117,($B$29/B117)*LOG(LN(10)*C117*B117*(1-$I$29/($B$29*C117))+1)+$B$29+$I$29,$B$29*(1+C117)),$B$29*(1+D117)),\"\")","v":10.840495266088894},{"$f":"IF(B15>0,IF(G117>$J$29+$I$29,G117-$J$29-$I$29,0),\"\")","v":0},{"$f":"IF(AND(B15>0,B117>0),(1+F117)*MIN(H117*B117/(LOG(LN(10)*F117*B117+1)+B117),$B$29),\"\")","v":0},null,{"$f":"IF($B15>0,10^L117,\"\")","v":12917.616102115595},{"$f":"IF(C15<>\"\",SPmodel!J16+LOG($F$29),\"\")","v":4.1111823736263728},{"$f":"SPmodel!K16","v":1.8567390109890107E-2},null,null,null,null,10,"Diphenylamine",8.1300000000000008,10.1,3.8808999999999956,3.9239999999999999,3.1320000000000001,0.62726399999999971,null,null,null,null,null,null,null,null,0.34500000000000025,1.1500000000000008,6.1093046044963346,6,15.000000000000101,4.8906953955036654,116,2.5821316488494496E-49,9.1260868044077907E-72,1.3738991355877878E-77,1.0820457456969385E-101,1.3691355087778175E-157,9.8709339269594875E-224,5.2053718562448121E-255,3.9039215621365094E-280,0,0,0,0,0,0,0,0,0,0,0,0,null,null,{"$f":"BK116+$BJ$38","v":22.99999999999995},6.8999999999999844,15.019344987960777,2.7713050101730068E-54,0,{"$f":"GH$4*$N$32+$M$32","v":15},null,null,null,null,11.099999999999977,null,0,0,0,0,0,0,0,0,0,0,0,0,0,0,0,0,0,0,0,0,0,0,0,0,0,0,0,0,0,0,0,0,0,0,0,0,0,0,0,0,0,0,0,0,0,0,0,0,0,0,0,0,0,0,0,0,0,0,0,0,0,0,0,0,0,0,0,0,0,0,0,0,0,0,0,0,0,0,0,0,0,0,0,0,0,0,0,0,0,0,0,0,0,0,0,0,0,0,0,0,0,0,0,0,0,0,0,0,0,0,0,0,0,0,0,0,0,0,0,0,0,0,0,0,0,0,null,112,0,15,{"$f":"INDEX($BW$6:$GR$261,$GT117,$BJ$14)","v":0},0]
[11,0.19345879120879109,51.36421809233606,4.1288793278011502,4.4948343363358614,6.942003961090893E-3,12.903391872240798,0,0,null,40977.225476340813,{"$f":"IF(C16<>\"\",SPmodel!J17+LOG($F$29),\"\")","v":4.6125425494505476},{"$f":"SPmodel!K17","v":1.9345879120879109E-2},"ko","k' at start of program",null,null,11,"Carbazole",10.35,12.745000000000001,5.7360250000000068,1.3440000000000001,3.2220000000000004,3.5268840000000012,null,null,null,null,null,null,null,null,0.34800000000000025,1.1600000000000008,6.0900521116803823,6,15.00000000000013,4.9099478883196177,117,9.4897952432986133E-46,5.207465079544994E-68,1.108026869546919E-73,1.0060482998510384E-97,2.5654670762466742E-154,3.0803784601636341E-221,8.0489187510187676E-253,2.2975211721330522E-278,0,0,0,0,0,0,0,0,0,0,0,0,null,null,23.19999999999995,6.959999999999984,15.019823747994536,1.7928594029239173E-55,0,{"$f":"GI$4*$N$32+$M$32","v":15},null,null,null,null,11.199999999999976,null,0,0,0,0,0,0,0,0,0,0,0,0,0,0,0,0,0,0,0,0,0,0,0,0,0,0,0,0,0,0,0,0,0,0,0,0,0,0,0,0,0,0,0,0,0,0,0,0,0,0,0,0,0,0,0,0,0,0,0,0,0,0,0,0,0,0,0,0,0,0,0,0,0,0,0,0,0,0,0,0,0,0,0,0,0,0,0,0,0,0,0,0,0,0,0,0,0,0,0,0,0,0,0,0,0,0,0,0,0,0,0,0,0,0,0,0,0,0,0,0,0,0,0,0,0,0,null,113,0,15,{"$f":"INDEX($BW$6:$GR$261,$GT118,$BJ$14)","v":0},0]
[12,"","","","","","","","",null,"",{"$f":"IF(C17<>\"\",SPmodel!J18+LOG($F$29),\"\")","v":""},{"$f":"SPmodel!K18","v":""},"b","Program steepness",null,null,12,"",{"$error":"#N/A"},{"$error":"#N/A"},"",{"$error":"#N/A"},{"$error":"#N/A"},"",null,null,null,null,null,null,null,null,0.35100000000000026,1.1700000000000008,6.0732690675178906,6,15.000000000000165,4.9267309324821094,118,2.5732853807471687E-42,2.3593861375669359E-64,7.0953956936629929E-70,7.8056737150120791E-94,4.4423946503201058E-151,9.3084323083995136E-219,1.2178302310113934E-250,1.3347765992756346E-276,0,0,0,0,0,0,0,0,0,0,0,0,null,null,23.399999999999949,7.0199999999999836,15.020312863066394,1.1262516560941373E-56,0,{"$f":"GJ$4*$N$32+$M$32","v":15},null,null,null,null,11.299999999999976,null,0,0,0,0,0,0,0,0,0,0,0,0,0,0,0,0,0,0,0,0,0,0,0,0,0,0,0,0,0,0,0,0,0,0,0,0,0,0,0,0,0,0,0,0,0,0,0,0,0,0,0,0,0,0,0,0,0,0,0,0,0,0,0,0,0,0,0,0,0,0,0,0,0,0,0,0,0,0,0,0,0,0,0,0,0,0,0,0,0,0,0,0,0,0,0,0,0,0,0,0,0,0,0,0,0,0,0,0,0,0,0,0,0,0,0,0,0,0,0,0,0,0,0,0,0,0,null,114,0,15,{"$f":"INDEX($BW$6:$GR$261,$GT119,$BJ$14)","v":0},0]
[13,"","","","","","","","",null,"",{"$f":"IF(C18<>\"\",SPmodel!J19+LOG($F$29),\"\")","v":""},{"$f":"SPmodel!K19","v":""},"k*","k' at the center of the column for a program",null,null,13,"",{"$error":"#N/A"},{"$error":"#N/A"},"",{"$error":"#N/A"},{"$error":"#N/A"},"",null,null,null,null,null,null,null,null,0.35400000000000026,1.1800000000000008,6.0588733497037728,6,15.00000000000021,4.9411266502962272,119,5.1483932595650619E-39,8.4879451925504446E-61,3.6077283910358506E-66,5.0538262585005287E-90,7.1088362405401954E-148,2.7238026988233215E-216,1.8030151716019824E-248,7.6550541862957214E-275,0,0,0,0,0,0,0,0,0,0,0,0,null,null,23.599999999999948,7.0799999999999832,15.020812515858614,6.869924352366682E-58,0,{"$f":"GK$4*$N$32+$M$32","v":15},null,null,null,null,11.399999999999975,null,0,0,0,0,0,0,0,0,0,0,0,0,0,0,0,0,0,0,0,0,0,0,0,0,0,0,0,0,0,0,0,0,0,0,0,0,0,0,0,0,0,0,0,0,0,0,0,0,0,0,0,0,0,0,0,0,0,0,0,0,0,0,0,0,0,0,0,0,0,0,0,0,0,0,0,0,0,0,0,0,0,0,0,0,0,0,0,0,0,0,0,0,0,0,0,0,0,0,0,0,0,0,0,0,0,0,0,0,0,0,0,0,0,0,0,0,0,0,0,0,0,0,0,0,0,0,null,115,0,15,{"$f":"INDEX($BW$6:$GR$261,$GT120,$BJ$14)","v":0},0]
[14,"","","","","","","","",null,"",{"$f":"IF(C19<>\"\",SPmodel!J20+LOG($F$29),\"\")","v":""},{"$f":"SPmodel!K20","v":""},"k**:     ","k* without correction for ko",null,null,14,"",{"$error":"#N/A"},{"$error":"#N/A"},"",{"$error":"#N/A"},{"$error":"#N/A"},"",null,null,null,null,null,null,null,null,0.35700000000000026,1.1900000000000008,6.0467184200924828,6,15.000000000000266,4.9532815799075172,120,7.5999042894915099E-36,2.4245826659274511E-57,1.4565383847582157E-62,2.7305401955562656E-86,1.0512610235906225E-144,7.7179396947476285E-214,2.6120136068406483E-246,4.3338969163818208E-273,0,0,0,0,0,0,0,0,0,0,0,0,null,null,23.799999999999947,7.1399999999999828,15.021322891201054,4.0690757067335839E-59,0,{"$f":"GL$4*$N$32+$M$32","v":15},null,null,null,null,11.499999999999975,null,0,0,0,0,0,0,0,0,0,0,0,0,0,0,0,0,0,0,0,0,0,0,0,0,0,0,0,0,0,0,0,0,0,0,0,0,0,0,0,0,0,0,0,0,0,0,0,0,0,0,0,0,0,0,0,0,0,0,0,0,0,0,0,0,0,0,0,0,0,0,0,0,0,0,0,0,0,0,0,0,0,0,0,0,0,0,0,0,0,0,0,0,0,0,0,0,0,0,0,0,0,0,0,0,0,0,0,0,0,0,0,0,0,0,0,0,0,0,0,0,0,0,0,0,0,0,null,116,0,15,{"$f":"INDEX($BW$6:$GR$261,$GT121,$BJ$14)","v":0},0]
[15,"","","","","","","","",null,"",{"$f":"IF(C20<>\"\",SPmodel!J21+LOG($F$29),\"\")","v":""},{"$f":"SPmodel!K21","v":""},"tRuncorr","tR for an unlimited program",null,null,15,"",{"$error":"#N/A"},{"$error":"#N/A"},"",{"$error":"#N/A"},{"$error":"#N/A"},"",null,null,null,null,null,null,null,null,0.36000000000000026,1.2000000000000008,6.0366124564048151,6,15.000000000000339,4.9633875435951849,121,8.2774617482432705E-33,5.4992354112275339E-54,4.6691832675068101E-59,1.2311052768436658E-82,1.4366576717502159E-141,2.1176478896745334E-211,3.7026691888378291E-244,2.4221414860698796E-271,0,0,0,0,0,0,0,0,0,0,0,0,null,null,23.999999999999947,7.1999999999999824,15.021844176068983,2.340274973494614E-60,0,{"$f":"GM$4*$N$32+$M$32","v":15},null,null,null,null,11.599999999999975,null,0,0,0,0,0,0,0,0,0,0,0,0,0,0,0,0,0,0,0,0,0,0,0,0,0,0,0,0,0,0,0,0,0,0,0,0,0,0,0,0,0,0,0,0,0,0,0,0,0,0,0,0,0,0,0,0,0,0,0,0,0,0,0,0,0,0,0,0,0,0,0,0,0,0,0,0,0,0,0,0,0,0,0,0,0,0,0,0,0,0,0,0,0,0,0,0,0,0,0,0,0,0,0,0,0,0,0,0,0,0,0,0,0,0,0,0,0,0,0,0,0,0,0,0,0,0,null,117,0,15,{"$f":"INDEX($BW$6:$GR$261,$GT122,$BJ$14)","v":0},0]
[16,"","","","","","","","",null,"",{"$f":"IF(C21<>\"\",SPmodel!J22+LOG($F$29),\"\")","v":""},{"$f":"SPmodel!K22","v":""},"tR-tD-tG","Time after program hold",null,null,16,"",{"$error":"#N/A"},{"$error":"#N/A"},"",{"$error":"#N/A"},{"$error":"#N/A"},"",null,null,null,null,null,null,null,null,0.36300000000000027,1.2100000000000009,6.028336154159426,6,15.000000000000432,4.971663845840574,122,6.6517955394550795E-30,9.9037236371271221E-51,1.1884770312509893E-55,4.6319105502279626E-79,1.8143735675542743E-138,5.6264278321747984E-209,5.1359148254261858E-242,1.3363218277459841E-269,0,0,0,0,0,0,0,0,0,0,0,0,null,null,24.199999999999946,7.259999999999982,15.022376559580019,1.306969068913328E-61,0,{"$f":"GN$4*$N$32+$M$32","v":15},null,null,null,null,11.699999999999974,null,0,0,0,0,0,0,0,0,0,0,0,0,0,0,0,0,0,0,0,0,0,0,0,0,0,0,0,0,0,0,0,0,0,0,0,0,0,0,0,0,0,0,0,0,0,0,0,0,0,0,0,0,0,0,0,0,0,0,0,0,0,0,0,0,0,0,0,0,0,0,0,0,0,0,0,0,0,0,0,0,0,0,0,0,0,0,0,0,0,0,0,0,0,0,0,0,0,0,0,0,0,0,0,0,0,0,0,0,0,0,0,0,0,0,0,0,0,0,0,0,0,0,0,0,0,0,null,118,0,15,{"$f":"INDEX($BW$6:$GR$261,$GT123,$BJ$14)","v":0},0]
[17,"","","","","","","","",null,"",{"$f":"IF(C22<>\"\",SPmodel!J23+LOG($F$29),\"\")","v":""},{"$f":"SPmodel!K23","v":""},"ke","k' at end of program",null,null,17,"",{"$error":"#N/A"},{"$error":"#N/A"},"",{"$error":"#N/A"},{"$error":"#N/A"},"",null,null,null,null,null,null,null,null,0.36600000000000027,1.2200000000000009,6.0216582949889146,6,15.000000000000549,4.9783417050110854,123,3.9439667983025632E-27,1.4162032950459981E-47,2.4019919708699383E-52,1.4542647829347775E-75,2.1175360113146198E-135,1.4475660522916604E-206,6.9708243026228091E-240,7.2780199110723724E-268,0,0,0,0,0,0,0,0,0,0,0,0,null,null,24.399999999999945,7.3199999999999816,15.022920232990215,7.0874667380860609E-63,0,{"$f":"GO$4*$N$32+$M$32","v":15},null,null,null,null,11.799999999999974,null,0,0,0,0,0,0,0,0,0,0,0,0,0,0,0,0,0,0,0,0,0,0,0,0,0,0,0,0,0,0,0,0,0,0,0,0,0,0,0,0,0,0,0,0,0,0,0,0,0,0,0,0,0,0,0,0,0,0,0,0,0,0,0,0,0,0,0,0,0,0,0,0,0,0,0,0,0,0,0,0,0,0,0,0,0,0,0,0,0,0,0,0,0,0,0,0,0,0,0,0,0,0,0,0,0,0,0,0,0,0,0,0,0,0,0,0,0,0,0,0,0,0,0,0,0,0,null,119,0,15,{"$f":"INDEX($BW$6:$GR$261,$GT124,$BJ$14)","v":0},0]
[18,"","","","","","","","",null,"",{"$f":"IF(C23<>\"\",SPmodel!J24+LOG($F$29),\"\")","v":""},{"$f":"SPmodel!K24","v":""},"tadd","Time to add to program end",null,null,18,"",{"$error":"#N/A"},{"$error":"#N/A"},"",{"$error":"#N/A"},{"$error":"#N/A"},"",null,null,null,null,null,null,null,null,0.36900000000000027,1.2300000000000009,6.0163485387691926,6,15.000000000000695,4.9836514612308056,124,1.7253621182274401E-24,1.6079908541257908E-44,3.8546344272089955E-49,3.810177102827771E-72,2.2838394987888639E-132,3.6063731466742642E-204,9.2579298110280556E-238,3.9129656861271567E-266,0,0,0,0,0,0,0,0,0,0,0,0,null,null,24.599999999999945,7.3799999999999812,15.023475389689246,3.7320208455060406E-64,0,{"$f":"GP$4*$N$32+$M$32","v":15},null,null,null,null,11.899999999999974,null,0,0,0,0,0,0,0,0,0,0,0,0,0,0,0,0,0,0,0,0,0,0,0,0,0,0,0,0,0,0,0,0,0,0,0,0,0,0,0,0,0,0,0,0,0,0,0,0,0,0,0,0,0,0,0,0,0,0,0,0,0,0,0,0,0,0,0,0,0,0,0,0,0,0,0,0,0,0,0,0,0,0,0,0,0,0,0,0,0,0,0,0,0,0,0,0,0,0,0,0,0,0,0,0,0,0,0,0,0,0,0,0,0,0,0,0,0,0,0,0,0,0,0,0,0,0,null,120,0,15,{"$f":"INDEX($BW$6:$GR$261,$GT125,$BJ$14)","v":0},0]
[19,"","","","","","","","",null,"",{"$f":"IF(C24<>\"\",SPmodel!J25+LOG($F$29),\"\")","v":""},{"$f":"SPmodel!K25","v":""},null,null,null,null,19,"",{"$error":"#N/A"},{"$error":"#N/A"},"",{"$error":"#N/A"},{"$error":"#N/A"},"",null,null,null,null,null,null,null,null,0.37200000000000027,1.2400000000000009,6.0121872280403199,6,15.000000000000879,4.9878127719596659,125,5.5690346028436953E-22,1.4496809571533218E-41,4.9116309417418711E-46,8.3303872507059548E-69,2.2763080553367235E-129,8.7002065951797693E-202,1.2031147589406416E-235,2.0767750736735814E-264,0,0,0,0,0,0,0,0,0,0,0,0,null,null,24.799999999999944,7.4399999999999809,15.024042225194686,1.9082021945119108E-65,0,{"$f":"GQ$4*$N$32+$M$32","v":15},null,null,null,null,11.999999999999973,null,0,0,0,0,0,0,0,0,0,0,0,0,0,0,0,0,0,0,0,0,0,0,0,0,0,0,0,0,0,0,0,0,0,0,0,0,0,0,0,0,0,0,0,0,0,0,0,0,0,0,0,0,0,0,0,0,0,0,0,0,0,0,0,0,0,0,0,0,0,0,0,0,0,0,0,0,0,0,0,0,0,0,0,0,0,0,0,0,0,0,0,0,0,0,0,0,0,0,0,0,0,0,0,0,0,0,0,0,0,0,0,0,0,0,0,0,0,0,0,0,0,0,0,0,0,0,null,121,0,15,{"$f":"INDEX($BW$6:$GR$261,$GT126,$BJ$14)","v":0},0]
[20,"","","","","","","","",null,"",{"$f":"IF(C25<>\"\",SPmodel!J26+LOG($F$29),\"\")","v":""},{"$f":"SPmodel!K26","v":""},null,null,null,null,20,"",{"$error":"#N/A"},{"$error":"#N/A"},"",{"$error":"#N/A"},{"$error":"#N/A"},"",null,null,null,null,null,null,null,null,0.37500000000000028,1.2500000000000009,6.0089722683096669,6,15.000000000001114,4.9910277316902079,126,1.3262708481418321E-19,1.0377486571091325E-38,4.9693449364543054E-43,1.5198599496277261E-65,2.0966559516945477E-126,2.0324276958625853E-199,1.5299021267869587E-233,1.0880867171709207E-262,0,0,0,0,0,0,0,0,0,0,0,0,null,null,24.999999999999943,7.4999999999999805,15.024620937145356,9.4739704116428989E-67,0,{"$f":"GR$4*$N$32+$M$32","v":15},null,null,null,null,12.099999999999973,null,0,0,0,0,0,0,0,0,0,0,0,0,0,0,0,0,0,0,0,0,0,0,0,0,0,0,0,0,0,0,0,0,0,0,0,0,0,0,0,0,0,0,0,0,0,0,0,0,0,0,0,0,0,0,0,0,0,0,0,0,0,0,0,0,0,0,0,0,0,0,0,0,0,0,0,0,0,0,0,0,0,0,0,0,0,0,0,0,0,0,0,0,0,0,0,0,0,0,0,0,0,0,0,0,0,0,0,0,0,0,0,0,0,0,0,0,0,0,0,0,0,0,0,0,0,0,null,122,0,15,{"$f":"INDEX($BW$6:$GR$261,$GT127,$BJ$14)","v":0},0]
[null,null,null,null,null,null,null,null,null,null,null,null,null,null,null,null,null,null,null,null,null,null,null,null,null,null,null,null,null,null,null,null,null,0.37800000000000028,1.2600000000000009,6.0065233530905484,6,15.000000000001407,4.9934766469084657,127,2.3304360014978418E-17,5.8985166834076715E-36,3.9921187034571118E-40,2.3139837424778685E-62,1.7846538276693419E-123,4.5975586410348387E-197,1.9036349322734244E-231,5.6276642312286096E-261,0,0,0,0,0,0,0,0,0,0,0,0,null,null,null,null,15.025211725293714,{"$f":"$BJ$31*NORMDIST(BL128,$BJ$29,$BJ$30,FALSE)","v":9.9925399933033388E-3},{"$f":"$BJ$35*NORMDIST(AI128,$BJ$33,$BJ$34,FALSE)","v":0},null,null,null,null,null,12.199999999999973,null,0,0,0,0,0,0,0,0,0,0,0,0,0,0,0,0,0,0,0,0,0,0,0,0,0,0,0,0,0,0,0,0,0,0,0,0,0,0,0,0,0,0,0,0,0,0,0,0,0,0,0,0,0,0,0,0,0,0,0,0,0,0,0,0,0,0,0,0,0,0,0,0,0,0,0,0,0,0,0,0,0,0,0,0,0,0,0,0,0,0,0,0,0,0,0,0,0,0,0,0,0,0,0,0,0,0,0,0,0,0,0,0,0,0,0,0,0,0,0,0,0,0,0,0,0,0,null,123,0,15,{"$f":"INDEX($BW$6:$GR$261,$GT128,$BJ$14)","v":0},0]
["Calc",null,null,{"$f":"H60","v":"2D LSS"},null,null,null,null,null,null,"Column 2",null,null,null,null,"Column difference",null,"Coumns in database to select from",null,null,null,null,null,null,null,null,null,null,null,null,null,null,null,0.38100000000000028,1.2700000000000009,6.0046839347790284,6.0000000000000027,15.000000000001775,4.9953160652136948,128,3.021306516788296E-15,2.6620997845897845E-33,2.5464704175361974E-37,2.9399191566244326E-59,1.4038201918662478E-120,1.0070848996940652E-194,2.3177527564822403E-229,2.8733165208232557E-259,0,0,0,0,0,0,0,0,0,0,0,0,null,null,null,null,15.025814791497291,9.9925399933033388E-3,0,null,null,null,null,null,12.299999999999972,null,0,0,0,0,0,0,0,0,0,0,0,0,0,0,0,0,0,0,0,0,0,0,0,0,0,0,0,0,0,0,0,0,0,0,0,0,0,0,0,0,0,0,0,0,0,0,0,0,0,0,0,0,0,0,0,0,0,0,0,0,0,0,0,0,0,0,0,0,0,0,0,0,0,0,0,0,0,0,0,0,0,0,0,0,0,0,0,0,0,0,0,0,0,0,0,0,0,0,0,0,0,0,0,0,0,0,0,0,0,0,0,0,0,0,0,0,0,0,0,0,0,0,0,0,0,0,null,124,0,15,{"$f":"INDEX($BW$6:$GR$261,$GT129,$BJ$14)","v":0},0]
["Param","Temp'","Temp","k'","tR2D",null,null,null,null,null,"ko","log(ko)","Slope",null,null,"q degrees","d","Name",null,"Stationary phase",null,null,null,null,null,null,null,null,null,null,null,"Beta",null,0.38400000000000029,1.2800000000000009,{"$f":"IF($N$29=0,-1,$N$29*($B$32*NORMDIST($AI130,$B$29,$B$33*$B$29,FALSE)+IF(C$62<>\"\",B$6*NORMDIST($AI130,C$62,D$62/4,FALSE),0)+IF(C$63<>\"\",B$7*NORMDIST($AI130,C$63,D$63/4,FALSE),0)+IF(C$64<>\"\",B$8*NORMDIST($AI130,C$64,D$64/4,FALSE),0)+IF(C$65<>\"\",B$9*NORMDIST($AI130,C$65,D$65/4,FALSE),0)+IF(C$66<>\"\",B$10*NORMDIST($AI130,C$66,D$66/4,FALSE),0)+IF(C$67<>\"\",B$11*NORMDIST($AI130,C$67,D$67/4,FALSE),0)+IF(C$68<>\"\",B$12*NORMDIST($AI130,C$68,D$68/4,FALSE),0)+IF(C$69<>\"\",B$13*NORMDIST($AI130,C$69,D$69/4,FALSE),0)+IF(C$70<>\"\",B$14*NORMDIST($AI130,C$70,D$70/4,FALSE),0)+IF(C$71<>\"\",B$15*NORMDIST($AI130,C$71,D$71/4,FALSE),0)+IF(C$72<>\"\",B$16*NORMDIST($AI130,C$72,D$72/4,FALSE),0)+IF(C$73<>\"\",B$17*NORMDIST($AI130,C$73,D$73/4,FALSE),0)+IF(C$74<>\"\",B$18*NORMDIST($AI130,C$74,D$74/4,FALSE),0)+IF(C$75<>\"\",B$19*NORMDIST($AI130,C$75,D$75/4,FALSE),0)+IF(C$76<>\"\",B$20*NORMDIST($AI130,C$76,D$76/4,FALSE),0)+IF(C$77<>\"\",B$21*NORMDIST($AI130,C$77,D$77/4,FALSE),0)+IF(C$78<>\"\",B$22*NORMDIST($AI130,C$78,D$78/4,FALSE),0)+IF(C$79<>\"\",B$23*NORMDIST($AI130,C$79,D$79/4,FALSE),0)+IF(C$80<>\"\",B$24*NORMDIST($AI130,C$80,D$80/4,FALSE),0)+IF(C$81<>\"\",B$25*NORMDIST($AI130,C$81,D$81/4,FALSE),0))+$M$29)","v":6.0033214071099428},{"$f":"IF($N$30<>0,SUM(AO130:BH130)*$N$30+$M$30,-1)","v":6.0000000000002887},{"$f":"IF($N$31=0,-1,$N$31*($B$32*NORMDIST($AH130,$B$29,$B$33*$B$29,FALSE)+IF(G$62<>\"\",B$6*NORMDIST($AH130,G$62,H$62/4,FALSE),0)+IF(G$63<>\"\",B$7*NORMDIST($AH130,G$63,H$63/4,FALSE),0)+IF(G$64<>\"\",B$8*NORMDIST($AH130,G$64,H$64/4,FALSE),0)+IF(G$65<>\"\",B$9*NORMDIST($AH130,G$65,H$65/4,FALSE),0)+IF(G$66<>\"\",B$10*NORMDIST($AH130,G$66,H$66/4,FALSE),0)+IF(G$67<>\"\",B$11*NORMDIST($AH130,G$67,H$67/4,FALSE),0)+IF(G$68<>\"\",B$12*NORMDIST($AH130,G$68,H$68/4,FALSE),0)+IF(G$69<>\"\",B$13*NORMDIST($AH130,G$69,H$69/4,FALSE),0)+IF(G$70<>\"\",B$14*NORMDIST($AH130,G$70,H$70/4,FALSE),0)+IF(G$71<>\"\",B$15*NORMDIST($AH130,G$71,H$71/4,FALSE),0)+IF(G$72<>\"\",B$16*NORMDIST($AH130,G$72,H$72/4,FALSE),0)+IF(G$73<>\"\",B$17*NORMDIST($AH130,G$73,H$73/4,FALSE),0)+IF(G$74<>\"\",B$18*NORMDIST($AH130,G$74,H$74/4,FALSE),0)+IF(G$75<>\"\",B$19*NORMDIST($AH130,G$75,H$75/4,FALSE),0)+IF(G$76<>\"\",B$20*NORMDIST($AH130,G$76,H$76/4,FALSE),0)+IF(G$77<>\"\",B$21*NORMDIST($AH130,G$77,H$77/4,FALSE),0)+IF(G$78<>\"\",B$22*NORMDIST($AH130,G$78,H$78/4,FALSE),0)+IF(G$79<>\"\",B$23*NORMDIST($AH130,G$79,H$79/4,FALSE),0)+IF(G$80<>\"\",B$24*NORMDIST($AH130,G$80,H$80/4,FALSE),0)+IF(G$81<>\"\",B$25*NORMDIST($AH130,G$81,H$81/4,FALSE),0))+$M$31)","v":15.000000000002236},{"$f":"IF($N$33=0,-1,$N$33*($B$32*NORMDIST($AI130,$B$29,$B$33*$B$29,FALSE)+IF(K$62<>\"\",B$6*NORMDIST($AI130,K$62,L$62/4,FALSE),0)+IF(K$63<>\"\",B$7*NORMDIST($AI130,K$63,L$63/4,FALSE),0)+IF(K$64<>\"\",B$8*NORMDIST($AI130,K$64,L$64/4,FALSE),0)+IF(K$65<>\"\",B$9*NORMDIST($AI130,K$65,L$65/4,FALSE),0)+IF(K$66<>\"\",B$10*NORMDIST($AI130,K$66,L$66/4,FALSE),0)+IF(K$67<>\"\",B$11*NORMDIST($AI130,K$67,L$67/4,FALSE),0)+IF(K$68<>\"\",B$12*NORMDIST($AI130,K$68,L$68/4,FALSE),0)+IF(K$69<>\"\",B$13*NORMDIST($AI130,K$69,L$69/4,FALSE),0)+IF(K$70<>\"\",B$14*NORMDIST($AI130,K$70,L$70/4,FALSE),0)+IF(K$71<>\"\",B$15*NORMDIST($AI130,K$71,L$71/4,FALSE),0)+IF(K$72<>\"\",B$16*NORMDIST($AI130,K$72,L$72/4,FALSE),0)+IF(K$73<>\"\",B$17*NORMDIST($AI130,K$73,L$73/4,FALSE),0)+IF(K$74<>\"\",B$18*NORMDIST($AI130,K$74,L$74/4,FALSE),0)+IF(K$75<>\"\",B$19*NORMDIST($AI130,K$75,L$75/4,FALSE),0)+IF(K$76<>\"\",B$20*NORMDIST($AI130,K$76,L$76/4,FALSE),0)+IF(K$77<>\"\",B$21*NORMDIST($AI130,K$77,L$77/4,FALSE),0)+IF(K$78<>\"\",B$22*NORMDIST($AI130,K$78,L$78/4,FALSE),0)+IF(K$79<>\"\",B$23*NORMDIST($AI130,K$79,L$79/4,FALSE),0)+IF(K$80<>\"\",B$24*NORMDIST($AI130,K$80,L$80/4,FALSE),0)+IF(K$81<>\"\",B$25*NORMDIST($AI130,K$81,L$81/4,FALSE),0))+$M$33)","v":4.9966785928399169},129,{"$f":"IF($C$85>0,$B$6*NORMDIST($AI130,$C$85,$D$85/4,FALSE),0)","v":2.8900479184432074E-13},{"$f":"IF($C$86>0,$B$7*NORMDIST($AI130,$C$86,$D$86/4,FALSE),0)","v":9.5397443082830193E-31},{"$f":"IF($C$87>0,$B$8*NORMDIST($AI130,$C$87,$D$87/4,FALSE),0)","v":1.2897475466588605E-34},{"$f":"IF($C$88>0,$B$9*NORMDIST($AI130,$C$88,$D$88/4,FALSE),0)","v":3.116942747562655E-56},{"$f":"IF($C$89>0,$B$10*NORMDIST($AI130,$C$89,$D$89/4,FALSE),0)","v":1.0204686385175375E-117},{"$f":"IF($C$90>0,$B$11*NORMDIST($AI130,$C$90,$D$90/4,FALSE),0)","v":2.1361489156653705E-192},{"$f":"IF($C$91>0,$B$12*NORMDIST($AI130,$C$91,$D$91/4,FALSE),0)","v":2.7613023990091617E-227},{"$f":"IF($C$92>0,$B$13*NORMDIST($AI130,$C$92,$D$92/4,FALSE),0)","v":1.4482028075867954E-257},{"$f":"IF($C$93>0,$B$14*NORMDIST($AI130,$C$93,$D$93/4,FALSE),0)","v":0},{"$f":"IF($C$94>0,$B$15*NORMDIST($AI130,$C$94,$D$94/4,FALSE),0)","v":0},{"$f":"IF($C$95>0,$B$16*NORMDIST($AI130,$C$95,$D$95/4,FALSE),0)","v":0},0,0,0,0,0,0,0,0,0,null,null,null,null,15.026430339709124,9.9925399933033388E-3,0,null,null,null,null,null,12.399999999999972,null,0,0,0,0,0,0,0,0,0,0,0,0,0,0,0,0,0,0,0,0,0,0,0,0,0,0,0,0,0,0,0,0,0,0,0,0,0,0,0,0,0,0,0,0,0,0,0,0,0,0,0,0,0,0,0,0,0,0,0,0,0,0,0,0,0,0,0,0,0,0,0,0,0,0,0,0,0,0,0,0,0,0,0,0,0,0,0,0,0,0,0,0,0,0,0,0,0,0,0,0,0,0,0,0,0,0,0,0,0,0,0,0,0,0,0,0,0,0,0,0,0,0,0,0,0,0,null,125,0,15,{"$f":"INDEX($BW$6:$GR$261,$GT130,$BJ$14)","v":0},0]
[1,{"$f":"IF(C85<>\"\",IF(C85<$I$29,$G$29,$G$29+(C85-$I$29)*$K$29/$J$29),\"\")","v":150},{"$f":"IF(B131<>\"\",IF(B131>$H$29,$H$29+$H$31,B131+$H$31),\"\")","v":180},{"$f":"IF(C131<>\"\",10^(L131-C131*M131),\"\")","v":0.83450465509701266},{"$f":"IF(D131=\"\",\"\",($C$29*(1+D131))*60)","v":1.1007027930582076},null,null,null,null,null,{"$f":"IF($B6>0,10^L131,\"\")","v":47.249126255253799},{"$f":"IF(C6<>\"\",SPmodel!W7+LOG($F$31),\"\")","v":1.6743937818181829},{"$f":"SPmodel!X7","v":9.7386945454545504E-3},null,null,{"$f":"IF(Columns!S10<>\"\",Columns!T10,\"\")","v":9.4320232730777889},{"$f":"IF(Columns!S10<>\"\",Columns!U10,\"\")","v":0.16442796142470842},{"$f":"IF(Columns!S10<>\"\",Columns!V10,\"\")","v":"DB-1"},null,{"$f":"IF(Columns!S10<>\"\",Columns!X10,\"\")","v":"Poly(dimethylsiloxane)"},null,null,null,null,null,null,null,null,null,null,null,{"$f":"IF(AND(Columns!S10<>\"\",Columns!AF10<>0),Columns!AF10,\"\")","v":3.1323395073973664E-3},null,0.38700000000000029,1.2900000000000009,6.002325973175183,6.000000000020397,15.000000000002817,4.9976740265023478,130,2.0397077659494008E-11,2.7144386155132122E-28,5.1868259103264729E-32,2.7576593319783768E-53,6.8551745953594358E-115,4.3875653685370696E-190,3.2190243177230303E-225,7.205529876865237E-256,0,0,0,{"$f":"IF($C$96>0,$B$17*NORMDIST($AI131,$C$96,$D$96/4,FALSE),0)","v":0},{"$f":"IF($C$97>0,$B$18*NORMDIST($AI131,$C$97,$D$97/4,FALSE),0)","v":0},{"$f":"IF($C$98>0,$B$19*NORMDIST($AI131,$C$98,$D$98/4,FALSE),0)","v":0},{"$f":"IF($C$99>0,$B$20*NORMDIST($AI131,$C$99,$D$99/4,FALSE),0)","v":0},{"$f":"IF($C$100>0,$B$21*NORMDIST($AI131,$C$100,$D$100/4,FALSE),0)","v":0},{"$f":"IF($C$101>0,$B$22*NORMDIST($AI131,$C$101,$D$101/4,FALSE),0)","v":0},{"$f":"IF($C$102>0,$B$23*NORMDIST($AI131,$C$102,$D$102/4,FALSE),0)","v":0},{"$f":"IF($C$103>0,$B$24*NORMDIST($AI131,$C$103,$D$103/4,FALSE),0)","v":0},{"$f":"IF($C$104>0,$B$25*NORMDIST($AI131,$C$104,$D$104/4,FALSE),0)","v":0},null,null,null,null,{"$f":"$N$32*$O$61*NORMDIST(AH131,$BJ$26,$BJ$27,FALSE)+$M$32","v":15.027058575967185},9.9925399933033388E-3,0,null,null,null,null,null,12.499999999999972,null,0,0,0,0,0,0,0,0,0,0,0,0,0,0,0,0,0,0,0,0,0,0,0,0,0,0,0,0,0,0,0,0,0,0,0,0,0,0,0,0,0,0,0,0,0,0,0,0,0,0,0,0,0,0,0,0,0,0,0,0,0,0,0,0,0,0,0,0,0,0,0,0,0,0,0,0,0,0,0,0,0,0,0,0,0,0,0,0,0,0,0,0,0,0,0,0,0,0,0,0,0,0,0,0,0,0,0,0,0,0,0,0,0,0,0,0,0,0,0,0,0,0,0,0,0,0,null,126,0,15,{"$f":"INDEX($BW$6:$GR$261,$GT131,$BJ$14)","v":0},0]
[2,{"$f":"IF(C86<>\"\",IF(C86<$I$29,$G$29,$G$29+(C86-$I$29)*$K$29/$J$29),\"\")","v":150},180,{"$f":"IF(C132<>\"\",10^(L132-C132*M132),\"\")","v":1.0673858828003209},{"$f":"IF(D132=\"\",\"\",($C$29*(1+D132))*60)","v":1.2404315296801924},null,null,null,null,null,{"$f":"IF($B7>0,10^L132,\"\")","v":83.296648435233053},{"$f":"IF(C7<>\"\",SPmodel!W8+LOG($F$31),\"\")","v":1.9206275272727289},{"$f":"SPmodel!X8","v":1.0512811515151524E-2},null,null,{"$f":"IF(Columns!S11<>\"\",Columns!T11,\"\")","v":5.6115933199231494},{"$f":"IF(Columns!S11<>\"\",Columns!U11,\"\")","v":9.7891424260208915E-2},{"$f":"IF(Columns!S11<>\"\",Columns!V11,\"\")","v":"SolGel-1"},null,{"$f":"IF(Columns!S11<>\"\",Columns!X11,\"\")","v":"Poly(dimethylsiloxane)"},null,null,null,null,null,null,null,null,null,null,null,{"$f":"IF(AND(Columns!S11<>\"\",Columns!AF11<>0),Columns!AF11,\"\")","v":1.2618171749535225E-2},null,{"$f":"AH131+$C$34","v":0.39000000000000029},{"$f":"AI131+$B$34","v":1.3000000000000009},6.0016086390668484,6.0000000010621442,15.000000000003542,4.9983913589973978,131,1.0621442559509637E-9,6.1327350355837674E-26,1.656263834878614E-29,2.0359671014958692E-50,4.2556711277326259E-112,8.7265445217301567E-188,3.6719602244762649E-223,3.5391020398318733E-254,0,0,0,0,0,0,0,0,0,0,0,0,null,null,null,null,15.027699708382782,9.9925399933033388E-3,0,null,null,null,null,null,12.599999999999971,null,0,0,0,0,0,0,0,0,0,0,0,0,0,0,0,0,0,0,0,0,0,0,0,0,0,0,0,0,0,0,0,0,0,0,0,0,0,0,0,0,0,0,0,0,0,0,0,0,0,0,0,0,0,0,0,0,0,0,0,0,0,0,0,0,0,0,0,0,0,0,0,0,0,0,0,0,0,0,0,0,0,0,0,0,0,0,0,0,0,0,0,0,0,0,0,0,0,0,0,0,0,0,0,0,0,0,0,0,0,0,0,0,0,0,0,0,0,0,0,0,0,0,0,0,0,0,null,127,0,15,{"$f":"INDEX($BW$6:$GR$261,$GT132,$BJ$14)","v":0},0]
[3,150,180,0.92351699279952282,1.1541101956797137,null,null,null,null,null,52.380536879285188,{"$f":"IF(C8<>\"\",SPmodel!W9+LOG($F$31),\"\")","v":1.719169945454545},{"$f":"SPmodel!X9","v":9.7429169696969676E-3},null,null,{"$f":"IF(Columns!S12<>\"\",Columns!T12,\"\")","v":33.625022263449658},{"$f":"IF(Columns!S12<>\"\",Columns!U12,\"\")","v":0.57847993285511423},{"$f":"IF(Columns!S12<>\"\",Columns!V12,\"\")","v":"SPB-Octyl"},null,{"$f":"IF(Columns!S12<>\"\",Columns!X12,\"\")","v":"Poly(methyloctylsiloxane)"},null,null,null,null,null,null,null,null,null,null,null,{"$f":"IF(AND(Columns!S12<>\"\",Columns!AF12<>0),Columns!AF12,\"\")","v":1.2618171749535225E-2},null,0.39300000000000029,1.3100000000000009,6.0010987119305295,6.0000000408086009,15.00000000000445,4.9989012772233208,132,4.0808601301138934E-8,1.1001686467792339E-23,4.1994097519064209E-27,1.2543514898973866E-47,2.4414524929467791E-109,1.6806901374726135E-185,4.098595908496706E-221,1.715974653543583E-252,0,0,0,0,0,0,0,0,0,0,0,0,null,null,null,null,15.028353947127915,9.9925399933033388E-3,0,null,null,null,null,null,12.699999999999971,null,0,0,0,0,0,0,0,0,0,0,0,0,0,0,0,0,0,0,0,0,0,0,0,0,0,0,0,0,0,0,0,0,0,0,0,0,0,0,0,0,0,0,0,0,0,0,0,0,0,0,0,0,0,0,0,0,0,0,0,0,0,0,0,0,0,0,0,0,0,0,0,0,0,0,0,0,0,0,0,0,0,0,0,0,0,0,0,0,0,0,0,0,0,0,0,0,0,0,0,0,0,0,0,0,0,0,0,0,0,0,0,0,0,0,0,0,0,0,0,0,0,0,0,0,0,0,null,128,0,15,{"$f":"INDEX($BW$6:$GR$261,$GT133,$BJ$14)","v":0},0]
[4,150,180,1.1859567092885837,1.3115740255731501,null,null,null,null,null,91.258435302731783,{"$f":"IF(C9<>\"\",SPmodel!W10+LOG($F$31),\"\")","v":1.9602730181818202},{"$f":"SPmodel!X10","v":1.0478912121212132E-2},null,null,{"$f":"IF(Columns!S13<>\"\",Columns!T13,\"\")","v":6.8502795807012244},{"$f":"IF(Columns!S13<>\"\",Columns!U13,\"\")","v":0.11948036602415903},{"$f":"IF(Columns!S13<>\"\",Columns!V13,\"\")","v":"G-PDMS"},null,{"$f":"IF(Columns!S13<>\"\",Columns!X13,\"\")","v":"Generic-Poly(dimethylsiloxane) [c = -2.000]"},null,null,null,null,null,null,null,null,null,null,null,{"$f":"IF(AND(Columns!S13<>\"\",Columns!AF13<>0),Columns!AF13,\"\")","v":""},null,0.3960000000000003,1.320000000000001,6.0007411061003593,6.0000011568380485,15.000000000005585,4.999258837176014,133,1.1568380488563112E-6,1.5670945950640615E-21,8.4543042301100457E-25,6.4489067353366947E-45,1.2943722022980883E-106,3.1344376001494824E-183,4.4764698061940095E-219,8.213330063226442E-251,0,0,0,0,0,0,0,0,0,0,0,0,null,null,null,null,15.029021504421561,9.9925399933033388E-3,0,null,null,null,null,null,12.799999999999971,null,0,0,0,0,0,0,0,0,0,0,0,0,0,0,0,0,0,0,0,0,0,0,0,0,0,0,0,0,0,0,0,0,0,0,0,0,0,0,0,0,0,0,0,0,0,0,0,0,0,0,0,0,0,0,0,0,0,0,0,0,0,0,0,0,0,0,0,0,0,0,0,0,0,0,0,0,0,0,0,0,0,0,0,0,0,0,0,0,0,0,0,0,0,0,0,0,0,0,0,0,0,0,0,0,0,0,0,0,0,0,0,0,0,0,0,0,0,0,0,0,0,0,0,0,0,0,null,129,{"$f":"IF(BU134=\"\",\"\",0.01*SUM(BW134:GR134))","v":0},{"$f":"IF(BW134=\"\",\"\",0.01*SUM(BW134:GR134)*$N$32+$M$32)","v":15},{"$f":"INDEX($BW$6:$GR$261,$GT134,$BJ$14)","v":0},{"$f":"GW134*$BJ$16","v":0}]
[5,150,180,1.9170512672696023,1.7502307603617613,null,null,null,null,null,271.80169681479515,{"$f":"IF(C10<>\"\",SPmodel!W11+LOG($F$31),\"\")","v":2.4342521636363652},{"$f":"SPmodel!X11","v":1.1953435757575764E-2},null,null,{"$f":"IF(Columns!S14<>\"\",Columns!T14,\"\")","v":1.0961075240264806},{"$f":"IF(Columns!S14<>\"\",Columns!U14,\"\")","v":1.9078049069695062E-2},{"$f":"IF(Columns!S14<>\"\",Columns!V14,\"\")","v":"G-PDMPS-5"},null,{"$f":"IF(Columns!S14<>\"\",Columns!X14,\"\")","v":"Generic-Poly(dimethyldiphenylsiloxane) [c = -2.000]"},null,null,null,null,null,null,null,null,null,null,null,{"$f":"IF(AND(Columns!S14<>\"\",Columns!AF14<>0),Columns!AF14,\"\")","v":""},null,0.3990000000000003,1.330000000000001,6.000493683093608,6.0000241961388712,15.000000000007001,4.9995060400112408,134,2.4196138871406484E-5,1.7724012495307818E-19,1.3514450055304642E-22,2.7667587662097819E-42,6.3416279254624496E-104,5.6605448948029349E-181,4.7840932942958237E-217,3.8807735898336625E-249,0,0,0,0,0,0,0,0,0,0,0,0,null,null,null,null,15.029702594514875,9.9925399933033388E-3,0,null,null,null,null,null,{"$f":"BU134+$BJ$7","v":12.89999999999997},null,0,0,0,0,0,0,0,0,0,0,0,0,0,0,0,0,0,0,0,0,0,0,0,0,0,0,0,0,0,0,0,0,0,0,0,0,0,0,0,0,0,0,0,0,0,0,0,0,0,0,0,0,0,0,0,0,0,0,0,0,0,0,0,0,0,0,0,0,0,0,0,0,0,0,0,0,0,0,0,0,0,0,0,0,0,0,0,0,0,0,0,0,0,0,0,0,0,0,0,0,0,0,0,0,0,0,0,0,0,0,0,0,0,0,0,0,0,0,0,0,0,0,0,0,0,0,null,130,0,15,{"$f":"INDEX($BW$6:$GR$261,$GT135,$BJ$14)","v":0},0]
[6,150,180,3.9389681822375224,2.9633809093425132,null,null,null,null,null,779.84454095373451,{"$f":"IF(C11<>\"\",SPmodel!W12+LOG($F$31),\"\")","v":2.8920080363636367},{"$f":"SPmodel!X12","v":1.275903090909091E-2},null,null,{"$f":"IF(Columns!S15<>\"\",Columns!T15,\"\")","v":42.586623616802775},{"$f":"IF(Columns!S15<>\"\",Columns!U15,\"\")","v":0.72628356469433109},{"$f":"IF(Columns!S15<>\"\",Columns!V15,\"\")","v":"G-PMPS"},null,{"$f":"IF(Columns!S15<>\"\",Columns!X15,\"\")","v":"Generc-Poly(methylphenylsiloxane) [c = -2.000]"},null,null,null,null,null,null,null,null,null,null,null,{"$f":"IF(AND(Columns!S15<>\"\",Columns!AF15<>0),Columns!AF15,\"\")","v":""},null,0.4020000000000003,1.340000000000001,6.0003247786263065,6.0003733982017984,15.000000000008766,4.9996739597503552,135,3.7339820179809E-4,1.5916946936867307E-17,1.7153382397058836E-20,9.9054644893364591E-40,2.8712632886813267E-101,9.8988212967632913E-179,5.0029601572577752E-215,1.810122469128656E-247,0,0,0,0,0,0,0,0,0,0,0,0,null,null,null,null,15.030397433675292,9.9925399933033388E-3,0,null,null,null,null,null,12.99999999999997,null,0,0,0,0,0,0,0,0,0,0,0,0,0,0,0,0,0,0,0,0,0,0,0,0,0,0,0,0,0,0,0,0,0,0,0,0,0,0,0,0,0,0,0,0,0,0,0,0,0,0,0,0,0,0,0,0,0,0,0,0,0,0,0,0,0,0,0,0,0,0,0,0,0,0,0,0,0,0,0,0,0,0,0,0,0,0,0,0,0,0,0,0,0,0,0,0,0,0,0,0,0,0,0,0,0,0,0,0,0,0,0,0,0,0,0,0,0,0,0,0,0,0,0,0,0,0,null,131,0,15,{"$f":"INDEX($BW$6:$GR$261,$GT136,$BJ$14)","v":0},0]
[7,150,180,5.6138974200887635,3.9683384520532576,null,null,null,null,null,2288.7714968847467,{"$f":"IF(C12<>\"\",SPmodel!W13+LOG($F$31),\"\")","v":3.3596024363636379},{"$f":"SPmodel!X13","v":1.4501877575757582E-2},null,null,{"$f":"IF(Columns!S16<>\"\",Columns!T16,\"\")","v":1.3165311801250072},{"$f":"IF(Columns!S16<>\"\",Columns!U16,\"\")","v":2.2933735797090186E-2},{"$f":"IF(Columns!S16<>\"\",Columns!V16,\"\")","v":"G-ASA-5"},null,{"$f":"IF(Columns!S16<>\"\",Columns!X16,\"\")","v":"Generic-Silarylene-siloxane copolymer [c = -2.000]"},null,null,null,null,null,null,null,null,null,null,null,{"$f":"IF(AND(Columns!S16<>\"\",Columns!AF16<>0),Columns!AF16,\"\")","v":""},null,0.4050000000000003,1.350000000000001,6.0002110075258583,6.0042515865595769,15.000000000010964,4.9997836270126248,136,4.251586559575418E-3,1.1349804358539866E-15,1.7287494192775114E-18,2.9593528384866933E-37,1.2013677220423399E-98,1.6762367687512214E-176,5.1193859432537433E-213,8.3346666680097321E-246,0,0,0,0,0,0,0,0,0,0,0,0,null,null,null,null,15.031106240169494,9.9925399933033388E-3,0,null,null,null,null,null,13.099999999999969,null,0,0,0,0,0,0,0,0,0,0,0,0,0,0,0,0,0,0,0,0,0,0,0,0,0,0,0,0,0,0,0,0,0,0,0,0,0,0,0,0,0,0,0,0,0,0,0,0,0,0,0,0,0,0,0,0,0,0,0,0,0,0,0,0,0,0,0,0,0,0,0,0,0,0,0,0,0,0,0,0,0,0,0,0,0,0,0,0,0,0,0,0,0,0,0,0,0,0,0,0,0,0,0,0,0,0,0,0,0,0,0,0,0,0,0,0,0,0,0,0,0,0,0,0,0,0,null,132,0,15,{"$f":"INDEX($BW$6:$GR$261,$GT137,$BJ$14)","v":0},0]
[8,150,180,1.8196818131820589,1.6918090879092353,null,null,null,null,null,486.70154767794492,{"$f":"IF(C13<>\"\",SPmodel!W14+LOG($F$31),\"\")","v":2.6872627272727287},{"$f":"SPmodel!X14","v":1.3484818181818188E-2},null,null,{"$f":"IF(Columns!S17<>\"\",Columns!T17,\"\")","v":43.87719031283337},{"$f":"IF(Columns!S17<>\"\",Columns!U17,\"\")","v":0.74722406182580858},{"$f":"IF(Columns!S17<>\"\",Columns!V17,\"\")","v":"G-PEG"},null,{"$f":"IF(Columns!S17<>\"\",Columns!X17,\"\")","v":"Generic Polyethyleneglycol [c = -2.000]"},null,null,null,null,null,null,null,null,null,null,null,{"$f":"IF(AND(Columns!S17<>\"\",Columns!AF17<>0),Columns!AF17,\"\")","v":""},null,0.40800000000000031,1.360000000000001,6.0001353878741108,6.0357176171918523,15.000000000013696,4.9998433137015486,137,3.571761719178787E-2,6.4261057565508093E-14,1.3833918449495576E-16,7.3779720174846525E-35,4.6452552291493506E-96,2.7486147679927108E-174,5.1259235228135462E-211,3.7884288466629475E-244,0,0,0,0,0,0,0,0,0,0,0,0,null,null,null,null,15.031829234245244,9.9925399933033388E-3,0,null,null,null,null,null,13.199999999999969,null,0,0,0,0,0,0,0,0,0,0,0,0,0,0,0,0,0,0,0,0,0,0,0,0,0,0,0,0,0,0,0,0,0,0,0,0,0,0,0,0,0,0,0,0,0,0,0,0,0,0,0,0,0,0,0,0,0,0,0,0,0,0,0,0,0,0,0,0,0,0,0,0,0,0,0,0,0,0,0,0,0,0,0,0,0,0,0,0,0,0,0,0,0,0,0,0,0,0,0,0,0,0,0,0,0,0,0,0,0,0,0,0,0,0,0,0,0,0,0,0,0,0,0,0,0,0,null,133,0,15,{"$f":"INDEX($BW$6:$GR$261,$GT138,$BJ$14)","v":0},0]
[9,171,201,5.7290413918151311,4.0374248350890785,null,null,null,null,null,{"$f":"IF($B14>0,10^L139,\"\")","v":8691.1210735664299},{"$f":"IF(C14<>\"\",SPmodel!W15+LOG($F$31),\"\")","v":3.9390758000000035},{"$f":"SPmodel!X15","v":1.5825840000000018E-2},null,null,{"$f":"IF(Columns!S18<>\"\",Columns!T18,\"\")","v":8.102847521217231E-2},{"$f":"IF(Columns!S18<>\"\",Columns!U18,\"\")","v":0},{"$f":"IF(Columns!S18<>\"\",Columns!V18,\"\")","v":"HP-5"},null,{"$f":"IF(Columns!S18<>\"\",Columns!X18,\"\")","v":"5 % diphenylsiloxane"},null,null,null,null,null,null,null,null,null,null,null,{"$f":"IF(AND(Columns!S18<>\"\",Columns!AF18<>0),Columns!AF18,\"\")","v":1.6019220500498371E-3},null,0.41100000000000031,1.370000000000001,6.0000857892579917,6.2213943741538102,15.00000000001709,4.9998352973137115,138,0.22139437415091268,2.8889381753738612E-12,8.7900078165960287E-15,1.5349548709122316E-32,1.6598692634928007E-93,4.364344479869301E-172,5.0221513470740757E-209,1.6998893661909618E-242,0,0,0,0,0,0,0,0,0,0,0,0,null,null,null,null,15.032566638112051,9.9925399933033388E-3,0,null,null,null,null,null,13.299999999999969,null,0,0,0,0,0,0,0,0,0,0,0,0,0,0,0,0,0,0,0,0,0,0,0,0,0,0,0,0,0,0,0,0,0,0,0,0,0,0,0,0,0,0,0,0,0,0,0,0,0,0,0,0,0,0,0,0,0,0,0,0,0,0,0,0,0,0,0,0,0,0,0,0,0,0,0,0,0,0,0,0,0,0,0,0,0,0,0,0,0,0,0,0,0,0,0,0,0,0,0,0,0,0,0,0,0,0,0,0,0,0,0,0,0,0,0,0,0,0,0,0,0,0,0,0,0,0,null,134,0,15,{"$f":"INDEX($BW$6:$GR$261,$GT139,$BJ$14)","v":0},0]
[10,181.3,211.3,5.4557942294480792,3.8734765376688478,null,null,null,null,null,{"$f":"IF($B15>0,10^L140,\"\")","v":24231.021741331195},{"$f":"IF(C15<>\"\",SPmodel!W16+LOG($F$31),\"\")","v":4.3843717272727307},{"$f":"SPmodel!X16","v":1.7262251515151532E-2},null,null,{"$f":"IF(Columns!S19<>\"\",Columns!T19,\"\")","v":5.1441601645580795},{"$f":"IF(Columns!S19<>\"\",Columns!U19,\"\")","v":8.9741237356939396E-2},{"$f":"IF(Columns!S19<>\"\",Columns!V19,\"\")","v":"DB-5"},null,{"$f":"IF(Columns!S19<>\"\",Columns!X19,\"\")","v":"5 % diphenylsiloxane"},null,null,null,null,null,null,null,null,null,null,null,{"$f":"IF(AND(Columns!S19<>\"\",Columns!AF19<>0),Columns!AF19,\"\")","v":1.6194068678459937E-2},null,0.41400000000000031,1.380000000000001,6.0000536855458488,7.0125193529976819,15.000000000021302,4.9996734057226124,139,1.012519352894115,1.0312394372040896E-10,4.4346995056473308E-13,2.6648487905718983E-30,5.4811143872720803E-91,6.7104369953502825E-170,4.8147184262675624E-207,7.5296155506700406E-241,0,0,0,0,0,0,0,0,0,0,0,0,null,null,null,null,15.03331867592067,9.9925399933033388E-3,0,null,null,null,null,null,13.399999999999968,null,0,0,0,0,0,0,0,0,0,0,0,0,0,0,0,0,0,0,0,0,0,0,0,0,0,0,0,0,0,0,0,0,0,0,0,0,0,0,0,0,0,0,0,0,0,0,0,0,0,0,0,0,0,0,0,0,0,0,0,0,0,0,0,0,0,0,0,0,0,0,0,0,0,0,0,0,0,0,0,0,0,0,0,0,0,0,0,0,0,0,0,0,0,0,0,0,0,0,0,0,0,0,0,0,0,0,0,0,0,0,0,0,0,0,0,0,0,0,0,0,0,0,0,0,0,0,null,135,0,15,{"$f":"INDEX($BW$6:$GR$261,$GT140,$BJ$14)","v":0},0]
[11,203.5,233.5,7.2569635869310867,4.9541781521586516,null,null,null,null,null,203332.8318062679,{"$f":"IF(C16<>\"\",SPmodel!W17+LOG($F$31),\"\")","v":5.308207509090912},{"$f":"SPmodel!X17","v":1.9046906060606075E-2},null,null,{"$f":"IF(Columns!S20<>\"\",Columns!T20,\"\")","v":2.0246061157785089},{"$f":"IF(Columns!S20<>\"\",Columns!U20,\"\")","v":3.5305891862329457E-2},{"$f":"IF(Columns!S20<>\"\",Columns!V20,\"\")","v":"OV-5"},null,{"$f":"IF(Columns!S20<>\"\",Columns!X20,\"\")","v":"5 % diphenylsiloxane"},null,null,null,null,null,null,null,null,null,null,null,{"$f":"IF(AND(Columns!S20<>\"\",Columns!AF20<>0),Columns!AF20,\"\")","v":1.1417604931425959E-2},null,0.41700000000000031,1.390000000000001,6.0000331782254577,9.4165889734170154,15.000000000026523,4.9990858802089253,140,3.4165889704763659,2.9228845700756569E-9,1.7765196671174126E-11,3.8607162484608809E-28,1.6726093828995494E-88,9.9910059554889665E-168,4.5166393576133812E-205,3.2924225743160616E-239,0,0,0,0,0,0,0,0,0,0,0,0,null,null,null,null,15.034085573741383,9.9925399933033388E-3,0,null,null,null,null,null,13.499999999999968,null,0,0,0,0,0,0,0,0,0,0,0,0,0,0,0,0,0,0,0,0,0,0,0,0,0,0,0,0,0,0,0,0,0,0,0,0,0,0,0,0,0,0,0,0,0,0,0,0,0,0,0,0,0,0,0,0,0,0,0,0,0,0,0,0,0,0,0,0,0,0,0,0,0,0,0,0,0,0,0,0,0,0,0,0,0,0,0,0,0,0,0,0,0,0,0,0,0,0,0,0,0,0,0,0,0,0,0,0,0,0,0,0,0,0,0,0,0,0,0,0,0,0,0,0,0,0,null,136,0,15,{"$f":"INDEX($BW$6:$GR$261,$GT141,$BJ$14)","v":0},0]
[12,"","","","",null,null,null,null,null,"",{"$f":"IF(C17<>\"\",SPmodel!W18+LOG($F$31),\"\")","v":""},{"$f":"SPmodel!X18","v":""},null,null,{"$f":"IF(Columns!S21<>\"\",Columns!T21,\"\")","v":1.8054081465708369},{"$f":"IF(Columns!S21<>\"\",Columns!U21,\"\")","v":3.1477259957632647E-2},{"$f":"IF(Columns!S21<>\"\",Columns!V21,\"\")","v":"PTE-5"},null,{"$f":"IF(Columns!S21<>\"\",Columns!X21,\"\")","v":"5 % diphenylsiloxane"},null,null,null,null,null,null,null,null,null,null,null,{"$f":"IF(AND(Columns!S21<>\"\",Columns!AF21<>0),Columns!AF21,\"\")","v":4.0120320801924486E-3},null,0.42000000000000032,1.400000000000001,6.0000202497775668,14.506184319961624,15.000000000032985,4.9973255111373529,141,8.5061842536164232,6.578012617617804E-8,5.6507582549236457E-10,4.6674701358528791E-26,4.716837041282736E-86,1.4404369939261655E-165,4.1459433033030296E-203,1.4211795908012023E-237,0,0,0,0,0,0,0,0,0,0,0,0,null,null,null,null,15.03486755954108,9.9925399933033388E-3,0,null,null,null,null,null,13.599999999999968,null,0,0,0,0,0,0,0,0,0,0,0,0,0,0,0,0,0,0,0,0,0,0,0,0,0,0,0,0,0,0,0,0,0,0,0,0,0,0,0,0,0,0,0,0,0,0,0,0,0,0,0,0,0,0,0,0,0,0,0,0,0,0,0,0,0,0,0,0,0,0,0,0,0,0,0,0,0,0,0,0,0,0,0,0,0,0,0,0,0,0,0,0,0,0,0,0,0,0,0,0,0,0,0,0,0,0,0,0,0,0,0,0,0,0,0,0,0,0,0,0,0,0,0,0,0,0,null,137,0,15,{"$f":"INDEX($BW$6:$GR$261,$GT142,$BJ$14)","v":0},0]
[13,"","","","",null,null,null,null,null,"",{"$f":"IF(C18<>\"\",SPmodel!W19+LOG($F$31),\"\")","v":""},{"$f":"SPmodel!X19","v":""},null,null,{"$f":"IF(Columns!S22<>\"\",Columns!T22,\"\")","v":13.117232643632319},{"$f":"IF(Columns!S22<>\"\",Columns!U22,\"\")","v":0.22843487415056846},{"$f":"IF(Columns!S22<>\"\",Columns!V22,\"\")","v":"Rtx-20"},null,{"$f":"IF(Columns!S22<>\"\",Columns!X22,\"\")","v":"20 % diphenylsiloxane"},null,null,null,null,null,null,null,null,null,null,null,{"$f":"IF(AND(Columns!S22<>\"\",Columns!AF22<>0),Columns!AF22,\"\")","v":8.0482572861728038E-3},null,0.42300000000000032,1.410000000000001,6.0000122055884111,21.625341565969922,15.000000000040977,4.9925233678936696,142,15.625340376236181,1.175462086377733E-6,1.4271654475285664E-8,4.7088359952539851E-24,1.2292434320863209E-83,2.010971655559235E-163,3.7238718417393081E-201,6.0558202574942456E-236,0,0,0,0,0,0,0,0,0,0,0,0,null,null,null,null,15.035664863159107,9.9925399933033388E-3,0,null,null,null,null,null,13.699999999999967,null,0,0,0,0,0,0,0,0,0,0,0,0,0,0,0,0,0,0,0,0,0,0,0,0,0,0,0,0,0,0,0,0,0,0,0,0,0,0,0,0,0,0,0,0,0,0,0,0,0,0,0,0,0,0,0,0,0,0,0,0,0,0,0,0,0,0,0,0,0,0,0,0,0,0,0,0,0,0,0,0,0,0,0,0,0,0,0,0,0,0,0,0,0,0,0,0,0,0,0,0,0,0,0,0,0,0,0,0,0,0,0,0,0,0,0,0,0,0,0,0,0,0,0,0,0,0,null,138,0,15,{"$f":"INDEX($BW$6:$GR$261,$GT143,$BJ$14)","v":0},0]
[14,"","","","",null,null,null,null,null,"",{"$f":"IF(C19<>\"\",SPmodel!W20+LOG($F$31),\"\")","v":""},{"$f":"SPmodel!X20","v":""},null,null,{"$f":"IF(Columns!S23<>\"\",Columns!T23,\"\")","v":18.64253095803728},{"$f":"IF(Columns!S23<>\"\",Columns!U23,\"\")","v":0.32393708110479819},{"$f":"IF(Columns!S23<>\"\",Columns!V23,\"\")","v":"DB-35"},null,{"$f":"IF(Columns!S23<>\"\",Columns!X23,\"\")","v":"35 % diphenylsiloxane"},null,null,null,null,null,null,null,null,null,null,null,{"$f":"IF(AND(Columns!S23<>\"\",Columns!AF23<>0),Columns!AF23,\"\")","v":8.0482572861728038E-3},null,0.42600000000000032,1.420000000000001,6.0000072655586143,27.177621640372283,15.000000000050846,4.9803990244243961,143,21.177604675806666,1.6678363526914434E-5,2.8620209156410893E-7,3.964276460046803E-22,2.9604354847231103E-81,2.718593448814972E-161,3.2728757403824152E-199,2.5473440972349436E-234,0,0,0,0,0,0,0,0,0,0,0,0,null,null,null,null,15.036477716281849,9.9925399933033388E-3,0,null,null,null,null,null,13.799999999999967,null,0,0,0,0,0,0,0,0,0,0,0,0,0,0,0,0,0,0,0,0,0,0,0,0,0,0,0,0,0,0,0,0,0,0,0,0,0,0,0,0,0,0,0,0,0,0,0,0,0,0,0,0,0,0,0,0,0,0,0,0,0,0,0,0,0,0,0,0,0,0,0,0,0,0,0,0,0,0,0,0,0,0,0,0,0,0,0,0,0,0,0,0,0,0,0,0,0,0,0,0,0,0,0,0,0,0,0,0,0,0,0,0,0,0,0,0,0,0,0,0,0,0,0,0,0,0,null,139,0,15,{"$f":"INDEX($BW$6:$GR$261,$GT144,$BJ$14)","v":0},0]
[15,"","","","",null,null,null,null,null,"",{"$f":"IF(C20<>\"\",SPmodel!W21+LOG($F$31),\"\")","v":""},{"$f":"SPmodel!X21","v":""},null,null,{"$f":"IF(Columns!S24<>\"\",Columns!T24,\"\")","v":21.994177849935042},{"$f":"IF(Columns!S24<>\"\",Columns!U24,\"\")","v":0.38151562042313625},{"$f":"IF(Columns!S24<>\"\",Columns!V24,\"\")","v":"Rxi-17"},null,{"$f":"IF(Columns!S24<>\"\",Columns!X24,\"\")","v":"50 % diphenylsiloxane"},null,null,null,null,null,null,null,null,null,null,null,{"$f":"IF(AND(Columns!S24<>\"\",Columns!AF24<>0),Columns!AF24,\"\")","v":8.0482572861728038E-3},null,0.42900000000000033,1.430000000000001,6.0000042712641921,27.177797134066203,15.000000000063023,4.9519890839377458,144,21.177604675806027,1.8790101735017777E-4,4.5572428263378216E-6,2.7850478098152404E-20,6.5887645202873889E-79,3.5588461744743855E-159,2.8146716001005553E-197,1.0577739664943944E-232,0,0,0,0,0,0,0,0,0,0,0,0,null,null,null,null,15.037306352416056,9.9925399933033388E-3,0,null,null,null,null,null,13.899999999999967,null,0,0,0,0,0,0,0,0,0,0,0,0,0,0,0,0,0,0,0,0,0,0,0,0,0,0,0,0,0,0,0,0,0,0,0,0,0,0,0,0,0,0,0,0,0,0,0,0,0,0,0,0,0,0,0,0,0,0,0,0,0,0,0,0,0,0,0,0,0,0,0,0,0,0,0,0,0,0,0,0,0,0,0,0,0,0,0,0,0,0,0,0,0,0,0,0,0,0,0,0,0,0,0,0,0,0,0,0,0,0,0,0,0,0,0,0,0,0,0,0,0,0,0,0,0,0,null,140,0,15,{"$f":"INDEX($BW$6:$GR$261,$GT145,$BJ$14)","v":0},0]
[16,"","","","",null,null,null,null,null,"",{"$f":"IF(C21<>\"\",SPmodel!W22+LOG($F$31),\"\")","v":""},{"$f":"SPmodel!X22","v":""},null,null,{"$f":"IF(Columns!S25<>\"\",Columns!T25,\"\")","v":22.258331150832035},{"$f":"IF(Columns!S25<>\"\",Columns!U25,\"\")","v":0.38604031797763344},{"$f":"IF(Columns!S25<>\"\",Columns!V25,\"\")","v":"Rxi-17-240"},null,{"$f":"IF(Columns!S25<>\"\",Columns!X25,\"\")","v":"50% poly(dimethyldiphenylsiloxane) Extended temperature range"},null,null,null,null,null,null,null,null,null,null,null,{"$f":"IF(AND(Columns!S25<>\"\",Columns!AF25<>0),Columns!AF25,\"\")","v":""},null,0.43200000000000033,1.4400000000000011,6.0000024801512097,21.627078870941844,15.000000000078028,4.8902103472989742,145,15.625340376234758,1.6808761440889918E-3,5.7618562996342271E-5,1.6327501357113022E-18,1.3551365281474112E-76,4.5112905773804858E-157,2.3685871488828189E-195,4.335994848128764E-231,0,0,0,0,0,0,0,0,0,0,0,0,null,null,null,null,15.038151006860884,9.9925399933033388E-3,0,null,null,null,null,null,13.999999999999966,null,0,0,0,0,0,0,0,0,0,0,0,0,0,0,0,0,0,0,0,0,0,0,0,0,0,0,0,0,0,0,0,0,0,0,0,0,0,0,0,0,0,0,0,0,0,0,0,0,0,0,0,0,0,0,0,0,0,0,0,0,0,0,0,0,0,0,0,0,0,0,0,0,0,0,0,0,0,0,0,0,0,0,0,0,0,0,0,0,0,0,0,0,0,0,0,0,0,0,0,0,0,0,0,0,0,0,0,0,0,0,0,0,0,0,0,0,0,0,0,0,0,0,0,0,0,0,null,141,0,15,{"$f":"INDEX($BW$6:$GR$261,$GT146,$BJ$14)","v":0},0]
[17,"","","","",null,null,null,null,null,"",{"$f":"IF(C22<>\"\",SPmodel!W23+LOG($F$31),\"\")","v":""},{"$f":"SPmodel!X23","v":""},null,null,{"$f":"IF(Columns!S26<>\"\",Columns!T26,\"\")","v":25.300317371643271},{"$f":"IF(Columns!S26<>\"\",Columns!U26,\"\")","v":0.43799273410702966},{"$f":"IF(Columns!S26<>\"\",Columns!V26,\"\")","v":"Rtx-65"},null,{"$f":"IF(Columns!S26<>\"\",Columns!X26,\"\")","v":"65 % diphenylsiloxane"},null,null,null,null,null,null,null,null,null,null,null,{"$f":"IF(AND(Columns!S26<>\"\",Columns!AF26<>0),Columns!AF26,\"\")","v":""},null,0.43500000000000033,1.4500000000000011,6.0000014243439299,14.518701831040476,15.000000000096497,4.765646157854408,146,8.5061842536151318,1.1939143759479154E-2,5.7843366586522553E-4,7.9877627002904982E-17,2.5756852929002261E-74,5.5375673342116671E-155,1.9503584194607535E-193,1.7545884408348265E-229,0,0,0,0,0,0,0,0,0,0,0,0,null,null,null,null,15.039011916678621,9.9925399933033388E-3,0,null,null,null,null,null,14.099999999999966,null,0,0,0,0,0,0,0,0,0,0,0,0,0,0,0,0,0,0,0,0,0,0,0,0,0,0,0,0,0,0,0,0,0,0,0,0,0,0,0,0,0,0,0,0,0,0,0,0,0,0,0,0,0,0,0,0,0,0,0,0,0,0,0,0,0,0,0,0,0,0,0,0,0,0,0,0,0,0,0,0,0,0,0,0,0,0,0,0,0,0,0,0,0,0,0,0,0,0,0,0,0,0,0,0,0,0,0,0,0,0,0,0,0,0,0,0,0,0,0,0,0,0,0,0,0,0,null,142,0,15,{"$f":"INDEX($BW$6:$GR$261,$GT147,$BJ$14)","v":0},0]
[18,"","","","",null,null,null,null,null,"",{"$f":"IF(C23<>\"\",SPmodel!W24+LOG($F$31),\"\")","v":""},{"$f":"SPmodel!X24","v":""},null,null,{"$f":"IF(Columns!S27<>\"\",Columns!T27,\"\")","v":23.781657274890808},{"$f":"IF(Columns!S27<>\"\",Columns!U27,\"\")","v":0.41209267808657868},{"$f":"IF(Columns!S27<>\"\",Columns!V27,\"\")","v":"Rtx-50"},null,{"$f":"IF(Columns!S27<>\"\",Columns!X27,\"\")","v":"(iii) Poly(methylphenylsiloxane)"},null,null,null,null,null,null,null,null,null,null,null,{"$f":"IF(AND(Columns!S27<>\"\",Columns!AF27<>0),Columns!AF27,\"\")","v":8.0482572861728038E-3},null,0.43800000000000033,1.4600000000000011,6.0000008193732324,9.4885348671526408,15.000000000119202,4.5330618920456454,147,3.4165889704756403,6.7335104084502412E-2,4.6107925924951084E-3,3.2609859870038338E-15,4.5241107183348062E-72,6.5820908553165563E-153,1.5714584900241761E-191,7.0089408247566782E-228,0,0,0,0,0,0,0,0,0,0,0,0,null,null,null,null,15.039889320664113,9.9925399933033388E-3,0,null,null,null,null,null,14.199999999999966,null,0,0,0,0,0,0,0,0,0,0,0,0,0,0,0,0,0,0,0,0,0,0,0,0,0,0,0,0,0,0,0,0,0,0,0,0,0,0,0,0,0,0,0,0,0,0,0,0,0,0,0,0,0,0,0,0,0,0,0,0,0,0,0,0,0,0,0,0,0,0,0,0,0,0,0,0,0,0,0,0,0,0,0,0,0,0,0,0,0,0,0,0,0,0,0,0,0,0,0,0,0,0,0,0,0,0,0,0,0,0,0,0,0,0,0,0,0,0,0,0,0,0,0,0,0,0,null,143,0,15,{"$f":"INDEX($BW$6:$GR$261,$GT148,$BJ$14)","v":0},0]
[19,"","","","",null,null,null,null,null,"",{"$f":"IF(C24<>\"\",SPmodel!W25+LOG($F$31),\"\")","v":""},{"$f":"SPmodel!X25","v":""},null,null,{"$f":"IF(Columns!S28<>\"\",Columns!T28,\"\")","v":22.868874191114163},{"$f":"IF(Columns!S28<>\"\",Columns!U28,\"\")","v":0.39649045291327323},{"$f":"IF(Columns!S28<>\"\",Columns!V28,\"\")","v":"Rxi-50"},null,{"$f":"IF(Columns!S28<>\"\",Columns!X28,\"\")","v":"(iii) Poly(methylphenylsiloxane)"},null,null,null,null,null,null,null,null,null,null,null,{"$f":"IF(AND(Columns!S28<>\"\",Columns!AF28<>0),Columns!AF28,\"\")","v":8.0482572861728038E-3},null,0.44100000000000034,1.4700000000000011,6.000000524261865,7.3432393718324391,15.000000000147084,4.1315876097938586,148,1.0125193528938374,0.30153711551468509,2.9182903423805907E-2,1.1109411740454407E-13,7.3435208461191589E-70,7.5759196412162093E-151,1.2389529702100831E-189,2.7638861254492855E-226,0,0,0,0,0,0,0,0,0,0,0,0,null,null,null,null,15.040783459312831,9.9925399933033388E-3,0,null,null,null,null,null,14.299999999999965,null,0,0,0,0,0,0,0,0,0,0,0,0,0,0,0,0,0,0,0,0,0,0,0,0,0,0,0,0,0,0,0,0,0,0,0,0,0,0,0,0,0,0,0,0,0,0,0,0,0,0,0,0,0,0,0,0,0,0,0,0,0,0,0,0,0,0,0,0,0,0,0,0,0,0,0,0,0,0,0,0,0,0,0,0,0,0,0,0,0,0,0,0,0,0,0,0,0,0,0,0,0,0,0,0,0,0,0,0,0,0,0,0,0,0,0,0,0,0,0,0,0,0,0,0,0,0,null,144,0,15,{"$f":"INDEX($BW$6:$GR$261,$GT149,$BJ$14)","v":0},0]
[20,"","","","",null,null,null,null,null,"",{"$f":"IF(C25<>\"\",SPmodel!W26+LOG($F$31),\"\")","v":""},{"$f":"SPmodel!X26","v":""},null,null,{"$f":"IF(Columns!S29<>\"\",Columns!T29,\"\")","v":23.740264583946075},{"$f":"IF(Columns!S29<>\"\",Columns!U29,\"\")","v":0.41138571040875804},{"$f":"IF(Columns!S29<>\"\",Columns!V29,\"\")","v":"Rxi-50-240"},null,{"$f":"IF(Columns!S29<>\"\",Columns!X29,\"\")","v":"50% poly(dimethyldiphenylsiloxane) Extended temperature range"},null,null,null,null,null,null,null,null,null,null,null,{"$f":"IF(AND(Columns!S29<>\"\",Columns!AF29<>0),Columns!AF29,\"\")","v":6.2794194239443402E-3},null,0.44400000000000034,1.4800000000000011,6.0000006061396096,7.4402424834883467,15.000000000181284,3.4924080226622416,149,0.22139437415083876,1.0721879018171545,0.14666020751719513,3.1582866586716041E-12,1.1015548317042207E-67,8.4437133253531312E-149,9.5580687946000853E-188,1.075916384536478E-224,0,0,0,0,0,0,0,0,0,0,0,0,null,null,null,null,15.041694574787615,9.9925399933033388E-3,0,null,null,null,null,null,14.399999999999965,null,0,0,0,0,0,0,0,0,0,0,0,0,0,0,0,0,0,0,0,0,0,0,0,0,0,0,0,0,0,0,0,0,0,0,0,0,0,0,0,0,0,0,0,0,0,0,0,0,0,0,0,0,0,0,0,0,0,0,0,0,0,0,0,0,0,0,0,0,0,0,0,0,0,0,0,0,0,0,0,0,0,0,0,0,0,0,0,0,0,0,0,0,0,0,0,0,0,0,0,0,0,0,0,0,0,0,0,0,0,0,0,0,0,0,0,0,0,0,0,0,0,0,0,0,0,0,null,145,0,15,{"$f":"INDEX($BW$6:$GR$261,$GT150,$BJ$14)","v":0},0]
[null,null,null,null,null,null,null,null,null,null,null,null,null,null,null,{"$f":"IF(Columns!S30<>\"\",Columns!T30,\"\")","v":22.476369816546139},{"$f":"IF(Columns!S30<>\"\",Columns!U30,\"\")","v":0.38977357027260706},{"$f":"IF(Columns!S30<>\"\",Columns!V30,\"\")","v":"HP-50+"},null,{"$f":"IF(Columns!S30<>\"\",Columns!X30,\"\")","v":"(iii) Poly(methylphenylsiloxane)"},null,null,null,null,null,null,null,null,null,null,null,{"$f":"IF(AND(Columns!S30<>\"\",Columns!AF30<>0),Columns!AF30,\"\")","v":""},null,0.44700000000000034,1.4900000000000011,6.0000017461299455,9.6480840284039182,15.000000000223187,2.5568155533671217,150,3.5717617191773784E-2,3.0271358751632711,0.58523053597394736,7.4925626109311894E-11,1.5269984209513697E-65,9.1129342045695046E-147,7.2152088442911511E-186,4.1345430630178954E-223,0,0,0,0,0,0,0,0,0,0,0,0,null,null,null,null,15.04262291088402,9.9925399933033388E-3,0,null,null,null,null,null,14.499999999999964,null,0,0,0,0,0,0,0,0,0,0,0,0,0,0,0,0,0,0,0,0,0,0,0,0,0,0,0,0,0,0,0,0,0,0,0,0,0,0,0,0,0,0,0,0,0,0,0,0,0,0,0,0,0,0,0,0,0,0,0,0,0,0,0,0,0,0,0,0,0,0,0,0,0,0,0,0,0,0,0,0,0,0,0,0,0,0,0,0,0,0,0,0,0,0,0,0,0,0,0,0,0,0,0,0,0,0,0,0,0,0,0,0,0,0,0,0,0,0,0,0,0,0,0,0,0,0,null,146,0,15,{"$f":"INDEX($BW$6:$GR$261,$GT151,$BJ$14)","v":0},0]
[null,null,"Max wrap around:",null,{"$f":"ROUNDDOWN(MAX(E131:E150)/(60*$C$31),0)","v":0},null,null,null,null,null,null,null,null,null,null,{"$f":"IF(Columns!S31<>\"\",Columns!T31,\"\")","v":0.66897857458297993},{"$f":"IF(Columns!S31<>\"\",Columns!U31,\"\")","v":1.1589848829829207E-2},{"$f":"IF(Columns!S31<>\"\",Columns!V31,\"\")","v":"DB-5ms"},null,{"$f":"IF(Columns!S31<>\"\",Columns!X31,\"\")","v":"5 % 1,4-bis(dimethylsiloxane)phenylene"},null,null,null,null,null,null,null,null,null,null,null,{"$f":"IF(AND(Columns!S31<>\"\",Columns!AF31<>0),Columns!AF31,\"\")","v":1.6194068678459937E-2},null,0.45000000000000034,1.5000000000000011,6.0000068447228863,14.644675381901717,15.000000000274463,1.3035199071245818,151,4.2515865595734769E-3,6.7861556040997844,1.8542681897590632,1.4832951205753738E-9,1.9561481204527369E-63,9.523785892024908E-145,5.3295566619741825E-184,1.5684372246536698E-221,0,0,0,0,0,0,0,0,0,0,0,0,null,null,null,null,15.043568712994311,9.9925399933033388E-3,0,null,null,null,null,null,14.599999999999964,null,0,0,0,0,0,0,0,0,0,0,0,0,0,0,0,0,0,0,0,0,0,0,0,0,0,0,0,0,0,0,0,0,0,0,0,0,0,0,0,0,0,0,0,0,0,0,0,0,0,0,0,0,0,0,0,0,0,0,0,0,0,0,0,0,0,0,0,0,0,0,0,0,0,0,0,0,0,0,0,0,0,0,0,0,0,0,0,0,0,0,0,0,0,0,0,0,0,0,0,0,0,0,0,0,0,0,0,0,0,0,0,0,0,0,0,0,0,0,0,0,0,0,0,0,0,0,null,147,0,15,{"$f":"INDEX($BW$6:$GR$261,$GT152,$BJ$14)","v":0},0]
[null,null,null,null,null,null,null,null,null,null,null,null,null,null,null,{"$f":"IF(Columns!S32<>\"\",Columns!T32,\"\")","v":0.94241544494112695},{"$f":"IF(Columns!S32<>\"\",Columns!U32,\"\")","v":1.6387156821694941E-2},{"$f":"IF(Columns!S32<>\"\",Columns!V32,\"\")","v":"ZB-5MS"},null,{"$f":"IF(Columns!S32<>\"\",Columns!X32,\"\")","v":"(iv) Silarylene-siloxane and similar copolymers"},null,null,null,null,null,null,null,null,null,null,null,{"$f":"IF(AND(Columns!S32<>\"\",Columns!AF32<>0),Columns!AF32,\"\")","v":8.0482572861728038E-3},null,0.45300000000000035,1.5100000000000011,6.0000266146395944,22.74477938170693,15.000000000337144,-0.22235733705213168,152,3.7339820179789761E-4,12.079434365180619,4.6649715938201677,2.4504345526666653E-8,2.3157707593707478E-61,9.6380160659698518E-143,3.8520923003449849E-182,5.8735055789534657E-220,0,0,0,0,0,0,0,0,0,0,0,0,null,null,null,null,15.044532228070032,9.9925399933033388E-3,0,null,null,null,null,null,14.699999999999964,null,0,0,0,0,0,0,0,0,0,0,0,0,0,0,0,0,0,0,0,0,0,0,0,0,0,0,0,0,0,0,0,0,0,0,0,0,0,0,0,0,0,0,0,0,0,0,0,0,0,0,0,0,0,0,0,0,0,0,0,0,0,0,0,0,0,0,0,0,0,0,0,0,0,0,0,0,0,0,0,0,0,0,0,0,0,0,0,0,0,0,0,0,0,0,0,0,0,0,0,0,0,0,0,0,0,0,0,0,0,0,0,0,0,0,0,0,0,0,0,0,0,0,0,0,0,0,null,148,0,15,{"$f":"INDEX($BW$6:$GR$261,$GT153,$BJ$14)","v":0},0]
[null,null,null,null,null,null,null,null,null,null,null,null,null,null,null,{"$f":"IF(Columns!S33<>\"\",Columns!T33,\"\")","v":2.2684758881242848},{"$f":"IF(Columns!S33<>\"\",Columns!U33,\"\")","v":3.9564520228780403E-2},{"$f":"IF(Columns!S33<>\"\",Columns!V33,\"\")","v":"HP-5TA"},null,{"$f":"IF(Columns!S33<>\"\",Columns!X33,\"\")","v":"(iv) Silarylene-siloxane and similar copolymers"},null,null,null,null,null,null,null,null,null,null,null,{"$f":"IF(AND(Columns!S33<>\"\",Columns!AF33<>0),Columns!AF33,\"\")","v":1.6019220500498371E-3},null,0.45600000000000035,1.5200000000000011,6.0000973709318748,32.391370049927076,15.000000000413671,-1.8922015237129237,153,2.4196138871392559E-5,17.072623744077603,9.3187217718971009,3.3781349867729534E-7,2.5334951407179016E-59,9.4447899228682633E-141,2.7243676143312351E-180,2.1712921043283226E-218,0,0,0,0,0,0,0,0,0,0,0,0,null,null,null,null,15.04551370458319,9.9925399933033388E-3,0,null,null,null,null,null,14.799999999999963,null,0,0,0,0,0,0,0,0,0,0,0,0,0,0,0,0,0,0,0,0,0,0,0,0,0,0,0,0,0,0,0,0,0,0,0,0,0,0,0,0,0,0,0,0,0,0,0,0,0,0,0,0,0,0,0,0,0,0,0,0,0,0,0,0,0,0,0,0,0,0,0,0,0,0,0,0,0,0,0,0,0,0,0,0,0,0,0,0,0,0,0,0,0,0,0,0,0,0,0,0,0,0,0,0,0,0,0,0,0,0,0,0,0,0,0,0,0,0,0,0,0,0,0,0,0,0,null,149,0,15,{"$f":"INDEX($BW$6:$GR$261,$GT154,$BJ$14)","v":0},0]
[null,null,null,7,4.3915538025781924,0.39279251317650116,8.9442719099991588E-2,null,{"$f":"E155*G155","v":0.39279251317650116},null,null,null,null,null,null,{"$f":"IF(Columns!S34<>\"\",Columns!T34,\"\")","v":8.0767276215637178},{"$f":"IF(Columns!S34<>\"\",Columns!U34,\"\")","v":0.14084170364605142},{"$f":"IF(Columns!S34<>\"\",Columns!V34,\"\")","v":"Rxi-5Sil MS"},null,{"$f":"IF(Columns!S34<>\"\",Columns!X34,\"\")","v":"(iv) Silarylene-siloxane and similar copolymers"},null,null,null,null,null,null,null,null,null,null,null,{"$f":"IF(AND(Columns!S34<>\"\",Columns!AF34<>0),Columns!AF34,\"\")","v":8.0482572861728038E-3},null,0.45900000000000035,1.5300000000000011,6.0003328642676168,39.940219325576514,15.000000000506997,-3.5033097698652114,154,1.1568380488555713E-6,19.159528893017605,14.780685389484207,3.8862366547492713E-6,2.5613873827920577E-57,8.9623849379030855E-139,1.8853767909930955E-178,7.9237313687395845E-217,0,0,0,0,0,0,0,0,0,0,0,0,null,null,null,null,15.04651339248599,9.9925399933033388E-3,0,null,null,null,null,null,14.899999999999963,null,0,0,0,0,0,0,0,0,0,0,0,0,0,0,0,0,0,0,0,0,0,0,0,0,0,0,0,0,0,0,0,0,0,0,0,0,0,0,0,0,0,0,0,0,0,0,0,0,0,0,0,0,0,0,0,0,0,0,0,0,0,0,0,0,0,0,0,0,0,0,0,0,0,0,0,0,0,0,0,0,0,0,0,0,0,0,0,0,0,0,0,0,0,0,0,0,0,0,0,0,0,0,0,0,0,0,0,0,0,0,0,0,0,0,0,0,0,0,0,0,0,0,0,0,0,0,null,150,0,15,{"$f":"INDEX($BW$6:$GR$261,$GT155,$BJ$14)","v":0},0]
[null,null,7,"Indole",4.3915538025781924,0.40733898369449018,8.9442719099991588E-2,null,{"$f":"E156*G156","v":0.39279251317650116},null,null,null,null,null,null,{"$f":"IF(Columns!S35<>\"\",Columns!T35,\"\")","v":18.872543498650277},{"$f":"IF(Columns!S35<>\"\",Columns!U35,\"\")","v":0.32789793083749402},{"$f":"IF(Columns!S35<>\"\",Columns!V35,\"\")","v":"DB-35ms"},null,{"$f":"IF(Columns!S35<>\"\",Columns!X35,\"\")","v":"35 % 1,4-bis(dimethylsiloxane)phenylene"},null,null,null,null,null,null,null,null,null,null,null,{"$f":"IF(AND(Columns!S35<>\"\",Columns!AF35<>0),Columns!AF35,\"\")","v":8.0482572861728038E-3},null,0.46200000000000035,1.5400000000000011,6.0010622668695017,41.687688797708141,15.000000000620682,-4.8218705643861757,155,4.0808601301110366E-8,17.072623744076729,18.615027705005613,3.7307817198980625E-5,2.3931015972942347E-55,8.2353396915946798E-137,1.2767151959691073E-176,2.8545118953377806E-215,0,0,0,0,0,0,0,0,0,0,0,0,null,null,null,null,15.047531543169157,9.9925399933033388E-3,0,null,null,null,null,null,14.999999999999963,null,0,0,0,0,0,0,0,0,0,0,0,0,0,0,0,0,0,0,0,0,0,0,0,0,0,0,0,0,0,0,0,0,0,0,0,0,0,0,0,0,0,0,0,0,0,0,0,0,0,0,0,0,0,0,0,0,0,0,0,0,0,0,0,0,0,0,0,0,0,0,0,0,0,0,0,0,0,0,0,0,0,0,0,0,0,0,0,0,0,0,0,0,0,0,0,0,0,0,0,0,0,0,0,0,0,0,0,0,0,0,0,0,0,0,0,0,0,0,0,0,0,0,0,0,0,0,null,151,0,15,{"$f":"INDEX($BW$6:$GR$261,$GT156,$BJ$14)","v":0},0]
[null,null,null,null,null,null,null,null,null,null,null,null,null,null,null,{"$f":"IF(Columns!S36<>\"\",Columns!T36,\"\")","v":23.226090697247876},{"$f":"IF(Columns!S36<>\"\",Columns!U36,\"\")","v":0.40259941579499514},{"$f":"IF(Columns!S36<>\"\",Columns!V36,\"\")","v":"DB-17ms"},null,{"$f":"IF(Columns!S36<>\"\",Columns!X36,\"\")","v":"50 % 1,4-bis(dimethylsiloxane)phenylene"},null,null,null,null,null,null,null,null,null,null,null,{"$f":"IF(AND(Columns!S36<>\"\",Columns!AF36<>0),Columns!AF36,\"\")","v":4.0120320801924486E-3},null,0.46500000000000036,1.5500000000000012,6.0031642649582393,36.69476094569589,15.000000000759004,-5.6518778781791692,156,1.0621442559501601E-9,12.079434365179383,18.615027705005087,2.9887444927376752E-4,2.0662253614925486E-53,7.3276729272411911E-135,8.459668046414227E-175,1.0151368511759042E-213,0,0,0,0,0,0,0,0,0,0,0,0,null,null,null,null,15.048568409418777,9.9925399933033388E-3,0,null,null,null,null,null,15.099999999999962,null,0,0,0,0,0,0,0,0,0,0,0,0,0,0,0,0,0,0,0,0,0,0,0,0,0,0,0,0,0,0,0,0,0,0,0,0,0,0,0,0,0,0,0,0,0,0,0,0,0,0,0,0,0,0,0,0,0,0,0,0,0,0,0,0,0,0,0,0,0,0,0,0,0,0,0,0,0,0,0,0,0,0,0,0,0,0,0,0,0,0,0,0,0,0,0,0,0,0,0,0,0,0,0,0,0,0,0,0,0,0,0,0,0,0,0,0,0,0,0,0,0,0,0,0,0,0,null,152,0,15,{"$f":"INDEX($BW$6:$GR$261,$GT157,$BJ$14)","v":0},0]
[null,null,null,null,null,null,null,null,null,null,null,null,null,null,null,{"$f":"IF(Columns!S37<>\"\",Columns!T37,\"\")","v":13.824723667449746},{"$f":"IF(Columns!S37<>\"\",Columns!U37,\"\")","v":0.24069790164912142},{"$f":"IF(Columns!S37<>\"\",Columns!V37,\"\")","v":"Stx-500"},null,{"$f":"IF(Columns!S37<>\"\",Columns!X37,\"\")","v":"Carborane-siloxane copolymer containing 5 % phenyl"},null,null,null,null,null,null,null,null,null,null,null,{"$f":"IF(AND(Columns!S37<>\"\",Columns!AF37<>0),Columns!AF37,\"\")","v":2.4043269223830068E-3},null,0.46800000000000036,1.5600000000000012,6.0087978504306623,27.568838996389971,15.000000000927107,-5.9071671341218011,157,2.0397077659477264E-11,6.7861556040987425,14.780685389482956,1.9980027878767881E-3,1.6486365341605631E-51,6.3136029833607464E-133,5.4849925179533323E-173,3.5637559321677938E-212,0,0,0,0,0,0,0,0,0,0,0,0,null,null,null,null,15.0496242453717,9.9925399933033388E-3,0,null,null,null,null,null,15.199999999999962,null,0,0,0,0,0,0,0,0,0,0,0,0,0,0,0,0,0,0,0,0,0,0,0,0,0,0,0,0,0,0,0,0,0,0,0,0,0,0,0,0,0,0,0,0,0,0,0,0,0,0,0,0,0,0,0,0,0,0,0,0,0,0,0,0,0,0,0,0,0,0,0,0,0,0,0,0,0,0,0,0,0,0,0,0,0,0,0,0,0,0,0,0,0,0,0,0,0,0,0,0,0,0,0,0,0,0,0,0,0,0,0,0,0,0,0,0,0,0,0,0,0,0,0,0,0,0,null,153,0,15,{"$f":"INDEX($BW$6:$GR$261,$GT158,$BJ$14)","v":0},0]
[null,null,null,null,null,null,null,null,null,null,null,null,null,null,null,{"$f":"IF(Columns!S38<>\"\",Columns!T38,\"\")","v":35.64839607950131},{"$f":"IF(Columns!S38<>\"\",Columns!U38,\"\")","v":0.61219315792896745},{"$f":"IF(Columns!S38<>\"\",Columns!V38,\"\")","v":"DB-200"},null,{"$f":"IF(Columns!S38<>\"\",Columns!X38,\"\")","v":"35 % 3,3,3-trifluoropropylmethylsiloxane"},null,null,null,null,null,null,null,null,null,null,null,{"$f":"IF(AND(Columns!S38<>\"\",Columns!AF38<>0),Columns!AF38,\"\")","v":8.0482572861728038E-3},null,0.47100000000000036,1.5700000000000012,6.0228319795701859,18.357003716467631,15.000000001131168,-5.6571928472775461,158,2.8900479184406613E-13,3.0271358751626507,9.31872177189579,1.1146069408900313E-2,1.2156339821500613E-49,5.267627973853449E-131,3.4798632731814463E-171,1.2350425941631547E-210,0,0,0,0,0,0,0,0,0,0,0,0,null,null,null,null,15.050699306469451,9.9925399933033388E-3,0,null,null,null,null,null,15.299999999999962,null,0,0,0,0,0,0,0,0,0,0,0,0,0,0,0,0,0,0,0,0,0,0,0,0,0,0,0,0,0,0,0,0,0,0,0,0,0,0,0,0,0,0,0,0,0,0,0,0,0,0,0,0,0,0,0,0,0,0,0,0,0,0,0,0,0,0,0,0,0,0,0,0,0,0,0,0,0,0,0,0,0,0,0,0,0,0,0,0,0,0,0,0,0,0,0,0,0,0,0,0,0,0,0,0,0,0,0,0,0,0,0,0,0,0,0,0,0,0,0,0,0,0,0,0,0,0,null,154,0,15,{"$f":"INDEX($BW$6:$GR$261,$GT159,$BJ$14)","v":0},0]
[null,null,null,null,null,null,null,null,null,null,null,null,null,null,null,{"$f":"IF(Columns!S39<>\"\",Columns!T39,\"\")","v":39.637334705376141},{"$f":"IF(Columns!S39<>\"\",Columns!U39,\"\")","v":0.67808742043119219},{"$f":"IF(Columns!S39<>\"\",Columns!V39,\"\")","v":"DB-210"},null,{"$f":"IF(Columns!S39<>\"\",Columns!X39,\"\")","v":"50 % 3,3,3-trifluoropropylmethylsiloxane"},null,null,null,null,null,null,null,null,null,null,null,{"$f":"IF(AND(Columns!S39<>\"\",Columns!AF39<>0),Columns!AF39,\"\")","v":3.1323395073973664E-3},null,0.47400000000000037,1.5800000000000012,6.0553061760618645,11.789047354346053,15.000000001378593,-5.1244614768030754,159,3.0213065167854616E-15,1.0721879018168803,4.6649715938192475,5.1887858709922484E-2,8.2834532351764631E-48,4.2557837883014836E-129,2.1602884555812839E-169,4.2251929005795832E-209,0,0,0,0,0,0,0,0,0,0,0,0,null,null,null,null,15.05179384941065,9.9925399933033388E-3,0,null,null,null,null,null,15.399999999999961,null,0,0,0,0,0,0,0,0,0,0,0,0,0,0,0,0,0,0,0,0,0,0,0,0,0,0,0,0,0,0,0,0,0,0,0,0,0,0,0,0,0,0,0,0,0,0,0,0,0,0,0,0,0,0,0,0,0,0,0,0,0,0,0,0,0,0,0,0,0,0,0,0,0,0,0,0,0,0,0,0,0,0,0,0,0,0,0,0,0,0,0,0,0,0,0,0,0,0,0,0,0,0,0,0,0,0,0,0,0,0,0,0,0,0,0,0,0,0,0,0,0,0,0,0,0,0,null,155,0,15,{"$f":"INDEX($BW$6:$GR$261,$GT160,$BJ$14)","v":0},0]
[null,null,null,null,null,null,null,null,null,null,null,null,null,null,null,{"$f":"IF(Columns!S40<>\"\",Columns!T40,\"\")","v":5.7689476159484014},{"$f":"IF(Columns!S40<>\"\",Columns!U40,\"\")","v":0.10063466772498603},{"$f":"IF(Columns!S40<>\"\",Columns!V40,\"\")","v":"DB-XLB"},null,{"$f":"IF(Columns!S40<>\"\",Columns!X40,\"\")","v":"Proprietary (similar to DB-5 ms but more dipolar/polarizable)"},null,null,null,null,null,null,null,null,null,null,null,{"$f":"IF(AND(Columns!S40<>\"\",Columns!AF40<>0),Columns!AF40,\"\")","v":8.0482572861728038E-3},null,0.47700000000000037,1.5900000000000012,6.1250451282800373,8.3573763313822234,15.00000000167825,-4.6299734327650697,160,2.3304360014955073E-17,0.30153711551459245,1.8542681897585929,0.20157102610903835,5.2161575211126332E-46,3.3294358412235913E-127,1.3122746291669485E-167,1.4269270470816311E-207,0,0,0,0,0,0,0,0,0,0,0,0,null,null,null,null,15.052908132101953,9.9925399933033388E-3,0,null,null,null,null,null,15.499999999999961,null,0,0,0,0,0,0,0,0,0,0,0,0,0,0,0,0,0,0,0,0,0,0,0,0,0,0,0,0,0,0,0,0,0,0,0,0,0,0,0,0,0,0,0,0,0,0,0,0,0,0,0,0,0,0,0,0,0,0,0,0,0,0,0,0,0,0,0,0,0,0,0,0,0,0,0,0,0,0,0,0,0,0,0,0,0,0,0,0,0,0,0,0,0,0,0,0,0,0,0,0,0,0,0,0,0,0,0,0,0,0,0,0,0,0,0,0,0,0,0,0,0,0,0,0,0,0,null,156,0,15,{"$f":"INDEX($BW$6:$GR$261,$GT161,$BJ$14)","v":0},0]
[null,null,null,null,null,null,null,null,null,null,null,null,null,null,null,{"$f":"IF(Columns!S41<>\"\",Columns!T41,\"\")","v":6.9677942606856957},{"$f":"IF(Columns!S41<>\"\",Columns!U41,\"\")","v":0.12152779819713018},{"$f":"IF(Columns!S41<>\"\",Columns!V41,\"\")","v":"DB-VRX"},null,{"$f":"IF(Columns!S41<>\"\",Columns!X41,\"\")","v":"Proprietary (similar to DB-5)"},null,null,null,null,null,null,null,null,null,null,null,{"$f":"IF(AND(Columns!S41<>\"\",Columns!AF41<>0),Columns!AF41,\"\")","v":8.0482572861728038E-3},null,0.48000000000000037,1.6000000000000012,6.2638900933935178,7.3060103053846941,15.000000002040743,-4.5033163319746894,161,1.3262708481404185E-19,6.7335104084478237E-2,0.58523053597376617,0.65344466532645018,3.0354330039114128E-44,2.5222514413874734E-125,7.800117475064157E-166,4.7571585002945733E-206,0,0,0,0,0,0,0,0,0,0,0,0,null,null,null,null,15.054042413607455,9.9925399933033388E-3,0,null,null,null,null,null,15.599999999999961,null,0,0,0,0,0,0,0,0,0,0,0,0,0,0,0,0,0,0,0,0,0,0,0,0,0,0,0,0,0,0,0,0,0,0,0,0,0,0,0,0,0,0,0,0,0,0,0,0,0,0,0,0,0,0,0,0,0,0,0,0,0,0,0,0,0,0,0,0,0,0,0,0,0,0,0,0,0,0,0,0,0,0,0,0,0,0,0,0,0,0,0,0,0,0,0,0,0,0,0,0,0,0,0,0,0,0,0,0,0,0,0,0,0,0,0,0,0,0,0,0,0,0,0,0,0,0,null,157,0,15,{"$f":"INDEX($BW$6:$GR$261,$GT162,$BJ$14)","v":0},0]
[null,"Workspace for Sort algorithm",null,null,null,null,null,null,null,null,null,null,null,null,null,{"$f":"IF(Columns!S42<>\"\",Columns!T42,\"\")","v":6.8901028188685594},{"$f":"IF(Columns!S42<>\"\",Columns!U42,\"\")","v":0.1201742121827248},{"$f":"IF(Columns!S42<>\"\",Columns!V42,\"\")","v":"Rtx-440"},null,{"$f":"IF(Columns!S42<>\"\",Columns!X42,\"\")","v":"Proprietary (for non-hydrogen-bond acids similar to DB-XLB)"},null,null,null,null,null,null,null,null,null,null,null,{"$f":"IF(AND(Columns!S42<>\"\",Columns!AF42<>0),Columns!AF42,\"\")","v":8.0482572861728038E-3},null,0.48300000000000037,1.6100000000000012,6.5198077584155296,7.9262965724126619,15.000000002478743,-4.9864444319925525,162,5.5690346028374435E-22,1.1939143759474245E-2,0.14666020751714146,1.7676972211360462,1.6323800790441623E-42,1.8502599203059706E-123,4.5367095729586355E-164,1.56561183710835E-204,0,0,0,0,0,0,0,0,0,0,0,0,null,null,null,null,15.055196954096594,9.9925399933033388E-3,0,null,null,null,null,null,15.69999999999996,null,0,0,0,0,0,0,0,0,0,0,0,0,0,0,0,0,0,0,0,0,0,0,0,0,0,0,0,0,0,0,0,0,0,0,0,0,0,0,0,0,0,0,0,0,0,0,0,0,0,0,0,0,0,0,0,0,0,0,0,0,0,0,0,0,0,0,0,0,0,0,0,0,0,0,0,0,0,0,0,0,0,0,0,0,0,0,0,0,0,0,0,0,0,0,0,0,0,0,0,0,0,0,0,0,0,0,0,0,0,0,0,0,0,0,0,0,0,0,0,0,0,0,0,0,0,0,null,158,0,15,{"$f":"INDEX($BW$6:$GR$261,$GT163,$BJ$14)","v":0},0]
[null,"Name","Conc","1Dref","2Dref","1D tR","1D w","2D tR","2D w","2D a",null,null,null,null,null,{"$f":"IF(Columns!S43<>\"\",Columns!T43,\"\")","v":21.248214612667617},{"$f":"IF(Columns!S43<>\"\",Columns!U43,\"\")","v":0.36872710038401779},{"$f":"IF(Columns!S43<>\"\",Columns!V43,\"\")","v":"Rtx-VGC"},null,{"$f":"IF(Columns!S43<>\"\",Columns!X43,\"\")","v":"Proprietary (for non-hydrogen bond acids similar to DB-1701)"},null,null,null,null,null,null,null,null,null,null,null,{"$f":"IF(AND(Columns!S43<>\"\",Columns!AF43<>0),Columns!AF43,\"\")","v":2.2782019459368939E-2},null,0.48600000000000038,1.6200000000000012,6.9557101636415197,10.021345207653496,15.000000003007363,-6.160458643362313,163,1.7253621182253925E-24,1.6808761440882183E-3,2.9182903423793594E-2,3.9904814280856153,8.1124606079454029E-41,1.3143279328661833E-121,2.5819286437848725E-162,5.0864080027210619E-203,0,0,0,0,0,0,0,0,0,0,0,0,null,null,null,null,15.056372014790519,9.9925399933033388E-3,0,null,null,null,null,null,15.79999999999996,null,0,0,0,0,0,0,0,0,0,0,0,0,0,0,0,0,0,0,0,0,0,0,0,0,0,0,0,0,0,0,0,0,0,0,0,0,0,0,0,0,0,0,0,0,0,0,0,0,0,0,0,0,0,0,0,0,0,0,0,0,0,0,0,0,0,0,0,0,0,0,0,0,0,0,0,0,0,0,0,0,0,0,0,0,0,0,0,0,0,0,0,0,0,0,0,0,0,0,0,0,0,0,0,0,0,0,0,0,0,0,0,0,0,0,0,0,0,0,0,0,0,0,0,0,0,0,null,159,0,15,{"$f":"INDEX($BW$6:$GR$261,$GT164,$BJ$14)","v":0},0]
[null,1,"Phenol",1.5549999999999999,1.476,1.5549999999999999,8.8661990472010732E-2,1.476,0.31429776368901985,1.5052101761693861,null,null,null,null,null,{"$f":"IF(Columns!S44<>\"\",Columns!T44,\"\")","v":9.1420065184029049},{"$f":"IF(Columns!S44<>\"\",Columns!U44,\"\")","v":0.15938263722134377},{"$f":"IF(Columns!S44<>\"\",Columns!V44,\"\")","v":"Rtx-Volatiles"},null,{"$f":"IF(Columns!S44<>\"\",Columns!X44,\"\")","v":"Poly(dimethyldiphenylsiloxane) estimated to contain ÷ 15-16 % diphenylsiloxane monomer"},null,null,null,null,null,null,null,null,null,null,null,{"$f":"IF(AND(Columns!S44<>\"\",Columns!AF44<>0),Columns!AF44,\"\")","v":8.0482572861728038E-3},null,0.48900000000000038,1.6300000000000012,7.6401151016247155,13.522084474625288,15.000000003644617,-7.9154047466562609,164,3.9439667982976586E-27,1.8790101735008166E-4,4.6107925924929053E-3,7.5172857810154436,3.7257576025632858E-39,9.0406856400558593E-120,1.4378411764724593E-160,1.631281513327985E-201,0,0,0,0,0,0,0,0,0,0,0,0,null,null,null,null,15.057567857906911,9.9925399933033388E-3,0,null,null,null,null,null,15.899999999999959,null,0,0,0,0,0,0,0,0,0,0,0,0,0,0,0,0,0,0,0,0,0,0,0,0,0,0,0,0,0,0,0,0,0,0,0,0,0,0,0,0,0,0,0,0,0,0,0,0,0,0,0,0,0,0,0,0,0,0,0,0,0,0,0,0,0,0,0,0,0,0,0,0,0,0,0,0,0,0,0,0,0,0,0,0,0,0,0,0,0,0,0,0,0,0,0,0,0,0,0,0,0,0,0,0,0,0,0,0,0,0,0,0,0,0,0,0,0,0,0,0,0,0,0,0,0,0,null,160,0,15,{"$f":"INDEX($BW$6:$GR$261,$GT165,$BJ$14)","v":0},0]
[null,1,"Benzonitrile",1.665,1.722,1.665,9.9408898408011925E-2,1.722,0.35989303255902416,1.9989665663211484,null,null,null,null,null,{"$f":"IF(Columns!S45<>\"\",Columns!T45,\"\")","v":22.999746818836698},{"$f":"IF(Columns!S45<>\"\",Columns!U45,\"\")","v":0.39872903073714305},{"$f":"IF(Columns!S45<>\"\",Columns!V45,\"\")","v":"DB-608"},null,{"$f":"IF(Columns!S45<>\"\",Columns!X45,\"\")","v":"Poly(dimethyldiphenylsiloxane) estimated to contain ÷ 50-65 % diphenylsiloxane monomer"},null,null,null,null,null,null,null,null,null,null,null,{"$f":"IF(AND(Columns!S45<>\"\",Columns!AF45<>0),Columns!AF45,\"\")","v":4.0120320801924486E-3},null,0.49200000000000038,1.6400000000000012,8.6271754849085287,17.817811286024096,15.000000004411937,-9.9699267718118403,165,6.6517955394463817E-30,1.6678363526905042E-5,5.7843366586491621E-4,11.817216173994705,1.581274517129788E-37,6.0217903699233414E-118,7.835036446950093E-159,5.1646067461879905E-200,0,0,0,0,0,0,0,0,0,0,0,0,null,null,null,null,15.058784746603271,9.9925399933033388E-3,0,null,null,null,null,null,15.999999999999959,null,0,0,0,0,0,0,0,0,0,0,0,0,0,0,0,0,0,0,0,0,0,0,0,0,0,0,0,0,0,0,0,0,0,0,0,0,0,0,0,0,0,0,0,0,0,0,0,0,0,0,0,0,0,0,0,0,0,0,0,0,0,0,0,0,0,0,0,0,0,0,0,0,0,0,0,0,0,0,0,0,0,0,0,0,0,0,0,0,0,0,0,0,0,0,0,0,0,0,0,0,0,0,0,0,0,0,0,0,0,0,0,0,0,0,0,0,0,0,0,0,0,0,0,0,0,0,null,161,0,15,{"$f":"INDEX($BW$6:$GR$261,$GT166,$BJ$14)","v":0},0]
[null,1,"Benzofuran",1.68,1.5660000000000001,1.68,9.9408898408012022E-2,1.5660000000000001,0.33253587123702139,1.3932803713209474,null,null,null,null,null,{"$f":"IF(Columns!S46<>\"\",Columns!T46,\"\")","v":2.2200821523451042},{"$f":"IF(Columns!S46<>\"\",Columns!U46,\"\")","v":3.8719501123195603E-2},{"$f":"IF(Columns!S46<>\"\",Columns!V46,\"\")","v":"Rtx-TNT"},null,{"$f":"IF(Columns!S46<>\"\",Columns!X46,\"\")","v":"Poly(dimethyldiphenylsiloxane) estimated to contain 5 %"},null,null,null,null,null,null,null,null,null,null,null,{"$f":"IF(AND(Columns!S46<>\"\",Columns!AF46<>0),Columns!AF46,\"\")","v":1.1417604931425959E-2},null,0.49500000000000038,1.6500000000000012,9.9280298251368873,21.502055911019774,15.000000005334801,-11.934970368503741,166,8.2774617482319767E-33,1.1754620863770107E-6,5.7618562996308186E-5,15.501997116994689,6.2019838144934978E-36,3.8839759430492206E-116,4.1776740145495452E-157,1.6141215094869986E-198,0,0,0,0,0,0,0,0,0,0,0,0,null,null,null,null,15.060022944918652,9.9925399933033388E-3,0,null,null,null,null,null,16.099999999999959,null,0,0,0,0,0,0,0,0,0,0,0,0,0,0,0,0,0,0,0,0,0,0,0,0,0,0,0,0,0,0,0,0,0,0,0,0,0,0,0,0,0,0,0,0,0,0,0,0,0,0,0,0,0,0,0,0,0,0,0,0,0,0,0,0,0,0,0,0,0,0,0,0,0,0,0,0,0,0,0,0,0,0,0,0,0,0,0,0,0,0,0,0,0,0,0,0,0,0,0,0,0,0,0,0,0,0,0,0,0,0,0,0,0,0,0,0,0,0,0,0,0,0,0,0,0,0,null,162,0,15,{"$f":"INDEX($BW$6:$GR$261,$GT167,$BJ$14)","v":0},0]
[null,1,"o-Cresol",1.875,1.8480000000000001,1.875,0.12090271428001455,1.8480000000000001,0.38725019388102655,1.1564502718163518,null,null,null,null,null,{"$f":"IF(Columns!S47<>\"\",Columns!T47,\"\")","v":31.285207532109858},{"$f":"IF(Columns!S47<>\"\",Columns!U47,\"\")","v":0.53927000717689189},{"$f":"IF(Columns!S47<>\"\",Columns!V47,\"\")","v":"Rtx-TNT2"},null,{"$f":"IF(Columns!S47<>\"\",Columns!X47,\"\")","v":"Poly(dimethylmethyltrifluoropropylsiloxane)-type phase"},null,null,null,null,null,null,null,null,null,null,null,{"$f":"IF(AND(Columns!S47<>\"\",Columns!AF47<>0),Columns!AF47,\"\")","v":1.1417604931425959E-2},null,0.49800000000000039,1.6600000000000013,11.482024620122946,22.96987307112428,15.000000006443448,-13.405380297026067,167,7.5999042894807093E-36,6.5780126176134113E-8,4.5572428263348748E-6,16.969868448101327,2.2479397417990004E-34,2.4257948165189254E-114,2.1796737797211699E-155,4.979959542957093E-197,0,0,0,0,0,0,0,0,0,0,0,0,null,null,null,null,15.061282717713812,9.9925399933033388E-3,0,null,null,null,null,null,16.19999999999996,null,0,0,0,0,0,0,0,0,0,0,0,0,0,0,0,0,0,0,0,0,0,0,0,0,0,0,0,0,0,0,0,0,0,0,0,0,0,0,0,0,0,0,0,0,0,0,0,0,0,0,0,0,0,0,0,0,0,0,0,0,0,0,0,0,0,0,0,0,0,0,0,0,0,0,0,0,0,0,0,0,0,0,0,0,0,0,0,0,0,0,0,0,0,0,0,0,0,0,0,0,0,0,0,0,0,0,0,0,0,0,0,0,0,0,0,0,0,0,0,0,0,0,0,0,0,0,null,163,0,15,{"$f":"INDEX($BW$6:$GR$261,$GT168,$BJ$14)","v":0},0]
[null,1,"3,5-Dimethylphenol",2.54,2.6220000000000003,2.54,0.1800107079280216,2.6220000000000003,0.53315505426503984,0.75155305363191593,null,null,null,null,null,{"$f":"IF(Columns!S48<>\"\",Columns!T48,\"\")","v":25.779971105863705},{"$f":"IF(Columns!S48<>\"\",Columns!U48,\"\")","v":0.44615723643161326},{"$f":"IF(Columns!S48<>\"\",Columns!V48,\"\")","v":"Rtx-CLPesticides"},null,{"$f":"IF(Columns!S48<>\"\",Columns!X48,\"\")","v":"Poly(dimethylmethyltrifluoropropylsiloxane)-type phase"},null,null,null,null,null,null,null,null,null,null,null,{"$f":"IF(AND(Columns!S48<>\"\",Columns!AF48<>0),Columns!AF48,\"\")","v":4.0120320801924486E-3},null,0.50100000000000033,1.6700000000000013,13.14182501485641,21.501997406119042,15.000000007773741,-14.056023900561442,168,5.1483932595574534E-39,2.9228845700735595E-9,2.8620209156390766E-7,15.501997116994065,7.5295562616545587E-33,1.4670949768996492E-112,1.1127865667810846E-153,1.5167221433735669E-195,0,0,0,0,0,0,0,0,0,0,0,0,null,null,null,null,15.062564330609822,9.9925399933033388E-3,0,null,null,null,null,null,16.299999999999962,null,0,0,0,0,0,0,0,0,0,0,0,0,0,0,0,0,0,0,0,0,0,0,0,0,0,0,0,0,0,0,0,0,0,0,0,0,0,0,0,0,0,0,0,0,0,0,0,0,0,0,0,0,0,0,0,0,0,0,0,0,0,0,0,0,0,0,0,0,0,0,0,0,0,0,0,0,0,0,0,0,0,0,0,0,0,0,0,0,0,0,0,0,0,0,0,0,0,0,0,0,0,0,0,0,0,0,0,0,0,0,0,0,0,0,0,0,0,0,0,0,0,0,0,0,0,0,null,164,0,15,{"$f":"INDEX($BW$6:$GR$261,$GT169,$BJ$14)","v":0},0]
[null,1,"Quinoline",3.6150000000000002,4.7580000000000009,3.6150000000000002,0.28747978728803431,4.7580000000000009,0.94351247409507721,0.25362226883990979,null,null,null,null,null,{"$f":"IF(Columns!S49<>\"\",Columns!T49,\"\")","v":31.018943872201461},{"$f":"IF(Columns!S49<>\"\",Columns!U49,\"\")","v":0.53479348294685469},{"$f":"IF(Columns!S49<>\"\",Columns!V49,\"\")","v":"Rtx-OPPesticides"},null,{"$f":"IF(Columns!S49<>\"\",Columns!X49,\"\")","v":"Poly(dimethylmethyltrifluoropropylsiloxane)-type phase"},null,null,null,null,null,null,null,null,null,null,null,{"$f":"IF(AND(Columns!S49<>\"\",Columns!AF49<>0),Columns!AF49,\"\")","v":6.2794194239443402E-3},null,0.50400000000000034,1.6800000000000013,14.68616899511151,17.817216188368533,15.000000009368135,-13.716846384572566,169,2.5732853807431828E-42,1.0312394372032981E-10,1.4271654475274813E-8,11.817216173993755,2.3306914372420774E-31,8.5918963770651082E-111,5.5589871755553407E-152,4.5601262129192017E-194,0,0,0,0,0,0,0,0,0,0,0,0,null,null,null,null,15.063868049925089,9.9925399933033388E-3,0,null,null,null,null,null,16.399999999999963,null,0,0,0,0,0,0,0,0,0,0,0,0,0,0,0,0,0,0,0,0,0,0,0,0,0,0,0,0,0,0,0,0,0,0,0,0,0,0,0,0,0,0,0,0,0,0,0,0,0,0,0,0,0,0,0,0,0,0,0,0,0,0,0,0,0,0,0,0,0,0,0,0,0,0,0,0,0,0,0,0,0,0,0,0,0,0,0,0,0,0,0,0,0,0,0,0,0,0,0,0,0,0,0,0,0,0,0,0,0,0,0,0,0,0,0,0,0,0,0,0,0,0,0,0,0,0,null,165,0,15,{"$f":"INDEX($BW$6:$GR$261,$GT170,$BJ$14)","v":0},0]
[null,1,"Indole",4.51,0.53400000000000003,4.51,0.36808159680804448,0.53400000000000003,1.271798409959108,0.12529566817970836,null,null,null,null,null,{"$f":"IF(Columns!S50<>\"\",Columns!T50,\"\")","v":17.04804813452899},{"$f":"IF(Columns!S50<>\"\",Columns!U50,\"\")","v":0.29644480982864146},{"$f":"IF(Columns!S50<>\"\",Columns!V50,\"\")","v":"Rtx-Dioxin"},null,{"$f":"IF(Columns!S50<>\"\",Columns!X50,\"\")","v":"Similar to Stx-500 (carborane-dimethylsiloxane with 5 % phenyl)"},null,null,null,null,null,null,null,null,null,null,null,{"$f":"IF(AND(Columns!S50<>\"\",Columns!AF50<>0),Columns!AF50,\"\")","v":2.4043269223830068E-3},null,0.50700000000000034,1.6900000000000013,15.86529727222581,13.517285781582501,15.000000011276844,-12.406310284222879,170,9.4897952432832394E-46,2.8889381753715E-12,5.6507582549190279E-10,7.5172857810145359,6.6670061999251417E-30,4.8724396086344389E-109,2.717333189348231E-150,1.3534378625946839E-192,0,0,0,0,0,0,0,0,0,0,0,0,null,null,null,null,15.065194142610801,9.9925399933033388E-3,0,null,null,null,null,null,16.499999999999964,null,0,0,0,0,0,0,0,0,0,0,0,0,0,0,0,0,0,0,0,0,0,0,0,0,0,0,0,0,0,0,0,0,0,0,0,0,0,0,0,0,0,0,0,0,0,0,0,0,0,0,0,0,0,0,0,0,0,0,0,0,0,0,0,0,0,0,0,0,0,0,0,0,0,0,0,0,0,0,0,0,0,0,0,0,0,0,0,0,0,0,0,0,0,0,0,0,0,0,0,0,0,0,0,0,0,0,0,0,0,0,0,0,0,0,0,0,0,0,0,0,0,0,0,0,0,0,null,166,0,15,{"$f":"INDEX($BW$6:$GR$261,$GT171,$BJ$14)","v":0},0]
[null,1,"Tetradecane",5.83,2.052,5.83,0.38420195871204615,2.052,0.4237264089770299,0.25917403917648185,null,null,null,null,null,{"$f":"IF(Columns!S51<>\"\",Columns!T51,\"\")","v":6.2432317614175359},{"$f":"IF(Columns!S51<>\"\",Columns!U51,\"\")","v":0.10890186850517658},{"$f":"IF(Columns!S51<>\"\",Columns!V51,\"\")","v":"DB-Dioxin2"},null,{"$f":"IF(Columns!S51<>\"\",Columns!X51,\"\")","v":"Similar to DB-XLB and Rtx-Volatiles"},null,null,null,null,null,null,null,null,null,null,null,{"$f":"IF(AND(Columns!S51<>\"\",Columns!AF51<>0),Columns!AF51,\"\")","v":4.0120320801924486E-3},null,0.51000000000000034,1.7000000000000013,16.469216783926157,9.9904814281028038,15.000000013559182,-10.315135513913321,171,2.5821316488451192E-49,6.4261057565451939E-14,1.7765196671158664E-11,3.9904814280849745,1.7624127170160699E-28,2.6756575799428749E-107,1.2997311804262833E-148,3.9654310559255062E-191,0,0,0,0,0,0,0,0,0,0,0,0,null,null,null,null,15.066542876184791,9.9925399933033388E-3,0,null,null,null,null,null,16.599999999999966,null,0,0,0,0,0,0,0,0,0,0,0,0,0,0,0,0,0,0,0,0,0,0,0,0,0,0,0,0,0,0,0,0,0,0,0,0,0,0,0,0,0,0,0,0,0,0,0,0,0,0,0,0,0,0,0,0,0,0,0,0,0,0,0,0,0,0,0,0,0,0,0,0,0,0,0,0,0,0,0,0,0,0,0,0,0,0,0,0,0,0,0,0,0,0,0,0,0,0,0,0,0,0,0,0,0,0,0,0,0,0,0,0,0,0,0,0,0,0,0,0,0,0,0,0,0,0,null,167,0,15,{"$f":"INDEX($BW$6:$GR$261,$GT172,$BJ$14)","v":0},0]
[null,1,"Dibenzofuran",8.7949999999999999,3.7440000000000002,8.7949999999999999,0.34658778093604187,3.7440000000000002,0.74289329106705915,0.3423879298665744,null,null,null,null,null,{"$f":"IF(Columns!S52<>\"\",Columns!T52,\"\")","v":38.703957340763836},{"$f":"IF(Columns!S52<>\"\",Columns!U52,\"\")","v":0.6627394347317922},{"$f":"IF(Columns!S52<>\"\",Columns!V52,\"\")","v":"DB-23"},null,{"$f":"IF(Columns!S52<>\"\",Columns!X52,\"\")","v":"100 % 3-cyanopropylmethylsiloxane"},null,null,null,null,null,null,null,null,null,null,null,{"$f":"IF(AND(Columns!S52<>\"\",Columns!AF52<>0),Columns!AF52,\"\")","v":4.0120320801924486E-3},null,0.51300000000000034,1.7100000000000013,16.395495968282614,7.7676972211361353,15.000000016285115,-7.748341599643318,172,5.1838517062427589E-53,1.1349804358529382E-15,4.4346995056431873E-13,1.7676972211356907,4.3054153740314833E-27,1.4227914140949975E-105,6.0831371138973589E-147,1.1469199531267693E-189,0,0,0,0,0,0,0,0,0,0,0,0,null,null,null,null,15.067914518663814,9.9925399933033388E-3,0,null,null,null,null,null,16.699999999999967,null,0,0,0,0,0,0,0,0,0,0,0,0,0,0,0,0,0,0,0,0,0,0,0,0,0,0,0,0,0,0,0,0,0,0,0,0,0,0,0,0,0,0,0,0,0,0,0,0,0,0,0,0,0,0,0,0,0,0,0,0,0,0,0,0,0,0,0,0,0,0,0,0,0,0,0,0,0,0,0,0,0,0,0,0,0,0,0,0,0,0,0,0,0,0,0,0,0,0,0,0,0,0,0,0,0,0,0,0,0,0,0,0,0,0,0,0,0,0,0,0,0,0,0,0,0,0,null,168,0,15,{"$f":"INDEX($BW$6:$GR$261,$GT173,$BJ$14)","v":0},0]
[null,1,"Diphenylamine",10.1,3.1320000000000001,10.1,0.31972051109603894,3.1320000000000001,0.63346464577904915,0.4183031524873379,null,null,null,null,null,{"$f":"IF(Columns!S53<>\"\",Columns!T53,\"\")","v":13.658964464487307},{"$f":"IF(Columns!S53<>\"\",Columns!U53,\"\")","v":0.23782558517491773},{"$f":"IF(Columns!S53<>\"\",Columns!V53,\"\")","v":"DB-1301"},null,{"$f":"IF(Columns!S53<>\"\",Columns!X53,\"\")","v":"6 % 3-cyanopropylphenylsiloxane"},null,null,null,null,null,null,null,null,null,null,null,{"$f":"IF(AND(Columns!S53<>\"\",Columns!AF53<>0),Columns!AF53,\"\")","v":1.6194068678459937E-2},null,0.51600000000000035,1.7200000000000013,15.689887933042582,6.653444665326302,15.000000019537076,-5.046740097800047,173,7.6785533710236147E-57,1.5916946936851813E-17,8.7900078165873465E-15,0.65344466532629319,9.7197070862786061E-26,7.3261966549493575E-104,2.7858972634045151E-145,3.2746616674682677E-188,0,0,0,0,0,0,0,0,0,0,0,0,null,null,null,null,15.069309338494241,9.9925399933033388E-3,0,null,null,null,null,null,16.799999999999969,null,0,0,0,0,0,0,0,0,0,0,0,0,0,0,0,0,0,0,0,0,0,0,0,0,0,0,0,0,0,0,0,0,0,0,0,0,0,0,0,0,0,0,0,0,0,0,0,0,0,0,0,0,0,0,0,0,0,0,0,0,0,0,0,0,0,0,0,0,0,0,0,0,0,0,0,0,0,0,0,0,0,0,0,0,0,0,0,0,0,0,0,0,0,0,0,0,0,0,0,0,0,0,0,0,0,0,0,0,0,0,0,0,0,0,0,0,0,0,0,0,0,0,0,0,0,0,null,169,0,15,{"$f":"INDEX($BW$6:$GR$261,$GT174,$BJ$14)","v":0},0]
[null,1,"Carbazole",12.745000000000001,3.2220000000000004,12.745000000000001,0.28747978728803369,3.2220000000000004,0.64258369955304995,0.53860933209884054,null,null,null,null,null,{"$f":"IF(Columns!S54<>\"\",Columns!T54,\"\")","v":14.685509790479722},{"$f":"IF(Columns!S54<>\"\",Columns!U54,\"\")","v":0.25560556449405952},{"$f":"IF(Columns!S54<>\"\",Columns!V54,\"\")","v":"DB-624"},null,{"$f":"IF(Columns!S54<>\"\",Columns!X54,\"\")","v":"6 % 3-cyanopropylphenylsiloxane"},null,null,null,null,null,null,null,null,null,null,null,{"$f":"IF(AND(Columns!S54<>\"\",Columns!AF54<>0),Columns!AF54,\"\")","v":2.2782019459368939E-2},null,0.51900000000000035,1.7300000000000013,14.543224975824829,6.201571026108982,15.000000023412065,-2.5135383798793205,174,8.3918728472350751E-61,1.7724012495289685E-19,1.3833918449481128E-16,0.20157102610898156,2.0277853336683181E-24,3.6529400299329556E-102,1.2484352173295361E-143,9.2297595449449065E-187,0,0,0,0,0,0,0,0,0,0,0,0,null,null,null,null,15.070727604481149,9.9925399933033388E-3,0,null,null,null,null,null,16.89999999999997,null,0,0,0,0,0,0,0,0,0,0,0,0,0,0,0,0,0,0,0,0,0,0,0,0,0,0,0,0,0,0,0,0,0,0,0,0,0,0,0,0,0,0,0,0,0,0,0,0,0,0,0,0,0,0,0,0,0,0,0,0,0,0,0,0,0,0,0,0,0,0,0,0,0,0,0,0,0,0,0,0,0,0,0,0,0,0,0,0,0,0,0,0,0,0,0,0,0,0,0,0,0,0,0,0,0,0,0,0,0,0,0,0,0,0,0,0,0,0,0,0,0,0,0,0,0,0,null,170,0,15,{"$f":"INDEX($BW$6:$GR$261,$GT175,$BJ$14)","v":0},0]
[null,null,null,null,null,null,null,null,null,null,null,null,null,null,null,{"$f":"IF(Columns!S55<>\"\",Columns!T55,\"\")","v":23.394468351431769},{"$f":"IF(Columns!S55<>\"\",Columns!U55,\"\")","v":0.40547758448359461},{"$f":"IF(Columns!S55<>\"\",Columns!V55,\"\")","v":"DB-1701"},null,{"$f":"IF(Columns!S55<>\"\",Columns!X55,\"\")","v":"14 % 3-cyanopropylphenylsiloxane"},null,null,null,null,null,null,null,null,null,null,null,{"$f":"IF(AND(Columns!S55<>\"\",Columns!AF55<>0),Columns!AF55,\"\")","v":3.1323395073973664E-3},null,0.52200000000000035,1.7400000000000013,13.246703738123205,6.0518878587099056,15.000000028024076,-0.36615154339345146,175,6.7669198418420693E-65,1.5670945950623797E-21,1.7287494192756197E-18,5.188785870990581E-2,3.9095021701554899E-23,1.7637342429877703E-100,5.474322126810155E-142,2.5680587838783105E-185,0,0,0,0,0,0,0,0,0,0,0,0,null,null,null,null,15.072169585715836,9.9925399933033388E-3,0,null,null,null,null,null,16.999999999999972,null,0,0,0,0,0,0,0,0,0,0,0,0,0,0,0,0,0,0,0,0,0,0,0,0,0,0,0,0,0,0,0,0,0,0,0,0,0,0,0,0,0,0,0,0,0,0,0,0,0,0,0,0,0,0,0,0,0,0,0,0,0,0,0,0,0,0,0,0,0,0,0,0,0,0,0,0,0,0,0,0,0,0,0,0,0,0,0,0,0,0,0,0,0,0,0,0,0,0,0,0,0,0,0,0,0,0,0,0,0,0,0,0,0,0,0,0,0,0,0,0,0,0,0,0,0,0,null,171,0,15,{"$f":"INDEX($BW$6:$GR$261,$GT176,$BJ$14)","v":0},0]
[null,null,null,null,null,null,null,null,null,null,null,null,null,null,null,{"$f":"IF(Columns!S56<>\"\",Columns!T56,\"\")","v":35.500213851689324},{"$f":"IF(Columns!S56<>\"\",Columns!U56,\"\")","v":0.60973051272575585},{"$f":"IF(Columns!S56<>\"\",Columns!V56,\"\")","v":"DB-225"},null,{"$f":"IF(Columns!S56<>\"\",Columns!X56,\"\")","v":"50 % 3-cyanopropylphenylsiloxane"},null,null,null,null,null,null,null,null,null,null,null,{"$f":"IF(AND(Columns!S56<>\"\",Columns!AF56<>0),Columns!AF56,\"\")","v":3.1323395073973664E-3},null,0.52500000000000036,1.7500000000000013,12.124185732996635,6.0111460694088965,15.000000033506904,1.2788448914850479,176,4.0260189878554536E-69,1.1001686467779987E-23,1.7153382397039092E-20,1.1146069408896302E-2,6.9654891485290994E-22,8.2461339497816013E-99,2.3488652905256551E-140,7.0535891137406365E-184,0,0,0,0,0,0,0,0,0,0,0,0,null,null,null,null,15.073635551501726,9.9925399933033388E-3,0,null,null,null,null,null,17.099999999999973,null,0,0,0,0,0,0,0,0,0,0,0,0,0,0,0,0,0,0,0,0,0,0,0,0,0,0,0,0,0,0,0,0,0,0,0,0,0,0,0,0,0,0,0,0,0,0,0,0,0,0,0,0,0,0,0,0,0,0,0,0,0,0,0,0,0,0,0,0,0,0,0,0,0,0,0,0,0,0,0,0,0,0,0,0,0,0,0,0,0,0,0,0,0,0,0,0,0,0,0,0,0,0,0,0,0,0,0,0,0,0,0,0,0,0,0,0,0,0,0,0,0,0,0,0,0,0,null,172,0,15,{"$f":"INDEX($BW$6:$GR$261,$GT177,$BJ$14)","v":0},0]
[null,null,null,null,null,null,null,null,null,null,null,null,null,null,null,{"$f":"IF(Columns!S57<>\"\",Columns!T57,\"\")","v":42.171570353275364},{"$f":"IF(Columns!S57<>\"\",Columns!U57,\"\")","v":0.71952928119848414},{"$f":"IF(Columns!S57<>\"\",Columns!V57,\"\")","v":"SP-2340"},null,{"$f":"IF(Columns!S57<>\"\",Columns!X57,\"\")","v":"(viii) Poly(biscyanopropylsiloxane)"},null,null,null,null,null,null,null,null,null,null,null,{"$f":"IF(AND(Columns!S57<>\"\",Columns!AF57<>0),Columns!AF57,\"\")","v":3.207696416831093E-3},null,0.52800000000000036,1.7600000000000013,11.465435460690539,6.0019980027878761,15.000000040017385,2.3923799676590685,177,1.7673121174523282E-73,6.1327350355765331E-26,1.3514450055288314E-22,1.9980027878759789E-3,1.1468654298340184E-20,3.7333117528483062E-97,9.8616434140170389E-139,1.9125199643660532E-182,0,0,0,0,0,0,0,0,0,0,0,0,null,null,null,null,15.075125771278698,9.9925399933033388E-3,0,null,null,null,null,null,17.199999999999974,null,0,0,0,0,0,0,0,0,0,0,0,0,0,0,0,0,0,0,0,0,0,0,0,0,0,0,0,0,0,0,0,0,0,0,0,0,0,0,0,0,0,0,0,0,0,0,0,0,0,0,0,0,0,0,0,0,0,0,0,0,0,0,0,0,0,0,0,0,0,0,0,0,0,0,0,0,0,0,0,0,0,0,0,0,0,0,0,0,0,0,0,0,0,0,0,0,0,0,0,0,0,0,0,0,0,0,0,0,0,0,0,0,0,0,0,0,0,0,0,0,0,0,0,0,0,0,null,173,0,15,{"$f":"INDEX($BW$6:$GR$261,$GT178,$BJ$14)","v":0},0]
[null,null,null,null,null,null,null,null,null,null,null,null,null,null,null,{"$f":"IF(Columns!S58<>\"\",Columns!T58,\"\")","v":41.437754626448829},{"$f":"IF(Columns!S58<>\"\",Columns!U58,\"\")","v":0.70756463974531114},{"$f":"IF(Columns!S58<>\"\",Columns!V58,\"\")","v":"HP-88"},null,{"$f":"IF(Columns!S58<>\"\",Columns!X58,\"\")","v":"88 % biscyanopropylsiloxane"},null,null,null,null,null,null,null,null,null,null,null,{"$f":"IF(AND(Columns!S58<>\"\",Columns!AF58<>0),Columns!AF58,\"\")","v":3.207696416831093E-3},null,0.53100000000000036,1.7700000000000014,11.477094344675091,6.0002988744492738,15.000000047739134,3.003959517490328,178,5.7240489775544438E-78,2.7144386155098949E-28,8.4543042300993542E-25,2.988744492736359E-4,1.7450343667022233E-19,1.6366837248773359E-95,4.0513886098192603E-137,5.119085935214693E-181,0,0,0,0,0,0,0,0,0,0,0,0,null,null,null,null,15.076640514545812,9.9925399933033388E-3,0,null,null,null,null,null,17.299999999999976,null,0,0,0,0,0,0,0,0,0,0,0,0,0,0,0,0,0,0,0,0,0,0,0,0,0,0,0,0,0,0,0,0,0,0,0,0,0,0,0,0,0,0,0,0,0,0,0,0,0,0,0,0,0,0,0,0,0,0,0,0,0,0,0,0,0,0,0,0,0,0,0,0,0,0,0,0,0,0,0,0,0,0,0,0,0,0,0,0,0,0,0,0,0,0,0,0,0,0,0,0,0,0,0,0,0,0,0,0,0,0,0,0,0,0,0,0,0,0,0,0,0,0,0,0,0,0,null,174,0,15,{"$f":"INDEX($BW$6:$GR$261,$GT179,$BJ$14)","v":0},0]
[null,null,null,null,null,null,null,null,null,null,null,null,null,null,null,{"$f":"IF(Columns!S59<>\"\",Columns!T59,\"\")","v":42.496875585835362},{"$f":"IF(Columns!S59<>\"\",Columns!U59,\"\")","v":0.72482387303965889},{"$f":"IF(Columns!S59<>\"\",Columns!V59,\"\")","v":"BPX-90"},null,{"$f":"IF(Columns!S59<>\"\",Columns!X59,\"\")","v":"90 % biscyanopropylsiloxane"},null,null,null,null,null,null,null,null,null,null,null,{"$f":"IF(AND(Columns!S59<>\"\",Columns!AF59<>0),Columns!AF59,\"\")","v":4.0120320801924486E-3},null,0.53400000000000036,1.7800000000000014,12.255441369034086,6.0000373078171991,15.000000056886837,3.1713270476528095,179,1.3678739430681878E-82,9.5397443082706843E-31,4.1994097519008713E-27,3.7307817198962668E-5,2.4537266924494861E-18,6.9480335064053922E-94,1.6286281385271126E-135,1.3526003207564003E-179,0,0,0,0,0,0,0,0,0,0,0,0,null,null,null,null,15.078180050782455,9.9925399933033388E-3,0,null,null,null,null,null,17.399999999999977,null,0,0,0,0,0,0,0,0,0,0,0,0,0,0,0,0,0,0,0,0,0,0,0,0,0,0,0,0,0,0,0,0,0,0,0,0,0,0,0,0,0,0,0,0,0,0,0,0,0,0,0,0,0,0,0,0,0,0,0,0,0,0,0,0,0,0,0,0,0,0,0,0,0,0,0,0,0,0,0,0,0,0,0,0,0,0,0,0,0,0,0,0,0,0,0,0,0,0,0,0,0,0,0,0,0,0,0,0,0,0,0,0,0,0,0,0,0,0,0,0,0,0,0,0,0,0,null,175,0,15,{"$f":"INDEX($BW$6:$GR$261,$GT180,$BJ$14)","v":0},0]
[null,null,null,null,null,null,null,null,null,null,null,null,null,null,null,{"$f":"IF(Columns!S60<>\"\",Columns!T60,\"\")","v":43.191222784807707},{"$f":"IF(Columns!S60<>\"\",Columns!U60,\"\")","v":0.73610531103718613},{"$f":"IF(Columns!S60<>\"\",Columns!V60,\"\")","v":"SolGel-Wax"},null,{"$f":"IF(Columns!S60<>\"\",Columns!X60,\"\")","v":"(x) Poly(ethylene glycol)"},null,null,null,null,null,null,null,null,null,null,null,{"$f":"IF(AND(Columns!S60<>\"\",Columns!AF60<>0),Columns!AF60,\"\")","v":4.0120320801924486E-3},null,0.53700000000000037,1.7900000000000014,13.775830476866807,6.0000038862366551,15.000000067711191,2.95895547340877,180,2.4118009493845592E-87,2.6620997845862286E-33,1.656263834876331E-29,3.8862366547472283E-6,3.1884460344756021E-17,2.8561806884914698E-92,6.4062427111646558E-134,3.5280698508052755E-178,0,0,0,0,0,0,0,0,0,0,0,0,null,null,null,null,15.0797446493679,9.9925399933033388E-3,0,null,null,null,null,null,17.499999999999979,null,0,0,0,0,0,0,0,0,0,0,0,0,0,0,0,0,0,0,0,0,0,0,0,0,0,0,0,0,0,0,0,0,0,0,0,0,0,0,0,0,0,0,0,0,0,0,0,0,0,0,0,0,0,0,0,0,0,0,0,0,0,0,0,0,0,0,0,0,0,0,0,0,0,0,0,0,0,0,0,0,0,0,0,0,0,0,0,0,0,0,0,0,0,0,0,0,0,0,0,0,0,0,0,0,0,0,0,0,0,0,0,0,0,0,0,0,0,0,0,0,0,0,0,0,0,0,null,176,0,15,{"$f":"INDEX($BW$6:$GR$261,$GT181,$BJ$14)","v":0},0]
[null,null,null,null,null,null,null,null,null,null,null,null,null,null,null,{"$f":"IF(Columns!S61<>\"\",Columns!T61,\"\")","v":43.666879637450307},{"$f":"IF(Columns!S61<>\"\",Columns!U61,\"\")","v":0.74381799366237689},{"$f":"IF(Columns!S61<>\"\",Columns!V61,\"\")","v":"HP-INNOWax"},null,{"$f":"IF(Columns!S61<>\"\",Columns!X61,\"\")","v":"(x) Poly(ethylene glycol)"},null,null,null,null,null,null,null,null,null,null,null,{"$f":"IF(AND(Columns!S61<>\"\",Columns!AF61<>0),Columns!AF61,\"\")","v":8.0482572861728038E-3},null,0.54000000000000037,1.8000000000000014,15.893053615958854,6.000000337813499,15.000000080504572,2.4293477197862932,181,3.1375416270384969E-92,5.8985166833995403E-36,5.1868259103190274E-32,3.3781349867710693E-7,3.8287995901732911E-16,1.1369361793024246E-90,2.4657455984341557E-132,9.0843840659080165E-177,0,0,0,0,0,0,0,0,0,0,0,0,null,null,null,null,15.08133457949927,9.9925399933033388E-3,0,null,null,null,null,null,17.59999999999998,null,0,0,0,0,0,0,0,0,0,0,0,0,0,0,0,0,0,0,0,0,0,0,0,0,0,0,0,0,0,0,0,0,0,0,0,0,0,0,0,0,0,0,0,0,0,0,0,0,0,0,0,0,0,0,0,0,0,0,0,0,0,0,0,0,0,0,0,0,0,0,0,0,0,0,0,0,0,0,0,0,0,0,0,0,0,0,0,0,0,0,0,0,0,0,0,0,0,0,0,0,0,0,0,0,0,0,0,0,0,0,0,0,0,0,0,0,0,0,0,0,0,0,0,0,0,0,null,177,0,15,{"$f":"INDEX($BW$6:$GR$261,$GT182,$BJ$14)","v":0},0]
[null,null,null,null,null,null,null,null,null,null,null,null,null,null,null,{"$f":"IF(Columns!S62<>\"\",Columns!T62,\"\")","v":43.89264494595303},{"$f":"IF(Columns!S62<>\"\",Columns!U62,\"\")","v":0.74747425684995594},{"$f":"IF(Columns!S62<>\"\",Columns!V62,\"\")","v":"DB-WAXetr"},null,{"$f":"IF(Columns!S62<>\"\",Columns!X62,\"\")","v":"(x) Poly(ethylene glycol)"},null,null,null,null,null,null,null,null,null,null,null,{"$f":"IF(AND(Columns!S62<>\"\",Columns!AF62<>0),Columns!AF62,\"\")","v":8.0482572861728038E-3},null,0.54300000000000037,1.8100000000000014,18.352613193482433,6.0000000245043497,15.00000009560752,1.6453825151422246,182,3.0115507124075654E-97,1.037748657107643E-38,1.2897475466569359E-34,2.4504345526651943E-8,4.2489036140085015E-15,4.3824112420143058E-89,9.2865963254986761E-131,2.3091089350458245E-175,0,0,0,0,0,0,0,0,0,0,0,0,null,null,null,null,15.08295011010795,9.9925399933033388E-3,0,null,null,null,null,null,17.699999999999982,null,0,0,0,0,0,0,0,0,0,0,0,0,0,0,0,0,0,0,0,0,0,0,0,0,0,0,0,0,0,0,0,0,0,0,0,0,0,0,0,0,0,0,0,0,0,0,0,0,0,0,0,0,0,0,0,0,0,0,0,0,0,0,0,0,0,0,0,0,0,0,0,0,0,0,0,0,0,0,0,0,0,0,0,0,0,0,0,0,0,0,0,0,0,0,0,0,0,0,0,0,0,0,0,0,0,0,0,0,0,0,0,0,0,0,0,0,0,0,0,0,0,0,0,0,0,0,null,178,0,15,{"$f":"INDEX($BW$6:$GR$261,$GT183,$BJ$14)","v":0},0]
[null,null,null,null,null,null,null,null,null,null,null,null,null,null,null,{"$f":"IF(Columns!S63<>\"\",Columns!T63,\"\")","v":43.995986110994501},{"$f":"IF(Columns!S63<>\"\",Columns!U63,\"\")","v":0.74914689711998694},{"$f":"IF(Columns!S63<>\"\",Columns!V63,\"\")","v":"EC-Wax"},null,{"$f":"IF(Columns!S63<>\"\",Columns!X63,\"\")","v":"(x) Poly(ethylene glycol)"},null,null,null,null,null,null,null,null,null,null,null,{"$f":"IF(AND(Columns!S63<>\"\",Columns!AF63<>0),Columns!AF63,\"\")","v":4.0120320801924486E-3},null,0.54600000000000037,1.8200000000000014,20.818297715940076,6.0000000014833388,15.000000113416171,0.67836518841145299,183,2.1327675024812939E-102,1.4496809571511585E-41,2.5464704175322525E-37,1.4832951205744149E-9,4.3573435651073503E-14,1.6357495340157117E-87,3.4223804979071567E-129,5.7940732279891774E-174,0,0,0,0,0,0,0,0,0,0,0,0,null,null,null,null,15.084591509774405,9.9925399933033388E-3,0,null,null,null,null,null,17.799999999999983,null,0,0,0,0,0,0,0,0,0,0,0,0,0,0,0,0,0,0,0,0,0,0,0,0,0,0,0,0,0,0,0,0,0,0,0,0,0,0,0,0,0,0,0,0,0,0,0,0,0,0,0,0,0,0,0,0,0,0,0,0,0,0,0,0,0,0,0,0,0,0,0,0,0,0,0,0,0,0,0,0,0,0,0,0,0,0,0,0,0,0,0,0,0,0,0,0,0,0,0,0,0,0,0,0,0,0,0,0,0,0,0,0,0,0,0,0,0,0,0,0,0,0,0,0,0,0,null,179,0,15,{"$f":"INDEX($BW$6:$GR$261,$GT184,$BJ$14)","v":0},0]
[null,null,null,null,null,null,null,null,null,null,null,null,null,null,null,{"$f":"IF(Columns!S64<>\"\",Columns!T64,\"\")","v":43.788352566388113},{"$f":"IF(Columns!S64<>\"\",Columns!U64,\"\")","v":0.74578560424987927},{"$f":"IF(Columns!S64<>\"\",Columns!V64,\"\")","v":"HP-20M"},null,{"$f":"IF(Columns!S64<>\"\",Columns!X64,\"\")","v":"(x) Poly(ethylene glycol)"},null,null,null,null,null,null,null,null,null,null,null,{"$f":"IF(AND(Columns!S64<>\"\",Columns!AF64<>0),Columns!AF64,\"\")","v":3.7605733041250838E-3},null,0.54900000000000038,1.8300000000000014,22.92061142323298,6.0000000000753388,15.000000134390735,-0.3845748802309279,184,1.1144215410606387E-107,1.607990854123323E-44,3.9921187034507007E-40,7.492562610926079E-11,4.1294994230373633E-13,5.9121727515741697E-86,1.234137191996964E-127,1.4352057334318172E-172,0,0,0,0,0,0,0,0,0,0,0,0,null,null,null,null,15.08625904664145,9.9925399933033388E-3,0,null,null,null,null,null,17.899999999999984,null,0,0,0,0,0,0,0,0,0,0,0,0,0,0,0,0,0,0,0,0,0,0,0,0,0,0,0,0,0,0,0,0,0,0,0,0,0,0,0,0,0,0,0,0,0,0,0,0,0,0,0,0,0,0,0,0,0,0,0,0,0,0,0,0,0,0,0,0,0,0,0,0,0,0,0,0,0,0,0,0,0,0,0,0,0,0,0,0,0,0,0,0,0,0,0,0,0,0,0,0,0,0,0,0,0,0,0,0,0,0,0,0,0,0,0,0,0,0,0,0,0,0,0,0,0,0,null,180,0,15,{"$f":"INDEX($BW$6:$GR$261,$GT185,$BJ$14)","v":0},0]
[null,null,null,null,null,null,null,null,null,null,null,null,null,null,null,{"$f":"IF(Columns!S65<>\"\",Columns!T65,\"\")","v":44.734703142015327},{"$f":"IF(Columns!S65<>\"\",Columns!U65,\"\")","v":0.76108566069824013},{"$f":"IF(Columns!S65<>\"\",Columns!V65,\"\")","v":"AT-Wax"},null,{"$f":"IF(Columns!S65<>\"\",Columns!X65,\"\")","v":"(x) Poly(ethylene glycol)"},null,null,null,null,null,null,null,null,null,null,null,{"$f":"IF(AND(Columns!S65<>\"\",Columns!AF65<>0),Columns!AF65,\"\")","v":4.0120320801924486E-3},null,0.55200000000000038,1.8400000000000014,24.322558485351728,6.000000000006775,15.00000015906517,-1.4389340117730649,185,4.2964338660190613E-113,1.4162032950437439E-47,4.9693449364460428E-43,3.1582866586693261E-12,3.6166267965947897E-12,2.0692075756039424E-84,4.35473780605431E-126,3.5094169117512385E-171,0,0,0,0,0,0,0,0,0,0,0,0,null,null,null,null,15.087952988325947,9.9925399933033388E-3,0,null,null,null,null,null,17.999999999999986,null,0,0,0,0,0,0,0,0,0,0,0,0,0,0,0,0,0,0,0,0,0,0,0,0,0,0,0,0,0,0,0,0,0,0,0,0,0,0,0,0,0,0,0,0,0,0,0,0,0,0,0,0,0,0,0,0,0,0,0,0,0,0,0,0,0,0,0,0,0,0,0,0,0,0,0,0,0,0,0,0,0,0,0,0,0,0,0,0,0,0,0,0,0,0,0,0,0,0,0,0,0,0,0,0,0,0,0,0,0,0,0,0,0,0,0,0,0,0,0,0,0,0,0,0,0,0,null,181,0,15,{"$f":"INDEX($BW$6:$GR$261,$GT186,$BJ$14)","v":0},0]
[null,null,null,null,null,null,null,null,null,null,null,null,null,null,null,{"$f":"IF(Columns!S66<>\"\",Columns!T66,\"\")","v":44.625020165051097},{"$f":"IF(Columns!S66<>\"\",Columns!U66,\"\")","v":0.75931500851033662},{"$f":"IF(Columns!S66<>\"\",Columns!V66,\"\")","v":"DB-FFAP"},null,{"$f":"IF(Columns!S66<>\"\",Columns!X66,\"\")","v":"Modified with nitroterephthalic acid"},null,null,null,null,null,null,null,null,null,null,null,{"$f":"IF(AND(Columns!S66<>\"\",Columns!AF66<>0),Columns!AF66,\"\")","v":3.1323395073973664E-3},null,0.55500000000000038,1.8500000000000014,24.788563442963696,6.0000000000293827,15.0000001880582,-2.3696767707714175,186,1.2221356530079567E-118,9.9037236371107969E-51,4.9116309417334249E-46,1.1109411740445959E-13,2.9271209112480724E-11,7.0127383918054314E-83,1.503571227459176E-124,8.471228405647103E-170,0,0,0,0,0,0,0,0,0,0,0,0,null,null,null,null,15.089673601828965,9.9925399933033388E-3,0,null,null,null,null,null,18.099999999999987,null,0,0,0,0,0,0,0,0,0,0,0,0,0,0,0,0,0,0,0,0,0,0,0,0,0,0,0,0,0,0,0,0,0,0,0,0,0,0,0,0,0,0,0,0,0,0,0,0,0,0,0,0,0,0,0,0,0,0,0,0,0,0,0,0,0,0,0,0,0,0,0,0,0,0,0,0,0,0,0,0,0,0,0,0,0,0,0,0,0,0,0,0,0,0,0,0,0,0,0,0,0,0,0,0,0,0,0,0,0,0,0,0,0,0,0,0,0,0,0,0,0,0,0,0,0,0,null,182,0,15,{"$f":"INDEX($BW$6:$GR$261,$GT187,$BJ$14)","v":0},0]
[null,null,null,null,null,null,null,null,null,null,null,null,null,null,null,{"$f":"IF(Columns!S67<>\"\",Columns!T67,\"\")","v":43.313829956259987},{"$f":"IF(Columns!S67<>\"\",Columns!U67,\"\")","v":0.73809458091967983},{"$f":"IF(Columns!S67<>\"\",Columns!V67,\"\")","v":"PAG"},null,{"$f":"IF(Columns!S67<>\"\",Columns!X67,\"\")","v":"Ethylene glycol-propylene glycol copolymer"},null,null,null,null,null,null,null,null,null,null,null,{"$f":"IF(AND(Columns!S67<>\"\",Columns!AF67<>0),Columns!AF67,\"\")","v":4.0120320801924486E-3},null,0.55800000000000038,1.8600000000000014,24.235866827358446,6.0000000002189351,15.000000222085843,-3.0657268598703045,187,2.5649762374496131E-124,5.4992354112182331E-54,3.8546344272022027E-49,3.2609859870012381E-15,2.1893152858910662E-10,2.3014304250071071E-81,5.0798328756294424E-123,2.0185915064492397E-168,0,0,0,0,0,0,0,0,0,0,0,0,null,null,null,null,15.091421153444401,9.9925399933033388E-3,0,null,null,null,null,null,18.199999999999989,null,0,0,0,0,0,0,0,0,0,0,0,0,0,0,0,0,0,0,0,0,0,0,0,0,0,0,0,0,0,0,0,0,0,0,0,0,0,0,0,0,0,0,0,0,0,0,0,0,0,0,0,0,0,0,0,0,0,0,0,0,0,0,0,0,0,0,0,0,0,0,0,0,0,0,0,0,0,0,0,0,0,0,0,0,0,0,0,0,0,0,0,0,0,0,0,0,0,0,0,0,0,0,0,0,0,0,0,0,0,0,0,0,0,0,0,0,0,0,0,0,0,0,0,0,0,0,null,183,0,15,{"$f":"INDEX($BW$6:$GR$261,$GT188,$BJ$14)","v":0},0]
[null,null,null,null,null,null,null,null,null,null,null,null,null,null,null,{"$f":"IF(Columns!S68<>\"\",Columns!T68,\"\")","v":20.826880244398193},{"$f":"IF(Columns!S68<>\"\",Columns!U68,\"\")","v":0.36149695564360834},{"$f":"IF(Columns!S68<>\"\",Columns!V68,\"\")","v":"DX-1"},null,{"$f":"IF(Columns!S68<>\"\",Columns!X68,\"\")","v":"poly(dimethylsiloxane) 90 % + poly(ethylene glycol) 10 %"},null,null,null,null,null,null,null,null,null,null,null,{"$f":"IF(AND(Columns!S68<>\"\",Columns!AF68<>0),Columns!AF68,\"\")","v":1.6194068678459937E-2},null,0.56100000000000039,1.8700000000000014,22.750425495743031,6.0000000015132358,15.000000261975631,-3.438378872839186,188,3.9719148350559947E-130,2.4245826659232476E-57,2.4019919708655347E-52,7.9877627002838003E-17,1.5132359032450676E-9,7.3136588137099618E-80,1.6793385818556467E-121,4.7483324116455686E-167,0,0,0,0,0,0,0,0,0,0,0,0,null,null,null,null,15.093195908666067,9.9925399933033388E-3,0,null,null,null,null,null,18.29999999999999,null,0,0,0,0,0,0,0,0,0,0,0,0,0,0,0,0,0,0,0,0,0,0,0,0,0,0,0,0,0,0,0,0,0,0,0,0,0,0,0,0,0,0,0,0,0,0,0,0,0,0,0,0,0,0,0,0,0,0,0,0,0,0,0,0,0,0,0,0,0,0,0,0,0,0,0,0,0,0,0,0,0,0,0,0,0,0,0,0,0,0,0,0,0,0,0,0,0,0,0,0,0,0,0,0,0,0,0,0,0,0,0,0,0,0,0,0,0,0,0,0,0,0,0,0,0,0,null,184,0,15,{"$f":"INDEX($BW$6:$GR$261,$GT189,$BJ$14)","v":0},0]
[null,null,null,null,null,null,null,null,null,null,null,null,null,null,null,{"$f":"IF(Columns!S69<>\"\",Columns!T69,\"\")","v":39.635534558918778},{"$f":"IF(Columns!S69<>\"\",Columns!U69,\"\")","v":0.6780578627060867},{"$f":"IF(Columns!S69<>\"\",Columns!V69,\"\")","v":"DX-3"},null,{"$f":"IF(Columns!S69<>\"\",Columns!X69,\"\")","v":"poly(dimethylsiloxane) 50 % + poly(ethylene glycol) 50 %"},null,null,null,null,null,null,null,null,null,null,null,{"$f":"IF(AND(Columns!S69<>\"\",Columns!AF69<>0),Columns!AF69,\"\")","v":4.0120320801924486E-3},null,0.56400000000000039,1.8800000000000014,20.560864764351273,6.0000000096657518,15.000000308682731,-3.4381614010290988,189,4.5380487739567157E-136,8.4879451925352463E-61,1.1884770312487598E-55,1.6327501357098636E-18,9.6657519316710489E-9,2.2505992851346696E-78,5.4323848637143232E-120,1.102616305571182E-165,0,0,0,0,0,0,0,0,0,0,0,0,null,null,null,null,15.094998132093256,9.9925399933033388E-3,0,null,null,null,null,null,18.399999999999991,null,0,0,0,0,0,0,0,0,0,0,0,0,0,0,0,0,0,0,0,0,0,0,0,0,0,0,0,0,0,0,0,0,0,0,0,0,0,0,0,0,0,0,0,0,0,0,0,0,0,0,0,0,0,0,0,0,0,0,0,0,0,0,0,0,0,0,0,0,0,0,0,0,0,0,0,0,0,0,0,0,0,0,0,0,0,0,0,0,0,0,0,0,0,0,0,0,0,0,0,0,0,0,0,0,0,0,0,0,0,0,0,0,0,0,0,0,0,0,0,0,0,0,0,0,0,0,null,185,0,15,{"$f":"INDEX($BW$6:$GR$261,$GT190,$BJ$14)","v":0},0]
[null,null,null,null,null,null,null,null,null,null,null,null,null,null,null,{"$f":"IF(Columns!S70<>\"\",Columns!T70,\"\")","v":41.971154396838415},{"$f":"IF(Columns!S70<>\"\",Columns!U70,\"\")","v":0.71626446849053993},{"$f":"IF(Columns!S70<>\"\",Columns!V70,\"\")","v":"DX-4"},null,{"$f":"IF(Columns!S70<>\"\",Columns!X70,\"\")","v":"poly(dimethylsiloxane) 15 % + poly(ethylene glycol) 85 %"},null,null,null,null,null,null,null,null,null,null,null,{"$f":"IF(AND(Columns!S70<>\"\",Columns!AF70<>0),Columns!AF70,\"\")","v":4.0120320801924486E-3},null,0.56700000000000039,1.8900000000000015,17.97905303317485,6.000000057055213,15.000000363308191,-3.0648123555602673,190,3.8255249631723522E-142,2.359386137562577E-64,4.6691832674976536E-59,2.7850478098126874E-20,5.7055213321847369E-8,6.7063820505006629E-77,1.7195159891135E-118,2.5275417010407621E-164,0,0,0,0,0,0,0,0,0,0,0,0,null,null,null,null,15.096828087334822,9.9925399933033388E-3,0,null,null,null,null,null,18.499999999999993,null,0,0,0,0,0,0,0,0,0,0,0,0,0,0,0,0,0,0,0,0,0,0,0,0,0,0,0,0,0,0,0,0,0,0,0,0,0,0,0,0,0,0,0,0,0,0,0,0,0,0,0,0,0,0,0,0,0,0,0,0,0,0,0,0,0,0,0,0,0,0,0,0,0,0,0,0,0,0,0,0,0,0,0,0,0,0,0,0,0,0,0,0,0,0,0,0,0,0,0,0,0,0,0,0,0,0,0,0,0,0,0,0,0,0,0,0,0,0,0,0,0,0,0,0,0,0,null,186,0,15,{"$f":"INDEX($BW$6:$GR$261,$GT191,$BJ$14)","v":0},0]
[null,null,null,null,null,null,null,null,null,null,null,null,null,null,null,{"$f":"IF(Columns!S71<>\"\",Columns!T71,\"\")","v":34.024480325241882},{"$f":"IF(Columns!S71<>\"\",Columns!U71,\"\")","v":0.5851502800867785},{"$f":"IF(Columns!S71<>\"\",Columns!V71,\"\")","v":"Cyclodex-B"},null,{"$f":"IF(Columns!S71<>\"\",Columns!X71,\"\")","v":"DB-1701 89.5 % + permethylated ?-cyclodextrin 10.5 %"},null,null,null,null,null,null,null,null,null,null,null,{"$f":"IF(AND(Columns!S71<>\"\",Columns!AF71<>0),Columns!AF71,\"\")","v":4.0120320801924486E-3},null,0.5700000000000004,1.9000000000000015,15.327209616629123,6.0000003112330456,15.000000427119565,-2.3670427919439812,191,2.3793896648177312E-148,5.2074650795350769E-68,1.456538384755318E-62,3.9642764600429437E-22,3.1123304556981743E-7,1.9351072450776513E-75,5.3258058442935488E-117,5.71956331087314E-163,0,0,0,0,0,0,0,0,0,0,0,0,null,null,null,null,15.098686036911745,{"$f":"$BJ$31*NORMDIST(BL192,$BJ$29,$BJ$30,FALSE)","v":9.9925399933033388E-3},{"$f":"$BJ$35*NORMDIST(AI192,$BJ$33,$BJ$34,FALSE)","v":0},null,null,null,null,null,18.599999999999994,null,0,0,0,0,0,0,0,0,0,0,0,0,0,0,0,0,0,0,0,0,0,0,0,0,0,0,0,0,0,0,0,0,0,0,0,0,0,0,0,0,0,0,0,0,0,0,0,0,0,0,0,0,0,0,0,0,0,0,0,0,0,0,0,0,0,0,0,0,0,0,0,0,0,0,0,0,0,0,0,0,0,0,0,0,0,0,0,0,0,0,0,0,0,0,0,0,0,0,0,0,0,0,0,0,0,0,0,0,0,0,0,0,0,0,0,0,0,0,0,0,0,0,0,0,0,0,null,187,0,15,{"$f":"INDEX($BW$6:$GR$261,$GT192,$BJ$14)","v":0},0]
[null,null,null,null,null,null,null,null,null,null,null,null,null,null,null,{"$f":"IF(Columns!S72<>\"\",Columns!T72,\"\")","v":36.269996477970359},{"$f":"IF(Columns!S72<>\"\",Columns!U72,\"\")","v":0.62251235248674575},{"$f":"IF(Columns!S72<>\"\",Columns!V72,\"\")","v":"CycloSil-B"},null,{"$f":"IF(Columns!S72<>\"\",Columns!X72,\"\")","v":"DB-1701 70 % + heptakis(2,3-di-O-methyl-6-O-t-butyldimethylsilyl)-β-cyclodextrin 30 %"},null,null,null,null,null,null,null,null,null,null,null,{"$f":"IF(AND(Columns!S72<>\"\",Columns!AF72<>0),Columns!AF72,\"\")","v":4.0120320801924486E-3},null,0.5730000000000004,1.9100000000000015,12.874131437553803,6.0000015689415056,15.000000501574167,-1.4319540621262146,192,1.0919248531066167E-154,9.1260868043901543E-72,3.6077283910284673E-66,4.7088359952492677E-24,1.5689415052548858E-6,5.4069010418312752E-74,1.6140904376874586E-115,1.277668055736144E-161,0,0,0,0,0,0,0,0,0,0,0,0,null,null,null,null,15.100572242158238,9.9925399933033388E-3,0,null,null,null,null,null,18.699999999999996,null,0,0,0,0,0,0,0,0,0,0,0,0,0,0,0,0,0,0,0,0,0,0,0,0,0,0,0,0,0,0,0,0,0,0,0,0,0,0,0,0,0,0,0,0,0,0,0,0,0,0,0,0,0,0,0,0,0,0,0,0,0,0,0,0,0,0,0,0,0,0,0,0,0,0,0,0,0,0,0,0,0,0,0,0,0,0,0,0,0,0,0,0,0,0,0,0,0,0,0,0,0,0,0,0,0,0,0,0,0,0,0,0,0,0,0,0,0,0,0,0,0,0,0,0,0,0,null,188,0,15,{"$f":"INDEX($BW$6:$GR$261,$GT193,$BJ$14)","v":0},0]
[null,null,null,null,null,null,null,null,null,null,null,null,null,null,null,{"$f":"IF(Columns!S73<>\"\",Columns!T73,\"\")","v":38.66929266587394},{"$f":"IF(Columns!S73<>\"\",Columns!U73,\"\")","v":0.66216857318696287},{"$f":"IF(Columns!S73<>\"\",Columns!V73,\"\")","v":"SLB-IL60"},null,{"$f":"IF(Columns!S73<>\"\",Columns!X73,\"\")","v":"1,12-Di(tripropylphosphonium)dodecane bis(trifluoromethylsulfonyl)imide"},null,null,null,null,null,null,null,null,null,null,null,{"$f":"IF(AND(Columns!S73<>\"\",Columns!AF73<>0),Columns!AF73,\"\")","v":3.207696416831093E-3},null,0.5760000000000004,1.9200000000000015,{"$f":"IF($N$29=0,-1,$N$29*($B$32*NORMDIST($AI194,$B$29,$B$33*$B$29,FALSE)+IF(C$62<>\"\",B$6*NORMDIST($AI194,C$62,D$62/4,FALSE),0)+IF(C$63<>\"\",B$7*NORMDIST($AI194,C$63,D$63/4,FALSE),0)+IF(C$64<>\"\",B$8*NORMDIST($AI194,C$64,D$64/4,FALSE),0)+IF(C$65<>\"\",B$9*NORMDIST($AI194,C$65,D$65/4,FALSE),0)+IF(C$66<>\"\",B$10*NORMDIST($AI194,C$66,D$66/4,FALSE),0)+IF(C$67<>\"\",B$11*NORMDIST($AI194,C$67,D$67/4,FALSE),0)+IF(C$68<>\"\",B$12*NORMDIST($AI194,C$68,D$68/4,FALSE),0)+IF(C$69<>\"\",B$13*NORMDIST($AI194,C$69,D$69/4,FALSE),0)+IF(C$70<>\"\",B$14*NORMDIST($AI194,C$70,D$70/4,FALSE),0)+IF(C$71<>\"\",B$15*NORMDIST($AI194,C$71,D$71/4,FALSE),0)+IF(C$72<>\"\",B$16*NORMDIST($AI194,C$72,D$72/4,FALSE),0)+IF(C$73<>\"\",B$17*NORMDIST($AI194,C$73,D$73/4,FALSE),0)+IF(C$74<>\"\",B$18*NORMDIST($AI194,C$74,D$74/4,FALSE),0)+IF(C$75<>\"\",B$19*NORMDIST($AI194,C$75,D$75/4,FALSE),0)+IF(C$76<>\"\",B$20*NORMDIST($AI194,C$76,D$76/4,FALSE),0)+IF(C$77<>\"\",B$21*NORMDIST($AI194,C$77,D$77/4,FALSE),0)+IF(C$78<>\"\",B$22*NORMDIST($AI194,C$78,D$78/4,FALSE),0)+IF(C$79<>\"\",B$23*NORMDIST($AI194,C$79,D$79/4,FALSE),0)+IF(C$80<>\"\",B$24*NORMDIST($AI194,C$80,D$80/4,FALSE),0)+IF(C$81<>\"\",B$25*NORMDIST($AI194,C$81,D$81/4,FALSE),0))+$M$29)","v":10.796846974613459},{"$f":"IF($N$30<>0,SUM(AO194:BH194)*$N$30+$M$30,-1)","v":6.0000073090087565},{"$f":"IF($N$31=0,-1,$N$31*($B$32*NORMDIST($AH194,$B$29,$B$33*$B$29,FALSE)+IF(G$62<>\"\",B$6*NORMDIST($AH194,G$62,H$62/4,FALSE),0)+IF(G$63<>\"\",B$7*NORMDIST($AH194,G$63,H$63/4,FALSE),0)+IF(G$64<>\"\",B$8*NORMDIST($AH194,G$64,H$64/4,FALSE),0)+IF(G$65<>\"\",B$9*NORMDIST($AH194,G$65,H$65/4,FALSE),0)+IF(G$66<>\"\",B$10*NORMDIST($AH194,G$66,H$66/4,FALSE),0)+IF(G$67<>\"\",B$11*NORMDIST($AH194,G$67,H$67/4,FALSE),0)+IF(G$68<>\"\",B$12*NORMDIST($AH194,G$68,H$68/4,FALSE),0)+IF(G$69<>\"\",B$13*NORMDIST($AH194,G$69,H$69/4,FALSE),0)+IF(G$70<>\"\",B$14*NORMDIST($AH194,G$70,H$70/4,FALSE),0)+IF(G$71<>\"\",B$15*NORMDIST($AH194,G$71,H$71/4,FALSE),0)+IF(G$72<>\"\",B$16*NORMDIST($AH194,G$72,H$72/4,FALSE),0)+IF(G$73<>\"\",B$17*NORMDIST($AH194,G$73,H$73/4,FALSE),0)+IF(G$74<>\"\",B$18*NORMDIST($AH194,G$74,H$74/4,FALSE),0)+IF(G$75<>\"\",B$19*NORMDIST($AH194,G$75,H$75/4,FALSE),0)+IF(G$76<>\"\",B$20*NORMDIST($AH194,G$76,H$76/4,FALSE),0)+IF(G$77<>\"\",B$21*NORMDIST($AH194,G$77,H$77/4,FALSE),0)+IF(G$78<>\"\",B$22*NORMDIST($AH194,G$78,H$78/4,FALSE),0)+IF(G$79<>\"\",B$23*NORMDIST($AH194,G$79,H$79/4,FALSE),0)+IF(G$80<>\"\",B$24*NORMDIST($AH194,G$80,H$80/4,FALSE),0)+IF(G$81<>\"\",B$25*NORMDIST($AH194,G$81,H$81/4,FALSE),0))+$M$31)","v":15.00000058834528},{"$f":"IF($N$33=0,-1,$N$33*($B$32*NORMDIST($AI194,$B$29,$B$33*$B$29,FALSE)+IF(K$62<>\"\",B$6*NORMDIST($AI194,K$62,L$62/4,FALSE),0)+IF(K$63<>\"\",B$7*NORMDIST($AI194,K$63,L$63/4,FALSE),0)+IF(K$64<>\"\",B$8*NORMDIST($AI194,K$64,L$64/4,FALSE),0)+IF(K$65<>\"\",B$9*NORMDIST($AI194,K$65,L$65/4,FALSE),0)+IF(K$66<>\"\",B$10*NORMDIST($AI194,K$66,L$66/4,FALSE),0)+IF(K$67<>\"\",B$11*NORMDIST($AI194,K$67,L$67/4,FALSE),0)+IF(K$68<>\"\",B$12*NORMDIST($AI194,K$68,L$68/4,FALSE),0)+IF(K$69<>\"\",B$13*NORMDIST($AI194,K$69,L$69/4,FALSE),0)+IF(K$70<>\"\",B$14*NORMDIST($AI194,K$70,L$70/4,FALSE),0)+IF(K$71<>\"\",B$15*NORMDIST($AI194,K$71,L$71/4,FALSE),0)+IF(K$72<>\"\",B$16*NORMDIST($AI194,K$72,L$72/4,FALSE),0)+IF(K$73<>\"\",B$17*NORMDIST($AI194,K$73,L$73/4,FALSE),0)+IF(K$74<>\"\",B$18*NORMDIST($AI194,K$74,L$74/4,FALSE),0)+IF(K$75<>\"\",B$19*NORMDIST($AI194,K$75,L$75/4,FALSE),0)+IF(K$76<>\"\",B$20*NORMDIST($AI194,K$76,L$76/4,FALSE),0)+IF(K$77<>\"\",B$21*NORMDIST($AI194,K$77,L$77/4,FALSE),0)+IF(K$78<>\"\",B$22*NORMDIST($AI194,K$78,L$78/4,FALSE),0)+IF(K$79<>\"\",B$23*NORMDIST($AI194,K$79,L$79/4,FALSE),0)+IF(K$80<>\"\",B$24*NORMDIST($AI194,K$80,L$80/4,FALSE),0)+IF(K$81<>\"\",B$25*NORMDIST($AI194,K$81,L$81/4,FALSE),0))+$M$33)","v":-0.36714039161045608},193,{"$f":"IF($C$85>0,$B$6*NORMDIST($AI194,$C$85,$D$85/4,FALSE),0)","v":3.6971969045171171E-161},{"$f":"IF($C$86>0,$B$7*NORMDIST($AI194,$C$86,$D$86/4,FALSE),0)","v":1.2699122437884531E-75},{"$f":"IF($C$87>0,$B$8*NORMDIST($AI194,$C$87,$D$87/4,FALSE),0)","v":7.0953956936480702E-70},{"$f":"IF($C$88>0,$B$9*NORMDIST($AI194,$C$88,$D$88/4,FALSE),0)","v":4.6674701358480365E-26},{"$f":"IF($C$89>0,$B$10*NORMDIST($AI194,$C$89,$D$89/4,FALSE),0)","v":7.3090087566705433E-6},{"$f":"IF($C$90>0,$B$11*NORMDIST($AI194,$C$90,$D$90/4,FALSE),0)","v":1.4629127912285012E-72},{"$f":"IF($C$91>0,$B$12*NORMDIST($AI194,$C$91,$D$91/4,FALSE),0)","v":4.7866736934235408E-114},{"$f":"IF($C$92>0,$B$13*NORMDIST($AI194,$C$92,$D$92/4,FALSE),0)","v":2.8174993515633757E-160},{"$f":"IF($C$93>0,$B$14*NORMDIST($AI194,$C$93,$D$93/4,FALSE),0)","v":0},{"$f":"IF($C$94>0,$B$15*NORMDIST($AI194,$C$94,$D$94/4,FALSE),0)","v":0},{"$f":"IF($C$95>0,$B$16*NORMDIST($AI194,$C$95,$D$95/4,FALSE),0)","v":0},0,0,0,0,0,0,0,0,0,null,null,null,null,15.102486963121377,9.9925399933033388E-3,0,null,null,null,null,null,18.799999999999997,null,0,0,0,0,0,0,0,0,0,0,0,0,0,0,0,0,0,0,0,0,0,0,0,0,0,0,0,0,0,0,0,0,0,0,0,0,0,0,0,0,0,0,0,0,0,0,0,0,0,0,0,0,0,0,0,0,0,0,0,0,0,0,0,0,0,0,0,0,0,0,0,0,0,0,0,0,0,0,0,0,0,0,0,0,0,0,0,0,0,0,0,0,0,0,0,0,0,0,0,0,0,0,0,0,0,0,0,0,0,0,0,0,0,0,0,0,0,0,0,0,0,0,0,0,0,0,null,189,0,15,{"$f":"INDEX($BW$6:$GR$261,$GT194,$BJ$14)","v":0},0]
[null,null,null,null,null,null,null,null,null,null,null,null,null,null,null,{"$f":"IF(Columns!S74<>\"\",Columns!T74,\"\")","v":39.647302790773949},{"$f":"IF(Columns!S74<>\"\",Columns!U74,\"\")","v":0.67825108960040137},{"$f":"IF(Columns!S74<>\"\",Columns!V74,\"\")","v":"SLB-IL61"},null,{"$f":"IF(Columns!S74<>\"\",Columns!X74,\"\")","v":"1,12-Di(tripropylphosphonium)dodecane bis(trifluoromethylsulfonyl)imide trifluoromethylsulfonate"},null,null,null,null,null,null,null,null,null,null,null,{"$f":"IF(AND(Columns!S74<>\"\",Columns!AF74<>0),Columns!AF74,\"\")","v":3.207696416831093E-3},null,0.5790000000000004,1.9300000000000015,9.1727604732412402,6.0000314659532288,15.000000689351628,0.71951393782696726,194,9.2364495000283259E-168,1.4031164350664294E-79,1.1080268695445255E-73,3.8607162484567111E-28,3.1465953228731278E-5,3.8327905528624889E-71,1.3890030652923637E-112,6.133385128779106E-159,0,0,0,{"$f":"IF($C$96>0,$B$17*NORMDIST($AI195,$C$96,$D$96/4,FALSE),0)","v":0},{"$f":"IF($C$97>0,$B$18*NORMDIST($AI195,$C$97,$D$97/4,FALSE),0)","v":0},{"$f":"IF($C$98>0,$B$19*NORMDIST($AI195,$C$98,$D$98/4,FALSE),0)","v":0},{"$f":"IF($C$99>0,$B$20*NORMDIST($AI195,$C$99,$D$99/4,FALSE),0)","v":0},{"$f":"IF($C$100>0,$B$21*NORMDIST($AI195,$C$100,$D$100/4,FALSE),0)","v":0},{"$f":"IF($C$101>0,$B$22*NORMDIST($AI195,$C$101,$D$101/4,FALSE),0)","v":0},{"$f":"IF($C$102>0,$B$23*NORMDIST($AI195,$C$102,$D$102/4,FALSE),0)","v":0},{"$f":"IF($C$103>0,$B$24*NORMDIST($AI195,$C$103,$D$103/4,FALSE),0)","v":0},{"$f":"IF($C$104>0,$B$25*NORMDIST($AI195,$C$104,$D$104/4,FALSE),0)","v":0},null,null,null,null,{"$f":"$N$32*$O$61*NORMDIST(AH195,$BJ$26,$BJ$27,FALSE)+$M$32","v":15.104430458459312},9.9925399933033388E-3,0,null,null,null,null,null,18.899999999999999,null,0,0,0,0,0,0,0,0,0,0,0,0,0,0,0,0,0,0,0,0,0,0,0,0,0,0,0,0,0,0,0,0,0,0,0,0,0,0,0,0,0,0,0,0,0,0,0,0,0,0,0,0,0,0,0,0,0,0,0,0,0,0,0,0,0,0,0,0,0,0,0,0,0,0,0,0,0,0,0,0,0,0,0,0,0,0,0,0,0,0,0,0,0,0,0,0,0,0,0,0,0,0,0,0,0,0,0,0,0,0,0,0,0,0,0,0,0,0,0,0,0,0,0,0,0,0,null,190,0,15,{"$f":"INDEX($BW$6:$GR$261,$GT195,$BJ$14)","v":0},0]
[null,null,null,null,null,null,null,null,null,null,null,null,null,null,null,{"$f":"IF(Columns!S75<>\"\",Columns!T75,\"\")","v":41.709574864213096},{"$f":"IF(Columns!S75<>\"\",Columns!U75,\"\")","v":0.71199999538955372},{"$f":"IF(Columns!S75<>\"\",Columns!V75,\"\")","v":"SLB-IL76"},null,{"$f":"IF(Columns!S75<>\"\",Columns!X75,\"\")","v":"Tri(tripropylphosphoniumhexamide)triethylamine bis(trifluoromethylsulfonyl)imide"},null,null,null,null,null,null,null,null,null,null,null,{"$f":"IF(AND(Columns!S75<>\"\",Columns!AF75<>0),Columns!AF75,\"\")","v":3.207696416831093E-3},null,{"$f":"AH195+$C$34","v":0.58200000000000041},{"$f":"AI195+$B$34","v":1.9400000000000015},7.9966925655274181,6.000125185487204,15.000000806790464,1.7371787968818406,195,1.7025120287281444E-174,1.2309618656339481E-83,1.3738991355847029E-77,2.6648487905689061E-30,1.2518548720433838E-4,9.7238527029233792E-70,3.9439918508822434E-111,1.3180359923741468E-157,0,0,0,0,0,0,0,0,0,0,0,0,null,null,null,null,15.106402985338015,9.9925399933033388E-3,0,null,null,null,null,null,19,null,0,0,0,0,0,0,0,0,0,0,0,0,0,0,0,0,0,0,0,0,0,0,0,0,0,0,0,0,0,0,0,0,0,0,0,0,0,0,0,0,0,0,0,0,0,0,0,0,0,0,0,0,0,0,0,0,0,0,0,0,0,0,0,0,0,0,0,0,0,0,0,0,0,0,0,0,0,0,0,0,0,0,0,0,0,0,0,0,0,0,0,0,0,0,0,0,0,0,0,0,0,0,0,0,0,0,0,0,0,0,0,0,0,0,0,0,0,0,0,0,0,0,0,0,0,0,null,191,0,15,{"$f":"INDEX($BW$6:$GR$261,$GT196,$BJ$14)","v":0},0]
[null,null,null,null,null,null,null,null,null,null,null,null,null,null,null,{"$f":"IF(Columns!S76<>\"\",Columns!T76,\"\")","v":43.975656825975953},{"$f":"IF(Columns!S76<>\"\",Columns!U76,\"\")","v":0.74881790324453845},{"$f":"IF(Columns!S76<>\"\",Columns!V76,\"\")","v":"SLB-IL100"},null,{"$f":"IF(Columns!S76<>\"\",Columns!X76,\"\")","v":"1,9-Di(3-vinylimidazolium)nonane bis(trifluoromethylsulfonyl)imide"},null,null,null,null,null,null,null,null,null,null,null,{"$f":"IF(AND(Columns!S76<>\"\",Columns!AF76<>0),Columns!AF76,\"\")","v":3.207696416831093E-3},null,0.58500000000000041,1.9500000000000015,7.2112398925155894,6.0004602541949064,15.000000943174664,2.6229216048595037,196,2.3154103352868157E-181,8.5748468560248209E-88,1.3526651298629198E-81,1.534954870910443E-32,4.6025419490609696E-4,2.3888467498986605E-68,1.0958023741745116E-109,2.7960499594894084E-156,0,0,0,0,0,0,0,0,0,0,0,0,null,null,null,null,15.108404799326658,9.9925399933033388E-3,0,null,null,null,null,null,19.100000000000001,null,0,0,0,0,0,0,0,0,0,0,0,0,0,0,0,0,0,0,0,0,0,0,0,0,0,0,0,0,0,0,0,0,0,0,0,0,0,0,0,0,0,0,0,0,0,0,0,0,0,0,0,0,0,0,0,0,0,0,0,0,0,0,0,0,0,0,0,0,0,0,0,0,0,0,0,0,0,0,0,0,0,0,0,0,0,0,0,0,0,0,0,0,0,0,0,0,0,0,0,0,0,0,0,0,0,0,0,0,0,0,0,0,0,0,0,0,0,0,0,0,0,0,0,0,0,0,null,192,0,15,{"$f":"INDEX($BW$6:$GR$261,$GT197,$BJ$14)","v":0},0]
[null,null,null,null,null,null,null,null,null,null,null,null,null,null,null,{"$f":"IF(Columns!S77<>\"\",Columns!T77,\"\")","v":""},{"$f":"IF(Columns!S77<>\"\",Columns!U77,\"\")","v":""},{"$f":"IF(Columns!S77<>\"\",Columns!V77,\"\")","v":""},null,{"$f":"IF(Columns!S77<>\"\",Columns!X77,\"\")","v":""},null,null,null,null,null,null,null,null,null,null,null,{"$f":"IF(AND(Columns!S77<>\"\",Columns!AF77<>0),Columns!AF77,\"\")","v":""},null,0.58800000000000041,1.9600000000000015,6.7385707276324958,6.001563767589035,15.000001101374238,3.3448255676359038,197,2.3233700978322883E-188,4.7428460940296976E-92,1.0574421680339847E-85,7.3779720174756356E-35,1.5637675890347758E-3,5.682832319757501E-67,2.9791466939310825E-108,5.8553546827174793E-155,0,0,0,0,0,0,0,0,0,0,0,0,null,null,null,null,15.110436154291573,9.9925399933033388E-3,0,null,null,null,null,null,19.200000000000003,null,0,0,0,0,0,0,0,0,0,0,0,0,0,0,0,0,0,0,0,0,0,0,0,0,0,0,0,0,0,0,0,0,0,0,0,0,0,0,0,0,0,0,0,0,0,0,0,0,0,0,0,0,0,0,0,0,0,0,0,0,0,0,0,0,0,0,0,0,0,0,0,0,0,0,0,0,0,0,0,0,0,0,0,0,0,0,0,0,0,0,0,0,0,0,0,0,0,0,0,0,0,0,0,0,0,0,0,0,0,0,0,0,0,0,0,0,0,0,0,0,0,0,0,0,0,0,null,193,{"$f":"IF(BU198=\"\",\"\",0.01*SUM(BW198:GR198))","v":0},{"$f":"IF(BW198=\"\",\"\",0.01*SUM(BW198:GR198)*$N$32+$M$32)","v":15},{"$f":"INDEX($BW$6:$GR$261,$GT198,$BJ$14)","v":0},{"$f":"GW198*$BJ$16","v":0}]
[null,null,null,null,null,null,null,null,null,null,null,null,null,null,null,{"$f":"IF(Columns!S78<>\"\",Columns!T78,\"\")","v":""},{"$f":"IF(Columns!S78<>\"\",Columns!U78,\"\")","v":""},{"$f":"IF(Columns!S78<>\"\",Columns!V78,\"\")","v":""},null,{"$f":"IF(Columns!S78<>\"\",Columns!X78,\"\")","v":""},null,null,null,null,null,null,null,null,null,null,null,{"$f":"IF(AND(Columns!S78<>\"\",Columns!AF78<>0),Columns!AF78,\"\")","v":""},null,0.59100000000000041,1.9700000000000015,6.5054423948707614,6.0049099530602694,15.000001284662718,3.898475738217174,198,1.720130804212253E-195,2.0829679019262689E-96,6.5637773577578686E-90,2.959352838483035E-37,4.9099530602696121E-3,1.3090855463714596E-65,7.9252863604639587E-107,1.2104646482217119E-153,0,0,0,0,0,0,0,0,0,0,0,0,null,null,null,null,15.112497302288865,9.9925399933033388E-3,0,null,null,null,null,null,{"$f":"BU198+$BJ$7","v":19.300000000000004},null,0,0,0,0,0,0,0,0,0,0,0,0,0,0,0,0,0,0,0,0,0,0,0,0,0,0,0,0,0,0,0,0,0,0,0,0,0,0,0,0,0,0,0,0,0,0,0,0,0,0,0,0,0,0,0,0,0,0,0,0,0,0,0,0,0,0,0,0,0,0,0,0,0,0,0,0,0,0,0,0,0,0,0,0,0,0,0,0,0,0,0,0,0,0,0,0,0,0,0,0,0,0,0,0,0,0,0,0,0,0,0,0,0,0,0,0,0,0,0,0,0,0,0,0,0,0,null,194,0,15,{"$f":"INDEX($BW$6:$GR$261,$GT199,$BJ$14)","v":0},0]
[null,null,null,null,null,null,null,null,null,null,null,null,null,null,null,{"$f":"IF(Columns!S79<>\"\",Columns!T79,\"\")","v":""},{"$f":"IF(Columns!S79<>\"\",Columns!U79,\"\")","v":""},{"$f":"IF(Columns!S79<>\"\",Columns!V79,\"\")","v":""},null,{"$f":"IF(Columns!S79<>\"\",Columns!X79,\"\")","v":""},null,null,null,null,null,null,null,null,null,null,null,{"$f":"IF(AND(Columns!S79<>\"\",Columns!AF79<>0),Columns!AF79,\"\")","v":""},null,0.59400000000000042,1.9800000000000015,6.4580746035223733,6.0142466630667908,15.000001496768885,4.2993608537694952,199,9.3963070601421229E-203,7.2636851212315432E-101,3.235057051529557E-94,9.9054644893237902E-40,1.4246663066790356E-2,2.9201008312391246E-64,2.0630106096959102E-105,2.4702541438302028E-152,0,0,0,0,0,0,0,0,0,0,0,0,null,null,null,null,15.114588493455672,9.9925399933033388E-3,0,null,null,null,null,null,19.400000000000006,null,0,0,0,0,0,0,0,0,0,0,0,0,0,0,0,0,0,0,0,0,0,0,0,0,0,0,0,0,0,0,0,0,0,0,0,0,0,0,0,0,0,0,0,0,0,0,0,0,0,0,0,0,0,0,0,0,0,0,0,0,0,0,0,0,0,0,0,0,0,0,0,0,0,0,0,0,0,0,0,0,0,0,0,0,0,0,0,0,0,0,0,0,0,0,0,0,0,0,0,0,0,0,0,0,0,0,0,0,0,0,0,0,0,0,0,0,0,0,0,0,0,0,0,0,0,0,null,195,0,15,{"$f":"INDEX($BW$6:$GR$261,$GT200,$BJ$14)","v":0},0]
[null,null,null,null,null,null,null,null,null,null,null,null,null,null,null,{"$f":"IF(Columns!S80<>\"\",Columns!T80,\"\")","v":""},{"$f":"IF(Columns!S80<>\"\",Columns!U80,\"\")","v":""},{"$f":"IF(Columns!S80<>\"\",Columns!V80,\"\")","v":""},null,{"$f":"IF(Columns!S80<>\"\",Columns!X80,\"\")","v":""},null,null,null,null,null,null,null,null,null,null,null,{"$f":"IF(AND(Columns!S80<>\"\",Columns!AF80<>0),Columns!AF80,\"\")","v":""},null,0.59700000000000042,1.9900000000000015,6.567292226476269,6.0382014323559883,15.000001741934378,4.5740635928046061,200,3.7870895743800089E-210,2.0112327267677197E-105,1.2660210675549857E-98,2.7667587662061252E-42,3.8201432355988552E-2,6.307457051102357E-63,5.2547418221863981E-104,4.9764745300786871E-151,0,0,0,0,0,0,0,0,0,0,0,0,null,null,null,null,15.116709975900104,9.9925399933033388E-3,0,null,null,null,null,null,19.500000000000007,null,0,0,0,0,0,0,0,0,0,0,0,0,0,0,0,0,0,0,0,0,0,0,0,0,0,0,0,0,0,0,0,0,0,0,0,0,0,0,0,0,0,0,0,0,0,0,0,0,0,0,0,0,0,0,0,0,0,0,0,0,0,0,0,0,0,0,0,0,0,0,0,0,0,0,0,0,0,0,0,0,0,0,0,0,0,0,0,0,0,0,0,0,0,0,0,0,0,0,0,0,0,0,0,0,0,0,0,0,0,0,0,0,0,0,0,0,0,0,0,0,0,0,0,0,0,0,null,196,0,15,{"$f":"INDEX($BW$6:$GR$261,$GT201,$BJ$14)","v":0},0]
[null,null,null,null,null,null,null,null,null,null,null,null,null,null,null,{"$f":"IF(Columns!S81<>\"\",Columns!T81,\"\")","v":""},{"$f":"IF(Columns!S81<>\"\",Columns!U81,\"\")","v":""},{"$f":"IF(Columns!S81<>\"\",Columns!V81,\"\")","v":""},null,{"$f":"IF(Columns!S81<>\"\",Columns!X81,\"\")","v":""},null,null,null,null,null,null,null,null,null,null,null,{"$f":"IF(AND(Columns!S81<>\"\",Columns!AF81<>0),Columns!AF81,\"\")","v":""},null,0.60000000000000042,2.0000000000000013,6.8261730220922257,6.0946622496265892,15.000002024977739,4.7525171201534313,201,1.1261768713745798E-217,4.421794256114897E-110,3.9339678606629096E-103,6.4489067353287218E-45,9.4662249626589465E-2,1.3192812496520975E-61,1.3096785896804811E-102,9.8967490447060575E-150,0,0,0,0,0,0,0,0,0,0,0,0,null,null,null,null,15.118861995589882,9.9925399933033388E-3,0,null,null,null,null,null,19.600000000000009,null,0,0,0,0,0,0,0,0,0,0,0,0,0,0,0,0,0,0,0,0,0,0,0,0,0,0,0,0,0,0,0,0,0,0,0,0,0,0,0,0,0,0,0,0,0,0,0,0,0,0,0,0,0,0,0,0,0,0,0,0,0,0,0,0,0,0,0,0,0,0,0,0,0,0,0,0,0,0,0,0,0,0,0,0,0,0,0,0,0,0,0,0,0,0,0,0,0,0,0,0,0,0,0,0,0,0,0,0,0,0,0,0,0,0,0,0,0,0,0,0,0,0,0,0,0,0,null,197,0,15,{"$f":"INDEX($BW$6:$GR$261,$GT202,$BJ$14)","v":0},0]
[null,null,null,null,null,null,null,null,null,null,null,null,null,null,null,{"$f":"IF(Columns!S82<>\"\",Columns!T82,\"\")","v":""},{"$f":"IF(Columns!S82<>\"\",Columns!U82,\"\")","v":""},{"$f":"IF(Columns!S82<>\"\",Columns!V82,\"\")","v":""},null,{"$f":"IF(Columns!S82<>\"\",Columns!X82,\"\")","v":""},null,null,null,null,null,null,null,null,null,null,null,{"$f":"IF(AND(Columns!S82<>\"\",Columns!AF82<>0),Columns!AF82,\"\")","v":""},null,0.60300000000000042,2.0100000000000011,7.2426485136570733,6.2167727443486802,15.000002351365463,4.8625655553025497,202,2.4709290761605326E-225,7.7190814100526511E-115,9.7062521318297604E-108,1.2543514898959962E-47,0.21677274434868007,2.672065576050726E-60,3.1940484237164099E-101,1.9429156793402339E-148,0,0,0,0,0,0,0,0,0,0,0,0,null,null,null,null,15.121044796239715,9.9925399933033388E-3,0,null,null,null,null,null,19.70000000000001,null,0,0,0,0,0,0,0,0,0,0,0,0,0,0,0,0,0,0,0,0,0,0,0,0,0,0,0,0,0,0,0,0,0,0,0,0,0,0,0,0,0,0,0,0,0,0,0,0,0,0,0,0,0,0,0,0,0,0,0,0,0,0,0,0,0,0,0,0,0,0,0,0,0,0,0,0,0,0,0,0,0,0,0,0,0,0,0,0,0,0,0,0,0,0,0,0,0,0,0,0,0,0,0,0,0,0,0,0,0,0,0,0,0,0,0,0,0,0,0,0,0,0,0,0,0,0,null,198,0,15,{"$f":"INDEX($BW$6:$GR$261,$GT203,$BJ$14)","v":0},0]
[null,null,null,null,null,null,null,null,null,null,null,null,null,null,null,{"$f":"IF(Columns!S83<>\"\",Columns!T83,\"\")","v":""},{"$f":"IF(Columns!S83<>\"\",Columns!U83,\"\")","v":""},{"$f":"IF(Columns!S83<>\"\",Columns!V83,\"\")","v":""},null,{"$f":"IF(Columns!S83<>\"\",Columns!X83,\"\")","v":""},null,null,null,null,null,null,null,null,null,null,null,{"$f":"IF(AND(Columns!S83<>\"\",Columns!AF83<>0),Columns!AF83,\"\")","v":""},null,0.60600000000000043,2.0200000000000009,7.8290427280415269,6.4587364094204824,15.000002727290724,4.9270549113996767,203,4.0000609193193298E-233,1.0699502818198839E-119,1.9015301485024367E-112,2.0359671014937574E-50,0.45873640942048211,5.2406296319294836E-59,7.6222236489676499E-100,3.7653553749192883E-147,0,0,0,0,0,0,0,0,0,0,0,0,null,null,null,null,15.123258619197426,9.9925399933033388E-3,0,null,null,null,null,null,19.800000000000011,null,0,0,0,0,0,0,0,0,0,0,0,0,0,0,0,0,0,0,0,0,0,0,0,0,0,0,0,0,0,0,0,0,0,0,0,0,0,0,0,0,0,0,0,0,0,0,0,0,0,0,0,0,0,0,0,0,0,0,0,0,0,0,0,0,0,0,0,0,0,0,0,0,0,0,0,0,0,0,0,0,0,0,0,0,0,0,0,0,0,0,0,0,0,0,0,0,0,0,0,0,0,0,0,0,0,0,0,0,0,0,0,0,0,0,0,0,0,0,0,0,0,0,0,0,0,0,null,199,0,15,{"$f":"INDEX($BW$6:$GR$261,$GT204,$BJ$14)","v":0},0]
[null,null,null,null,null,null,null,null,null,null,null,null,null,null,null,{"$f":"IF(Columns!S84<>\"\",Columns!T84,\"\")","v":""},{"$f":"IF(Columns!S84<>\"\",Columns!U84,\"\")","v":""},{"$f":"IF(Columns!S84<>\"\",Columns!V84,\"\")","v":""},null,{"$f":"IF(Columns!S84<>\"\",Columns!X84,\"\")","v":""},null,null,null,null,null,null,null,null,null,null,null,{"$f":"IF(AND(Columns!S84<>\"\",Columns!AF84<>0),Columns!AF84,\"\")","v":""},null,0.60900000000000043,2.0300000000000007,8.5902327044148148,6.8971238998611373,15.000003159760418,4.9629961805399656,204,4.7777737576090132E-241,1.1775855280462972E-124,2.9579154008700494E-117,2.7576593319759083E-53,0.89712389986113739,9.9528270672379417E-58,1.7798577847650003E-98,7.2035837960656704E-146,0,0,0,0,0,0,0,0,0,0,0,0,null,null,null,null,15.125503703328848,9.9925399933033388E-3,0,null,null,null,null,null,19.900000000000013,null,0,0,0,0,0,0,0,0,0,0,0,0,0,0,0,0,0,0,0,0,0,0,0,0,0,0,0,0,0,0,0,0,0,0,0,0,0,0,0,0,0,0,0,0,0,0,0,0,0,0,0,0,0,0,0,0,0,0,0,0,0,0,0,0,0,0,0,0,0,0,0,0,0,0,0,0,0,0,0,0,0,0,0,0,0,0,0,0,0,0,0,0,0,0,0,0,0,0,0,0,0,0,0,0,0,0,0,0,0,0,0,0,0,0,0,0,0,0,0,0,0,0,0,0,0,0,null,200,0,15,{"$f":"INDEX($BW$6:$GR$261,$GT205,$BJ$14)","v":0},0]
[null,null,null,null,null,null,null,null,null,null,null,null,null,null,null,{"$f":"IF(Columns!S85<>\"\",Columns!T85,\"\")","v":""},{"$f":"IF(Columns!S85<>\"\",Columns!U85,\"\")","v":""},{"$f":"IF(Columns!S85<>\"\",Columns!V85,\"\")","v":""},null,{"$f":"IF(Columns!S85<>\"\",Columns!X85,\"\")","v":""},null,null,null,null,null,null,null,null,null,null,null,{"$f":"IF(AND(Columns!S85<>\"\",Columns!AF85<>0),Columns!AF85,\"\")","v":""},null,0.61200000000000043,2.0400000000000005,9.5123197494710166,7.6213333755479944,15.000003656691247,4.9820589819213703,205,4.2105342605566639E-249,1.029087275271939E-129,3.6534163485297526E-122,3.1169427475602625E-56,1.6213333755479948,1.8303581703389388E-56,4.0667955594201359E-97,1.3604477813781984E-144,0,0,0,0,0,0,0,0,0,0,0,0,null,null,null,null,15.127780284901563,9.9925399933033388E-3,0,null,null,null,null,null,20.000000000000014,null,0,0,0,0,0,0,0,0,0,0,0,0,0,0,0,0,0,0,0,0,0,0,0,0,0,0,0,0,0,0,0,0,0,0,0,0,0,0,0,0,0,0,0,0,0,0,0,0,0,0,0,0,0,0,0,0,0,0,0,0,0,0,0,0,0,0,0,0,0,0,0,0,0,0,0,0,0,0,0,0,0,0,0,0,0,0,0,0,0,0,0,0,0,0,0,0,0,0,0,0,0,0,0,0,0,0,0,0,0,0,0,0,0,0,0,0,0,0,0,0,0,0,0,0,0,0,null,201,0,15,{"$f":"INDEX($BW$6:$GR$261,$GT206,$BJ$14)","v":0},0]
[null,null,null,null,null,null,null,null,null,null,null,null,null,null,null,{"$f":"IF(Columns!S86<>\"\",Columns!T86,\"\")","v":""},{"$f":"IF(Columns!S86<>\"\",Columns!U86,\"\")","v":""},{"$f":"IF(Columns!S86<>\"\",Columns!V86,\"\")","v":""},null,{"$f":"IF(Columns!S86<>\"\",Columns!X86,\"\")","v":""},null,null,null,null,null,null,null,null,null,null,null,{"$f":"IF(AND(Columns!S86<>\"\",Columns!AF86<>0),Columns!AF86,\"\")","v":""},null,0.61500000000000044,2.0500000000000003,10.554198793683426,8.7078393779404522,15.00000422701558,4.9916862368533135,206,2.7377984915797446E-257,7.1407337898585244E-135,3.5829724860442643E-127,2.9399191566225105E-59,2.7078393779404522,3.2595101682175244E-55,9.0924893753422718E-96,2.5363300313858858E-143,0,0,0,0,0,0,0,0,0,0,0,0,null,null,null,null,15.13008859746745,9.9925399933033388E-3,0,null,null,null,null,null,20.100000000000016,null,0,0,0,0,0,0,0,0,0,0,0,0,0,0,0,0,0,0,0,0,0,0,0,0,0,0,0,0,0,0,0,0,0,0,0,0,0,0,0,0,0,0,0,0,0,0,0,0,0,0,0,0,0,0,0,0,0,0,0,0,0,0,0,0,0,0,0,0,0,0,0,0,0,0,0,0,0,0,0,0,0,0,0,0,0,0,0,0,0,0,0,0,0,0,0,0,0,0,0,0,0,0,0,0,0,0,0,0,0,0,0,0,0,0,0,0,0,0,0,0,0,0,0,0,0,0,null,202,0,15,{"$f":"INDEX($BW$6:$GR$261,$GT207,$BJ$14)","v":0},0]
[null,null,null,null,null,null,null,null,null,null,null,null,null,null,null,{"$f":"IF(Columns!S87<>\"\",Columns!T87,\"\")","v":""},{"$f":"IF(Columns!S87<>\"\",Columns!U87,\"\")","v":""},{"$f":"IF(Columns!S87<>\"\",Columns!V87,\"\")","v":""},null,{"$f":"IF(Columns!S87<>\"\",Columns!X87,\"\")","v":""},null,null,null,null,null,null,null,null,null,null,null,{"$f":"IF(AND(Columns!S87<>\"\",Columns!AF87<>0),Columns!AF87,\"\")","v":""},null,0.61800000000000044,2.06,11.644642639673901,10.17930586828219,15.000004880797885,4.9963178773902612,207,1.3134646952689358E-265,3.9342718301261333E-140,2.7900929044685999E-132,2.3139837424767506E-62,4.1793058682821904,5.6207624637344093E-54,1.9891919231623138E-94,4.6678863566399791E-142,0,0,0,0,0,0,0,0,0,0,0,0,null,null,null,null,15.132428871744121,9.9925399933033388E-3,0,null,null,null,null,null,20.200000000000017,null,0,0,0,0,0,0,0,0,0,0,0,0,0,0,0,0,0,0,0,0,0,0,0,0,0,0,0,0,0,0,0,0,0,0,0,0,0,0,0,0,0,0,0,0,0,0,0,0,0,0,0,0,0,0,0,0,0,0,0,0,0,0,0,0,0,0,0,0,0,0,0,0,0,0,0,0,0,0,0,0,0,0,0,0,0,0,0,0,0,0,0,0,0,0,0,0,0,0,0,0,0,0,0,0,0,0,0,0,0,0,0,0,0,0,0,0,0,0,0,0,0,0,0,0,0,0,null,203,0,15,{"$f":"INDEX($BW$6:$GR$261,$GT208,$BJ$14)","v":0},0]
[null,null,null,null,null,null,null,null,null,null,null,null,null,null,null,{"$f":"IF(Columns!S88<>\"\",Columns!T88,\"\")","v":""},{"$f":"IF(Columns!S88<>\"\",Columns!U88,\"\")","v":""},{"$f":"IF(Columns!S88<>\"\",Columns!V88,\"\")","v":""},null,{"$f":"IF(Columns!S88<>\"\",Columns!X88,\"\")","v":""},null,null,null,null,null,null,null,null,null,null,null,{"$f":"IF(AND(Columns!S88<>\"\",Columns!AF88<>0),Columns!AF88,\"\")","v":""},null,0.62100000000000044,2.0699999999999998,12.686914800144454,11.960958447357047,15.000005629362525,4.9984413489854287,208,4.6493043580140994E-274,1.7211422672284197E-145,1.7251415775347841E-137,1.5198599496271646E-65,5.9609584473570463,9.3856587145759874E-53,4.2582778496536492E-93,8.4805771139244017E-141,0,0,0,0,0,0,0,0,0,0,0,0,null,null,null,null,15.134801335495267,9.9925399933033388E-3,0,null,null,null,null,null,20.300000000000018,null,0,0,0,0,0,0,0,0,0,0,0,0,0,0,0,0,0,0,0,0,0,0,0,0,0,0,0,0,0,0,0,0,0,0,0,0,0,0,0,0,0,0,0,0,0,0,0,0,0,0,0,0,0,0,0,0,0,0,0,0,0,0,0,0,0,0,0,0,0,0,0,0,0,0,0,0,0,0,0,0,0,0,0,0,0,0,0,0,0,0,0,0,0,0,0,0,0,0,0,0,0,0,0,0,0,0,0,0,0,0,0,0,0,0,0,0,0,0,0,0,0,0,0,0,0,0,null,204,0,15,{"$f":"INDEX($BW$6:$GR$261,$GT209,$BJ$14)","v":0},0]
[null,null,null,null,null,null,null,null,null,null,null,null,null,null,null,{"$f":"IF(Columns!S89<>\"\",Columns!T89,\"\")","v":""},{"$f":"IF(Columns!S89<>\"\",Columns!U89,\"\")","v":""},{"$f":"IF(Columns!S89<>\"\",Columns!V89,\"\")","v":""},null,{"$f":"IF(Columns!S89<>\"\",Columns!X89,\"\")","v":""},null,null,null,null,null,null,null,null,null,null,null,{"$f":"IF(AND(Columns!S89<>\"\",Columns!AF89<>0),Columns!AF89,\"\")","v":""},null,0.62400000000000044,2.0799999999999996,13.571274849626825,13.857035450841153,15.000006485433794,4.999369406297987,209,1.2142558389474333E-282,5.9786077782493003E-151,8.4695767106986265E-143,8.3303872507045341E-69,7.8570354508411526,1.5176125807688495E-51,8.9197919966935561E-92,1.5209718065735292E-139,0,0,0,0,0,0,0,0,0,0,0,0,null,null,null,null,15.137206213409925,9.9925399933033388E-3,0,null,null,null,null,null,20.40000000000002,null,0,0,0,0,0,0,0,0,0,0,0,0,0,0,0,0,0,0,0,0,0,0,0,0,0,0,0,0,0,0,0,0,0,0,0,0,0,0,0,0,0,0,0,0,0,0,0,0,0,0,0,0,0,0,0,0,0,0,0,0,0,0,0,0,0,0,0,0,0,0,0,0,0,0,0,0,0,0,0,0,0,0,0,0,0,0,0,0,0,0,0,0,0,0,0,0,0,0,0,0,0,0,0,0,0,0,0,0,0,0,0,0,0,0,0,0,0,0,0,0,0,0,0,0,0,0,null,205,0,15,{"$f":"INDEX($BW$6:$GR$261,$GT210,$BJ$14)","v":0},0]
[null,null,null,null,null,null,null,null,null,null,null,null,null,null,null,null,null,null,null,null,null,null,null,null,null,null,null,null,null,null,null,null,null,0.62700000000000045,2.0899999999999994,14.193382989085659,15.570442347543935,15.000007463289043,4.9997561622641822,210,2.3398341393071904E-291,1.6489756468486528E-156,3.3016387697755527E-148,3.810177102827771E-72,9.5704423475439349,2.3762039423799942E-50,1.8282638916994966E-90,2.692821357550441E-138,0,0,0,0,0,0,0,0,0,0,0,0,null,null,null,null,15.13964372698074,9.9925399933033388E-3,0,null,null,null,null,null,20.500000000000021,null,0,0,0,0,0,0,0,0,0,0,0,0,0,0,0,0,0,0,0,0,0,0,0,0,0,0,0,0,0,0,0,0,0,0,0,0,0,0,0,0,0,0,0,0,0,0,0,0,0,0,0,0,0,0,0,0,0,0,0,0,0,0,0,0,0,0,0,0,0,0,0,0,0,0,0,0,0,0,0,0,0,0,0,0,0,0,0,0,0,0,0,0,0,0,0,0,0,0,0,0,0,0,0,0,0,0,0,0,0,0,0,0,0,0,0,0,0,0,0,0,0,0,0,0,0,0,null,206,0,15,{"$f":"INDEX($BW$6:$GR$261,$GT211,$BJ$14)","v":0},0]
[null,null,null,null,null,null,null,null,null,null,null,null,null,null,null,null,null,null,null,null,null,null,null,null,null,null,null,null,null,null,null,null,null,0.63000000000000045,2.0999999999999992,14.474377057172052,16.772983400008442,15.000008578925799,4.9999098831179607,211,3.3266920134145372E-300,3.6112645677244805E-162,1.0219468080422522E-153,1.4542647829350672E-75,10.772983400008444,3.6027418137533636E-49,3.6667935632658074E-89,4.7063535111850823E-137,0,0,0,0,0,0,0,0,0,0,0,0,null,null,null,null,15.142114094381219,9.9925399933033388E-3,0,null,null,null,null,null,20.600000000000023,null,0,0,0,0,0,0,0,0,0,0,0,0,0,0,0,0,0,0,0,0,0,0,0,0,0,0,0,0,0,0,0,0,0,0,0,0,0,0,0,0,0,0,0,0,0,0,0,0,0,0,0,0,0,0,0,0,0,0,0,0,0,0,0,0,0,0,0,0,0,0,0,0,0,0,0,0,0,0,0,0,0,0,0,0,0,0,0,0,0,0,0,0,0,0,0,0,0,0,0,0,0,0,0,0,0,0,0,0,0,0,0,0,0,0,0,0,0,0,0,0,0,0,0,0,0,0,null,207,0,15,{"$f":"INDEX($BW$6:$GR$261,$GT212,$BJ$14)","v":0},0]
[null,null,null,null,null,null,null,null,null,null,null,null,null,null,null,null,null,null,null,null,null,null,null,null,null,null,null,null,null,null,null,null,null,0.63300000000000045,2.109999999999999,14.377267957674595,17.206516899689529,15.000009850243812,4.9999681659378128,212,0,6.2796473854328926E-168,2.5116430220674957E-159,4.6319105502295411E-79,11.206516899689529,5.2894339935413833E-48,7.1961045087655562E-88,8.1199278596937523E-136,0,0,0,0,0,0,0,0,0,0,0,0,null,null,null,null,15.144617530342037,9.9925399933033388E-3,0,null,null,null,null,null,20.700000000000024,null,0,0,0,0,0,0,0,0,0,0,0,0,0,0,0,0,0,0,0,0,0,0,0,0,0,0,0,0,0,0,0,0,0,0,0,0,0,0,0,0,0,0,0,0,0,0,0,0,0,0,0,0,0,0,0,0,0,0,0,0,0,0,0,0,0,0,0,0,0,0,0,0,0,0,0,0,0,0,0,0,0,0,0,0,0,0,0,0,0,0,0,0,0,0,0,0,0,0,0,0,0,0,0,0,0,0,0,0,0,0,0,0,0,0,0,0,0,0,0,0,0,0,0,0,0,0,null,208,0,15,{"$f":"INDEX($BW$6:$GR$261,$GT213,$BJ$14)","v":0},0]
[null,null,null,null,null,null,null,null,null,null,null,null,null,null,null,null,null,null,null,null,null,null,null,null,null,null,null,null,null,null,null,null,null,0.63600000000000045,2.1199999999999988,13.914930021542659,16.772983400008595,15.00001129724293,4.9999892459362894,213,0,8.6704591248908986E-174,4.9013805335974434E-165,1.2311052768443654E-82,10.772983400008595,7.5198971003451919E-47,1.3818849498998283E-86,1.3829625481514057E-134,0,0,0,0,0,0,0,0,0,0,0,0,null,null,null,null,15.14715424602643,9.9925399933033388E-3,0,null,null,null,null,null,20.800000000000026,null,0,0,0,0,0,0,0,0,0,0,0,0,0,0,0,0,0,0,0,0,0,0,0,0,0,0,0,0,0,0,0,0,0,0,0,0,0,0,0,0,0,0,0,0,0,0,0,0,0,0,0,0,0,0,0,0,0,0,0,0,0,0,0,0,0,0,0,0,0,0,0,0,0,0,0,0,0,0,0,0,0,0,0,0,0,0,0,0,0,0,0,0,0,0,0,0,0,0,0,0,0,0,0,0,0,0,0,0,0,0,0,0,0,0,0,0,0,0,0,0,0,0,0,0,0,0,null,209,0,15,{"$f":"INDEX($BW$6:$GR$261,$GT214,$BJ$14)","v":0},0]
[null,null,null,null,null,null,null,null,null,null,null,null,null,null,null,null,null,null,null,null,null,null,null,null,null,null,null,null,null,null,null,null,null,0.63900000000000046,2.1299999999999986,13.147296334488093,15.570442347544205,15.000012942237756,4.999996511858587,214,0,9.5056062053348072E-180,7.5946858775733652E-171,2.7305401955584387E-86,9.5704423475442049,1.0352404379543141E-45,2.5966279965496616E-85,2.3251945190238675E-133,0,0,0,0,0,0,0,0,0,0,0,0,null,null,null,null,15.149724448904703,9.9925399933033388E-3,0,null,null,null,null,null,20.900000000000027,null,0,0,0,0,0,0,0,0,0,0,0,0,0,0,0,0,0,0,0,0,0,0,0,0,0,0,0,0,0,0,0,0,0,0,0,0,0,0,0,0,0,0,0,0,0,0,0,0,0,0,0,0,0,0,0,0,0,0,0,0,0,0,0,0,0,0,0,0,0,0,0,0,0,0,0,0,0,0,0,0,0,0,0,0,0,0,0,0,0,0,0,0,0,0,0,0,0,0,0,0,0,0,0,0,0,0,0,0,0,0,0,0,0,0,0,0,0,0,0,0,0,0,0,0,0,0,null,210,0,15,{"$f":"INDEX($BW$6:$GR$261,$GT215,$BJ$14)","v":0},0]
[null,null,null,null,null,null,null,null,null,null,null,null,null,null,null,null,null,null,null,null,null,null,null,null,null,null,null,null,null,null,null,null,null,0.64200000000000046,2.1399999999999983,12.168598901062815,13.857035450841483,15.000014810090033,4.9999988776111968,215,0,8.2746270391886384E-186,9.3439842149001773E-177,5.0538262585055551E-90,7.857035450841483,1.3800575320551525E-44,4.7743143125344413E-84,3.8592133187704703E-132,0,0,0,0,0,0,0,0,0,0,0,0,null,null,null,null,15.152328342627913,9.9925399933033388E-3,0,null,null,null,null,null,21.000000000000028,null,0,0,0,0,0,0,0,0,0,0,0,0,0,0,0,0,0,0,0,0,0,0,0,0,0,0,0,0,0,0,0,0,0,0,0,0,0,0,0,0,0,0,0,0,0,0,0,0,0,0,0,0,0,0,0,0,0,0,0,0,0,0,0,0,0,0,0,0,0,0,0,0,0,0,0,0,0,0,0,0,0,0,0,0,0,0,0,0,0,0,0,0,0,0,0,0,0,0,0,0,0,0,0,0,0,0,0,0,0,0,0,0,0,0,0,0,0,0,0,0,0,0,0,0,0,0,null,211,0,15,{"$f":"INDEX($BW$6:$GR$261,$GT216,$BJ$14)","v":0},0]
[null,null,null,null,null,null,null,null,null,null,null,null,null,null,null,null,null,null,null,null,null,null,null,null,null,null,null,null,null,null,null,null,null,0.64500000000000046,2.1499999999999981,11.088400761184239,11.960958447357378,15.000016928459631,4.9999995521419534,216,0,5.7193664516302667E-192,9.1282024287528811E-183,7.8056737150213965E-94,5.9609584473573785,1.7814752357360682E-43,8.5896546261129096E-83,6.3230832872103616E-131,0,0,0,0,0,0,0,0,0,0,0,0,null,null,null,null,15.154966126900742,9.9925399933033388E-3,0,null,null,null,null,null,21.10000000000003,null,0,0,0,0,0,0,0,0,0,0,0,0,0,0,0,0,0,0,0,0,0,0,0,0,0,0,0,0,0,0,0,0,0,0,0,0,0,0,0,0,0,0,0,0,0,0,0,0,0,0,0,0,0,0,0,0,0,0,0,0,0,0,0,0,0,0,0,0,0,0,0,0,0,0,0,0,0,0,0,0,0,0,0,0,0,0,0,0,0,0,0,0,0,0,0,0,0,0,0,0,0,0,0,0,0,0,0,0,0,0,0,0,0,0,0,0,0,0,0,0,0,0,0,0,0,0,null,212,0,15,{"$f":"INDEX($BW$6:$GR$261,$GT217,$BJ$14)","v":0},0]
[null,null,null,null,null,null,null,null,null,null,null,null,null,null,null,null,null,null,null,null,null,null,null,null,null,null,null,null,null,null,null,null,null,0.64800000000000046,2.1599999999999979,10.011678480828145,10.179305868282484,15.000019328075103,4.9999995871465623,217,0,3.1389059643850105E-198,7.080587842131608E-189,1.0060482998524682E-97,4.1793058682824835,2.2268400394446638E-42,1.5121811510618271E-81,1.0227032657476358E-129,0,0,0,0,0,0,0,0,0,0,0,0,null,null,null,null,15.157637997353643,9.9925399933033388E-3,0,null,null,null,null,null,21.200000000000031,null,0,0,0,0,0,0,0,0,0,0,0,0,0,0,0,0,0,0,0,0,0,0,0,0,0,0,0,0,0,0,0,0,0,0,0,0,0,0,0,0,0,0,0,0,0,0,0,0,0,0,0,0,0,0,0,0,0,0,0,0,0,0,0,0,0,0,0,0,0,0,0,0,0,0,0,0,0,0,0,0,0,0,0,0,0,0,0,0,0,0,0,0,0,0,0,0,0,0,0,0,0,0,0,0,0,0,0,0,0,0,0,0,0,0,0,0,0,0,0,0,0,0,0,0,0,0,null,213,0,15,{"$f":"INDEX($BW$6:$GR$261,$GT218,$BJ$14)","v":0},0]
[null,null,null,null,null,null,null,null,null,null,null,null,null,null,null,null,null,null,null,null,null,null,null,null,null,null,null,null,null,null,null,null,null,0.65100000000000047,2.1699999999999977,9.0228803811077594,8.7078393779406795,15.000022043024606,4.9999992027306162,218,0,1.3678534591572496E-204,4.360981593705504E-195,1.0820457456986914E-101,2.7078393779406791,2.6954103232616983E-41,2.6049258297816535E-80,1.6329053283529666E-128,0,0,0,0,0,0,0,0,0,0,0,0,null,null,null,null,15.160344145414241,9.9925399933033388E-3,0,null,null,null,null,null,21.300000000000033,null,0,0,0,0,0,0,0,0,0,0,0,0,0,0,0,0,0,0,0,0,0,0,0,0,0,0,0,0,0,0,0,0,0,0,0,0,0,0,0,0,0,0,0,0,0,0,0,0,0,0,0,0,0,0,0,0,0,0,0,0,0,0,0,0,0,0,0,0,0,0,0,0,0,0,0,0,0,0,0,0,0,0,0,0,0,0,0,0,0,0,0,0,0,0,0,0,0,0,0,0,0,0,0,0,0,0,0,0,0,0,0,0,0,0,0,0,0,0,0,0,0,0,0,0,0,0,null,214,0,15,{"$f":"INDEX($BW$6:$GR$261,$GT219,$BJ$14)","v":0},0]
[null,null,null,null,null,null,null,null,null,null,null,null,null,null,null,null,null,null,null,null,null,null,null,null,null,null,null,null,null,null,null,null,null,0.65400000000000047,2.1799999999999975,8.1770371406536633,7.6213333755481534,15.000025111068059,4.9999981905746003,219,0,4.7329479341886087E-211,2.1327015196058359E-201,9.7115995095369963E-106,1.6213333755481536,3.1592746826642399E-40,4.3908674521901894E-79,2.5737300463427532E-127,0,0,0,0,0,0,0,0,0,0,0,0,null,null,null,null,15.163084758178107,9.9925399933033388E-3,0,null,null,null,null,null,21.400000000000034,null,0,0,0,0,0,0,0,0,0,0,0,0,0,0,0,0,0,0,0,0,0,0,0,0,0,0,0,0,0,0,0,0,0,0,0,0,0,0,0,0,0,0,0,0,0,0,0,0,0,0,0,0,0,0,0,0,0,0,0,0,0,0,0,0,0,0,0,0,0,0,0,0,0,0,0,0,0,0,0,0,0,0,0,0,0,0,0,0,0,0,0,0,0,0,0,0,0,0,0,0,0,0,0,0,0,0,0,0,0,0,0,0,0,0,0,0,0,0,0,0,0,0,0,0,0,0,null,215,0,15,{"$f":"INDEX($BW$6:$GR$261,$GT220,$BJ$14)","v":0},0]
[null,null,null,null,null,null,null,null,null,null,null,null,null,null,null,null,null,null,null,null,null,null,null,null,null,null,null,null,null,null,null,null,null,0.65700000000000047,2.1899999999999973,7.4985138030876577,6.8971238998612376,15.000028573971253,4.99999589014827,220,0,1.300333546973846E-217,8.2814577251910385E-208,7.2736811517323691E-110,0.89712389986123731,3.5857212177691088E-39,7.242170008889781E-78,4.0045673494219706E-126,0,0,0,0,0,0,0,0,0,0,0,0,null,null,null,null,15.16586001827889,9.9925399933033388E-3,0,null,null,null,null,null,21.500000000000036,null,0,0,0,0,0,0,0,0,0,0,0,0,0,0,0,0,0,0,0,0,0,0,0,0,0,0,0,0,0,0,0,0,0,0,0,0,0,0,0,0,0,0,0,0,0,0,0,0,0,0,0,0,0,0,0,0,0,0,0,0,0,0,0,0,0,0,0,0,0,0,0,0,0,0,0,0,0,0,0,0,0,0,0,0,0,0,0,0,0,0,0,0,0,0,0,0,0,0,0,0,0,0,0,0,0,0,0,0,0,0,0,0,0,0,0,0,0,0,0,0,0,0,0,0,0,0,null,216,0,15,{"$f":"INDEX($BW$6:$GR$261,$GT221,$BJ$14)","v":0},0]
[null,null,null,null,null,null,null,null,null,null,null,null,null,null,null,null,null,null,null,null,null,null,null,null,null,null,null,null,null,null,null,null,null,0.66000000000000048,2.1999999999999971,6.9858383083285087,6.4587364094205402,15.00003247786263,4.9999908543539773,221,0,2.8366691989169166E-224,2.5533737316811107E-214,4.5460698745080362E-114,0.45873640942054006,3.9408716346817844E-38,1.1688277860826675E-76,6.1509023814645619E-125,0,0,0,0,0,0,0,0,0,0,0,0,null,null,null,null,15.168670103757897,9.9925399933033388E-3,0,null,null,null,null,null,21.600000000000037,null,0,0,0,0,0,0,0,0,0,0,0,0,0,0,0,0,0,0,0,0,0,0,0,0,0,0,0,0,0,0,0,0,0,0,0,0,0,0,0,0,0,0,0,0,0,0,0,0,0,0,0,0,0,0,0,0,0,0,0,0,0,0,0,0,0,0,0,0,0,0,0,0,0,0,0,0,0,0,0,0,0,0,0,0,0,0,0,0,0,0,0,0,0,0,0,0,0,0,0,0,0,0,0,0,0,0,0,0,0,0,0,0,0,0,0,0,0,0,0,0,0,0,0,0,0,0,null,217,0,15,{"$f":"INDEX($BW$6:$GR$261,$GT222,$BJ$14)","v":0},0]
[null,null,null,null,null,null,null,null,null,null,null,null,null,null,null,null,null,null,null,null,null,null,null,null,null,null,null,null,null,null,null,null,null,0.66300000000000048,2.2099999999999969,6.6198700681568745,6.2167727443487104,15.00003687361326,4.9999801089763221,222,0,4.9135287922200867E-231,6.2510485109488462E-221,2.3710259445376323E-118,0.21677274434871061,4.1940604978783663E-37,1.8458472653115439E-75,9.3263710535511754E-124,0,0,0,0,0,0,0,0,0,0,0,0,null,null,null,null,15.171515187933132,9.9925399933033388E-3,0,null,null,null,null,null,21.700000000000038,null,0,0,0,0,0,0,0,0,0,0,0,0,0,0,0,0,0,0,0,0,0,0,0,0,0,0,0,0,0,0,0,0,0,0,0,0,0,0,0,0,0,0,0,0,0,0,0,0,0,0,0,0,0,0,0,0,0,0,0,0,0,0,0,0,0,0,0,0,0,0,0,0,0,0,0,0,0,0,0,0,0,0,0,0,0,0,0,0,0,0,0,0,0,0,0,0,0,0,0,0,0,0,0,0,0,0,0,0,0,0,0,0,0,0,0,0,0,0,0,0,0,0,0,0,0,0,null,218,0,15,{"$f":"INDEX($BW$6:$GR$261,$GT223,$BJ$14)","v":0},0]
[null,null,null,null,null,null,null,null,null,null,null,null,null,null,null,null,null,null,null,null,null,null,null,null,null,null,null,null,null,null,null,null,null,0.66600000000000048,2.2199999999999966,6.3725166380660667,6.0946622496266043,15.000041817240533,4.999957729236935,223,0,6.7578602049270429E-238,1.2151285876752178E-227,1.0319409768670458E-122,9.4662249626604009E-2,4.3221887294297516E-36,2.8523605478671724E-74,1.3959734822215739E-122,0,0,0,0,0,0,0,0,0,0,0,0,null,null,null,null,15.174395439267874,9.9925399933033388E-3,0,null,null,null,null,null,21.80000000000004,null,0,0,0,0,0,0,0,0,0,0,0,0,0,0,0,0,0,0,0,0,0,0,0,0,0,0,0,0,0,0,0,0,0,0,0,0,0,0,0,0,0,0,0,0,0,0,0,0,0,0,0,0,0,0,0,0,0,0,0,0,0,0,0,0,0,0,0,0,0,0,0,0,0,0,0,0,0,0,0,0,0,0,0,0,0,0,0,0,0,0,0,0,0,0,0,0,0,0,0,0,0,0,0,0,0,0,0,0,0,0,0,0,0,0,0,0,0,0,0,0,0,0,0,0,0,0,null,219,0,15,{"$f":"INDEX($BW$6:$GR$261,$GT224,$BJ$14)","v":0},0]
[null,null,null,null,null,null,null,null,null,null,null,null,null,null,null,null,null,null,null,null,null,null,null,null,null,null,null,null,null,null,null,null,null,0.66900000000000048,2.2299999999999964,6.2139640042017135,6.0382014323559945,15.000047370335878,4.9999122289930655,224,0,7.3799902492831638E-245,1.8755234287726804E-234,3.7479325121253429E-127,3.8201432355994921E-2,4.3131980117210525E-35,4.312970649565237E-73,2.0626819588441166E-121,0,0,0,0,0,0,0,0,0,0,0,0,null,null,null,null,15.17731102123884,9.9925399933033388E-3,0,null,null,null,null,null,21.900000000000041,null,0,0,0,0,0,0,0,0,0,0,0,0,0,0,0,0,0,0,0,0,0,0,0,0,0,0,0,0,0,0,0,0,0,0,0,0,0,0,0,0,0,0,0,0,0,0,0,0,0,0,0,0,0,0,0,0,0,0,0,0,0,0,0,0,0,0,0,0,0,0,0,0,0,0,0,0,0,0,0,0,0,0,0,0,0,0,0,0,0,0,0,0,0,0,0,0,0,0,0,0,0,0,0,0,0,0,0,0,0,0,0,0,0,0,0,0,0,0,0,0,0,0,0,0,0,0,null,220,0,15,{"$f":"INDEX($BW$6:$GR$261,$GT225,$BJ$14)","v":0},0]
[null,null,null,null,null,null,null,null,null,null,null,null,null,null,null,null,null,null,null,null,null,null,null,null,null,null,null,null,null,null,null,null,null,0.67200000000000049,2.2399999999999962,6.1174588628525211,6.0142466630667935,15.000053600516672,4.9998219307838356,225,0,6.3993116129899393E-252,2.2985483048384297E-241,1.1359180965773606E-131,1.4246663066793279E-2,4.1679423198228357E-34,6.3813418111064126E-72,3.0086938243055262E-120,0,0,0,0,0,0,0,0,0,0,0,0,null,null,null,null,15.180262092203957,9.9925399933033388E-3,0,null,null,null,null,null,22.000000000000043,null,0,0,0,0,0,0,0,0,0,0,0,0,0,0,0,0,0,0,0,0,0,0,0,0,0,0,0,0,0,0,0,0,0,0,0,0,0,0,0,0,0,0,0,0,0,0,0,0,0,0,0,0,0,0,0,0,0,0,0,0,0,0,0,0,0,0,0,0,0,0,0,0,0,0,0,0,0,0,0,0,0,0,0,0,0,0,0,0,0,0,0,0,0,0,0,0,0,0,0,0,0,0,0,0,0,0,0,0,0,0,0,0,0,0,0,0,0,0,0,0,0,0,0,0,0,0,null,221,0,15,{"$f":"INDEX($BW$6:$GR$261,$GT226,$BJ$14)","v":0},0]
[null,null,null,null,null,null,null,null,null,null,null,null,null,null,null,null,null,null,null,null,null,null,null,null,null,null,null,null,null,null,null,null,null,0.67500000000000049,2.249999999999996,6.0616284010841932,6.0049099530602712,15.000060581902352,4.9996470174326184,226,0,4.4059708060964437E-259,2.2367408144826833E-248,2.8729007791346331E-136,4.9099530602708203E-3,3.9000541581944699E-33,9.238701520194042E-71,4.3322582969591034E-119,0,0,0,0,0,0,0,0,0,0,0,0,null,null,null,null,15.183248805269839,9.9925399933033388E-3,0,null,null,null,null,null,22.100000000000044,null,0,0,0,0,0,0,0,0,0,0,0,0,0,0,0,0,0,0,0,0,0,0,0,0,0,0,0,0,0,0,0,0,0,0,0,0,0,0,0,0,0,0,0,0,0,0,0,0,0,0,0,0,0,0,0,0,0,0,0,0,0,0,0,0,0,0,0,0,0,0,0,0,0,0,0,0,0,0,0,0,0,0,0,0,0,0,0,0,0,0,0,0,0,0,0,0,0,0,0,0,0,0,0,0,0,0,0,0,0,0,0,0,0,0,0,0,0,0,0,0,0,0,0,0,0,0,null,222,0,15,{"$f":"INDEX($BW$6:$GR$261,$GT227,$BJ$14)","v":0},0]
[null,null,null,null,null,null,null,null,null,null,null,null,null,null,null,null,null,null,null,null,null,null,null,null,null,null,null,null,null,null,null,null,null,0.67800000000000049,2.2599999999999958,6.0309048074295788,6.001563767589035,15.000068395614523,4.9993163335002233,227,0,2.4086897134647602E-266,1.7282580009135081E-255,6.0633493008437816E-141,1.5637675890352255E-3,3.533834527138359E-32,1.3088000055813144E-69,6.1580230857689391E-118,0,0,0,0,0,0,0,0,0,0,0,0,null,null,null,null,15.186271308158982,9.9925399933033388E-3,0,null,null,null,null,null,22.200000000000045,null,0,0,0,0,0,0,0,0,0,0,0,0,0,0,0,0,0,0,0,0,0,0,0,0,0,0,0,0,0,0,0,0,0,0,0,0,0,0,0,0,0,0,0,0,0,0,0,0,0,0,0,0,0,0,0,0,0,0,0,0,0,0,0,0,0,0,0,0,0,0,0,0,0,0,0,0,0,0,0,0,0,0,0,0,0,0,0,0,0,0,0,0,0,0,0,0,0,0,0,0,0,0,0,0,0,0,0,0,0,0,0,0,0,0,0,0,0,0,0,0,0,0,0,0,0,0,null,223,0,15,{"$f":"INDEX($BW$6:$GR$261,$GT228,$BJ$14)","v":0},0]
[null,null,null,null,null,null,null,null,null,null,null,null,null,null,null,null,null,null,null,null,null,null,null,null,null,null,null,null,null,null,null,null,null,0.68100000000000049,2.2699999999999956,6.0148122562416848,6.0004602541949064,15.000077130300614,4.998706215416334,228,0,1.0455648793167017E-273,1.0603088243437647E-262,1.067881102665241E-145,4.6025419490625075E-4,3.1006190817882251E-31,1.8142580692308278E-68,8.6408985502340829E-117,0,0,0,0,0,0,0,0,0,0,0,0,null,null,null,null,15.189329743076758,9.9925399933033388E-3,0,null,null,null,null,null,22.300000000000047,null,0,0,0,0,0,0,0,0,0,0,0,0,0,0,0,0,0,0,0,0,0,0,0,0,0,0,0,0,0,0,0,0,0,0,0,0,0,0,0,0,0,0,0,0,0,0,0,0,0,0,0,0,0,0,0,0,0,0,0,0,0,0,0,0,0,0,0,0,0,0,0,0,0,0,0,0,0,0,0,0,0,0,0,0,0,0,0,0,0,0,0,0,0,0,0,0,0,0,0,0,0,0,0,0,0,0,0,0,0,0,0,0,0,0,0,0,0,0,0,0,0,0,0,0,0,0,null,224,0,15,{"$f":"INDEX($BW$6:$GR$261,$GT229,$BJ$14)","v":0},0]
[null,null,null,null,null,null,null,null,null,null,null,null,null,null,null,null,null,null,null,null,null,null,null,null,null,null,null,null,null,null,null,null,null,0.6840000000000005,2.2799999999999954,6.0067852589132436,6.000125185487204,15.000086882680398,4.9976077515915929,229,0,3.6037279803713385E-281,5.1651990396752875E-270,1.5694647529819704E-150,1.2518548720438707E-4,2.6343729307858729E-30,2.4608676766943129E-67,1.1969255091247692E-115,0,0,0,0,0,0,0,0,0,0,0,0,null,null,null,null,15.192424246578252,9.9925399933033388E-3,0,null,null,null,null,null,22.400000000000048,null,0,0,0,0,0,0,0,0,0,0,0,0,0,0,0,0,0,0,0,0,0,0,0,0,0,0,0,0,0,0,0,0,0,0,0,0,0,0,0,0,0,0,0,0,0,0,0,0,0,0,0,0,0,0,0,0,0,0,0,0,0,0,0,0,0,0,0,0,0,0,0,0,0,0,0,0,0,0,0,0,0,0,0,0,0,0,0,0,0,0,0,0,0,0,0,0,0,0,0,0,0,0,0,0,0,0,0,0,0,0,0,0,0,0,0,0,0,0,0,0,0,0,0,0,0,0,null,225,0,15,{"$f":"INDEX($BW$6:$GR$261,$GT230,$BJ$14)","v":0},0]
[null,null,null,null,null,null,null,null,null,null,null,null,null,null,null,null,null,null,null,null,null,null,null,null,null,null,null,null,null,null,null,null,null,0.6870000000000005,2.2899999999999952,6.002970719624197,6.0000314659532288,15.000097758114423,4.9956780751923553,230,0,9.8624292976252158E-289,1.9978948781466802E-277,1.9248575043219121E-155,3.1465953228745135E-5,2.1673683591021739E-29,3.2661857805056898E-66,1.6366882420247515E-114,0,0,0,0,0,0,0,0,0,0,0,0,null,null,null,null,15.195554949435008,9.9925399933033388E-3,0,null,null,null,null,null,22.50000000000005,null,0,0,0,0,0,0,0,0,0,0,0,0,0,0,0,0,0,0,0,0,0,0,0,0,0,0,0,0,0,0,0,0,0,0,0,0,0,0,0,0,0,0,0,0,0,0,0,0,0,0,0,0,0,0,0,0,0,0,0,0,0,0,0,0,0,0,0,0,0,0,0,0,0,0,0,0,0,0,0,0,0,0,0,0,0,0,0,0,0,0,0,0,0,0,0,0,0,0,0,0,0,0,0,0,0,0,0,0,0,0,0,0,0,0,0,0,0,0,0,0,0,0,0,0,0,0,null,226,0,15,{"$f":"INDEX($BW$6:$GR$261,$GT231,$BJ$14)","v":0},0]
[null,null,null,null,null,null,null,null,null,null,null,null,null,null,null,null,null,null,null,null,null,null,null,null,null,null,null,null,null,null,null,null,null,0.6900000000000005,2.2999999999999949,6.0012431024981074,6.0000073090087565,15.000109871193054,4.9923708743199224,231,0,2.1431209907831913E-296,6.136052849815117E-285,1.9699896961665045E-160,7.3090087566741787E-6,1.7266918400603903E-28,4.2418658425547752E-65,2.2093037263579569E-113,0,0,0,0,0,0,0,0,0,0,0,0,null,null,null,null,15.198721976501725,9.9925399933033388E-3,0,null,null,null,null,null,22.600000000000051,null,0,0,0,0,0,0,0,0,0,0,0,0,0,0,0,0,0,0,0,0,0,0,0,0,0,0,0,0,0,0,0,0,0,0,0,0,0,0,0,0,0,0,0,0,0,0,0,0,0,0,0,0,0,0,0,0,0,0,0,0,0,0,0,0,0,0,0,0,0,0,0,0,0,0,0,0,0,0,0,0,0,0,0,0,0,0,0,0,0,0,0,0,0,0,0,0,0,0,0,0,0,0,0,0,0,0,0,0,0,0,0,0,0,0,0,0,0,0,0,0,0,0,0,0,0,0,null,227,0,15,{"$f":"INDEX($BW$6:$GR$261,$GT232,$BJ$14)","v":0},0]
[null,null,null,null,null,null,null,null,null,null,null,null,null,null,null,null,null,null,null,null,null,null,null,null,null,null,null,null,null,null,null,null,null,0.6930000000000005,2.3099999999999947,6.0004971669453582,6.0000015689415056,15.000123346344509,4.9868417248956991,232,0,3.6977739898113352E-304,1.4963611898506437E-292,1.6824713477869785E-165,1.5689415052557718E-6,1.3320593593992183E-27,5.3905911943064501E-64,2.9439844428820733E-112,0,0,0,0,0,0,0,0,0,0,0,0,null,null,null,null,15.20192544658298,9.9925399933033388E-3,0,null,null,null,null,null,22.700000000000053,null,0,0,0,0,0,0,0,0,0,0,0,0,0,0,0,0,0,0,0,0,0,0,0,0,0,0,0,0,0,0,0,0,0,0,0,0,0,0,0,0,0,0,0,0,0,0,0,0,0,0,0,0,0,0,0,0,0,0,0,0,0,0,0,0,0,0,0,0,0,0,0,0,0,0,0,0,0,0,0,0,0,0,0,0,0,0,0,0,0,0,0,0,0,0,0,0,0,0,0,0,0,0,0,0,0,0,0,0,0,0,0,0,0,0,0,0,0,0,0,0,0,0,0,0,0,0,null,228,0,15,{"$f":"INDEX($BW$6:$GR$261,$GT233,$BJ$14)","v":0},0]
[null,null,null,null,null,null,null,null,null,null,null,null,null,null,null,null,null,null,null,null,null,null,null,null,null,null,null,null,null,null,null,null,null,0.69600000000000051,2.3199999999999945,6.000190041122428,6.0000003112330456,15.000138318459962,4.9778257068417231,233,0,0,2.8974414310674503E-300,1.1990843965848816E-170,3.1123304557001204E-7,9.9508219172996979E-27,6.7031554251971353E-63,3.8726319070763031E-111,0,0,0,0,0,0,0,0,0,0,0,0,null,null,null,null,15.205165472300028,9.9925399933033388E-3,0,null,null,null,null,null,22.800000000000054,null,0,0,0,0,0,0,0,0,0,0,0,0,0,0,0,0,0,0,0,0,0,0,0,0,0,0,0,0,0,0,0,0,0,0,0,0,0,0,0,0,0,0,0,0,0,0,0,0,0,0,0,0,0,0,0,0,0,0,0,0,0,0,0,0,0,0,0,0,0,0,0,0,0,0,0,0,0,0,0,0,0,0,0,0,0,0,0,0,0,0,0,0,0,0,0,0,0,0,0,0,0,0,0,0,0,0,0,0,0,0,0,0,0,0,0,0,0,0,0,0,0,0,0,0,0,0,null,229,0,15,{"$f":"INDEX($BW$6:$GR$261,$GT234,$BJ$14)","v":0},0]
[null,null,null,null,null,null,null,null,null,null,null,null,null,null,null,null,null,null,null,null,null,null,null,null,null,null,null,null,null,null,null,null,null,0.69900000000000051,2.3299999999999943,6.000069429327767,6.000000057055213,15.000154933533286,4.9634887049343135,234,0,0,4.454754571938267E-308,7.1313241677767235E-176,5.70552133218871E-8,7.1981511801687544E-26,8.1561575194416341E-62,5.0288369069301814E-110,0,0,0,0,0,0,0,0,0,0,0,0,null,null,null,null,15.208442159957736,9.9925399933033388E-3,0,null,null,null,null,null,22.900000000000055,null,0,0,0,0,0,0,0,0,0,0,0,0,0,0,0,0,0,0,0,0,0,0,0,0,0,0,0,0,0,0,0,0,0,0,0,0,0,0,0,0,0,0,0,0,0,0,0,0,0,0,0,0,0,0,0,0,0,0,0,0,0,0,0,0,0,0,0,0,0,0,0,0,0,0,0,0,0,0,0,0,0,0,0,0,0,0,0,0,0,0,0,0,0,0,0,0,0,0,0,0,0,0,0,0,0,0,0,0,0,0,0,0,0,0,0,0,0,0,0,0,0,0,0,0,0,0,null,230,0,15,{"$f":"INDEX($BW$6:$GR$261,$GT235,$BJ$14)","v":0},0]
[null,null,null,null,null,null,null,null,null,null,null,null,null,null,null,null,null,null,null,null,null,null,null,null,null,null,null,null,null,null,null,null,null,0.70200000000000051,2.3399999999999941,6.0000242431119508,6.0000000096657518,15.000173349312723,4.9412603545578593,235,0,0,0,3.5392313953266045E-181,9.6657519316784671E-9,5.0420785523373082E-25,9.7108074602767099E-61,6.4464334812090704E-109,0,0,0,0,0,0,0,0,0,0,0,0,null,null,null,null,15.211755609411732,9.9925399933033388E-3,0,null,null,null,null,null,23.000000000000057,null,0,0,0,0,0,0,0,0,0,0,0,0,0,0,0,0,0,0,0,0,0,0,0,0,0,0,0,0,0,0,0,0,0,0,0,0,0,0,0,0,0,0,0,0,0,0,0,0,0,0,0,0,0,0,0,0,0,0,0,0,0,0,0,0,0,0,0,0,0,0,0,0,0,0,0,0,0,0,0,0,0,0,0,0,0,0,0,0,0,0,0,0,0,0,0,0,0,0,0,0,0,0,0,0,0,0,0,0,0,0,0,0,0,0,0,0,0,0,0,0,0,0,0,0,0,0,null,231,0,15,{"$f":"INDEX($BW$6:$GR$261,$GT236,$BJ$14)","v":0},0]
[null,null,null,null,null,null,null,null,null,null,null,null,null,null,null,null,null,null,null,null,null,null,null,null,null,null,null,null,null,null,null,null,null,0.70500000000000052,2.3499999999999939,6.0000080906573166,6.0000000015132358,15.000193735961235,4.9076659184005988,236,0,0,0,1.4657708794307421E-186,1.513235903246336E-9,3.4199903850917933E-24,1.1313279201089752E-59,8.157593934073544E-108,0,0,0,0,0,0,0,0,0,0,0,0,null,null,null,null,15.215105913935798,9.9925399933033388E-3,0,null,null,null,null,null,23.100000000000058,null,0,0,0,0,0,0,0,0,0,0,0,0,0,0,0,0,0,0,0,0,0,0,0,0,0,0,0,0,0,0,0,0,0,0,0,0,0,0,0,0,0,0,0,0,0,0,0,0,0,0,0,0,0,0,0,0,0,0,0,0,0,0,0,0,0,0,0,0,0,0,0,0,0,0,0,0,0,0,0,0,0,0,0,0,0,0,0,0,0,0,0,0,0,0,0,0,0,0,0,0,0,0,0,0,0,0,0,0,0,0,0,0,0,0,0,0,0,0,0,0,0,0,0,0,0,0,null,232,0,15,{"$f":"INDEX($BW$6:$GR$261,$GT237,$BJ$14)","v":0},0]
[null,null,null,null,null,null,null,null,null,null,null,null,null,null,null,null,null,null,null,null,null,null,null,null,null,null,null,null,null,null,null,null,null,0.70800000000000052,2.3599999999999937,6.0000025806510244,6.0000000002189315,15.000216276721861,4.8581859117914297,237,0,0,0,5.0657245714661296E-192,2.1893152858930807E-10,2.246295032715613E-23,1.2896892816795799E-58,1.0190495089742304E-106,0,0,0,0,0,0,0,0,0,0,0,0,null,null,null,null,15.218493160089595,9.9925399933033388E-3,0,null,null,null,null,null,23.20000000000006,null,0,0,0,0,0,0,0,0,0,0,0,0,0,0,0,0,0,0,0,0,0,0,0,0,0,0,0,0,0,0,0,0,0,0,0,0,0,0,0,0,0,0,0,0,0,0,0,0,0,0,0,0,0,0,0,0,0,0,0,0,0,0,0,0,0,0,0,0,0,0,0,0,0,0,0,0,0,0,0,0,0,0,0,0,0,0,0,0,0,0,0,0,0,0,0,0,0,0,0,0,0,0,0,0,0,0,0,0,0,0,0,0,0,0,0,0,0,0,0,0,0,0,0,0,0,0,null,233,0,15,{"$f":"INDEX($BW$6:$GR$261,$GT238,$BJ$14)","v":0},0]
[null,null,null,null,null,null,null,null,null,null,null,null,null,null,null,null,null,null,null,null,null,null,null,null,null,null,null,null,null,null,null,null,null,0.71100000000000052,2.3699999999999934,6.0000007867283243,6.0000000000292708,15.000241168583974,4.787184453674004,238,0,0,0,1.4609501896491443E-197,2.927120911250994E-11,1.4286812411166701E-22,1.4386167056845489E-57,1.2566638086397652E-105,0,0,0,0,0,0,0,0,0,0,0,0,null,null,null,null,15.221917427586799,9.9925399933033388E-3,0,null,null,null,null,null,23.300000000000061,null,0,0,0,0,0,0,0,0,0,0,0,0,0,0,0,0,0,0,0,0,0,0,0,0,0,0,0,0,0,0,0,0,0,0,0,0,0,0,0,0,0,0,0,0,0,0,0,0,0,0,0,0,0,0,0,0,0,0,0,0,0,0,0,0,0,0,0,0,0,0,0,0,0,0,0,0,0,0,0,0,0,0,0,0,0,0,0,0,0,0,0,0,0,0,0,0,0,0,0,0,0,0,0,0,0,0,0,0,0,0,0,0,0,0,0,0,0,0,0,0,0,0,0,0,0,0,null,234,0,15,{"$f":"INDEX($BW$6:$GR$261,$GT239,$BJ$14)","v":0},0]
[null,null,null,null,null,null,null,null,null,null,null,null,null,null,null,null,null,null,null,null,null,null,null,null,null,null,null,null,null,null,null,null,null,0.71400000000000052,2.3799999999999932,6.0000002292294052,6.0000000000036167,15.00026862294572,4.6879573527163716,239,0,0,0,3.5159897270590947E-203,3.6166267965987342E-12,8.7989433585407744E-22,1.5702490204088684E-56,1.5297961179189753E-104,0,0,0,0,0,0,0,0,0,0,0,0,null,null,null,null,15.225378789163649,9.9925399933033388E-3,0,null,null,null,null,null,23.400000000000063,null,0,0,0,0,0,0,0,0,0,0,0,0,0,0,0,0,0,0,0,0,0,0,0,0,0,0,0,0,0,0,0,0,0,0,0,0,0,0,0,0,0,0,0,0,0,0,0,0,0,0,0,0,0,0,0,0,0,0,0,0,0,0,0,0,0,0,0,0,0,0,0,0,0,0,0,0,0,0,0,0,0,0,0,0,0,0,0,0,0,0,0,0,0,0,0,0,0,0,0,0,0,0,0,0,0,0,0,0,0,0,0,0,0,0,0,0,0,0,0,0,0,0,0,0,0,0,null,235,0,15,{"$f":"INDEX($BW$6:$GR$261,$GT240,$BJ$14)","v":0},0]
[null,null,null,null,null,null,null,null,null,null,null,null,null,null,null,null,null,null,null,null,null,null,null,null,null,null,null,null,null,null,null,null,null,0.71700000000000053,2.389999999999993,6.0000000638360396,6.000000000000413,15.000298866267544,4.5529550563017205,240,0,0,0,7.0611939124943917E-209,4.1294994230422343E-13,5.2474986514674881E-21,1.6770862043731082E-55,1.8383941283212795E-103,0,0,0,0,0,0,0,0,0,0,0,0,null,null,null,null,15.228877310448059,9.9925399933033388E-3,0,null,null,null,null,null,23.500000000000064,null,0,0,0,0,0,0,0,0,0,0,0,0,0,0,0,0,0,0,0,0,0,0,0,0,0,0,0,0,0,0,0,0,0,0,0,0,0,0,0,0,0,0,0,0,0,0,0,0,0,0,0,0,0,0,0,0,0,0,0,0,0,0,0,0,0,0,0,0,0,0,0,0,0,0,0,0,0,0,0,0,0,0,0,0,0,0,0,0,0,0,0,0,0,0,0,0,0,0,0,0,0,0,0,0,0,0,0,0,0,0,0,0,0,0,0,0,0,0,0,0,0,0,0,0,0,0,null,236,0,15,{"$f":"INDEX($BW$6:$GR$261,$GT241,$BJ$14)","v":0},0]
[null,null,null,null,null,null,null,null,null,null,null,null,null,null,null,null,null,null,null,null,null,null,null,null,null,null,null,null,null,null,null,null,null,0.72000000000000053,2.3999999999999928,6.0000000169907288,6.0000000000000435,15.000332140711079,4.3742295505767741,241,0,0,0,1.1833876457666426E-214,4.3573435651128925E-14,3.0304057631780498E-20,1.752692245267288E-54,2.18089279141383E-102,0,0,0,0,0,0,0,0,0,0,0,0,null,null,null,null,15.23241304982929,9.9925399933033388E-3,0,null,null,null,null,null,23.600000000000065,null,0,0,0,0,0,0,0,0,0,0,0,0,0,0,0,0,0,0,0,0,0,0,0,0,0,0,0,0,0,0,0,0,0,0,0,0,0,0,0,0,0,0,0,0,0,0,0,0,0,0,0,0,0,0,0,0,0,0,0,0,0,0,0,0,0,0,0,0,0,0,0,0,0,0,0,0,0,0,0,0,0,0,0,0,0,0,0,0,0,0,0,0,0,0,0,0,0,0,0,0,0,0,0,0,0,0,0,0,0,0,0,0,0,0,0,0,0,0,0,0,0,0,0,0,0,0,null,237,0,15,{"$f":"INDEX($BW$6:$GR$261,$GT242,$BJ$14)","v":0},0]
[null,null,null,null,null,null,null,null,null,null,null,null,null,null,null,null,null,null,null,null,null,null,null,null,null,null,null,null,null,null,null,null,null,0.72300000000000053,2.4099999999999926,6.0000000043222892,6.0000000000000044,15.000368704757198,4.1441344524711878,242,0,0,0,1.654985816909902E-220,4.2489036140142672E-15,1.6946338021943858E-19,1.7923357492983474E-53,2.5539984701030111E-101,0,0,0,0,0,0,0,0,0,0,0,0,null,null,null,null,15.235986058328288,9.9925399933033388E-3,0,null,null,null,null,null,23.700000000000067,null,0,0,0,0,0,0,0,0,0,0,0,0,0,0,0,0,0,0,0,0,0,0,0,0,0,0,0,0,0,0,0,0,0,0,0,0,0,0,0,0,0,0,0,0,0,0,0,0,0,0,0,0,0,0,0,0,0,0,0,0,0,0,0,0,0,0,0,0,0,0,0,0,0,0,0,0,0,0,0,0,0,0,0,0,0,0,0,0,0,0,0,0,0,0,0,0,0,0,0,0,0,0,0,0,0,0,0,0,0,0,0,0,0,0,0,0,0,0,0,0,0,0,0,0,0,0,null,238,0,15,{"$f":"INDEX($BW$6:$GR$261,$GT243,$BJ$14)","v":0},0]
[null,null,null,null,null,null,null,null,null,null,null,null,null,null,null,null,null,null,null,null,null,null,null,null,null,null,null,null,null,null,null,null,null,0.72600000000000053,2.4199999999999924,6.0000000010511032,6,15.000408833796506,3.8562722243094902,243,0,0,0,1.9314340067273027E-226,3.8287995901789221E-16,9.1765108079210691E-19,1.7934798121978169E-52,2.9525521119474512E-100,0,0,0,0,0,0,0,0,0,0,0,0,null,null,null,null,15.239596379468736,9.9925399933033388E-3,0,null,null,null,null,null,23.800000000000068,null,0,0,0,0,0,0,0,0,0,0,0,0,0,0,0,0,0,0,0,0,0,0,0,0,0,0,0,0,0,0,0,0,0,0,0,0,0,0,0,0,0,0,0,0,0,0,0,0,0,0,0,0,0,0,0,0,0,0,0,0,0,0,0,0,0,0,0,0,0,0,0,0,0,0,0,0,0,0,0,0,0,0,0,0,0,0,0,0,0,0,0,0,0,0,0,0,0,0,0,0,0,0,0,0,0,0,0,0,0,0,0,0,0,0,0,0,0,0,0,0,0,0,0,0,0,0,null,239,0,15,{"$f":"INDEX($BW$6:$GR$261,$GT244,$BJ$14)","v":0},0]
[null,null,null,null,null,null,null,null,null,null,null,null,null,null,null,null,null,null,null,null,null,null,null,null,null,null,null,null,null,null,null,null,null,0.72900000000000054,2.4299999999999922,6.0000000002449356,6,15.000452820684956,3.5066334406047481,244,0,0,0,1.8809784654922456E-232,3.1884460344805867E-17,4.8117818540095363E-18,1.7560506624188878E-51,3.3694974602848435E-99,0,0,0,0,0,0,0,0,0,0,0,0,null,null,null,null,15.243244049148899,9.9925399933033388E-3,0,null,null,null,null,null,23.90000000000007,null,0,0,0,0,0,0,0,0,0,0,0,0,0,0,0,0,0,0,0,0,0,0,0,0,0,0,0,0,0,0,0,0,0,0,0,0,0,0,0,0,0,0,0,0,0,0,0,0,0,0,0,0,0,0,0,0,0,0,0,0,0,0,0,0,0,0,0,0,0,0,0,0,0,0,0,0,0,0,0,0,0,0,0,0,0,0,0,0,0,0,0,0,0,0,0,0,0,0,0,0,0,0,0,0,0,0,0,0,0,0,0,0,0,0,0,0,0,0,0,0,0,0,0,0,0,0,null,240,0,15,{"$f":"INDEX($BW$6:$GR$261,$GT245,$BJ$14)","v":0},0]
[null,null,null,null,null,null,null,null,null,null,null,null,null,null,null,null,null,null,null,null,null,null,null,null,null,null,null,null,null,null,null,null,null,0.73200000000000054,2.439999999999992,6.0000000000565867,6,15.000500976256873,3.0948165245519133,245,0,0,0,1.5286431889199828E-238,2.453726692453566E-18,2.4432106543759044E-17,1.6824455325704333E-50,3.795974778381525E-98,0,0,0,0,0,0,0,0,0,0,0,0,null,null,null,null,15.24692909551433,9.9925399933033388E-3,0,null,null,null,null,null,24.000000000000071,null,0,0,0,0,0,0,0,0,0,0,0,0,0,0,0,0,0,0,0,0,0,0,0,0,0,0,0,0,0,0,0,0,0,0,0,0,0,0,0,0,0,0,0,0,0,0,0,0,0,0,0,0,0,0,0,0,0,0,0,0,0,0,0,0,0,0,0,0,0,0,0,0,0,0,0,0,0,0,0,0,0,0,0,0,0,0,0,0,0,0,0,0,0,0,0,0,0,0,0,0,0,0,0,0,0,0,0,0,0,0,0,0,0,0,0,0,0,0,0,0,0,0,0,0,0,0,null,241,0,15,{"$f":"INDEX($BW$6:$GR$261,$GT246,$BJ$14)","v":0},0]
[null,null,null,null,null,null,null,null,null,null,null,null,null,null,null,null,null,null,null,null,null,null,null,null,null,null,null,null,null,null,null,null,null,0.73500000000000054,2.4499999999999917,6.0000000000188596,6,15.000553629787051,2.6251629263955314,246,0,0,0,1.0366849170469645E-244,1.7450343667053606E-19,1.2012752549678342E-16,1.5772785916388969E-49,4.2215518331794307E-97,0,0,0,0,0,0,0,0,0,0,0,0,null,null,null,null,15.25065153883151,9.9925399933033388E-3,0,null,null,null,null,null,24.100000000000072,null,0,0,0,0,0,0,0,0,0,0,0,0,0,0,0,0,0,0,0,0,0,0,0,0,0,0,0,0,0,0,0,0,0,0,0,0,0,0,0,0,0,0,0,0,0,0,0,0,0,0,0,0,0,0,0,0,0,0,0,0,0,0,0,0,0,0,0,0,0,0,0,0,0,0,0,0,0,0,0,0,0,0,0,0,0,0,0,0,0,0,0,0,0,0,0,0,0,0,0,0,0,0,0,0,0,0,0,0,0,0,0,0,0,0,0,0,0,0,0,0,0,0,0,0,0,0,null,242,0,15,{"$f":"INDEX($BW$6:$GR$261,$GT247,$BJ$14)","v":0},0]
[null,null,null,null,null,null,null,null,null,null,null,null,null,null,null,null,null,null,null,null,null,null,null,null,null,null,null,null,null,null,null,null,null,0.73800000000000054,2.4599999999999915,6.0000000000247757,6.0000000000000009,15.000611129393203,2.1076059181652536,247,0,0,0,5.866860833935325E-251,1.1468654298362024E-20,5.7194041042864819E-16,1.4469023680957735E-48,4.6345925251833582E-96,0,0,0,0,0,0,0,0,0,0,0,0,null,null,null,null,15.254411391362471,9.9925399933033388E-3,0,null,null,null,null,null,24.200000000000074,null,0,0,0,0,0,0,0,0,0,0,0,0,0,0,0,0,0,0,0,0,0,0,0,0,0,0,0,0,0,0,0,0,0,0,0,0,0,0,0,0,0,0,0,0,0,0,0,0,0,0,0,0,0,0,0,0,0,0,0,0,0,0,0,0,0,0,0,0,0,0,0,0,0,0,0,0,0,0,0,0,0,0,0,0,0,0,0,0,0,0,0,0,0,0,0,0,0,0,0,0,0,0,0,0,0,0,0,0,0,0,0,0,0,0,0,0,0,0,0,0,0,0,0,0,0,0,null,243,0,15,{"$f":"INDEX($BW$6:$GR$261,$GT248,$BJ$14)","v":0},0]
[null,null,null,null,null,null,null,null,null,null,null,null,null,null,null,null,null,null,null,null,null,null,null,null,null,null,null,null,null,null,null,null,null,0.74100000000000055,2.4699999999999913,6.0000000000674278,6.0000000000000027,15.000673842369553,1.5580247867570822,248,0,0,0,2.7706594298944352E-257,6.9654891485431066E-22,2.6368514755679526E-15,1.2987736518323385E-47,5.0227505595691264E-95,0,0,0,0,0,0,0,0,0,0,0,0,null,null,null,null,15.258208657240502,9.9925399933033388E-3,0,null,null,null,null,null,24.300000000000075,null,0,0,0,0,0,0,0,0,0,0,0,0,0,0,0,0,0,0,0,0,0,0,0,0,0,0,0,0,0,0,0,0,0,0,0,0,0,0,0,0,0,0,0,0,0,0,0,0,0,0,0,0,0,0,0,0,0,0,0,0,0,0,0,0,0,0,0,0,0,0,0,0,0,0,0,0,0,0,0,0,0,0,0,0,0,0,0,0,0,0,0,0,0,0,0,0,0,0,0,0,0,0,0,0,0,0,0,0,0,0,0,0,0,0,0,0,0,0,0,0,0,0,0,0,0,0,null,244,0,15,{"$f":"INDEX($BW$6:$GR$261,$GT249,$BJ$14)","v":0},0]
[null,null,null,null,null,null,null,null,null,null,null,null,null,null,null,null,null,null,null,null,null,null,null,null,null,null,null,null,null,null,null,null,null,0.74400000000000055,2.4799999999999911,6.0000000001953957,6.0000000000000115,15.00074215544198,0.9979303475698007,249,0,0,0,1.0918899198765338E-263,3.9095021701638517E-23,1.1771916901830372E-14,1.1407517270969772E-46,5.373562290335383E-94,0,0,0,0,0,0,0,0,0,0,0,0,null,null,null,null,15.262043332347,9.9925399933033388E-3,0,null,null,null,null,null,24.400000000000077,null,0,0,0,0,0,0,0,0,0,0,0,0,0,0,0,0,0,0,0,0,0,0,0,0,0,0,0,0,0,0,0,0,0,0,0,0,0,0,0,0,0,0,0,0,0,0,0,0,0,0,0,0,0,0,0,0,0,0,0,0,0,0,0,0,0,0,0,0,0,0,0,0,0,0,0,0,0,0,0,0,0,0,0,0,0,0,0,0,0,0,0,0,0,0,0,0,0,0,0,0,0,0,0,0,0,0,0,0,0,0,0,0,0,0,0,0,0,0,0,0,0,0,0,0,0,0,null,245,0,15,{"$f":"INDEX($BW$6:$GR$261,$GT250,$BJ$14)","v":0},0]
[null,null,null,null,null,null,null,null,null,null,null,null,null,null,null,null,null,null,null,null,null,null,null,null,null,null,null,null,null,null,null,null,null,0.75600000000000056,2.5199999999999902,6.0000000112010827,6.0000000000033893,15.001079829810017,-0.80040824629274976,253,0,0,0,4.3126600356906583E-290,1.7624127170207533E-28,3.3896870620092046E-12,5.463312341758926E-43,6.1865884326036923E-90,0,0,0,0,0,0,0,0,0,0,0,0,null,null,null,null,15.277755747077016,9.9925399933033388E-3,0,null,null,null,null,null,24.800000000000082,null,0,0,0,0,0,0,0,0,0,0,0,0,0,0,0,0,0,0,0,0,0,0,0,0,0,0,0,0,0,0,0,0,0,0,0,0,0,0,0,0,0,0,0,0,0,0,0,0,0,0,0,0,0,0,0,0,0,0,0,0,0,0,0,0,0,0,0,0,0,0,0,0,0,0,0,0,0,0,0,0,0,0,0,0,0,0,0,0,0,0,0,0,0,0,0,0,0,0,0,0,0,0,0,0,0,0,0,0,0,0,0,0,0,0,0,0,0,0,0,0,0,0,0,0,0,0,null,249,0,15,{"$f":"INDEX($BW$6:$GR$261,$GT254,$BJ$14)","v":0},0]
[null,null,null,null,null,null,null,null,null,null,null,null,null,null,null,null,null,null,null,null,null,null,null,null,null,null,null,null,null,null,null,null,null,0.77100000000000057,2.5699999999999892,6.0000010489947915,6.0000000019493926,15.001682433094601,-0.47362621146990236,258,0,0,0,0,6.2019838145144736E-36,1.9493929582382558E-9,1.3349474633894289E-38,5.5172976620804036E-85,0,0,0,{"$f":"IF($C$96>0,$B$17*NORMDIST($AI259,$C$96,$D$96/4,FALSE),0)","v":0},{"$f":"IF($C$97>0,$B$18*NORMDIST($AI259,$C$97,$D$97/4,FALSE),0)","v":0},{"$f":"IF($C$98>0,$B$19*NORMDIST($AI259,$C$98,$D$98/4,FALSE),0)","v":0},{"$f":"IF($C$99>0,$B$20*NORMDIST($AI259,$C$99,$D$99/4,FALSE),0)","v":0},{"$f":"IF($C$100>0,$B$21*NORMDIST($AI259,$C$100,$D$100/4,FALSE),0)","v":0},{"$f":"IF($C$101>0,$B$22*NORMDIST($AI259,$C$101,$D$101/4,FALSE),0)","v":0},{"$f":"IF($C$102>0,$B$23*NORMDIST($AI259,$C$102,$D$102/4,FALSE),0)","v":0},{"$f":"IF($C$103>0,$B$24*NORMDIST($AI259,$C$103,$D$103/4,FALSE),0)","v":0},{"$f":"IF($C$104>0,$B$25*NORMDIST($AI259,$C$104,$D$104/4,FALSE),0)","v":0},null,null,null,null,{"$f":"$N$32*$O$61*NORMDIST(AH259,$BJ$26,$BJ$27,FALSE)+$M$32","v":15.298233904719948},9.9925399933033388E-3,0,null,null,null,null,null,null,null,{"$f":"BW$4*$N$32+$M$32","v":15.002157896023258},{"$f":"BX$4*$N$32+$M$32","v":15.003962295873157},15.00706704282698,15.012244622154574,15.020611666764975,15.033712023968199,15.053580292950636,15.082759709436443,15.124243004002436,15.181305032164769,15.257204602964265,15.354752051295904,15.475837964230362,15.630320024242671,16.18197340016625,20.746751258326483,35.125817032214457,46.997800186594979,46.368199122854769,38.982776898379839,27.522426163787486,20.979556926365525,23.382843508643148,30.410328713252149,34.087298798443044,29.956880046217449,22.722572460294401,18.133059281318772,16.527671082168599,16.085584612009619,15.874820720655187,15.701510978832269,15.550023828946715,15.426791511306947,15.352905753281917,15.391426806689326,15.683381761317341,16.429570293760108,17.726563172090792,19.305067856547264,20.484170129923577,20.597451037149519,19.569892244275621,17.991249994953129,16.600917684317412,15.795610482245992,15.597576284625715,15.895834360374051,16.595913133073289,17.582299245687331,18.629049611404277,19.410351921329585,19.646153418788657,19.278479558682321,18.526338689500957,17.765802326561733,17.33063656258479,17.374994703715714,17.858276084060211,18.613577457346008,19.43374527260621,20.136941797044912,20.602097733878288,20.775593765797996,20.656725962863423,{"$f":"EJ$4*$N$32+$M$32","v":20.276486573959602},19.683804495991112,18.942507208346992,18.130664445245998,17.332677826352718,16.623214561921682,16.051007468340455,15.631566117529699,15.351631174970038,15.181211614567987,15.08639755885557,15.038103065567478,15.015544407853646,15.005866892978919,15.002049063198369,15.000662411451133,15.000198268086192,15.000054963597245,15.000014118115573,15.000003363422303,15.00000074896835,15.000000171659536,15.000000083480893,15.000000152418595,15.000000386813941,15.000000981544385,15.000002421768977,15.00000579983563,15.000013481620986,15.000030418755816,15.000066626510034,15.000141675180908,15.000292494456497,15.000586348638057,15.001141424103613,15.002157896023258,15,15,15,15,15,15,15,15,15,15,15,15,15,15,15,15,15,15,15,15,15,15,15,15,15]
[null,null,null,null,null,null,null,null,null,null,null,null,null,null,null,null,null,null,null,null,null,null,null,null,null,null,null,null,null,null,null,null,null,0.7950000000000006,2.6499999999999875,6.0004481046431719,6.0000095250665764,15.003225996824323,3.5066334406039696,266,0,0,0,0,1.2156339821558141E-49,9.5250665762996756E-6,4.5245482018138265E-32,2.3468164060618336E-77,0,0,0,0,0,0,0,0,0,0,0,0,null,null,null,null,15.332910046631943,9.9925399933033388E-3,0,null,null,{"$f":"IF(BU267=\"\",\"\",SUM(BW267:FS267)*#REF!)","v":""},""]
[null,null,null,null,null,null,null,null,null,null,null,null,null,null,null,null,null,null,null,null,null,null,null,null,null,null,null,null,null,null,null,null,null,0.81000000000000061,2.6999999999999864,6.0092923111233363,6.0006766109413192,15.004671863832082,4.6879573527161353,271,0,0,0,0,2.5334951407322311E-59,6.7661094131961071E-4,2.6928110516454685E-28,9.0395081655386768E-73,0,0,0,0,0,0,0,0,0,0,0,0,null,null,null,null,15.35575031988372,9.9925399933033388E-3,0,null,null,{"$f":"IF(BU272=\"\",\"\",SUM(BW272:FS272)*#REF!)","v":""},""]
[null,null,null,null,null,null,null,null,null,null,null,null,null,null,null,null,null,null,null,null,null,null,null,null,null,null,null,null,null,null,null,null,null,0.84300000000000064,2.8099999999999841,6.9517100321047636,6.4719750049217124,15.009557601466854,4.9987062154163331,282,0,0,0,0,1.2292434320962778E-83,0.47197500492171224,8.0163116203184765E-21,3.5561832775017816E-63,0,0,0,0,0,0,0,0,0,0,0,0,null,null,null,null,15.409011746521122,9.9925399933033388E-3,0,null,null,{"$f":"IF(BU283=\"\",\"\",SUM(BW283:FS283)*#REF!)","v":""},""]
[null,null,null,null,null,null,null,null,null,null,null,null,null,null,null,null,null,null,null,null,null,null,null,null,null,null,null,null,null,null,null,null,null,0.85500000000000065,2.8499999999999832,8.5547661430026807,7.944227600609441,15.011989211272549,4.9999122289964895,286,0,0,0,0,1.6598692635078969E-93,1.9442276006094414,2.1807775523044669E-18,7.4427822107483332E-60,0,0,0,0,0,0,0,0,0,0,0,0,null,null,null,null,15.429349272060602,9.9925399933033388E-3,0,null,null,{"$f":"IF(BU287=\"\",\"\",SUM(BW287:FS287)*#REF!)","v":""},""]
[null,null,null,null,null,null,null,null,null,null,null,null,null,null,null,null,null,null,null,null,null,null,null,null,null,null,null,null,null,null,null,null,null,0.87000000000000066,2.8999999999999821,11.209049209413593,11.531991441272794,15.015525038626537,4.9999981967213296,291,0,0,0,0,1.2943722023114792E-106,5.5319914412727931,1.4776935049987387E-15,7.8788584511293788E-56,0,0,0,0,0,0,0,0,0,0,0,0,null,null,null,null,15.45544501646236,9.9925399933033388E-3,0,null,null,{"$f":"IF(BU292=\"\",\"\",SUM(BW292:FS292)*#REF!)","v":""},""]
[null,null,null,null,null,null,null,null,null,null,null,null,null,null,null,null,null,null,null,null,null,null,null,null,null,null,null,null,null,null,null,null,null,0.89400000000000068,2.9799999999999804,10.87522785588266,11.531991441291609,15.022222000485444,4.9999999972359648,299,0,0,0,0,2.2763080553655778E-129,5.5319914412754487,1.615991873695791E-11,1.107491685581147E-49,0,0,0,0,0,0,0,0,0,0,0,0,null,null,null,null,15.498627080261304,9.9925399933033388E-3,0,null,null,{"$f":"IF(BU300=\"\",\"\",SUM(BW300:FS300)*#REF!)","v":""},""]
[null,null,null,null,null,null,null,null,null,null,null,null,null,null,null,null,null,null,null,null,null,null,null,null,null,null,null,null,null,null,null,null,null,0.9120000000000007,3.0399999999999792,7.7512200708951005,7.4321883252074121,15.028024324055872,4.9999999173192018,305,0,0,0,0,7.1088362406440455E-148,1.4321883182692559,6.9381559782414283E-9,2.6281764733451966E-45,0,0,0,0,0,0,0,0,0,0,0,0,null,null,null,null,15.532034332079055,9.9925399933033388E-3,0,null,null,{"$f":"IF(BU306=\"\",\"\",SUM(BW306:FS306)*#REF!)","v":""},""]
[null,null,null,null,null,null,null,null,null,null,null,null,null,null,null,null,null,null,null,null,null,null,null,null,null,null,null,null,null,null,null,null,null,0.93000000000000071,3.0999999999999779,6.2729261930036628,6.1164347621103454,15.034882505623449,4.9999972441852227,311,0,0,0,0,1.2961954209342167E-167,0.11643339962391323,1.3624864318428735E-6,3.9176984128153401E-41,0,0,0,0,0,0,0,0,0,0,0,0,null,null,null,null,15.566179202516643,9.9925399933033388E-3,0,null,null,{"$f":"IF(BU312=\"\",\"\",SUM(BW312:FS312)*#REF!)","v":""},""]
[null,null,null,null,null,null,null,null,null,null,null,null,null,null,null,null,null,null,null,null,null,null,null,null,null,null,null,null,null,null,null,null,null,0.95400000000000074,3.1799999999999762,6.0062451444956695,6.0011372223912209,15.049050509673382,4.9998378462796644,319,0,0,0,0,7.4946476854506233E-196,6.766109413215613E-4,4.6061144989969588E-4,6.9728104470158791E-36,0,0,0,0,0,0,0,0,0,0,0,0,null,null,null,null,15.612610929059402,{"$f":"$BJ$31*NORMDIST(BL320,$BJ$29,$BJ$30,FALSE)","v":9.9925399933033388E-3},{"$f":"$BJ$35*NORMDIST(AI320,$BJ$33,$BJ$34,FALSE)","v":0},null,null,{"$f":"IF(BU320=\"\",\"\",SUM(BW320:FS320)*#REF!)","v":""},""]
[null,null,null,null,null,null,null,null,null,null,null,null,null,null,null,null,null,null,null,null,null,null,null,null,null,null,null,null,null,null,null,null,null,0.96900000000000075,3.2299999999999751,6.0002772322601468,6.0086646347877437,15.065861305305249,4.9985390981788385,324,0,0,0,0,1.2950865720314426E-214,9.5250665763328047E-6,8.6551097211669415E-3,8.7617053453321285E-33,0,0,0,0,0,0,0,0,0,0,0,0,null,null,null,null,15.642009162666785,9.9925399933033388E-3,0,null,null,{"$f":"IF(BU325=\"\",\"\",SUM(BW325:FS325)*#REF!)","v":""},""]
[null,null,null,null,null,null,null,null,null,null,null,null,null,null,null,null,null,null,null,null,null,null,null,null,null,null,null,null,null,null,null,null,null,1.0050000000000006,3.3499999999999726,6.0000000147530939,7.0769426958495618,15.178971670871391,4.9043096004831863,336,0,0,0,0,3.8631573762042436E-263,1.2884106178067778E-11,1.0769426958366781,6.4337780442544399E-26,0,0,0,0,0,0,0,0,0,0,0,0,null,null,null,null,15.713082461081626,9.9925399933033388E-3,0,null,null,{"$f":"IF(BU337=\"\",\"\",SUM(BW337:FS337)*#REF!)","v":""},""]
[null,null,null,null,null,null,null,null,null,null,null,null,null,null,null,null,null,null,null,null,null,null,null,null,null,null,null,null,null,null,null,null,null,1.0140000000000002,3.3799999999999719,6.0000000007477254,8.2059701153373137,15.235453177642087,4.7861315598525982,339,0,0,0,0,4.8366383173511304E-276,2.1303459199551186E-13,2.2059701153371005,2.5045196864465315E-24,0,0,0,0,0,0,0,0,0,0,0,0,null,null,null,null,15.73083766704543,9.9925399933033388E-3,0,null,null,{"$f":"IF(BU340=\"\",\"\",SUM(BW340:FS340)*#REF!)","v":""},""]
[null,null,null,null,null,null,null,null,null,null,null,null,null,null,null,null,null,null,null,null,null,null,null,null,null,null,null,null,null,null,null,null,null,1.0289999999999997,3.4299999999999708,6.0000000000032641,10.71932414352024,15.364312609068639,4.3406190898494321,344,0,0,0,0,3.1272258077464256E-298,1.2012752549749017E-16,4.7193241435202395,8.6490326342040908E-22,0,0,0,0,0,0,0,0,0,0,0,0,null,null,null,null,15.760298676067217,9.9925399933033388E-3,0,null,null,{"$f":"IF(BU345=\"\",\"\",SUM(BW345:FS345)*#REF!)","v":""},""]
[null,null,null,null,null,null,null,null,null,null,null,null,null,null,null,null,null,null,null,null,null,null,null,null,null,null,null,null,null,null,null,null,null,1.0529999999999988,3.5099999999999691,6.0000000000000027,11.147852731274829,15.660058244791568,2.7125399054567816,352,0,0,0,0,0,1.4286812411264257E-22,5.1478527312748295,5.0870835456964258E-18,0,0,0,0,0,0,0,0,0,0,0,0,null,null,null,null,15.806835655558066,9.9925399933033388E-3,0,null,null,{"$f":"IF(BU353=\"\",\"\",SUM(BW353:FS353)*#REF!)","v":""},""]
[null,null,null,null,null,null,null,null,null,null,null,null,null,null,null,null,null,null,null,null,null,null,null,null,null,null,null,null,null,null,null,null,null,1.0739999999999981,3.5799999999999677,6.0000000000008136,7.7751451006243659,15.971159358335854,1.1314456324851019,359,0,0,0,0,0,1.7266918400736163E-28,1.7751451006243613,5.1320425206036474E-15,0,0,0,0,0,0,0,0,0,0,0,0,null,null,null,null,15.846611976264748,9.9925399933033388E-3,0,null,null,{"$f":"IF(BU360=\"\",\"\",SUM(BW360:FS360)*#REF!)","v":""},""]
[null,null,null,null,null,null,null,null,null,null,null,null,null,null,null,null,null,null,null,null,null,null,null,null,null,null,null,null,null,null,null,null,null,1.0889999999999975,3.6299999999999666,6.0000000000373301,6.4323708191620392,16.181692198938649,0.91836724054615715,364,0,0,0,0,0,3.9000541582267819E-33,0.43237081916155251,4.8707476923346787E-13,0,0,0,0,0,0,0,0,0,0,0,0,null,null,null,null,15.874288055554867,9.9925399933033388E-3,0,null,null,{"$f":"IF(BU365=\"\",\"\",SUM(BW365:FS365)*#REF!)","v":""},""]
[null,null,null,null,null,null,null,null,null,null,null,null,null,null,null,null,null,null,null,null,null,null,null,null,null,null,null,null,null,null,null,null,null,1.1129999999999967,3.7099999999999649,6.0000000097462136,6.0145797617887826,16.422077289778731,2.4536155650513423,372,0,0,0,0,0,2.6954103232865964E-41,1.4579761426041282E-2,3.6274100349494577E-10,0,0,0,0,0,0,0,0,0,0,0,0,null,null,null,null,15.916951392402755,9.9925399933033388E-3,0,null,null,{"$f":"IF(BU373=\"\",\"\",SUM(BW373:FS373)*#REF!)","v":""},""]
[null,null,null,null,null,null,null,null,null,null,null,null,null,null,null,null,null,null,null,null,null,null,null,null,null,null,null,null,null,null,null,null,null,1.1489999999999954,3.8299999999999623,6.000011354304676,6.0000082206817371,16.480626275680908,4.6534916516998415,384,0,0,0,0,0,3.2595101682522649E-55,6.655830934682776E-6,1.5648508021144404E-6,0,0,0,0,0,0,0,0,0,0,0,0,null,null,null,null,15.976230021150286,9.9925399933033388E-3,0,null,null,{"$f":"IF(BU385=\"\",\"\",SUM(BW385:FS385)*#REF!)","v":""},""]
[null,null,null,null,null,null,null,null,null,null,null,null,null,null,null,null,null,null,null,null,null,null,null,null,null,null,null,null,null,null,null,null,null,1.1669999999999947,3.889999999999961,6.0002171913118669,6.0000512127299226,16.416300090341792,4.9283645212755527,390,0,0,0,0,0,6.3074570511744225E-63,4.3989910128378871E-8,5.1168740012426535E-5,0,0,0,0,0,0,0,0,0,0,0,0,null,null,null,null,16.003299896037717,9.9925399933033388E-3,0,null,null,{"$f":"IF(BU391=\"\",\"\",SUM(BW391:FS391)*#REF!)","v":""},{"$f":"IF(BW391=\"\",\"\",AVERAGE(BW391:FS391)*$N$32+$M$32)","v":""}]
[null,null,null,null,null,null,null,null,null,null,null,null,null,null,null,null,null,null,null,null,null,null,null,null,null,null,null,null,null,null,null,null,null,1.1849999999999941,3.9499999999999598,6.0028240394093508,6.0010509909891931,16.341295053976108,4.9899332558193441,396,0,0,0,0,0,3.8327905529106378E-71,1.3298023864413238E-10,1.0509908562129405E-3,0,0,0,0,0,0,0,0,0,0,0,0,null,null,null,null,16.028394707061661,9.9925399933033388E-3,0,null,null,{"$f":"IF(BU397=\"\",\"\",SUM(BW397:FS397)*#REF!)","v":""},""]
[null,null,null,null,null,null,null,null,null,null,null,null,null,null,null,null,null,null,null,null,null,null,null,null,null,null,null,null,null,null,null,null,null,1.2089999999999932,4.0299999999999585,6.0473638869804587,6.0286813405364432,16.273977754742976,4.9995965630276782,404,0,0,0,0,0,7.012738391903296E-83,1.7215416188813397E-14,2.8681340536425973E-2,0,0,0,0,0,0,0,0,0,0,0,0,null,null,null,null,16.058466398853305,9.9925399933033388E-3,0,null,null,{"$f":"IF(BU405=\"\",\"\",SUM(BW405:FS405)*#REF!)","v":""},""]
[null,null,null,null,null,null,null,null,null,null,null,null,null,null,null,null,null,null,null,null,null,null,null,null,null,null,null,null,null,null,null,null,null,1.2119999999999931,4.0399999999999583,6.064204092087734,6.0409126219704241,16.26929860463342,4.9997428539670139,405,0,0,0,0,0,2.0692075756333474E-84,5.0988147531414883E-15,4.0912621970419373E-2,0,0,0,0,0,0,0,0,0,0,0,0,null,null,null,null,16.061935253242584,9.9925399933033388E-3,0,null,null,{"$f":"IF(BU406=\"\",\"\",SUM(BW406:FS406)*#REF!)","v":""},""]
[null,null,null,null,null,null,null,null,null,null,null,null,null,null,null,null,null,null,null,null,null,null,null,null,null,null,null,null,null,null,null,null,null,1.2479999999999918,4.1599999999999557,7.0707737494046681,7.0602793750887463,16.248443816019289,4.9999994987286032,417,0,0,0,0,0,7.3261966550730413E-104,4.2661561057812566E-22,1.060279375088746,0,0,0,0,0,0,0,0,0,0,0,0,null,null,null,null,16.09814303906839,9.9925399933033388E-3,0,null,null,{"$f":"IF(BU418=\"\",\"\",SUM(BW418:FS418)*#REF!)","v":""},""]
[null,null,null,null,null,null,null,null,null,null,null,null,null,null,null,null,null,null,null,null,null,null,null,null,null,null,null,null,null,null,null,null,null,1.2659999999999911,4.2199999999999545,8.4506699103070559,8.6871719434086963,16.22676964781483,4.9999993867056647,423,0,0,0,0,0,2.4257948165630503E-114,3.8172038944493433E-26,2.6871719434086963,0,0,0,0,0,0,0,0,0,0,0,0,null,null,null,null,16.112282325512901,9.9925399933033388E-3,0,null,null,{"$f":"IF(BU424=\"\",\"\",SUM(BW424:FS424)*#REF!)","v":""},""]
[null,null,null,null,null,null,null,null,null,null,null,null,null,null,null,null,null,null,null,null,null,null,null,null,null,null,null,null,null,null,null,null,null,1.2719999999999909,4.239999999999954,8.9640862069976812,9.3040414589409846,16.212604713364094,4.9999946673211504,425,0,0,0,0,0,6.021790370035958E-118,1.4349021404379488E-27,3.3040414589409846,2.5128518941835348E-308,0,0,0,0,0,0,0,0,0,0,0,null,null,null,null,16.116378909724499,9.9925399933033388E-3,0,null,null,{"$f":"IF(BU426=\"\",\"\",SUM(BW426:FS426)*#REF!)","v":""},""]
[null,null,null,null,null,null,null,null,null,null,null,null,null,null,null,null,null,null,null,null,null,null,null,null,null,null,null,null,null,null,null,null,null,1.3079999999999896,4.3599999999999515,9.7699463343395205,9.8579625897009464,16.030695898155678,4.9018039906186077,437,0,0,0,0,0,9.4447899230722746E-141,6.5254639627471252E-37,3.8579625897009455,5.3755722571913967E-283,0,0,0,0,0,0,0,0,0,0,0,null,null,null,null,16.13425023975427,9.9925399933033388E-3,0,null,null,{"$f":"IF(BU438=\"\",\"\",SUM(BW438:FS438)*#REF!)","v":""},""]
[null,null,null,null,null,null,null,null,null,null,null,null,null,null,null,null,null,null,null,null,null,null,null,null,null,null,null,null,null,null,null,null,null,1.3319999999999887,4.4399999999999498,7.8767272933776233,7.5222390862486366,15.826378884575048,1.968866908099788,445,0,0,0,0,0,4.5112905774871636E-157,6.7849190631809936E-44,1.5222390862486366,1.0331464042479535E-266,0,0,0,0,0,0,0,0,0,0,0,null,null,null,null,16.139600185506836,9.9925399933033388E-3,0,null,null,{"$f":"IF(BU446=\"\",\"\",SUM(BW446:FS446)*#REF!)","v":""},""]
[null,null,null,null,null,null,null,null,null,null,null,null,null,null,null,null,null,null,null,null,null,null,null,null,null,null,null,null,null,null,null,null,null,1.3349999999999886,4.4499999999999496,7.6389953454303869,7.2786635338861192,15.797904935567781,1.0949579288268247,446,0,0,0,0,0,3.5588461745597551E-159,8.2451153507074273E-45,1.2786635338861192,1.0368228544089017E-264,0,0,0,0,0,0,0,0,0,0,0,null,null,null,null,16.13989348731852,9.9925399933033388E-3,0,null,null,{"$f":"IF(BU447=\"\",\"\",SUM(BW447:FS447)*#REF!)","v":""},""]
[null,null,null,null,null,null,null,null,null,null,null,null,null,null,null,null,null,null,null,null,null,null,null,null,null,null,null,null,null,null,null,null,null,1.3679999999999874,4.5599999999999472,6.1820349749918773,6.0800838449843129,15.479523154316517,0.1613950534624875,457,0,0,0,0,0,3.1344376002339357E-183,1.6770862043968214E-55,8.0083844984312938E-2,3.4285899731702192E-243,0,0,0,0,0,0,0,0,0,0,0,null,null,null,null,16.137591005089508,9.9925399933033388E-3,0,null,null,{"$f":"IF(BU458=\"\",\"\",SUM(BW458:FS458)*#REF!)","v":""},""]
[null,null,null,null,null,null,null,null,null,null,null,null,null,null,null,null,null,null,null,null,null,null,null,null,null,null,null,null,null,null,null,null,null,1.3919999999999866,4.6399999999999455,6.0162964769879679,6.0040010083305848,15.283124224633246,4.7075650940744005,465,0,0,0,0,0,8.7002065954339677E-202,5.3905911943882643E-64,4.0010083305849755E-3,4.0987361521551667E-228,0,0,0,0,0,0,0,0,0,0,0,null,null,null,null,16.129589644024303,9.9925399933033388E-3,0,null,null,{"$f":"IF(BU466=\"\",\"\",SUM(BW466:FS466)*#REF!)","v":""},""]
[null,null,null,null,null,null,null,null,null,null,null,null,null,null,null,null,null,null,null,null,null,null,null,null,null,null,null,null,null,null,null,null,null,1.406999999999986,4.6899999999999444,6.0025450808823617,6.0004041150648817,15.189483837179914,4.9857359186451378,470,0,0,0,0,0,7.7179396949854114E-214,1.3088000056020338E-69,4.0411506488172318E-4,6.1815734721201422E-219,0,0,0,0,0,0,0,0,0,0,0,null,null,null,null,16.121933241865936,9.9925399933033388E-3,0,null,null,{"$f":"IF(BU471=\"\",\"\",SUM(BW471:FS471)*#REF!)","v":""},""]
[null,null,null,null,null,null,null,null,null,null,null,null,null,null,null,null,null,null,null,null,null,null,null,null,null,null,null,null,null,null,null,null,null,1.4279999999999853,4.7599999999999429,6.0001205470888985,6.0000094837702926,15.098539129969682,4.9999595572027697,477,0,0,0,0,0,2.6778148757825572E-231,7.2421700090106051E-78,9.4837702924673275E-6,2.1100828863322667E-206,0,0,0,0,0,0,0,0,0,0,0,null,null,null,null,16.107874897451236,9.9925399933033388E-3,0,null,null,{"$f":"IF(BU478=\"\",\"\",SUM(BW478:FS478)*#REF!)","v":""},""]
[null,null,null,null,null,null,null,null,null,null,null,null,null,null,null,null,null,null,null,null,null,null,null,null,null,null,null,null,null,null,null,null,null,1.4519999999999844,4.8399999999999412,6.0000019407451228,6.0000000599936447,15.043055085312734,4.9999999952142709,485,0,0,0,0,0,4.3192856367178139E-252,7.1961045088931812E-88,5.9993644865237015E-8,1.5690297344752294E-192,0,0,0,0,0,0,0,0,0,0,0,null,null,null,null,16.087216903609793,9.9925399933033388E-3,0,null,null,{"$f":"IF(BU486=\"\",\"\",SUM(BW486:FS486)*#REF!)","v":""},""]
[null,null,null,null,null,null,null,null,null,null,null,null,null,null,null,null,null,null,null,null,null,null,null,null,null,null,null,null,null,null,null,null,null,1.4669999999999839,4.8899999999999402,6.0000001037222477,6.0000000016653408,15.02760317550154,4.9999999999952625,490,0,0,0,0,0,1.5347835627275515E-265,1.9891919231988361E-94,1.6653408469597781E-9,4.1706478965034236E-184,0,0,0,0,0,0,0,0,0,0,0,null,null,null,null,16.071937182309178,9.9925399933033388E-3,0,null,null,{"$f":"IF(BU491=\"\",\"\",SUM(BW491:FS491)*#REF!)","v":""},""]
[null,null,null,null,null,null,null,null,null,null,null,null,null,null,null,null,null,null,null,null,null,null,null,null,null,null,null,null,null,null,null,null,null,1.490999999999983,4.9699999999999385,6.0000000005474581,6.0000000000027498,15.024036145426814,5,498,0,0,0,0,0,8.7186340541271825E-288,2.0630106097361332E-105,2.7494900319609319E-12,5.0992158465940455E-171,0,0,0,0,0,0,0,0,0,0,0,null,null,null,null,16.043936081255762,9.9925399933033388E-3,0,null,null,{"$f":"IF(BU499=\"\",\"\",SUM(BW499:FS499)*#REF!)","v":""},""]
[null,null,null,null,null,null,null,null,null,null,null,null,null,null,null,null,null,null,null,null,null,null,null,null,null,null,null,null,null,null,null,null,null,1.4969999999999828,4.989999999999938,6.0000000001325562,6.0000000000004867,15.026495364464344,5,500,0,0,0,0,0,1.7350624737724615E-293,2.9791466939906074E-108,4.8707476923758974E-13,8.0156859056156577E-168,0,0,0,0,0,0,0,0,0,0,0,null,null,null,null,16.036288631936017,9.9925399933033388E-3,0,null,null,{"$f":"IF(BU501=\"\",\"\",SUM(BW501:FS501)*#REF!)","v":""},""]
[null,null,null,null,null,null,null,null,null,null,null,null,null,null,null,null,null,null,null,null,null,null,null,null,null,null,null,null,null,null,null,null,null,1.5269999999999817,5.0899999999999359,6.0000000000030385,6,15.058702964450543,5,510,0,0,0,0,0,0,5.0798328757414804E-123,3.9151682840555423E-17,2.7151956866719843E-152,0,0,0,0,0,0,0,0,0,0,0,null,null,null,null,15.994486651395952,9.9925399933033388E-3,0]
[null,null,null,null,null,null,null,null,null,null,null,null,null,null,null,null,null,null,null,null,null,null,null,null,null,null,null,null,null,null,null,null,null,1.5509999999999808,5.1699999999999342,6.0000001319638443,6,15.11344805838932,5,518,0,0,0,0,0,0,1.6286281385658095E-135,8.1846315097472084E-21,2.0648963255442886E-140,0,0,0,0,0,0,0,0,0,0,0,null,null,null,null,15.957181843452448,9.9925399933033388E-3,0]
[null,null,null,null,null,null,null,null,null,null,null,null,null,null,null,null,null,null,null,null,null,null,null,null,null,null,null,null,null,null,null,null,null,1.5659999999999803,5.2199999999999331,6.0000297977460164,6,15.164318299795399,5,523,0,0,0,0,0,0,1.2484352173606898E-143,2.6968066791341594E-23,3.1302138954938479E-133,0,0,0,0,0,0,0,0,0,0,0,null,null,null,null,15.932349739940923,9.9925399933033388E-3,0]
[null,null,null,null,null,null,null,null,null,null,null,null,null,null,null,null,null,null,null,null,null,null,null,null,null,null,null,null,null,null,null,null,null,1.5899999999999794,5.2999999999999314,6.0229077932428536,6,15.275954275046677,5,531,0,0,0,0,0,0,4.1776740146613956E-157,1.4713747740062975E-27,3.9141669177680438E-122,0,0,0,0,0,0,0,0,0,0,0,null,null,null,null,15.890540031574091,9.9925399933033388E-3,0]
[null,null,null,null,null,null,null,null,null,null,null,null,null,null,null,null,null,null,null,null,null,null,null,null,null,null,null,null,null,null,null,null,null,1.601999999999979,5.3399999999999306,6.2492601526470031,6,15.345495613433291,5,535,0,0,0,0,0,0,4.5367095730844819E-164,7.9714073691201514E-30,9.125183206380124E-117,0,0,0,0,0,0,0,0,0,0,0,null,null,null,null,15.868809140070905,9.9925399933033388E-3,0]
[null,null,null,null,null,null,null,null,null,null,null,null,null,null,null,null,null,null,null,null,null,null,null,null,null,null,null,null,null,null,null,null,null,1.6259999999999781,5.4199999999999289,10.544974217552578,6,15.505852775645781,4.9999999999980291,543,0,0,0,0,0,0,1.8853767910489319E-178,1.2586596331946096E-34,2.1556848412331995E-106,0,0,0,0,0,0,0,0,0,0,0,null,null,null,null,15.824011981332234,9.9925399933033388E-3,0]
[null,null,null,null,null,null,null,null,null,null,null,null,null,null,null,null,null,null,null,null,null,null,null,null,null,null,null,null,null,null,null,null,null,1.6499999999999773,5.4999999999999272,12.841150463096195,6,15.677129343188053,4.9999999471406946,551,0,0,0,0,0,0,1.9503584195223946E-193,8.6952380703302179E-40,1.6766709577838281E-96,0,0,0,0,0,0,0,0,0,0,0,null,null,null,null,15.777855703239602,9.9925399933033388E-3,0]
[null,null,null,null,null,null,null,null,null,null,null,null,null,null,null,null,null,null,null,null,null,null,null,null,null,null,null,null,null,null,null,null,null,1.6589999999999769,5.5299999999999265,10.192228468809406,6,15.738373051864141,4.9999986292572123,554,0,0,0,0,0,0,3.272875740488459E-199,8.1562719333165561E-42,6.4436456291269489E-93,0,0,0,0,0,0,0,0,0,0,0,null,null,null,null,15.760298676067263,9.9925399933033388E-3,0]
[null,null,null,null,null,null,null,null,null,null,null,null,null,null,null,null,null,null,null,null,null,null,null,null,null,null,null,null,null,null,null,null,null,1.685999999999976,5.6199999999999246,6.1175910120876269,6,15.889709250939475,4.9962799045241217,563,0,0,0,0,0,0,4.784093294461982E-217,3.3513207745763882E-48,1.4324835328057508E-82,3.2549344360459608E-297,0,0,0,0,0,0,0,0,0,0,null,null,null,null,15.70715644182687,9.9925399933033388E-3,0]
[null,null,null,null,null,null,null,null,null,null,null,null,null,null,null,null,null,null,null,null,null,null,null,null,null,null,null,null,null,null,null,null,null,1.7099999999999751,5.6999999999999229,6.0003465530492743,6,15.958876955919578,4.5970242650601785,571,0,0,0,0,0,0,1.5299021268433117E-233,2.9314929505569806E-54,6.9302589013153131E-74,1.4428384726493351E-278,0,0,0,0,0,0,0,0,0,0,null,null,null,null,15.659738664403068,9.9925399933033388E-3,0]
[null,null,null,null,null,null,null,null,null,null,null,null,null,null,null,null,null,null,null,null,null,null,null,null,null,null,null,null,null,null,null,null,null,1.7249999999999746,5.7499999999999218,6.0000025588122199,6,15.962790225464824,2.5410906550015486,576,0,0,0,0,0,0,3.7026691889796882E-244,3.1510452280032934E-58,1.0559708102403655E-68,3.2114498240996074E-267,0,0,0,0,0,0,0,0,0,0,null,null,null,null,15.630223258974047,9.9925399933033388E-3,0]
[null,null,null,null,null,null,null,null,null,null,null,null,null,null,null,null,null,null,null,null,null,null,null,null,null,null,null,null,null,null,null,null,null,1.7489999999999737,5.8299999999999201,6.0000000001309495,6,15.905871271674233,-2.4045947755141972,584,0,0,0,0,0,0,1.2358761415252884E-261,7.1936993926960461E-65,8.4000127461004889E-61,1.485842026166349E-249,0,0,0,0,0,0,0,0,0,0,null,null,null,null,15.58348535616333,9.9925399933033388E-3,0]
[null,null,null,null,null,null,null,null,null,null,null,null,null,null,null,null,null,null,null,null,null,null,null,null,null,null,null,null,null,null,null,null,null,1.7759999999999727,5.9199999999999182,6,6,15.766697363283759,3.1652697692675584,593,0,0,0,0,0,0,5.1164575454061596E-282,9.0395081657195476E-73,1.7209600526296822E-52,2.1062259440157937E-230,0,0,0,0,0,0,0,0,0,0,null,null,null,null,15.532034332079105,9.9925399933033388E-3,0]
[null,null,null,null,null,null,null,null,null,null,null,null,null,null,null,null,null,null,null,null,null,null,null,null,null,null,null,null,null,null,null,null,null,1.7849999999999724,5.9499999999999176,6,6,15.708748620321593,4.3801393833292721,596,0,0,0,0,0,0,5.5561735657355175E-289,1.6656107720232288E-75,7.422837069309557E-50,3.4473921225795994E-224,0,0,0,0,0,0,0,0,0,0,null,null,null,null,15.515230367778603,9.9925399933033388E-3,0]
[null,null,null,null,null,null,null,null,null,null,null,null,null,null,null,null,null,null,null,null,null,null,null,null,null,null,null,null,null,null,null,null,null,1.8089999999999715,6.0299999999999159,6,6,15.543372998711773,4.9924619514751134,604,0,0,0,0,0,0,5.733021564022608E-308,4.814717963823971E-83,3.6727824683947011E-43,4.9307151882457823E-208,0,0,0,0,0,0,0,0,0,0,null,null,null,null,15.471441605920786,9.9925399933033388E-3,0]
[null,null,null,null,null,null,null,null,null,null,null,null,null,null,null,null,null,null,null,null,null,null,null,null,null,null,null,null,null,null,null,null,null,1.823999999999971,6.0799999999999148,6,6,15.441503158836808,4.9998436411033635,609,0,0,0,0,0,0,0,6.143126127617732E-88,3.1915457312200563E-39,3.0433941124201901E-198,0,0,0,0,0,0,0,0,0,0,null,null,null,null,15.444919725076025,9.9925399933033388E-3,0]
[null,null,null,null,null,null,null,null,null,null,null,null,null,null,null,null,null,null,null,null,null,null,null,null,null,null,null,null,null,null,null,null,null,1.85099999999997,6.1699999999999129,6,6,15.280175267024902,4.9999999833305662,618,0,0,0,0,0,0,0,4.2215518332770972E-97,1.3160406222958933E-32,3.2483346812059799E-181,0,0,0,0,0,0,0,0,0,0,null,null,null,null,15.399031072354878,9.9925399933033388E-3,0]
[null,null,null,null,null,null,null,null,null,null,null,null,null,null,null,null,null,null,null,null,null,null,null,null,null,null,null,null,null,null,null,null,null,1.8599999999999697,6.1999999999999122,6,6,15.235211934888556,4.9999999995748405,621,0,0,0,0,0,0,0,2.952552112017102E-100,1.5440483402582303E-30,1.0420852451273781E-175,0,0,0,0,0,0,0,0,0,0,null,null,null,null,15.384302871023349,9.9925399933033388E-3,0]
[null,null,null,null,null,null,null,null,null,null,null,null,null,null,null,null,null,null,null,null,null,null,null,null,null,null,null,null,null,null,null,null,null,1.8839999999999688,6.2799999999999105,6,6,15.139258968973191,4.9999999999999947,629,0,0,0,0,0,0,0,6.4464334813670052E-109,2.3731912066910982E-25,1.9320001161397569E-161,0,0,0,0,0,0,0,0,0,0,null,null,null,null,15.34650837466862,9.9925399933033388E-3,0]
[null,null,null,null,null,null,null,null,null,null,null,null,null,null,null,null,null,null,null,null,null,null,null,null,null,null,null,null,null,null,null,null,null,1.9079999999999679,6.3599999999999088,6,6,15.07574014052422,5,637,0,0,0,0,0,0,0,6.1580230859257589E-118,1.200945963904568E-20,8.9160017227629649E-148,0,0,0,0,0,0,0,0,0,0,null,null,null,null,15.310964068923477,9.9925399933033388E-3,0]
[null,null,null,null,null,null,null,null,null,null,null,null,null,null,null,null,null,null,null,null,null,null,null,null,null,null,null,null,null,null,null,null,null,1.9379999999999669,6.4599999999999067,6.0000000000000009,6.0000000000000018,15.031333671694226,5,647,0,0,0,0,0,0,0,1.0227032657750169E-129,1.9110534720361446E-15,1.5173367942251536E-131,0,0,0,0,0,0,0,0,0,0,null,null,null,null,15.269824851781172,9.9925399933033388E-3,0]
[null,null,null,null,null,null,null,null,null,null,null,null,null,null,null,null,null,null,null,null,null,null,null,null,null,null,null,null,null,null,null,null,null,1.9439999999999666,6.4799999999999063,6.0000000000000231,6.0000000000000169,15.025836603144253,5,649,0,0,0,0,0,0,0,3.8592133188746718E-132,1.7027759473237096E-14,2.0607506167971863E-128,0,0,0,0,0,0,0,0,0,0,null,null,null,null,15.262043332347043,9.9925399933033388E-3,0]
[null,null,null,null,null,null,null,null,null,null,null,null,null,null,null,null,null,null,null,null,null,null,null,null,null,null,null,null,null,null,null,null,null,1.9679999999999658,6.5599999999999046,6.0000000014359207,6.000000000053598,15.011301809055638,5,657,0,0,0,0,0,0,0,4.6678863567710565E-142,5.359761816194846E-11,2.9399244449735019E-116,0,0,0,0,0,0,0,0,0,0,null,null,null,null,15.232413049829331,9.9925399933033388E-3,0]
[null,null,null,null,null,null,null,null,null,null,null,null,null,null,null,null,null,null,null,null,null,null,null,null,null,null,null,null,null,null,null,null,null,1.9829999999999652,6.6099999999999035,6.0000004629815669,6.000000004681425,15.006442840864615,5,662,0,0,0,0,0,0,0,1.9429156793960067E-148,4.681424739725102E-9,5.7291690199797137E-109,0,0,0,0,0,0,0,0,0,0,null,null,null,null,15.215105913935835,9.9925399933033388E-3,0]
[null,null,null,null,null,null,null,null,null,null,null,null,null,null,null,null,null,null,null,null,null,null,null,null,null,null,null,null,null,null,null,null,null,2.0129999999999653,6.7099999999999014,6.003633617710749,6.000009714839198,15.001884177579251,5,672,0,0,0,0,0,0,0,1.2776680557749995E-161,9.7148391981155893E-6,4.2644135710642971E-95,0,0,0,0,0,0,0,0,0,0,null,null,null,null,15.183248805269875,9.9925399933033388E-3,0]
[null,null,null,null,null,null,null,null,null,null,null,null,null,null,null,null,null,null,null,null,null,null,null,null,null,null,null,null,null,null,null,null,null,2.0399999999999663,6.7999999999998995,6.611580460812144,6.0021292312614838,15.000551873660497,5,681,0,0,0,0,0,0,0,5.7940732281762519E-174,2.1292312614833941E-3,2.0305931956677199E-83,0,0,0,0,0,0,0,0,0,0,null,null,null,null,15.157637997353673,9.9925399933033388E-3,0]
[null,null,null,null,null,null,null,null,null,null,null,null,null,null,null,null,null,null,null,null,null,null,null,null,null,null,null,null,null,null,null,null,null,2.0429999999999664,6.8099999999998992,6.9098998292772196,6.0035531739256482,15.000478059751469,5,682,0,0,0,0,0,0,0,2.3091089351206414E-175,3.5531739256479595E-3,3.6138434339797486E-82,0,0,0,0,0,0,0,0,0,0,null,null,null,null,15.154966126900772,9.9925399933033388E-3,0]
[null,null,null,null,null,null,null,null,null,null,null,null,null,null,null,null,null,null,null,null,null,null,null,null,null,null,null,null,null,null,null,null,null,2.0669999999999673,6.8899999999998975,12.319894247021198,6.1143852188973993,15.000143933630179,5,690,0,0,0,0,0,0,0,9.229759545259172E-187,0.11438521889739924,1.6635039152007965E-72,0,0,0,0,0,0,0,0,0,0,null,null,null,null,15.134801335495291,9.9925399933033388E-3,0]
[null,null,null,null,null,null,null,null,null,null,null,null,null,null,null,null,null,null,null,null,null,null,null,null,null,null,null,null,null,null,null,null,null,2.0999999999999686,6.9999999999998952,8.4809784221705016,8.2066310056729925,15.000023760710565,5,701,0,0,0,0,0,0,0,5.0864080029066825E-203,2.2066310056729921,3.3235444868280388E-60,0,0,0,0,0,0,0,0,0,0,null,null,null,null,15.110436154291595,9.9925399933033388E-3,0]
[null,null,null,null,null,null,null,null,null,null,null,null,null,null,null,null,null,null,null,null,null,null,null,null,null,null,null,null,null,null,null,null,null,2.1029999999999687,7.009999999999895,7.8532701555786772,8.6022439329887206,15.0000199971104,5,702,0,0,0,0,0,0,0,1.5656118371654846E-204,2.6022439329887206,3.830155180385691E-59,0,0,0,0,0,0,0,0,0,0,null,null,null,null,15.108404799326678,9.9925399933033388E-3,0]
[null,null,null,null,null,null,null,null,null,null,null,null,null,null,null,null,null,null,null,null,null,null,null,null,null,null,null,null,null,null,null,null,null,2.1269999999999696,7.0899999999998933,6.0519829672239194,11.210731471296114,15.000004777039724,5,710,0,0,0,0,0,0,0,7.9237313690418113E-217,5.2107314712961132,5.4502773049929382E-51,0,0,0,0,0,0,0,0,0,0,null,null,null,null,15.093195908666084,9.9925399933033388E-3,0]
[null,null,null,null,null,null,null,null,null,null,null,null,null,null,null,null,null,null,null,null,null,null,null,null,null,null,null,null,null,null,null,null,null,2.1629999999999709,7.2099999999998907,6.0000039120026987,7.8389615994877824,15.000000471768423,5,722,0,0,0,0,0,0,0,6.0558202577427817E-236,1.8389615994877822,6.8207596304326261E-40,0,0,0,0,0,0,0,0,0,0,null,null,null,null,15.07363555150174,9.9925399933033388E-3,0]
[null,null,null,null,null,null,null,null,null,null,null,null,null,null,null,null,null,null,null,null,null,null,null,null,null,null,null,null,null,null,null,null,null,2.1749999999999714,7.2499999999998899,6.0000000548470229,6.7456873331139331,15.000000212219842,5,726,0,0,0,0,0,0,0,1.6998893662624662E-242,0.74568733311393276,1.7021598427708288E-36,0,0,0,0,0,0,0,0,0,0,null,null,null,null,15.067914518663827,9.9925399933033388E-3,0]
[null,null,null,null,null,null,null,null,null,null,null,null,null,null,null,null,null,null,null,null,null,null,null,null,null,null,null,null,null,null,null,null,null,2.1989999999999723,7.3299999999998882,6.0000000000020632,6.0532922615368294,15.000000055159511,5,734,0,0,0,0,0,0,0,7.2055298771798011E-256,5.3292261536829338E-2,3.7357676087333059E-30,0,0,0,0,0,0,0,0,0,0,null,null,null,null,15.057567857906921,9.9925399933033388E-3,0]
[null,null,null,null,null,null,null,null,null,null,null,null,null,null,null,null,null,null,null,null,null,null,null,null,null,null,null,null,null,null,null,null,null,2.2229999999999732,7.4099999999998865,6,6.001253979492442,15.000000056375006,5,742,0,0,0,0,0,0,0,1.3363218278069048E-269,1.2539794924417923E-3,2.0408846443782116E-24,0,0,0,0,0,0,0,0,0,0,null,null,null,null,15.048568409418786,9.9925399933033388E-3,0]
[null,null,null,null,null,null,null,null,null,null,null,null,null,null,null,null,null,null,null,null,null,null,null,null,null,null,null,null,null,null,null,null,null,2.2259999999999733,7.4199999999998862,6,6.0007258038492566,15.00000006186977,5,743,0,0,0,0,0,0,0,2.4221414861805768E-271,7.2580384925639819E-4,9.6501416643909748E-24,0,0,0,0,0,0,0,0,0,0,null,null,null,null,15.047531543169166,9.9925399933033388E-3,0]
[null,null,null,null,null,null,null,null,null,null,null,null,null,null,null,null,null,null,null,null,null,null,null,null,null,null,null,null,null,null,null,null,null,2.2619999999999747,7.5399999999998837,6,6.000000264936272,15.000000249413134,5,755,0,0,0,0,0,0,0,1.112063162313699E-292,2.6493627220577423E-7,2.2134182133393365E-16,0,0,0,0,0,0,0,0,0,0,null,null,null,null,15.036477716281857,9.9925399933033388E-3,0]
[null,null,null,null,null,null,null,null,null,null,null,null,null,null,null,null,null,null,null,null,null,null,null,null,null,null,null,null,null,null,null,null,null,2.2739999999999752,7.5799999999998828,6,6.0000000108644942,15.000000400774844,5,759,0,0,0,0,0,0,0,5.6746538285405433E-300,1.0864462754007341E-8,3.1376388695252324E-14,0,0,0,0,0,0,0,0,0,0,null,null,null,null,15.033318675920675,9.9925399933033388E-3,0]
[null,null,null,null,null,null,null,null,null,null,null,null,null,null,null,null,null,null,null,null,null,null,null,null,null,null,null,null,null,null,null,null,null,2.2979999999999761,7.6599999999998811,6,6.0000000002301324,15.000001011110641,5,767,0,0,0,0,0,0,0,0,7.9411079131447726E-12,2.2219088124590789E-10,0,0,0,0,0,0,0,0,0,0,null,null,null,null,15.027699708382787,{"$f":"$BJ$31*NORMDIST(BL768,$BJ$29,$BJ$30,FALSE)","v":9.9925399933033388E-3},{"$f":"$BJ$35*NORMDIST(AI768,$BJ$33,$BJ$34,FALSE)","v":0}]
[null,null,null,null,null,null,null,null,null,null,null,null,null,null,null,null,null,null,null,null,null,null,null,null,null,null,null,null,null,null,null,null,null,2.321999999999977,7.7399999999998794,6,6.0000003916594435,15.000002469155881,5,775,0,0,0,0,0,0,0,0,1.9110534720817691E-15,3.9165944174360402E-7,0,0,0,0,0,0,0,0,0,0,null,null,null,null,15.022920232990218,9.9925399933033388E-3,0]
[null,null,null,null,null,null,null,null,null,null,null,null,null,null,null,null,null,null,null,null,null,null,null,null,null,null,null,null,null,null,null,null,null,2.3459999999999779,7.8199999999998777,6,6.0001718502086545,15.000005835256454,5,783,0,0,0,0,0,0,0,0,1.5142008268303885E-19,1.7185020865441349E-4,0,0,0,0,0,0,0,0,0,0,null,null,null,null,15.01887640243182,9.9925399933033388E-3,0]
[null,null,null,null,null,null,null,null,null,null,null,null,null,null,null,null,null,null,null,null,null,null,null,null,null,null,null,null,null,null,null,null,null,2.3609999999999784,7.8699999999998766,6,6.0038006881520047,15.000009823628893,5,788,0,0,0,0,0,0,0,0,2.3550096704337895E-22,3.8006881520049702E-3,0,0,0,0,0,0,0,0,0,0,null,null,null,null,15.01667992412445,9.9925399933033388E-3,0]
[null,null,null,null,null,null,null,null,null,null,null,null,null,null,null,null,null,null,null,null,null,null,null,null,null,null,null,null,null,null,null,null,null,2.3819999999999792,7.9399999999998752,6,6.1164455938634106,15.000019935254397,5,795,0,0,0,0,0,0,0,0,1.330140062989879E-26,0.1164455938634107,0,0,0,0,0,0,0,0,0,0,null,null,null,null,15.013984202941547,9.9925399933033388E-3,0]
[null,null,null,null,null,null,null,null,null,null,null,null,null,null,null,null,null,null,null,null,null,null,null,null,null,null,null,null,null,null,null,null,null,2.4059999999999802,8.0199999999998735,6,7.5794731901291419,15.000043403616077,5,803,0,0,0,0,0,0,0,0,6.5554915425746567E-32,1.5794731901291419,1.8499763318584294E-289,0,0,0,0,0,0,0,0,0,null,null,null,null,15.011382268829632,9.9925399933033388E-3,8.6184573425789735E-289]
[null,null,null,null,null,null,null,null,null,null,null,null,null,null,null,null,null,null,null,null,null,null,null,null,null,null,null,null,null,null,null,null,null,2.4209999999999807,8.0699999999998724,6,9.9771023391163673,15.000069419777249,5,808,0,0,0,0,0,0,0,0,1.7969572971769013E-35,3.9771023391163682,3.630527869721118E-277,0,0,0,0,0,0,0,0,0,null,null,null,null,15.00998413644524,9.9925399933033388E-3,1.6913486425419858E-276]
[null,null,null,null,null,null,null,null,null,null,null,null,null,null,null,null,null,null,null,null,null,null,null,null,null,null,null,null,null,null,null,null,null,2.4359999999999813,8.1199999999998713,6,11.817104395969713,15.000109616729821,5,813,0,0,0,0,0,0,0,0,3.1915457313414707E-39,5.8171043959697126,3.8558328763578955E-265,0,0,0,0,0,0,0,0,0,null,null,null,null,15.008741659434081,9.9925399933033388E-3,1.7963111523497674E-264]
[null,null,null,null,null,null,null,null,null,null,null,null,null,null,null,null,null,null,null,null,null,null,null,null,null,null,null,null,null,null,null,null,null,2.4569999999999821,8.1899999999998698,6,9.9771023391298161,15.000203367215022,5,820,0,0,0,0,0,0,0,0,8.6421438365166833E-45,3.9771023391298157,9.435073865331156E-249,0,0,0,0,0,0,0,0,0,null,null,null,null,15.007235182247051,9.9925399933033388E-3,4.3955038900822556E-248]
[null,null,null,null,null,null,null,null,null,null,null,null,null,null,null,null,null,null,null,null,null,null,null,null,null,null,null,null,null,null,null,null,null,2.480999999999983,8.2699999999998681,6,6.6992631368504192,15.000399646174262,4.9999999999999938,828,0,0,0,0,0,0,0,0,1.3230490223077875E-51,0.69926313685041919,1.1604660205014312E-230,0,0,0,0,0,0,0,0,0,null,null,null,null,15.005803022404443,9.9925399933033388E-3,5.406245865403497E-230]
[null,null,null,null,null,null,null,null,null,null,null,null,null,null,null,null,null,null,null,null,null,null,null,null,null,null,null,null,null,null,null,null,null,2.5049999999999839,8.3499999999998664,6,6.0306036760279813,15.00076002410473,4.9999999998926929,836,0,0,0,0,0,0,0,0,6.6688243845422089E-59,3.060367602798118E-2,2.9640280031988502E-213,0,0,0,0,0,0,0,0,0,null,null,null,null,15.00463249957385,9.9925399933033388E-3,1.3808473366854782E-212]
[null,null,null,null,null,null,null,null,null,null,null,null,null,null,null,null,null,null,null,null,null,null,null,null,null,null,null,null,null,null,null,null,null,2.5229999999999846,8.4099999999998651,6,6.0011756744975768,15.001204603636063,4.9999999451702477,842,0,0,0,0,0,0,0,0,1.0821216022002616E-64,1.1756744975771286E-3,1.2004360042536431E-200,0,0,0,0,0,0,0,0,0,null,null,null,null,15.003900273932452,9.9925399933033388E-3,5.5924534368300781E-200]
[null,null,null,null,null,null,null,null,null,null,null,null,null,null,null,null,null,null,null,null,null,null,null,null,null,null,null,null,null,null,null,null,null,2.5409999999999853,8.4699999999998639,6,6.0000206577891326,15.001874343906882,4.999988628206407,848,0,0,0,0,0,0,0,0,9.3995537003406896E-71,2.0657789132516476E-5,2.0082245396748819E-188,0,0,0,0,0,0,0,0,0,null,null,null,null,15.003275105467456,9.9925399933033388E-3,9.355685924976881E-188]
[null,null,null,null,null,null,null,null,null,null,null,null,null,null,null,null,null,null,null,null,null,null,null,null,null,null,null,null,null,null,null,null,null,2.5649999999999862,8.5499999999998622,6,6.0000000279488885,15.00328392670346,4.9965660222418133,856,0,0,0,0,0,0,0,0,2.9469843206163754E-79,2.7948888239826386E-8,1.0080196977042445E-172,0,0,0,0,0,0,0,0,0,null,null,null,null,15.002583909817094,9.9925399933033388E-3,4.6960464388299026E-172]
[null,null,null,null,null,null,null,null,null,null,null,null,null,null,null,null,null,null,null,null,null,null,null,null,null,null,null,null,null,null,null,null,null,2.5799999999999867,8.5999999999998611,6,6.0000000002221912,15.004585384788607,4.9460149493400722,861,0,0,0,0,0,0,0,0,8.119644421986778E-85,2.2219088125179269E-10,2.9493598130451005E-163,0,0,0,0,0,0,0,0,0,null,null,null,null,15.002222783217109,9.9925399933033388E-3,1.3740138886593655E-162]
[null,null,null,null,null,null,null,null,null,null,null,null,null,null,null,null,null,null,null,null,null,null,null,null,null,null,null,null,null,null,null,null,null,2.5979999999999874,8.6599999999998598,6,6.0000000000003277,15.006729929731982,4.3556795062661449,867,0,0,0,0,0,0,0,0,9.7487451198131153E-92,3.2790892327974973E-13,3.0009130628931371E-152,0,0,0,0,0,0,0,0,0,null,null,null,null,15.001850917535846,9.9925399933033388E-3,1.3980309248254597E-151]
[null,null,null,null,null,null,null,null,null,null,null,null,null,null,null,null,null,null,null,null,null,null,null,null,null,null,null,null,null,null,null,null,null,2.6159999999999881,8.7199999999998585,6,6,15.009696914788087,1.8785498637883751,873,0,0,0,0,0,0,0,0,6.2656308133077707E-99,2.2134182134129244E-16,1.2612338451178942E-141,0,0,0,0,0,0,0,0,0,null,null,null,null,15.001537189779496,9.9925399933033388E-3,5.8756914377633525E-141]
[null,null,null,null,null,null,null,null,null,null,null,null,null,null,null,null,null,null,null,null,null,null,null,null,null,null,null,null,null,null,null,null,null,2.639999999999989,8.7999999999998568,6,6,15.015334454919003,-1.2938144897127088,881,0,0,0,0,0,0,0,0,6.102136977603554E-109,3.8817614746580204E-21,4.6581230785926475E-128,0,0,0,0,0,0,0,0,0,null,null,null,null,15.00119506960727,9.9925399933033388E-3,2.1700729008248504E-127]
[null,null,null,null,null,null,null,null,null,null,null,null,null,null,null,null,null,null,null,null,null,null,null,null,null,null,null,null,null,null,null,null,null,2.6639999999999899,8.8799999999998551,6,6,15.023467136253041,2.445299678035139,889,0,0,0,0,0,0,0,0,1.956671871237878E-119,1.6945457781171606E-26,3.5726383222363778E-115,0,0,0,0,0,0,0,0,0,null,null,null,null,15.000924730716182,9.9925399933033388E-3,1.6643797247787389E-114]
[null,null,null,null,null,null,null,null,null,null,null,null,null,null,null,null,null,null,null,null,null,null,null,null,null,null,null,null,null,null,null,null,null,2.6849999999999907,8.9499999999998536,6.0000000000001732,6,15.033148902704939,4.6883498401905399,896,0,0,0,0,0,0,0,0,5.1702824222161785E-129,1.1057435995916763E-31,1.8500949370784668E-104,0,0,0,0,0,0,0,0,0,null,null,null,null,15.000736009108021,9.9925399933033388E-3,8.619009886961243E-104]
[null,null,null,null,null,null,null,null,null,null,null,null,null,null,null,null,null,null,null,null,null,null,null,null,null,null,null,null,null,null,null,null,null,2.6999999999999913,8.9999999999998526,6.0000000000659401,6,15.04177746414303,4.967286092909279,901,0,0,0,0,0,0,0,0,4.4250686352754183E-136,1.1394644959265541E-35,3.9830095546260168E-97,0,0,0,0,0,0,0,0,0,null,null,null,null,15.000623902315249,9.9925399933033388E-3,1.8555587631299345E-96]
[null,null,null,null,null,null,null,null,null,null,null,null,null,null,null,null,null,null,null,null,null,null,null,null,null,null,null,null,null,null,null,null,null,2.7149999999999919,9.0499999999998515,6.0000000133961491,6,15.051981800335888,4.9981640066398079,906,0,0,0,0,0,0,0,0,2.4538983896737356E-143,6.8207596307862234E-40,4.6405932714744041E-90,0,0,0,0,0,0,0,0,0,null,null,null,null,15.000527900061083,9.9925399933033388E-3,2.1619063155410025E-89]
[null,null,null,null,null,null,null,null,null,null,null,null,null,null,null,null,null,null,null,null,null,null,null,null,null,null,null,null,null,null,null,null,null,2.7389999999999928,9.1299999999998498,6.0000179430841358,6,15.071801522992207,4.999995023933705,914,0,0,0,0,0,0,0,0,2.4442137557866332E-155,3.8595962373485535E-47,2.6188473999713173E-79,0,0,0,0,0,0,0,0,0,null,null,null,null,15.00040251998295,9.9925399933033388E-3,1.2200385602070433E-78]
[null,null,null,null,null,null,null,null,null,null,null,null,null,null,null,null,null,null,null,null,null,null,null,null,null,null,null,null,null,null,null,null,null,2.7629999999999937,9.2099999999998481,6.004838187526893,6,15.095978284668483,4.9999999972850011,922,0,0,0,0,0,0,0,0,8.0156859062467179E-168,5.4363836531239389E-55,3.0690900396054477E-69,0,0,0,0,0,0,0,0,0,null,null,null,null,15.000305477724906,9.9925399933033388E-3,1.4297924320092183E-68]
[null,null,null,null,null,null,null,null,null,null,null,null,null,null,null,null,null,null,null,null,null,null,null,null,null,null,null,null,null,null,null,null,null,2.7839999999999945,9.2799999999998466,6.1740102057126762,6,15.120440812127235,4.9999999999989821,929,0,0,0,0,0,0,0,0,3.8413310038210216E-179,2.3445636054295154E-62,5.4616110427568271E-61,0,0,0,0,0,0,0,0,0,null,null,null,null,15.000239040352239,9.9925399933033388E-3,2.5443926488763371E-60]
[null,null,null,null,null,null,null,null,null,null,null,null,null,null,null,null,null,null,null,null,null,null,null,null,null,null,null,null,null,null,null,null,null,2.798999999999995,9.3299999999998455,7.0607536123067769,6,15.139484621753573,4.9999999999999982,934,0,0,0,0,0,0,0,0,1.8749551649886423E-187,6.6999758103149876E-68,2.0436849250564191E-55,0,0,0,0,0,0,0,0,0,null,null,null,null,15.000200187009142,9.9925399933033388E-3,9.5208846972526196E-55]
[null,null,null,null,null,null,null,null,null,null,null,null,null,null,null,null,null,null,null,null,null,null,null,null,null,null,null,null,null,null,null,null,null,2.822999999999996,9.4099999999998438,11.200814270101905,6,15.171774276968417,5,942,0,0,0,0,0,0,0,0,3.8246318847966403E-201,2.9173544214477353E-77,4.7067404862404013E-47,0,0,0,0,0,0,0,0,0,null,null,null,null,15.000150147779586,9.9925399933033388E-3,2.1927222205325255E-46]
[null,null,null,null,null,null,null,null,null,null,null,null,null,null,null,null,null,null,null,null,null,null,null,null,null,null,null,null,null,null,null,null,null,2.8379999999999965,9.4599999999998428,12.224472854507704,6,15.19241779168634,5,947,0,0,0,0,0,0,0,0,6.0405840070491907E-210,2.0305931958199095E-83,3.5686994172541479E-42,0,0,0,0,0,0,0,0,0,null,null,null,null,15.0001251434207,9.9925399933033388E-3,1.6625447129474407E-41]
[null,null,null,null,null,null,null,null,null,null,null,null,null,null,null,null,null,null,null,null,null,null,null,null,null,null,null,null,null,null,null,null,null,2.8589999999999973,9.5299999999998413,8.7958250937781006,6,15.220749733677767,5,954,0,0,0,0,0,0,0,0,1.3878282000247788E-222,1.9542221584998363E-92,8.6344539527170144E-36,0,0,0,0,0,0,0,0,0,null,null,null,null,15.000096674434333,9.9925399933033388E-3,4.0225202769593434E-35]
[null,null,null,null,null,null,null,null,null,null,null,null,null,null,null,null,null,null,null,null,null,null,null,null,null,null,null,null,null,null,null,null,null,2.8739999999999979,9.5799999999998402,6.744591268578878,6,15.239791877145217,4.9999999999999059,959,0,0,0,0,0,0,0,0,7.7356883120829448E-232,3.6932870828785501E-99,1.4998650056746673E-31,0,0,0,0,0,0,0,0,0,null,null,null,null,15.000080220403627,{"$f":"$BJ$31*NORMDIST(BL960,$BJ$29,$BJ$30,FALSE)","v":9.9925399933033388E-3},{"$f":"$BJ$35*NORMDIST(AI960,$BJ$33,$BJ$34,FALSE)","v":6.9873988917731198E-31}]
[null,null,null,null,null,null,null,null,null,null,null,null,null,null,null,null,null,null,null,null,null,null,null,null,null,null,null,null,null,null,null,null,null,2.8979999999999988,9.6599999999998385,6.024376075766261,6,15.266536615527135,4.9999999992086748,967,0,0,0,0,0,0,0,0,4.9016723287006812E-247,2.0845566167011667E-110,2.5416578003890071E-25,0,0,0,0,0,0,0,0,0,null,null,null,null,15.000059290009142,9.9925399933033388E-3,1.1840783557528276E-24]
[null,null,null,null,null,null,null,null,null,null,null,null,null,null,null,null,null,null,null,null,null,null,null,null,null,null,null,null,null,null,null,null,null,2.9219999999999997,9.7399999999998368,6.0001606490388539,6,15.2867056861166,4.9999985303642811,975,0,0,0,0,0,0,0,0,1.0226063557709769E-262,2.9286900868577105E-122,8.9442665705622313E-20,0,0,0,0,0,0,0,0,0,null,null,null,null,15.000043614867787,9.9925399933033388E-3,4.1668522224610149E-19]
[null,null,null,null,null,null,null,null,null,null,null,null,null,null,null,null,null,null,null,null,null,null,null,null,null,null,null,null,null,null,null,null,null,2.9460000000000006,9.8199999999998351,6.0000002131380361,6.0000000000000062,15.29845082299661,4.9993942497999964,983,0,0,0,0,0,0,0,0,7.0241147582060632E-279,1.0242175976608955E-134,6.5363476071551998E-15,0,0,0,0,0,0,0,0,0,null,null,null,null,15.000031933312554,9.9925399933033388E-3,3.0450785806510617E-14]
[null,null,null,null,null,null,null,null,null,null,null,null,null,null,null,null,null,null,null,null,null,null,null,null,null,null,null,null,null,null,null,null,null,2.9580000000000011,9.8599999999998342,6.0000000042560142,6.0000000000009797,15.30078067481103,4.9930068734513773,987,0,0,0,0,0,0,0,0,3.8379802959762923E-287,3.5956201190588055E-141,9.800345227499712E-13,0,0,0,0,0,0,0,0,0,null,null,null,null,15.000027276102617,9.9925399933033388E-3,4.5656723186779317E-12]
[null,null,null,null,null,null,null,null,null,null,null,null,null,null,null,null,null,null,null,null,null,null,null,null,null,null,null,null,null,null,null,null,null,2.9940000000000024,9.9799999999998317,6.0000000002398703,6.0000003126109611,15.293100944087573,3.8750106773358497,999,0,0,0,0,0,0,0,0,0,1.9320001163411694E-161,3.1261096152751537E-7,0,0,0,0,0,0,0,0,0,null,null,null,null,15.000016878424296,9.9925399933033388E-3,1.4563560572912592E-6]
[null,null,null,null,null,null,null,null,null,null,null,null,null,null,null,null,null,null,null,null,null,null,null,null,null,null,null,null,null,null,null,null,null,2.9970000000000026,9.9899999999998315,6.0000000006854286,6.0000007661622661,15.291497371933094,3.5255743716007091,1000,0,0,0,0,0,0,0,0,0,3.4318016510649876E-163,7.6616226595958614E-7,0,0,0,0,0,0,0,0,0,null,null,null,null,15.000016208897497,9.9925399933033388E-3,3.5693088030121076E-6]
[null,null,null,null,null,null,null,null,null,null,null,null,null,null,null,null,null,null,null,null,null,null,null,null,null,null,null,null,null,null,null,null,null,3.0210000000000035,10.06999999999983,6.0000013066010363,6.0004119739530086,15.273881570212316,-0.50392449157923647,1008,0,0,0,0,0,0,0,0,0,1.5556993282934302E-177,4.1197395300885509E-4,0,0,0,0,0,0,0,0,0,null,null,null,null,15.000011694362147,9.9925399933033388E-3,1.9192569543274366E-3]
[null,null,null,null,null,null,null,null,null,null,null,null,null,null,null,null,null,null,null,null,null,null,null,null,null,null,null,null,null,null,null,null,null,3.0540000000000047,10.179999999999827,6.0036216520562506,6.1797860532903517,15.23827888301104,2.117593324947737,1019,0,0,0,0,0,0,0,0,0,3.0433941127717201E-198,0.17978605329035185,0,0,0,0,0,0,0,0,0,null,null,null,null,15.000007407921698,9.9925399933033388E-3,0.83756662417241268]
[null,null,null,null,null,null,null,null,null,null,null,null,null,null,null,null,null,null,null,null,null,null,null,null,null,null,null,null,null,null,null,null,null,3.0570000000000048,10.189999999999827,6.006465382394353,6.2696177094349679,15.234559286143872,2.6399223163823531,1020,0,0,0,0,0,0,0,0,0,3.5005935939284538E-200,0.2696177094349676,0,0,0,0,0,0,0,0,0,null,null,null,null,15.000007103613504,9.9925399933033388E-3,1.2560640304164403]
[null,null,null,null,null,null,null,null,null,null,null,null,null,null,null,null,null,null,null,null,null,null,null,null,null,null,null,null,null,null,null,null,null,3.0810000000000057,10.269999999999825,6.2859881157002935,8.8490776753954385,15.20303969019251,4.7955681884287173,1028,0,0,0,0,0,0,0,0,0,4.9056088237809035E-216,2.8490776753954381,0,0,0,0,0,0,0,0,0,null,null,null,null,15.000005065161629,9.9925399933033388E-3,13.272955976913931]
[null,null,null,null,null,null,null,null,null,null,null,null,null,null,null,null,null,null,null,null,null,null,null,null,null,null,null,null,null,null,null,null,null,3.1080000000000068,10.359999999999824,9.3601631811151975,12.175751480920731,15.165983348777457,4.9978426886940674,1037,0,0,0,0,0,0,0,0,0,1.3603946756727916E-234,6.1757514809207308,0,0,0,0,0,0,0,0,0,null,null,null,null,15.000003442736327,9.9925399933033388E-3,28.770881972968592]
[null,null,null,null,null,null,null,null,null,null,null,null,null,null,null,null,null,null,null,null,null,null,null,null,null,null,null,null,null,null,null,null,null,3.1170000000000071,10.389999999999823,11.00216575222278,11.136807115100286,15.153777574404026,4.9996901430922112,1040,0,0,0,0,0,0,0,0,0,5.9997139761854742E-241,5.1368071151002859,0,0,0,0,0,0,0,0,0,null,null,null,null,15.00000302296052,9.9925399933033388E-3,23.930767240721579]
[null,null,null,null,null,null,null,null,null,null,null,null,null,null,null,null,null,null,null,null,null,null,null,null,null,null,null,null,null,null,null,null,null,3.1530000000000085,10.50999999999982,8.9579000529247335,6.2696177094386938,15.108207146891896,4.9999999841222404,1052,0,0,0,0,0,0,0,0,0,3.2114498245304245E-267,0.26961770943869401,0,0,0,0,0,0,0,0,0,null,null,null,null,15.000001785144892,9.9925399933033388E-3,1.2560640304338004]
[null,null,null,null,null,null,null,null,null,null,null,null,null,null,null,null,null,null,null,null,null,null,null,null,null,null,null,null,null,null,null,null,null,3.1770000000000094,10.589999999999819,6.3174339678332476,6.0052985286855423,15.082197607640234,4.9999999999966631,1060,0,0,0,0,0,0,0,0,0,1.7277811761827634E-285,5.2985286855420028E-3,0,0,0,0,0,0,0,0,0,null,null,null,null,15.000001249145217,9.9925399933033388E-3,2.4684177126147875E-2]
[null,null,null,null,null,null,null,null,null,null,null,null,null,null,null,null,null,null,null,null,null,null,null,null,null,null,null,null,null,null,null,null,null,3.1830000000000096,10.609999999999818,6.1436048672199117,6.0015518328405726,15.076353250889358,4.999999999999682,1062,0,0,0,0,0,0,0,0,0,3.7654758872853076E-290,1.5518328405725967E-3,0,0,0,0,0,0,0,0,0,null,null,null,null,15.00000114163816,9.9925399933033388E-3,7.2295006746667763E-3]
[null,null,null,null,null,null,null,null,null,null,null,null,null,null,null,null,null,null,null,null,null,null,null,null,null,null,null,null,null,null,null,null,null,3.2130000000000107,10.709999999999816,6.0006634950522475,6.0000007661622661,15.051270560053576,5,1072,0,0,0,0,0,0,0,0,0,0,7.6616226598341286E-7,0,0,0,0,0,0,0,0,0,null,null,null,null,15.000000724753477,9.9925399933033388E-3,3.5693088031231088E-6]
[null,null,null,null,null,null,null,null,null,null,null,null,null,null,null,null,null,null,null,null,null,null,null,null,null,null,null,null,null,null,null,null,null,3.2370000000000116,10.789999999999814,6.0000016522667909,6.0000000002958931,15.036052358262143,5,1080,0,0,0,0,0,0,0,0,0,0,2.9589287599160559E-10,0,0,0,0,0,0,0,0,0,null,null,null,null,15.000000501211106,9.9925399933033388E-3,1.3784717597683374E-9]
[null,null,null,null,null,null,null,null,null,null,null,null,null,null,null,null,null,null,null,null,null,null,null,null,null,null,null,null,null,null,null,null,null,3.2400000000000118,10.799999999999814,6.0000007024933435,6.0000000000991944,15.034434279352956,5,1081,0,0,0,0,0,0,0,0,0,0,9.9194660695119777E-11,0,0,0,0,0,0,0,0,0,null,null,null,null,15.000000478471188,9.9925399933033388E-3,4.621166968950753E-10]
[null,null,null,null,null,null,null,null,null,null,null,null,null,null,null,null,null,null,null,null,null,null,null,null,null,null,null,null,null,null,null,null,null,3.2760000000000131,10.919999999999812,6.0000000000039142,6,15.019376466361386,5,1093,0,0,0,0,0,0,0,0,0,0,2.9428599422895626E-17,0,0,0,0,0,0,0,0,0,null,null,null,null,15.000000272512464,9.9925399933033388E-3,1.3709858034955623E-16]
[null,null,null,null,null,null,null,null,null,null,null,null,null,null,null,null,null,null,null,null,null,null,null,null,null,null,null,null,null,null,null,null,null,3.2820000000000134,10.939999999999811,6.0000000000003748,6,15.017567966773973,5,1095,0,0,0,0,0,0,0,0,0,0,1.7040784248663596E-18,0,0,0,0,0,0,0,0,0,null,null,null,null,15.000000247853139,9.9925399933033388E-3,7.9387649237470269E-18]
[null,null,null,null,null,null,null,null,null,null,null,null,null,null,null,null,null,null,null,null,null,null,null,null,null,null,null,null,null,null,null,null,null,3.3120000000000145,11.039999999999809,6,6,15.010976785509044,5,1105,0,0,0,0,0,0,0,0,0,0,2.5416578005405086E-25,0,0,0,0,0,0,0,0,0,null,null,null,null,15.000000153574383,9.9925399933033388E-3,1.1840783558234074E-24]
[null,null,null,null,null,null,null,null,null,null,null,null,null,null,null,null,null,null,null,null,null,null,null,null,null,null,null,null,null,null,null,null,null,3.3360000000000154,11.119999999999807,6,6,15.008160776451971,5,1113,0,0,0,0,0,0,0,0,0,0,1.4998650057744397E-31,0,0,0,0,0,0,0,0,0,null,null,null,null,15.000000104164366,9.9925399933033388E-3,6.9873988922379287E-31]
[null,null,null,null,null,null,null,null,null,null,null,null,null,null,null,null,null,null,null,null,null,null,null,null,null,null,null,null,null,null,null,null,null,3.3600000000000163,11.199999999999806,6,6,15.007089639290024,5,1121,0,0,0,0,0,0,0,0,0,0,1.8380190853220092E-38,0,0,0,0,0,0,0,0,0,null,null,null,null,15.000000070319528,9.9925399933033388E-3,8.5627522952039548E-38]
[null,null,null,null,null,null,null,null,null,null,null,null,null,null,null,null,null,null,null,null,null,null,null,null,null,null,null,null,null,null,null,null,null,3.3690000000000166,11.229999999999805,6,6,15.007082671677152,5,1124,0,0,0,0,0,0,0,0,0,0,3.1366733364428449E-41,0,0,0,0,0,0,0,0,0,null,null,null,null,15.000000060611894,9.9925399933033388E-3,1.4612773624287786E-40]
[null,null,null,null,null,null,null,null,null,null,null,null,null,null,null,null,null,null,null,null,null,null,null,null,null,null,null,null,null,null,null,null,null,3.3960000000000177,11.319999999999803,6,6,15.008260723934372,5,1133,0,0,0,0,0,0,0,0,0,0,4.1385855703656929E-50,0,0,0,0,0,0,0,0,0,null,null,null,null,15.000000038661552,9.9925399933033388E-3,1.9280367312039282E-49]
[null,null,null,null,null,null,null,null,null,null,null,null,null,null,null,null,null,null,null,null,null,null,null,null,null,null,null,null,null,null,null,null,null,3.4110000000000182,11.369999999999802,6,6,15.009687736449683,5,1138,0,0,0,0,0,0,0,0,0,0,2.0436849252364826E-55,0,0,0,0,0,0,0,0,0,null,null,null,null,15.000000030038178,9.9925399933033388E-3,9.5208846980914797E-55]
[null,null,null,null,null,null,null,null,null,null,null,null,null,null,null,null,null,null,null,null,null,null,null,null,null,null,null,null,null,null,null,null,null,3.4350000000000191,11.4499999999998,6,6,15.013193257000051,5,1146,0,0,0,0,0,0,0,0,0,0,1.8427668011928272E-64,0,0,0,0,0,0,0,0,0,null,null,null,null,15.000000019982233,9.9925399933033388E-3,8.5848704088266432E-64]
[null,null,null,null,null,null,null,null,null,null,null,null,null,null,null,null,null,null,null,null,null,null,null,null,null,null,null,null,null,null,null,null,null,3.4440000000000195,11.4799999999998,6,6,15.014930452825933,5,1149,0,0,0,0,0,0,0,0,0,0,4.9845290081175722E-68,0,0,0,0,0,0,0,0,0,null,null,null,null,15.000000017128961,9.9925399933033388E-3,2.3221351478671912E-67]
[null,null,null,null,null,null,null,null,null,null,null,null,null,null,null,null,null,null,null,null,null,null,null,null,null,null,null,null,null,null,null,null,null,3.4710000000000205,11.569999999999798,6,6,15.021729810646049,5,1158,0,0,0,0,0,0,0,0,0,0,2.6188474002472366E-79,0,0,0,0,0,0,0,0,0,null,null,null,null,15.000000010746518,9.9925399933033388E-3,1.2200385603355854E-78]
[null,null,null,null,null,null,null,null,null,null,null,null,null,null,null,null,null,null,null,null,null,null,null,null,null,null,null,null,null,null,null,null,null,3.4950000000000214,11.649999999999796,6,6,15.030103662052506,5,1166,0,0,0,0,0,0,0,0,0,0,4.6405932719953837E-90,0,0,0,0,0,0,0,0,0,null,null,null,null,15.000000007065276,9.9925399933033388E-3,2.1619063157837104E-89]
[null,null,null,null,null,null,null,null,null,null,null,null,null,null,null,null,null,null,null,null,null,null,null,null,null,null,null,null,null,null,null,null,null,3.5190000000000223,11.729999999999794,6,6,15.041122865917467,5,1174,0,0,0,0,0,0,0,0,0,0,1.7076527790233515E-101,0,0,0,0,0,0,0,0,0,null,null,null,null,15.000000004623244,9.9925399933033388E-3,7.9554167145287826E-101]
[null,null,null,null,null,null,null,null,null,null,null,null,null,null,null,null,null,null,null,null,null,null,null,null,null,null,null,null,null,null,null,null,null,3.5310000000000228,11.769999999999794,6,6,15.047772831887174,5,1178,0,0,0,0,0,0,0,0,0,0,1.8168690718687507E-107,0,0,0,0,0,0,0,0,0,null,null,null,null,15.00000000373327,9.9925399933033388E-3,8.4642210407209496E-107]
[null,null,null,null,null,null,null,null,null,null,null,null,null,null,null,null,null,null,null,null,null,null,null,null,null,null,null,null,null,null,null,null,null,3.5550000000000237,11.849999999999792,6,6,15.063656045228726,5,1186,0,0,0,0,0,0,0,0,0,0,6.3269415206653292E-120,0,0,0,0,0,0,0,0,0,null,null,null,null,15.000000002425725,9.9925399933033388E-3,2.9475228772288268E-119]
[null,null,null,null,null,null,null,null,null,null,null,null,null,null,null,null,null,null,null,null,null,null,null,null,null,null,null,null,null,null,null,null,null,3.5700000000000243,11.899999999999791,6.0000000000001181,6,15.075499382069754,5,1191,0,0,0,0,0,0,0,0,0,0,4.6581230792164784E-128,0,0,0,0,0,0,0,0,0,null,null,null,null,15.000000001848306,9.9925399933033388E-3,2.1700729011154736E-127]
[null,null,null,null,null,null,null,null,null,null,null,null,null,null,null,null,null,null,null,null,null,null,null,null,null,null,null,null,null,null,null,null,null,3.5940000000000252,11.979999999999789,6.0000000006368079,6,15.097809612051673,5,1199,0,0,0,0,0,0,0,0,0,0,1.2612338452955491E-141,0,0,0,0,0,0,0,0,0,null,null,null,null,15.000000001191806,9.9925399933033388E-3,5.8756914385909905E-141]
[null,null,null,null,null,null,null,null,null,null,null,null,null,null,null,null,null,null,null,null,null,null,null,null,null,null,null,null,null,null,null,null,null,3.6060000000000256,12.019999999999788,6.0000000279941581,6,15.110604797236077,5,1203,0,0,0,0,0,0,0,0,0,0,1.1510626879308633E-148,0,0,0,0,0,0,0,0,0,null,null,null,null,15.000000000955334,9.9925399933033388E-3,5.3624386992025594E-148]
[null,null,null,null,null,null,null,null,null,null,null,null,null,null,null,null,null,null,null,null,null,null,null,null,null,null,null,null,null,null,null,null,null,3.6300000000000265,12.099999999999786,6.0000194632719461,6,15.13961249951727,5,1211,0,0,0,0,0,0,0,0,0,0,2.9493598134907183E-163,0,0,0,0,0,0,0,0,0,null,null,null,null,15.000000000611674,9.9925399933033388E-3,1.3740138888669649E-162]
[null,null,null,null,null,null,null,null,null,null,null,null,null,null,null,null,null,null,null,null,null,null,null,null,null,null,null,null,null,null,null,null,null,{"$f":"AH1219+$C$34","v":3.6540000000000274},{"$f":"AI1219+$B$34","v":12.179999999999785},6.0034626181845869,6,15.173219631012302,4.9999999999999902,1219,0,0,0,0,0,0,0,0,0,0,1.5693481169951262E-178,0,0,0,0,0,0,0,0,0,null,null,null,null,15.0000000003898,9.9925399933033388E-3,7.3110988335683031E-178]
[null,null,null,null,null,null,null,null,null,null,null,null,null,null,null,null,null,null,null,null,null,null,null,null,null,null,null,null,null,null,null,null,null,3.669000000000028,12.229999999999784,6.0441741344951998,6,15.196501731970743,4.9999999999968434,1224,0,0,0,0,0,0,0,0,0,0,2.0082245400009068E-188,0,0,0,0,0,0,0,0,0,null,null,null,null,15.000000000293431,9.9925399933033388E-3,9.3556859264957271E-188]
[null,null,null,null,null,null,null,null,null,null,null,null,null,null,null,null,null,null,null,null,null,null,null,null,null,null,null,null,null,null,null,null,null,3.6930000000000289,12.309999999999782,6.8578716462275731,6,15.237132349325819,4.9999999896720597,1232,0,0,0,0,0,0,0,0,0,0,8.3084167138879626E-205,0,0,0,0,0,0,0,0,0,null,null,null,null,15.000000000185571,9.9925399933033388E-3,3.8706297913055281E-204]
[null,null,null,null,null,null,null,null,null,null,null,null,null,null,null,null,null,null,null,null,null,null,null,null,null,null,null,null,null,null,null,null,null,3.7140000000000297,12.379999999999781,9.7588315715107345,6,15.275665923715863,4.9999959835965182,1239,0,0,0,0,0,0,0,0,0,0,1.0572072980690944E-219,0,0,0,0,0,0,0,0,0,null,null,null,null,15.000000000123796,9.9925399933033388E-3,4.9251959842743156E-219]
[null,null,null,null,null,null,null,null,null,null,null,null,null,null,null,null,null,null,null,null,null,null,null,null,null,null,null,null,null,null,null,null,null,3.7290000000000303,12.429999999999779,11.700058333735416,6,15.304555837142006,4.9998499519862349,1244,0,0,0,0,0,0,0,0,0,0,1.1604660207100121E-230,0,0,0,0,0,0,0,0,0,null,null,null,null,15.000000000092507,9.9925399933033388E-3,5.4062458663752098E-230]
[null,null,null,null,null,null,null,null,null,null,null,null,null,null,null,null,null,null,null,null,null,null,null,null,null,null,null,null,null,null,null,null,null,3.7530000000000312,12.509999999999778,9.666353617977947,6,15.352386914978959,4.9837410808463938,1252,0,0,0,0,0,0,0,0,0,0,9.4350738670913628E-249,0,0,0,0,0,0,0,0,0,null,null,null,null,15.000000000057819,9.9925399933033388E-3,4.3955038909022803E-248]
[null,null,null,null,null,null,null,null,null,null,null,null,null,null,null,null,null,null,null,null,null,null,null,null,null,null,null,null,null,null,null,null,null,3.7770000000000321,12.589999999999776,6.6034339132146052,6,15.401009624443777,4.5491901400413992,1260,0,0,0,0,0,0,0,0,0,0,1.5930189084606122E-267,0,0,0,0,0,0,0,0,0,null,null,null,null,15.000000000035968,9.9925399933033388E-3,7.4213735992489198E-267]
[null,null,null,null,null,null,null,null,null,null,null,null,null,null,null,null,null,null,null,null,null,null,null,null,null,null,null,null,null,null,null,null,null,3.7920000000000327,12.639999999999775,6.0977850108824949,6,15.431118482201279,3.2002902796183013,1265,0,0,0,0,0,0,0,0,0,0,1.3266045073671145E-279,0,0,0,0,0,0,0,0,0,null,null,null,null,15.00000000002667,9.9925399933033388E-3,6.180232773967948E-279]
[null,null,null,null,null,null,null,null,null,null,null,null,null,null,null,null,null,null,null,null,null,null,null,null,null,null,null,null,null,null,null,null,null,3.8130000000000335,12.709999999999773,6.0031282276373892,6,15.471992834149386,-0.11000819862039624,1272,0,0,0,0,0,0,0,0,0,0,5.8008218266368582E-297,0,0,0,0,0,0,0,0,0,null,null,null,null,15.000000000017494,9.9925399933033388E-3,2.7024202744555243E-296]
[null,null,null,null,null,null,null,null,null,null,null,null,null,null,null,null,null,null,null,null,null,null,null,null,null,null,null,null,null,null,null,null,null,3.828000000000034,12.759999999999772,6.0001412468324862,6,15.499698520115116,-0.68418818272257198,1277,0,0,0,0,0,0,0,0,0,0,0,0,0,0,0,0,0,0,0,0,null,null,null,null,15.000000000012914,9.9925399933033388E-3,0]
[null,null,null,null,null,null,null,null,null,null,null,null,null,null,null,null,null,null,null,null,null,null,null,null,null,null,null,null,null,null,null,null,null,3.852000000000035,12.839999999999771,6.0000003284732912,6,15.540269651425549,2.7731233408594975,1285,0,0,0,0,0,0,0,0,0,0,0,0,0,0,0,0,0,0,0,0,null,null,null,null,15.000000000007917,9.9925399933033388E-3,0]
[null,null,null,null,null,null,null,null,null,null,null,null,null,null,null,null,null,null,null,null,null,null,null,null,null,null,null,null,null,null,null,null,null,3.8850000000000362,12.949999999999768,6.0000000000084901,6,15.585837866671968,4.9336944170344186,1296,0,0,0,0,0,0,0,0,0,0,0,0,0,0,0,0,0,0,0,0,null,null,null,null,15.000000000004007,9.9925399933033388E-3,0]
[null,null,null,null,null,null,null,null,null,null,null,null,null,null,null,null,null,null,null,null,null,null,null,null,null,null,null,null,null,null,null,null,null,3.8880000000000363,12.959999999999768,6.0000000000028599,6,15.589278242388943,4.9576051282505418,1297,0,0,0,0,0,0,0,0,0,0,0,0,0,0,0,0,0,0,0,0,null,null,null,null,15.000000000003766,9.9925399933033388E-3,0]
[null,null,null,null,null,null,null,null,null,null,null,null,null,null,null,null,null,null,null,null,null,null,null,null,null,null,null,null,null,null,null,null,null,3.9120000000000372,13.039999999999766,6,6,15.612010276586366,4.9994498997698607,1305,0,0,0,0,0,0,0,0,0,0,0,0,0,0,0,0,0,0,0,0,null,null,null,null,15.000000000002281,9.9925399933033388E-3,0]
[null,null,null,null,null,null,null,null,null,null,null,null,null,null,null,null,null,null,null,null,null,null,null,null,null,null,null,null,null,null,null,null,null,3.9360000000000381,13.119999999999765,6,6,15.625575927636245,4.9999981735379979,1313,0,0,0,0,0,0,0,0,0,0,0,0,0,0,0,0,0,0,0,0,null,null,null,null,15.000000000001375,9.9925399933033388E-3,0]
[null,null,null,null,null,null,null,null,null,null,null,null,null,null,null,null,null,null,null,null,null,null,null,null,null,null,null,null,null,null,null,null,null,3.9540000000000388,13.179999999999763,6,6,15.629364247616881,4.9999999896720597,1319,0,0,0,0,0,0,0,0,0,0,0,0,0,0,0,0,0,0,0,0,null,null,null,null,15.000000000000938,9.9925399933033388E-3,0]
[null,null,null,null,null,null,null,null,null,null,null,null,null,null,null,null,null,null,null,null,null,null,null,null,null,null,null,null,null,null,null,null,null,3.9720000000000395,13.239999999999762,6,6,15.627573847324506,4.9999999999728706,1325,0,0,0,0,0,0,0,0,0,0,0,0,0,0,0,0,0,0,0,0,null,null,null,null,15.000000000000638,9.9925399933033388E-3,0]
[null,null,null,null,null,null,null,null,null,null,null,null,null,null,null,null,null,null,null,null,null,null,null,null,null,null,null,null,null,null,null,null,null,4.0080000000000409,13.35999999999976,6,6,15.607653392023273,5,1337,0,0,0,0,0,0,0,0,0,0,0,0,0,0,0,0,0,0,0,0,null,null,null,null,15.000000000000293,9.9925399933033388E-3,0]
[null,null,null,null,null,null,null,null,null,null,null,null,null,null,null,null,null,null,null,null,null,null,null,null,null,null,null,null,null,null,null,null,null,4.011000000000041,13.369999999999759,6,6,15.605056738018567,5,1338,0,0,0,0,0,0,0,0,0,0,0,0,0,0,0,0,0,0,0,0,null,null,null,null,15.000000000000275,9.9925399933033388E-3,0]
[null,null,null,null,null,null,null,null,null,null,null,null,null,null,null,null,null,null,null,null,null,null,null,null,null,null,null,null,null,null,null,null,null,4.0470000000000423,13.489999999999757,6,6,15.563887119657677,5,1350,0,0,0,0,0,0,0,0,0,0,0,0,0,0,0,0,0,0,0,0,null,null,null,null,15.000000000000124,9.9925399933033388E-3,0]
[null,null,null,null,null,null,null,null,null,null,null,null,null,null,null,null,null,null,null,null,null,null,null,null,null,null,null,null,null,null,null,null,null,4.0680000000000431,13.559999999999755,6,6,15.532461069538886,5,1357,0,0,0,0,0,0,0,0,0,0,0,0,0,0,0,0,0,0,0,0,null,null,null,null,15.000000000000078,9.9925399933033388E-3,0]
[null,null,null,null,null,null,null,null,null,null,null,null,null,null,null,null,null,null,null,null,null,null,null,null,null,null,null,null,null,null,null,null,null,4.0710000000000433,13.569999999999755,6,6,15.527602147776134,5,1358,0,0,0,0,0,0,0,0,0,0,0,0,0,0,0,0,0,0,0,0,null,null,null,null,15.000000000000073,9.9925399933033388E-3,0]
[null,null,null,null,null,null,null,null,null,null,null,null,null,null,null,null,null,null,null,null,null,null,null,null,null,null,null,null,null,null,null,null,null,4.1070000000000446,13.689999999999753,6,6,15.463748153135432,5,1370,0,0,0,0,0,0,0,0,0,0,0,0,0,0,0,0,0,0,0,0,null,null,null,null,15.000000000000032,9.9925399933033388E-3,0]
[null,null,null,null,null,null,null,null,null,null,null,null,null,null,null,null,null,null,null,null,null,null,null,null,null,null,null,null,null,null,null,null,null,4.116000000000045,13.719999999999752,6,6,15.44657981525897,5,1373,0,0,0,0,0,0,0,0,0,0,0,0,0,0,0,0,0,0,0,0,null,null,null,null,15.000000000000027,9.9925399933033388E-3,0]
[null,null,null,null,null,null,null,null,null,null,null,null,null,null,null,null,null,null,null,null,null,null,null,null,null,null,null,null,null,null,null,null,null,4.1310000000000455,13.769999999999751,6,6,15.417334342031898,5,1378,0,0,0,0,0,0,0,0,0,0,0,0,0,0,0,0,0,0,0,0,null,null,null,null,15.00000000000002,9.9925399933033388E-3,0]
[null,null,null,null,null,null,null,null,null,null,null,null,null,null,null,null,null,null,null,null,null,null,null,null,null,null,null,null,null,null,null,null,null,4.1670000000000469,13.889999999999748,6,6,15.346061500842227,5,1390,0,0,0,0,0,0,0,0,0,0,0,0,0,0,0,0,0,0,0,0,null,null,null,null,15.000000000000009,9.9925399933033388E-3,0]
[null,null,null,null,null,null,null,null,null,null,null,null,null,null,null,null,null,null,null,null,null,null,null,null,null,null,null,null,null,null,null,null,null,4.1910000000000478,13.969999999999747,6,6,15.299609402330567,5,1398,0,0,0,0,0,0,0,0,0,0,0,0,0,0,0,0,0,0,0,0,null,null,null,null,15.000000000000005,9.9925399933033388E-3,0]
[null,null,null,null,null,null,null,null,null,null,null,null,null,null,null,null,null,null,null,null,null,null,null,null,null,null,null,null,null,null,null,null,null,4.2090000000000485,14.029999999999745,6,6,15.266226434003666,5,1404,0,0,0,0,0,0,0,0,0,0,0,0,0,0,0,0,0,0,0,0,null,null,null,null,15.000000000000004,9.9925399933033388E-3,0]
[null,null,null,null,null,null,null,null,null,null,null,null,null,null,null,null,null,null,null,null,null,null,null,null,null,null,null,null,null,null,null,null,null,4.2270000000000492,14.089999999999744,6,6,15.234565409971651,5,1410,0,0,0,0,0,0,0,0,0,0,0,{"$f":"IF($C$96>0,$B$17*NORMDIST($AI1411,$C$96,$D$96/4,FALSE),0)","v":0},{"$f":"IF($C$97>0,$B$18*NORMDIST($AI1411,$C$97,$D$97/4,FALSE),0)","v":0},{"$f":"IF($C$98>0,$B$19*NORMDIST($AI1411,$C$98,$D$98/4,FALSE),0)","v":0},{"$f":"IF($C$99>0,$B$20*NORMDIST($AI1411,$C$99,$D$99/4,FALSE),0)","v":0},{"$f":"IF($C$100>0,$B$21*NORMDIST($AI1411,$C$100,$D$100/4,FALSE),0)","v":0},{"$f":"IF($C$101>0,$B$22*NORMDIST($AI1411,$C$101,$D$101/4,FALSE),0)","v":0},{"$f":"IF($C$102>0,$B$23*NORMDIST($AI1411,$C$102,$D$102/4,FALSE),0)","v":0},{"$f":"IF($C$103>0,$B$24*NORMDIST($AI1411,$C$103,$D$103/4,FALSE),0)","v":0},{"$f":"IF($C$104>0,$B$25*NORMDIST($AI1411,$C$104,$D$104/4,FALSE),0)","v":0},null,null,null,null,{"$f":"$N$32*$O$61*NORMDIST(AH1411,$BJ$26,$BJ$27,FALSE)+$M$32","v":15.000000000000002},9.9925399933033388E-3,0]
[null,null,null,null,null,null,null,null,null,null,null,null,null,null,null,null,null,null,null,null,null,null,null,null,null,null,null,null,null,null,null,null,null,4.2510000000000501,14.169999999999742,6,6,15.195592658702365,5,1418,0,0,0,0,0,0,0,0,0,0,0,0,0,0,0,0,0,0,0,0,null,null,null,null,15.000000000000002,9.9925399933033388E-3,0]
[null,null,null,null,null,null,null,null,null,null,null,null,null,null,null,null,null,null,null,null,null,null,null,null,null,null,null,null,null,null,null,null,null,4.2660000000000506,14.219999999999741,6,6,15.173341517778994,5,1423,0,0,0,0,0,0,0,0,0,0,0,0,0,0,0,0,0,0,0,0,null,null,null,null,15,9.9925399933033388E-3,0]
[null,null,null,null,null,null,null,null,null,null,null,null,null,null,null,null,null,null,null,null,null,null,null,null,null,null,null,null,null,null,null,null,null,4.2900000000000515,14.29999999999974,6,6,15.141354971594504,5,1431,0,0,0,0,0,0,0,0,0,0,0,0,0,0,0,0,0,0,0,0,null,null,null,null,15,9.9925399933033388E-3,0]
[null,null,null,null,null,null,null,null,null,null,null,null,null,null,null,null,null,null,null,null,null,null,null,null,null,null,null,null,null,null,null,null,null,4.3080000000000522,14.359999999999738,6,6,15.120361942343076,5,1437,0,0,0,0,0,0,0,0,0,0,0,0,0,0,0,0,0,0,0,0,null,null,null,null,15,9.9925399933033388E-3,0]
[null,null,null,null,null,null,null,null,null,null,null,null,null,null,null,null,null,null,null,null,null,null,null,null,null,null,null,null,null,null,null,null,null,4.3260000000000529,14.419999999999737,6,6,15.10193392635775,5,1443,0,0,0,0,0,0,0,0,0,0,0,0,0,0,0,0,0,0,0,0,null,null,null,null,15,9.9925399933033388E-3,0]
[null,null,null,null,null,null,null,null,null,null,null,null,null,null,null,null,null,null,null,null,null,null,null,null,null,null,null,null,null,null,null,null,null,4.3500000000000538,14.499999999999735,6,6,15.081243882048636,5,1451,0,0,0,0,0,0,0,0,0,0,0,0,0,0,0,0,0,0,0,0,null,null,null,null,15,9.9925399933033388E-3,0]
[null,null,null,null,null,null,null,null,null,null,null,null,null,null,null,null,null,null,null,null,null,null,null,null,null,null,null,null,null,null,null,null,null,4.3740000000000547,14.579999999999734,6,6,15.064755107566015,5,1459,0,0,0,0,0,0,0,0,0,0,0,0,0,0,0,0,0,0,0,0,null,null,null,null,15,9.9925399933033388E-3,0]
[null,null,null,null,null,null,null,null,null,null,null,null,null,null,null,null,null,null,null,null,null,null,null,null,null,null,null,null,null,null,null,null,null,4.3770000000000548,14.589999999999733,6,6,15.062973611072723,5,1460,0,0,0,0,0,0,0,0,0,0,0,0,0,0,0,0,0,0,0,0,null,null,null,null,15,9.9925399933033388E-3,0]
[null,null,null,null,null,null,null,null,null,null,null,null,null,null,null,null,null,null,null,null,null,null,null,null,null,null,null,null,null,null,null,null,null,4.4100000000000561,14.699999999999731,6,6,15.047167151362673,5,1471,0,0,0,0,0,0,0,0,0,0,0,0,0,0,0,0,0,0,0,0,null,null,null,null,15,{"$f":"$BJ$31*NORMDIST(BL1472,$BJ$29,$BJ$30,FALSE)","v":9.9925399933033388E-3},{"$f":"$BJ$35*NORMDIST(AI1472,$BJ$33,$BJ$34,FALSE)","v":0}]
[null,null,null,null,null,null,null,null,null,null,null,null,null,null,null,null,null,null,null,null,null,null,null,null,null,null,null,null,null,null,null,null,null,4.4250000000000567,14.74999999999973,6,6,15.042112176073111,5,1476,0,0,0,0,0,0,0,0,0,0,0,0,0,0,0,0,0,0,0,0,null,null,null,null,15,9.9925399933033388E-3,0]
[null,null,null,null,null,null,null,null,null,null,null,null,null,null,null,null,null,null,null,null,null,null,null,null,null,null,null,null,null,null,null,null,null,4.4490000000000576,14.829999999999728,6,6,15.036488549728785,5,1484,0,0,0,0,0,0,0,0,0,0,0,0,0,0,0,0,0,0,0,0,null,null,null,null,15,9.9925399933033388E-3,0]
[null,null,null,null,null,null,null,null,null,null,null,null,null,null,null,null,null,null,null,null,null,null,null,null,null,null,null,null,null,null,null,null,null,4.4700000000000584,14.899999999999727,6,6,15.033814012948596,5,1491,0,0,0,0,0,0,0,0,0,0,0,0,0,0,0,0,0,0,0,0,null,null,null,null,15,9.9925399933033388E-3,0]
[null,null,null,null,null,null,null,null,null,null,null,null,null,null,null,null,null,null,null,null,null,null,null,null,null,null,null,null,null,null,null,null,null,4.4850000000000589,14.949999999999726,6,6,15.033059546996771,5,1496,0,0,0,0,0,0,0,0,0,0,0,0,0,0,0,0,0,0,0,0,null,null,null,null,15,9.9925399933033388E-3,0]
[null,null,null,null,null,null,null,null,null,null,null,null,null,null,null,null,null,null,null,null,null,null,null,null,null,null,null,null,null,null,null,null,null,4.5090000000000598,15.029999999999724,6,6,15.033658935633294,5,1504,0,0,0,0,0,0,0,0,0,0,0,0,0,0,0,0,0,0,0,0,null,null,null,null,15,9.9925399933033388E-3,0]
[null,null,null,null,null,null,null,null,null,null,null,null,null,null,null,null,null,null,null,null,null,null,null,null,null,null,null,null,null,null,null,null,null,4.5240000000000604,15.079999999999723,6,6,15.035064167507221,5,1509,0,0,0,0,0,0,0,0,0,0,0,0,0,0,0,0,0,0,0,0,null,null,null,null,15,9.9925399933033388E-3,0]
[null,null,null,null,null,null,null,null,null,null,null,null,null,null,null,null,null,null,null,null,null,null,null,null,null,null,null,null,null,null,null,null,null,4.539000000000061,15.129999999999722,6,6,15.037194575068343,5,1514,0,0,0,0,0,0,0,0,0,0,0,0,0,0,0,0,0,0,0,0,null,null,null,null,15,9.9925399933033388E-3,0]
[null,null,null,null,null,null,null,null,null,null,null,null,null,null,null,null,null,null,null,null,null,null,null,null,null,null,null,null,null,null,null,null,null,4.5690000000000621,15.22999999999972,6,6,15.043433039596618,5,1524,0,0,0,0,0,0,0,0,0,0,0,0,0,0,0,0,0,0,0,0,null,null,null,null,15,9.9925399933033388E-3,0]
[null,null,null,null,null,null,null,null,null,null,null,null,null,null,null,null,null,null,null,null,null,null,null,null,null,null,null,null,null,null,null,null,null,4.5840000000000627,15.279999999999719,6,6,15.047451105181858,5,1529,0,0,0,0,0,0,0,0,0,0,0,0,0,0,0,0,0,0,0,0,null,null,null,null,15,9.9925399933033388E-3,0]
[null,null,null,null,null,null,null,null,null,null,null,null,null,null,null,null,null,null,null,null,null,null,null,null,null,null,null,null,null,null,null,null,null,4.6080000000000636,15.359999999999717,{"$f":"IF($N$29=0,-1,$N$29*($B$32*NORMDIST($AI1538,$B$29,$B$33*$B$29,FALSE)+IF(C$62<>\"\",B$6*NORMDIST($AI1538,C$62,D$62/4,FALSE),0)+IF(C$63<>\"\",B$7*NORMDIST($AI1538,C$63,D$63/4,FALSE),0)+IF(C$64<>\"\",B$8*NORMDIST($AI1538,C$64,D$64/4,FALSE),0)+IF(C$65<>\"\",B$9*NORMDIST($AI1538,C$65,D$65/4,FALSE),0)+IF(C$66<>\"\",B$10*NORMDIST($AI1538,C$66,D$66/4,FALSE),0)+IF(C$67<>\"\",B$11*NORMDIST($AI1538,C$67,D$67/4,FALSE),0)+IF(C$68<>\"\",B$12*NORMDIST($AI1538,C$68,D$68/4,FALSE),0)+IF(C$69<>\"\",B$13*NORMDIST($AI1538,C$69,D$69/4,FALSE),0)+IF(C$70<>\"\",B$14*NORMDIST($AI1538,C$70,D$70/4,FALSE),0)+IF(C$71<>\"\",B$15*NORMDIST($AI1538,C$71,D$71/4,FALSE),0)+IF(C$72<>\"\",B$16*NORMDIST($AI1538,C$72,D$72/4,FALSE),0)+IF(C$73<>\"\",B$17*NORMDIST($AI1538,C$73,D$73/4,FALSE),0)+IF(C$74<>\"\",B$18*NORMDIST($AI1538,C$74,D$74/4,FALSE),0)+IF(C$75<>\"\",B$19*NORMDIST($AI1538,C$75,D$75/4,FALSE),0)+IF(C$76<>\"\",B$20*NORMDIST($AI1538,C$76,D$76/4,FALSE),0)+IF(C$77<>\"\",B$21*NORMDIST($AI1538,C$77,D$77/4,FALSE),0)+IF(C$78<>\"\",B$22*NORMDIST($AI1538,C$78,D$78/4,FALSE),0)+IF(C$79<>\"\",B$23*NORMDIST($AI1538,C$79,D$79/4,FALSE),0)+IF(C$80<>\"\",B$24*NORMDIST($AI1538,C$80,D$80/4,FALSE),0)+IF(C$81<>\"\",B$25*NORMDIST($AI1538,C$81,D$81/4,FALSE),0))+$M$29)","v":6},{"$f":"IF($N$30<>0,SUM(AO1538:BH1538)*$N$30+$M$30,-1)","v":6},{"$f":"IF($N$31=0,-1,$N$31*($B$32*NORMDIST($AH1538,$B$29,$B$33*$B$29,FALSE)+IF(G$62<>\"\",B$6*NORMDIST($AH1538,G$62,H$62/4,FALSE),0)+IF(G$63<>\"\",B$7*NORMDIST($AH1538,G$63,H$63/4,FALSE),0)+IF(G$64<>\"\",B$8*NORMDIST($AH1538,G$64,H$64/4,FALSE),0)+IF(G$65<>\"\",B$9*NORMDIST($AH1538,G$65,H$65/4,FALSE),0)+IF(G$66<>\"\",B$10*NORMDIST($AH1538,G$66,H$66/4,FALSE),0)+IF(G$67<>\"\",B$11*NORMDIST($AH1538,G$67,H$67/4,FALSE),0)+IF(G$68<>\"\",B$12*NORMDIST($AH1538,G$68,H$68/4,FALSE),0)+IF(G$69<>\"\",B$13*NORMDIST($AH1538,G$69,H$69/4,FALSE),0)+IF(G$70<>\"\",B$14*NORMDIST($AH1538,G$70,H$70/4,FALSE),0)+IF(G$71<>\"\",B$15*NORMDIST($AH1538,G$71,H$71/4,FALSE),0)+IF(G$72<>\"\",B$16*NORMDIST($AH1538,G$72,H$72/4,FALSE),0)+IF(G$73<>\"\",B$17*NORMDIST($AH1538,G$73,H$73/4,FALSE),0)+IF(G$74<>\"\",B$18*NORMDIST($AH1538,G$74,H$74/4,FALSE),0)+IF(G$75<>\"\",B$19*NORMDIST($AH1538,G$75,H$75/4,FALSE),0)+IF(G$76<>\"\",B$20*NORMDIST($AH1538,G$76,H$76/4,FALSE),0)+IF(G$77<>\"\",B$21*NORMDIST($AH1538,G$77,H$77/4,FALSE),0)+IF(G$78<>\"\",B$22*NORMDIST($AH1538,G$78,H$78/4,FALSE),0)+IF(G$79<>\"\",B$23*NORMDIST($AH1538,G$79,H$79/4,FALSE),0)+IF(G$80<>\"\",B$24*NORMDIST($AH1538,G$80,H$80/4,FALSE),0)+IF(G$81<>\"\",B$25*NORMDIST($AH1538,G$81,H$81/4,FALSE),0))+$M$31)","v":15.054992051384048},{"$f":"IF($N$33=0,-1,$N$33*($B$32*NORMDIST($AI1538,$B$29,$B$33*$B$29,FALSE)+IF(K$62<>\"\",B$6*NORMDIST($AI1538,K$62,L$62/4,FALSE),0)+IF(K$63<>\"\",B$7*NORMDIST($AI1538,K$63,L$63/4,FALSE),0)+IF(K$64<>\"\",B$8*NORMDIST($AI1538,K$64,L$64/4,FALSE),0)+IF(K$65<>\"\",B$9*NORMDIST($AI1538,K$65,L$65/4,FALSE),0)+IF(K$66<>\"\",B$10*NORMDIST($AI1538,K$66,L$66/4,FALSE),0)+IF(K$67<>\"\",B$11*NORMDIST($AI1538,K$67,L$67/4,FALSE),0)+IF(K$68<>\"\",B$12*NORMDIST($AI1538,K$68,L$68/4,FALSE),0)+IF(K$69<>\"\",B$13*NORMDIST($AI1538,K$69,L$69/4,FALSE),0)+IF(K$70<>\"\",B$14*NORMDIST($AI1538,K$70,L$70/4,FALSE),0)+IF(K$71<>\"\",B$15*NORMDIST($AI1538,K$71,L$71/4,FALSE),0)+IF(K$72<>\"\",B$16*NORMDIST($AI1538,K$72,L$72/4,FALSE),0)+IF(K$73<>\"\",B$17*NORMDIST($AI1538,K$73,L$73/4,FALSE),0)+IF(K$74<>\"\",B$18*NORMDIST($AI1538,K$74,L$74/4,FALSE),0)+IF(K$75<>\"\",B$19*NORMDIST($AI1538,K$75,L$75/4,FALSE),0)+IF(K$76<>\"\",B$20*NORMDIST($AI1538,K$76,L$76/4,FALSE),0)+IF(K$77<>\"\",B$21*NORMDIST($AI1538,K$77,L$77/4,FALSE),0)+IF(K$78<>\"\",B$22*NORMDIST($AI1538,K$78,L$78/4,FALSE),0)+IF(K$79<>\"\",B$23*NORMDIST($AI1538,K$79,L$79/4,FALSE),0)+IF(K$80<>\"\",B$24*NORMDIST($AI1538,K$80,L$80/4,FALSE),0)+IF(K$81<>\"\",B$25*NORMDIST($AI1538,K$81,L$81/4,FALSE),0))+$M$33)","v":5},1537,{"$f":"IF($C$85>0,$B$6*NORMDIST($AI1538,$C$85,$D$85/4,FALSE),0)","v":0},{"$f":"IF($C$86>0,$B$7*NORMDIST($AI1538,$C$86,$D$86/4,FALSE),0)","v":0},{"$f":"IF($C$87>0,$B$8*NORMDIST($AI1538,$C$87,$D$87/4,FALSE),0)","v":0},{"$f":"IF($C$88>0,$B$9*NORMDIST($AI1538,$C$88,$D$88/4,FALSE),0)","v":0},{"$f":"IF($C$89>0,$B$10*NORMDIST($AI1538,$C$89,$D$89/4,FALSE),0)","v":0},{"$f":"IF($C$90>0,$B$11*NORMDIST($AI1538,$C$90,$D$90/4,FALSE),0)","v":0},{"$f":"IF($C$91>0,$B$12*NORMDIST($AI1538,$C$91,$D$91/4,FALSE),0)","v":0},{"$f":"IF($C$92>0,$B$13*NORMDIST($AI1538,$C$92,$D$92/4,FALSE),0)","v":0},{"$f":"IF($C$93>0,$B$14*NORMDIST($AI1538,$C$93,$D$93/4,FALSE),0)","v":0},{"$f":"IF($C$94>0,$B$15*NORMDIST($AI1538,$C$94,$D$94/4,FALSE),0)","v":0},{"$f":"IF($C$95>0,$B$16*NORMDIST($AI1538,$C$95,$D$95/4,FALSE),0)","v":0},0,0,0,0,0,0,0,0,0,null,null,null,null,15,9.9925399933033388E-3,0]
[null,null,null,null,null,null,null,null,null,null,null,null,null,null,null,null,null,null,null,null,null,null,null,null,null,null,null,null,null,null,null,null,null,4.6320000000000645,15.439999999999715,6,6,15.0637525888807,5,1545,0,0,0,0,0,0,0,0,0,0,0,0,0,0,0,0,0,0,0,0,null,null,null,null,15,9.9925399933033388E-3,0]
[null,null,null,null,null,null,null,null,null,null,null,null,null,null,null,null,null,null,null,null,null,null,null,null,null,null,null,null,null,null,null,null,null,4.644000000000065,15.479999999999714,6,6,15.068534984356276,5,1549,0,0,0,0,0,0,0,0,0,0,0,0,0,0,0,0,0,0,0,0,null,null,null,null,15,9.9925399933033388E-3,0]
[null,null,null,null,null,null,null,null,null,null,null,null,null,null,null,null,null,null,null,null,null,null,null,null,null,null,null,null,null,null,null,null,null,4.6680000000000659,15.559999999999713,6,6,15.078784583414983,5,1557,0,0,0,0,0,0,0,0,0,0,0,0,0,0,0,0,0,0,0,0,null,null,null,null,15,9.9925399933033388E-3,0]
[null,null,null,null,null,null,null,null,null,null,null,null,null,null,null,null,null,null,null,null,null,null,null,null,null,null,null,null,null,null,null,null,null,4.6830000000000664,15.609999999999712,6,6,15.085579039433593,5,1562,0,0,0,0,0,0,0,0,0,0,0,0,0,0,0,0,0,0,0,0,null,null,null,null,15,9.9925399933033388E-3,0]
[null,null,null,null,null,null,null,null,null,null,null,null,null,null,null,null,null,null,null,null,null,null,null,null,null,null,null,null,null,null,null,null,null,4.7010000000000671,15.66999999999971,6,6,15.094033513816026,5,1568,0,0,0,0,0,0,0,0,0,0,0,0,0,0,0,0,0,0,0,0,null,null,null,null,15,9.9925399933033388E-3,0]
[null,null,null,null,null,null,null,null,null,null,null,null,null,null,null,null,null,null,null,null,null,null,null,null,null,null,null,null,null,null,null,null,null,4.7280000000000681,15.759999999999708,6,6,15.107108151223011,5,1577,0,0,0,0,0,0,0,0,0,0,0,0,0,0,0,0,0,0,0,0,null,null,null,null,15,9.9925399933033388E-3,0]
[null,null,null,null,null,null,null,null,null,null,null,null,null,null,null,null,null,null,null,null,null,null,null,null,null,null,null,null,null,null,null,null,null,4.7430000000000687,15.809999999999707,6,6,15.114449982642636,5,1582,0,0,0,0,0,0,0,0,0,0,0,0,0,0,0,0,0,0,0,0,null,null,null,null,15,9.9925399933033388E-3,0]
[null,null,null,null,null,null,null,null,null,null,null,null,null,null,null,null,null,null,null,null,null,null,null,null,null,null,null,null,null,null,null,null,null,4.7670000000000696,15.889999999999706,6,6,15.126091849547576,5,1590,0,0,0,0,0,0,0,0,0,0,0,0,0,0,0,0,0,0,0,0,null,null,null,null,15,9.9925399933033388E-3,0]
[null,null,null,null,null,null,null,null,null,null,null,null,null,null,null,null,null,null,null,null,null,null,null,null,null,null,null,null,null,null,null,null,null,4.7820000000000702,15.939999999999705,6,6,15.133183334976268,5,1595,0,0,0,0,0,0,0,0,0,0,0,0,0,0,0,0,0,0,0,0,null,null,null,null,15,9.9925399933033388E-3,0]
[null,null,null,null,null,null,null,null,null,null,null,null,null,null,null,null,null,null,null,null,null,null,null,null,null,null,null,null,null,null,null,null,null,4.8180000000000716,16.059999999999711,6,6,15.149091358217216,5,1607,0,0,0,0,0,0,0,0,0,0,0,0,0,0,0,0,0,0,0,0,null,null,null,null,15,9.9925399933033388E-3,0]
[null,null,null,null,null,null,null,null,null,null,null,null,null,null,null,null,null,null,null,null,null,null,null,null,null,null,null,null,null,null,null,null,null,4.8270000000000719,16.089999999999716,6,6,15.152729775137281,5,1610,0,0,0,0,0,0,0,0,0,0,0,0,0,0,0,0,0,0,0,0,null,null,null,null,15,9.9925399933033388E-3,0]
[null,null,null,null,null,null,null,null,null,null,null,null,null,null,null,null,null,null,null,null,null,null,null,null,null,null,null,null,null,null,null,null,null,4.8420000000000725,16.139999999999723,6,6,15.15841251664048,5,1615,0,0,0,0,0,0,0,0,0,0,0,0,0,0,0,0,0,0,0,0,null,null,null,null,15,9.9925399933033388E-3,0]
[null,null,null,null,null,null,null,null,null,null,null,null,null,null,null,null,null,null,null,null,null,null,null,null,null,null,null,null,null,null,null,null,null,4.8660000000000734,16.219999999999736,6,6,15.166358477923724,5,1623,0,0,0,0,0,0,0,0,0,0,0,0,0,0,0,0,0,0,0,0,null,null,null,null,15,9.9925399933033388E-3,0]
[null,null,null,null,null,null,null,null,null,null,null,null,null,null,null,null,null,null,null,null,null,null,null,null,null,null,null,null,null,null,null,null,null,4.8930000000000744,16.30999999999975,6,6,15.173330445926185,5,1632,0,0,0,0,0,0,0,0,0,0,0,0,0,0,0,0,0,0,0,0,null,null,null,null,15,9.9925399933033388E-3,0]
[null,null,null,null,null,null,null,null,null,null,null,null,null,null,null,null,null,null,null,null,null,null,null,null,null,null,null,null,null,null,null,null,null,4.9020000000000747,16.339999999999755,6,6,15.175140304082348,5,1635,0,0,0,0,0,0,0,0,0,0,0,0,0,0,0,0,0,0,0,0,null,null,null,null,15,9.9925399933033388E-3,0]
[null,null,null,null,null,null,null,null,null,null,null,null,null,null,null,null,null,null,null,null,null,null,null,null,null,null,null,null,null,null,null,null,null,4.9260000000000757,16.419999999999767,6,6,15.17861348950248,5,1643,0,0,0,0,0,0,0,0,0,0,0,0,0,0,0,0,0,0,0,0,null,null,null,null,15,9.9925399933033388E-3,0]
[null,null,null,null,null,null,null,null,null,null,null,null,null,null,null,null,null,null,null,null,null,null,null,null,null,null,null,null,null,null,null,null,null,4.962000000000077,16.539999999999786,6,6,15.179950877472503,5,1655,0,0,0,0,0,0,0,0,0,0,0,0,0,0,0,0,0,0,0,0,null,null,null,null,15,9.9925399933033388E-3,0]
[null,null,null,null,null,null,null,null,null,null,null,null,null,null,null,null,null,null,null,null,null,null,null,null,null,null,null,null,null,null,null,null,null,4.9800000000000777,16.599999999999795,6,6,15.178844091091216,5,1661,0,0,0,0,0,0,0,0,0,0,0,0,0,0,0,0,0,0,0,0,null,null,null,null,15,9.9925399933033388E-3,0]
[null,null,null,null,null,null,null,null,null,null,null,null,null,null,null,null,null,null,null,null,null,null,null,null,null,null,null,null,null,null,null,null,null,4.9860000000000779,16.619999999999798,6,6,15.178215105249572,5,1663,0,0,0,0,0,0,0,0,0,0,0,0,0,0,0,0,0,0,0,0,null,null,null,null,15,{"$f":"$BJ$31*NORMDIST(BL1664,$BJ$29,$BJ$30,FALSE)","v":9.9925399933033388E-3},{"$f":"$BJ$35*NORMDIST(AI1664,$BJ$33,$BJ$34,FALSE)","v":0}]
[null,null,null,null,null,null,null,null,null,null,null,null,null,null,null,null,null,null,null,null,null,null,null,null,null,null,null,null,null,null,null,null,null,5.0220000000000793,16.739999999999817,6,6,15.171820794253062,5,1675,0,0,0,0,0,0,0,0,0,0,0,0,0,0,0,0,0,0,0,0,null,null,null,null,15,9.9925399933033388E-3,0]
[null,null,null,null,null,null,null,null,null,null,null,null,null,null,null,null,null,null,null,null,null,null,null,null,null,null,null,null,null,null,null,null,null,5.0250000000000794,16.749999999999819,6,6,15.171094390107161,5,1676,0,0,0,0,0,0,0,0,0,0,0,0,0,0,0,0,0,0,0,0,null,null,null,null,15,9.9925399933033388E-3,0]
[null,null,null,null,null,null,null,null,null,null,null,null,null,null,null,null,null,null,null,null,null,null,null,null,null,null,null,null,null,null,null,null,null,5.0550000000000805,16.849999999999834,6,6,15.162351719576648,5,1686,0,0,0,0,0,0,0,0,0,0,0,0,0,0,0,0,0,0,0,0,null,null,null,null,15,9.9925399933033388E-3,0]
[null,null,null,null,null,null,null,null,null,null,null,null,null,null,null,null,null,null,null,null,null,null,null,null,null,null,null,null,null,null,null,null,null,5.0820000000000816,16.939999999999849,6,6,15.152457206412095,5,1695,0,0,0,0,0,0,0,0,0,0,0,0,0,0,0,0,0,0,0,0,null,null,null,null,15,9.9925399933033388E-3,0]
[null,null,null,null,null,null,null,null,null,null,null,null,null,null,null,null,null,null,null,null,null,null,null,null,null,null,null,null,null,null,null,null,null,5.0850000000000817,16.94999999999985,6,6,15.151257007669024,5,1696,0,0,0,0,0,0,0,0,0,0,0,0,0,0,0,0,0,0,0,0,null,null,null,null,15,9.9925399933033388E-3,0]
[null,null,null,null,null,null,null,null,null,null,null,null,null,null,null,null,null,null,null,null,null,null,null,null,null,null,null,null,null,null,null,null,null,5.121000000000083,17.069999999999869,6,6,15.135617355807112,5,1708,0,0,0,0,0,0,0,0,0,0,0,0,0,0,0,0,0,0,0,0,null,null,null,null,15,9.9925399933033388E-3,0]
[null,null,null,null,null,null,null,null,null,null,null,null,null,null,null,null,null,null,null,null,null,null,null,null,null,null,null,null,null,null,null,null,null,5.1420000000000838,17.13999999999988,6,6,15.125710059377042,5,1715,0,0,0,0,0,0,0,0,0,0,0,0,0,0,0,0,0,0,0,0,null,null,null,null,15,9.9925399933033388E-3,0]
[null,null,null,null,null,null,null,null,null,null,null,null,null,null,null,null,null,null,null,null,null,null,null,null,null,null,null,null,null,null,null,null,null,5.145000000000084,17.149999999999881,6,6,15.124263924601051,5,1716,0,0,0,0,0,0,0,0,0,0,0,0,0,0,0,0,0,0,0,0,null,null,null,null,15,9.9925399933033388E-3,0]
[null,null,null,null,null,null,null,null,null,null,null,null,null,null,null,null,null,null,null,null,null,null,null,null,null,null,null,null,null,null,null,null,null,5.1810000000000853,17.2699999999999,6,6,15.106619015868182,5,1728,0,0,0,0,0,0,0,0,0,0,0,0,0,0,0,0,0,0,0,0,null,null,null,null,15,9.9925399933033388E-3,0]
[null,null,null,null,null,null,null,null,null,null,null,null,null,null,null,null,null,null,null,null,null,null,null,null,null,null,null,null,null,null,null,null,null,5.2050000000000862,17.349999999999913,6,6,15.094869005097964,5,1736,0,0,0,0,0,0,0,0,0,0,0,0,0,0,0,0,0,0,0,0,null,null,null,null,15,9.9925399933033388E-3,0]
[null,null,null,null,null,null,null,null,null,null,null,null,null,null,null,null,null,null,null,null,null,null,null,null,null,null,null,null,null,null,null,null,null,5.2110000000000865,17.369999999999916,6,6,15.091970915114967,5,1738,0,0,0,0,0,0,0,0,0,0,0,0,0,0,0,0,0,0,0,0,null,null,null,null,15,9.9925399933033388E-3,0]
[null,null,null,null,null,null,null,null,null,null,null,null,null,null,null,null,null,null,null,null,null,null,null,null,null,null,null,null,null,null,null,null,null,5.2410000000000876,17.469999999999931,6,6,15.077893957764502,5,1748,0,0,0,0,0,0,0,0,0,0,0,0,0,0,0,0,0,0,0,0,null,null,null,null,15,9.9925399933033388E-3,0]
[null,null,null,null,null,null,null,null,null,null,null,null,null,null,null,null,null,null,null,null,null,null,null,null,null,null,null,null,null,null,null,null,null,5.2650000000000885,17.549999999999944,6,6,15.067305929564981,5,1756,0,0,0,0,0,0,0,0,0,0,0,0,0,0,0,0,0,0,0,0,null,null,null,null,15,9.9925399933033388E-3,0]
[null,null,null,null,null,null,null,null,null,null,null,null,null,null,null,null,null,null,null,null,null,null,null,null,null,null,null,null,null,null,null,null,null,5.2800000000000891,17.599999999999952,6,6,15.061067334209683,5,1761,0,0,0,0,0,0,0,0,0,0,0,0,0,0,0,0,0,0,0,0,null,null,null,null,15,9.9925399933033388E-3,0]
[null,null,null,null,null,null,null,null,null,null,null,null,null,null,null,null,null,null,null,null,null,null,null,null,null,null,null,null,null,null,null,null,null,5.30400000000009,17.679999999999964,6,6,15.051769913474493,5,1769,0,0,0,0,0,0,0,0,0,0,0,0,0,0,0,0,0,0,0,0,null,null,null,null,15,9.9925399933033388E-3,0]
[null,null,null,null,null,null,null,null,null,null,null,null,null,null,null,null,null,null,null,null,null,null,null,null,null,null,null,null,null,null,null,null,null,5.3160000000000904,17.71999999999997,6,6,15.04745704138166,5,1773,0,0,0,0,0,0,0,0,0,0,0,0,0,0,0,0,0,0,0,0,null,null,null,null,15,9.9925399933033388E-3,0]
[null,null,null,null,null,null,null,null,null,null,null,null,null,null,null,null,null,null,null,null,null,null,null,null,null,null,null,null,null,null,null,null,null,5.3400000000000913,17.799999999999983,6,6,15.039529840657124,5,1781,0,0,0,0,0,0,0,0,0,0,0,0,0,0,0,0,0,0,0,0,null,null,null,null,15,9.9925399933033388E-3,0]
[null,null,null,null,null,null,null,null,null,null,null,null,null,null,null,null,null,null,null,null,null,null,null,null,null,null,null,null,null,null,null,null,null,5.3640000000000922,17.879999999999995,6,6,15.03254268777161,5,1789,0,0,0,0,0,0,0,0,0,0,0,0,0,0,0,0,0,0,0,0,null,null,null,null,15,9.9925399933033388E-3,0]
[null,null,null,null,null,null,null,null,null,null,null,null,null,null,null,null,null,null,null,null,null,null,null,null,null,null,null,null,null,null,null,null,null,5.3790000000000928,17.930000000000003,6,6,15.0286464496491,5,1794,0,0,0,0,0,0,0,0,0,0,0,{"$f":"IF($C$96>0,$B$17*NORMDIST($AI1795,$C$96,$D$96/4,FALSE),0)","v":0},{"$f":"IF($C$97>0,$B$18*NORMDIST($AI1795,$C$97,$D$97/4,FALSE),0)","v":0},{"$f":"IF($C$98>0,$B$19*NORMDIST($AI1795,$C$98,$D$98/4,FALSE),0)","v":0},{"$f":"IF($C$99>0,$B$20*NORMDIST($AI1795,$C$99,$D$99/4,FALSE),0)","v":0},{"$f":"IF($C$100>0,$B$21*NORMDIST($AI1795,$C$100,$D$100/4,FALSE),0)","v":0},{"$f":"IF($C$101>0,$B$22*NORMDIST($AI1795,$C$101,$D$101/4,FALSE),0)","v":0},{"$f":"IF($C$102>0,$B$23*NORMDIST($AI1795,$C$102,$D$102/4,FALSE),0)","v":0},{"$f":"IF($C$103>0,$B$24*NORMDIST($AI1795,$C$103,$D$103/4,FALSE),0)","v":0},{"$f":"IF($C$104>0,$B$25*NORMDIST($AI1795,$C$104,$D$104/4,FALSE),0)","v":0},null,null,null,null,{"$f":"$N$32*$O$61*NORMDIST(AH1795,$BJ$26,$BJ$27,FALSE)+$M$32","v":15},9.9925399933033388E-3,0]
[null,null,null,null,null,null,null,null,null,null,null,null,null,null,null,null,null,null,null,null,null,null,null,null,null,null,null,null,null,null,null,null,null,5.4030000000000937,18.010000000000016,6,6,15.023137587880614,5,1802,0,0,0,0,0,0,0,0,0,0,0,0,0,0,0,0,0,0,0,0,null,null,null,null,15,9.9925399933033388E-3,0]
[null,null,null,null,null,null,null,null,null,null,null,null,null,null,null,null,null,null,null,null,null,null,null,null,null,null,null,null,null,null,null,null,null,5.4240000000000945,18.080000000000027,6,6,15.01900986777469,5,1809,0,0,0,0,0,0,0,0,0,0,0,0,0,0,0,0,0,0,0,0,null,null,null,null,15,9.9925399933033388E-3,0]
[null,null,null,null,null,null,null,null,null,null,null,null,null,null,null,null,null,null,null,null,null,null,null,null,null,null,null,null,null,null,null,null,null,5.4390000000000951,18.130000000000035,6,6,15.01642986160866,5,1814,0,0,0,0,0,0,0,0,0,0,0,0,0,0,0,0,0,0,0,0,null,null,null,null,15,9.9925399933033388E-3,0]
[null,null,null,null,null,null,null,null,null,null,null,null,null,null,null,null,null,null,null,null,null,null,null,null,null,null,null,null,null,null,null,null,null,5.463000000000096,18.210000000000047,6,6,15.012886680483399,5,1822,0,0,0,0,0,0,0,0,0,0,0,0,0,0,0,0,0,0,0,0,null,null,null,null,15,9.9925399933033388E-3,0]
[null,null,null,null,null,null,null,null,null,null,null,null,null,null,null,null,null,null,null,null,null,null,null,null,null,null,null,null,null,null,null,null,null,5.4780000000000966,18.260000000000055,6,6,15.011005763990742,5,1827,0,0,0,0,0,0,0,0,0,0,0,0,0,0,0,0,0,0,0,0,null,null,null,null,15,9.9925399933033388E-3,0]
[null,null,null,null,null,null,null,null,null,null,null,null,null,null,null,null,null,null,null,null,null,null,null,null,null,null,null,null,null,null,null,null,null,5.4990000000000974,18.330000000000066,6,6,15.008756825640896,5,1834,0,0,0,0,0,0,0,0,0,0,0,0,0,0,0,0,0,0,0,0,null,null,null,null,15,9.9925399933033388E-3,0]
[null,null,null,null,null,null,null,null,null,null,null,null,null,null,null,null,null,null,null,null,null,null,null,null,null,null,null,null,null,null,null,null,null,5.5230000000000983,18.410000000000078,6,6,15.006669814204434,5,1842,0,0,0,0,0,0,0,0,0,0,0,0,0,0,0,0,0,0,0,0,null,null,null,null,15,9.9925399933033388E-3,0]
[null,null,null,null,null,null,null,null,null,null,null,null,null,null,null,null,null,null,null,null,null,null,null,null,null,null,null,null,null,null,null,null,null,5.5380000000000988,18.460000000000086,6,6,15.005592812957195,5,1847,0,0,0,0,0,0,0,0,0,0,0,0,0,0,0,0,0,0,0,0,null,null,null,null,15,9.9925399933033388E-3,0]
[null,null,null,null,null,null,null,null,null,null,null,null,null,null,null,null,null,null,null,null,null,null,null,null,null,null,null,null,null,null,null,null,null,5.5650000000000999,18.5500000000001,6,6,15.004026648114429,5,1856,0,0,0,0,0,0,0,0,0,0,0,0,0,0,0,0,0,0,0,0,null,null,null,null,15,9.9925399933033388E-3,0]
[null,null,null,null,null,null,null,null,null,null,null,null,null,null,null,null,null,null,null,null,null,null,null,null,null,null,null,null,null,null,null,null,null,5.5830000000001005,18.61000000000011,6,6,15.003208012917424,5,1862,0,0,0,0,0,0,0,0,0,0,0,0,0,0,0,0,0,0,0,0,null,null,null,null,15,9.9925399933033388E-3,0]
[null,null,null,null,null,null,null,null,null,null,null,null,null,null,null,null,null,null,null,null,null,null,null,null,null,null,null,null,null,null,null,null,null,5.5980000000001011,18.660000000000117,6,6,15.002641131904248,5,1867,0,0,0,0,0,0,0,0,0,0,0,0,0,0,0,0,0,0,0,0,null,null,null,null,15,9.9925399933033388E-3,0]
[null,null,null,null,null,null,null,null,null,null,null,null,null,null,null,null,null,null,null,null,null,null,null,null,null,null,null,null,null,null,null,null,null,5.622000000000102,18.74000000000013,6,6,15.001916619599047,5,1875,0,0,0,0,0,0,0,0,0,0,0,0,0,0,0,0,0,0,0,0,null,null,null,null,15,9.9925399933033388E-3,0]
[null,null,null,null,null,null,null,null,null,null,null,null,null,null,null,null,null,null,null,null,null,null,null,null,null,null,null,null,null,null,null,null,null,5.6340000000001025,18.780000000000136,6,6,15.001625540608696,5,1879,0,0,0,0,0,0,0,0,0,0,0,0,0,0,0,0,0,0,0,0,null,null,null,null,15,9.9925399933033388E-3,0]
[null,null,null,null,null,null,null,null,null,null,null,null,null,null,null,null,null,null,null,null,null,null,null,null,null,null,null,null,null,null,null,null,null,5.6580000000001034,18.860000000000149,6,6,15.001159043094818,5,1887,0,0,0,0,0,0,0,0,0,0,0,0,0,0,0,0,0,0,0,0,null,null,null,null,15,9.9925399933033388E-3,0]
[null,null,null,null,null,null,null,null,null,null,null,null,null,null,null,null,null,null,null,null,null,null,null,null,null,null,null,null,null,null,null,null,null,5.6820000000001043,18.940000000000161,6,6,15.000816780378051,5,1895,0,0,0,0,0,0,0,0,0,0,0,0,0,0,0,0,0,0,0,0,null,null,null,null,15,9.9925399933033388E-3,0]
[null,null,null,null,null,null,null,null,null,null,null,null,null,null,null,null,null,null,null,null,null,null,null,null,null,null,null,null,null,null,null,null,null,5.6970000000001049,18.990000000000169,6,6,15.000652410630254,5,1900,0,0,0,0,0,0,0,0,0,0,0,0,0,0,0,0,0,0,0,0,null,null,null,null,15,9.9925399933033388E-3,0]
[null,null,null,null,null,null,null,null,null,null,null,null,null,null,null,null,null,null,null,null,null,null,null,null,null,null,null,null,null,null,null,null,null,5.727000000000106,19.090000000000185,6,6,15.000410563713116,5,1910,0,0,0,0,0,0,0,0,0,0,0,0,0,0,0,0,0,0,0,0,null,null,null,null,15,9.9925399933033388E-3,0]
[null,null,null,null,null,null,null,null,null,null,null,null,null,null,null,null,null,null,null,null,null,null,null,null,null,null,null,null,null,null,null,null,null,5.7420000000001066,19.140000000000192,6,6,15.000323462816173,5,1915,0,0,0,0,0,0,0,0,0,0,0,0,0,0,0,0,0,0,0,0,null,null,null,null,15,9.9925399933033388E-3,0]
[null,null,null,null,null,null,null,null,null,null,null,null,null,null,null,null,null,null,null,null,null,null,null,null,null,null,null,null,null,null,null,null,null,5.7570000000001071,19.1900000000002,6,6,15.000253674913086,5,1920,0,0,0,0,0,0,0,0,0,0,0,0,0,0,0,0,0,0,0,0,null,null,null,null,15,9.9925399933033388E-3,0]
[null,null,null,null,null,null,null,null,null,null,null,null,null,null,null,null,null,null,null,null,null,null,null,null,null,null,null,null,null,null,null,null,null,5.7810000000001081,19.270000000000213,6,6,15.000170318581663,5,1928,0,0,0,0,0,0,0,0,0,0,0,0,0,0,0,0,0,0,0,0,null,null,null,null,15,9.9925399933033388E-3,0]
[null,null,null,null,null,null,null,null,null,null,null,null,null,null,null,null,null,null,null,null,null,null,null,null,null,null,null,null,null,null,null,null,null,5.7960000000001086,19.320000000000221,6,6,15.00013198953973,5,1933,0,0,0,0,0,0,0,0,0,0,0,0,0,0,0,0,0,0,0,0,null,null,null,null,15,9.9925399933033388E-3,0]
[null,null,null,null,null,null,null,null,null,null,null,null,null,null,null,null,null,null,null,null,null,null,null,null,null,null,null,null,null,null,null,null,null,5.8170000000001094,19.390000000000231,6,6,15.000091660813666,5,1940,0,0,0,0,0,0,0,0,0,0,0,0,0,0,0,0,0,0,0,0,null,null,null,null,15,9.9925399933033388E-3,0]
[null,null,null,null,null,null,null,null,null,null,null,null,null,null,null,null,null,null,null,null,null,null,null,null,null,null,null,null,null,null,null,null,null,5.8200000000001095,19.400000000000233,6,6,15.000086944666718,5,1941,0,0,0,0,0,0,0,0,0,0,0,0,0,0,0,0,0,0,0,0,null,null,null,null,15,9.9925399933033388E-3,0]
[null,null,null,null,null,null,null,null,null,null,null,null,null,null,null,null,null,null,null,null,null,null,null,null,null,null,null,null,null,null,null,null,null,5.8230000000001096,19.410000000000235,6,6,15.000082456056422,5,1942,0,0,0,0,0,0,0,0,0,0,0,0,0,0,0,0,0,0,0,0,null,null,null,null,15,9.9925399933033388E-3,0]
[null,null,null,null,null,null,null,null,null,null,null,null,null,null,null,null,null,null,null,null,null,null,null,null,null,null,null,null,null,null,null,null,null,5.8260000000001098,19.420000000000236,6,6,15.000078184839257,5,1943,0,0,0,0,0,0,0,0,0,0,0,0,0,0,0,0,0,0,0,0,null,null,null,null,15,9.9925399933033388E-3,0]
[null,null,null,null,null,null,null,null,null,null,null,null,null,null,null,null,null,null,null,null,null,null,null,null,null,null,null,null,null,null,null,null,null,5.8290000000001099,19.430000000000238,6,6,15.000074121279782,5,1944,0,0,0,0,0,0,0,0,0,0,0,0,0,0,0,0,0,0,0,0,null,null,null,null,15,9.9925399933033388E-3,0]
[null,null,null,null,null,null,null,null,null,null,null,null,null,null,null,null,null,null,null,null,null,null,null,null,null,null,null,null,null,null,null,null,null,5.83200000000011,19.440000000000239,6,6,15.000070256036462,5,1945,0,0,0,0,0,0,0,0,0,0,0,0,0,0,0,0,0,0,0,0,null,null,null,null,15,9.9925399933033388E-3,0]
[null,null,null,null,null,null,null,null,null,null,null,null,null,null,null,null,null,null,null,null,null,null,null,null,null,null,null,null,null,null,null,null,null,5.8350000000001101,19.450000000000241,6,6,15.000066580147857,5,1946,0,0,0,0,0,0,0,0,0,0,0,0,0,0,0,0,0,0,0,0,null,null,null,null,15,9.9925399933033388E-3,0]
[null,null,null,null,null,null,null,null,null,null,null,null,null,null,null,null,null,null,null,null,null,null,null,null,null,null,null,null,null,null,null,null,null,5.8380000000001102,19.460000000000242,6,6,15.00006308501921,5,1947,0,0,0,0,0,0,0,0,0,0,0,0,0,0,0,0,0,0,0,0,null,null,null,null,15,9.9925399933033388E-3,0]
[null,null,null,null,null,null,null,null,null,null,null,null,null,null,null,null,null,null,null,null,null,null,null,null,null,null,null,null,null,null,null,null,null,5.8410000000001103,19.470000000000244,6,6,15.000059762409393,5,1948,0,0,0,0,0,0,0,0,0,0,0,0,0,0,0,0,0,0,0,0,null,null,null,null,15,9.9925399933033388E-3,0]
[null,null,null,null,null,null,null,null,null,null,null,null,null,null,null,null,null,null,null,null,null,null,null,null,null,null,null,null,null,null,null,null,null,5.8440000000001104,19.480000000000246,6,6,15.000056604418225,5,1949,0,0,0,0,0,0,0,0,0,0,0,0,0,0,0,0,0,0,0,0,null,null,null,null,15,9.9925399933033388E-3,0]
[null,null,null,null,null,null,null,null,null,null,null,null,null,null,null,null,null,null,null,null,null,null,null,null,null,null,null,null,null,null,null,null,null,5.8470000000001106,19.490000000000247,6,6,15.000053603474161,5,1950,0,0,0,0,0,0,0,0,0,0,0,0,0,0,0,0,0,0,0,0,null,null,null,null,15,9.9925399933033388E-3,0]
[null,null,null,null,null,null,null,null,null,null,null,null,null,null,null,null,null,null,null,null,null,null,null,null,null,null,null,null,null,null,null,null,null,5.8500000000001107,19.500000000000249,6,6,15.000050752322331,5,1951,0,0,0,0,0,0,0,0,0,0,0,0,0,0,0,0,0,0,0,0,null,null,null,null,15,9.9925399933033388E-3,0]
[null,null,null,null,null,null,null,null,null,null,null,null,null,null,null,null,null,null,null,null,null,null,null,null,null,null,null,null,null,null,null,null,null,5.8530000000001108,19.51000000000025,6,6,15.000048044012923,5,1952,0,0,0,0,0,0,0,0,0,0,0,0,0,0,0,0,0,0,0,0,null,null,null,null,15,9.9925399933033388E-3,0]
[null,null,null,null,null,null,null,null,null,null,null,null,null,null,null,null,null,null,null,null,null,null,null,null,null,null,null,null,null,null,null,null,null,5.8560000000001109,19.520000000000252,6,6,15.000045471889923,5,1953,0,0,0,0,0,0,0,0,0,0,0,0,0,0,0,0,0,0,0,0,null,null,null,null,15,9.9925399933033388E-3,0]
[null,null,null,null,null,null,null,null,null,null,null,null,null,null,null,null,null,null,null,null,null,null,null,null,null,null,null,null,null,null,null,null,null,5.859000000000111,19.530000000000253,6,6,15.000043029580189,5,1954,0,0,0,0,0,0,0,0,0,0,0,0,0,0,0,0,0,0,0,0,null,null,null,null,15,9.9925399933033388E-3,0]
[null,null,null,null,null,null,null,null,null,null,null,null,null,null,null,null,null,null,null,null,null,null,null,null,null,null,null,null,null,null,null,null,null,5.8620000000001111,19.540000000000255,6,6,15.000040710982848,5,1955,0,0,0,0,0,0,0,0,0,0,0,0,0,0,0,0,0,0,0,0,null,null,null,null,15,9.9925399933033388E-3,0]
[null,null,null,null,null,null,null,null,null,null,null,null,null,null,null,null,null,null,null,null,null,null,null,null,null,null,null,null,null,null,null,null,null,5.8650000000001112,19.550000000000257,6,6,15.00003851025903,5,1956,0,0,0,0,0,0,0,0,0,0,0,0,0,0,0,0,0,0,0,0,null,null,null,null,15,9.9925399933033388E-3,0]
[null,null,null,null,null,null,null,null,null,null,null,null,null,null,null,null,null,null,null,null,null,null,null,null,null,null,null,null,null,null,null,null,null,5.8680000000001113,19.560000000000258,6,6,15.000036421821918,5,1957,0,0,0,0,0,0,0,0,0,0,0,0,0,0,0,0,0,0,0,0,null,null,null,null,15,9.9925399933033388E-3,0]
[null,null,null,null,null,null,null,null,null,null,null,null,null,null,null,null,null,null,null,null,null,null,null,null,null,null,null,null,null,null,null,null,null,5.8710000000001115,19.57000000000026,6,6,15.000034440327104,5,1958,0,0,0,0,0,0,0,0,0,0,0,0,0,0,0,0,0,0,0,0,null,null,null,null,15,9.9925399933033388E-3,0]
[null,null,null,null,null,null,null,null,null,null,null,null,null,null,null,null,null,null,null,null,null,null,null,null,null,null,null,null,null,null,null,null,null,5.8740000000001116,19.580000000000261,6,6,15.000032560663259,5,1959,0,0,0,0,0,0,0,0,0,0,0,0,0,0,0,0,0,0,0,0,null,null,null,null,15,9.9925399933033388E-3,0]
[null,null,null,null,null,null,null,null,null,null,null,null,null,null,null,null,null,null,null,null,null,null,null,null,null,null,null,null,null,null,null,null,null,5.8770000000001117,19.590000000000263,6,6,15.000030777943095,5,1960,0,0,0,0,0,0,0,0,0,0,0,0,0,0,0,0,0,0,0,0,null,null,null,null,15,9.9925399933033388E-3,0]
[null,null,null,null,null,null,null,null,null,null,null,null,null,null,null,null,null,null,null,null,null,null,null,null,null,null,null,null,null,null,null,null,null,5.8800000000001118,19.600000000000264,6,6,15.00002908749463,5,1961,0,0,0,0,0,0,0,0,0,0,0,0,0,0,0,0,0,0,0,0,null,null,null,null,15,9.9925399933033388E-3,0]
[null,null,null,null,null,null,null,null,null,null,null,null,null,null,null,null,null,null,null,null,null,null,null,null,null,null,null,null,null,null,null,null,null,5.8830000000001119,19.610000000000266,6,6,15.000027484852719,5,1962,0,0,0,0,0,0,0,0,0,0,0,0,0,0,0,0,0,0,0,0,null,null,null,null,15,9.9925399933033388E-3,0]
[null,null,null,null,null,null,null,null,null,null,null,null,null,null,null,null,null,null,null,null,null,null,null,null,null,null,null,null,null,null,null,null,null,5.886000000000112,19.620000000000267,6,6,15.000025965750893,5,1963,0,0,0,0,0,0,0,0,0,0,0,0,0,0,0,0,0,0,0,0,null,null,null,null,15,9.9925399933033388E-3,0]
[null,null,null,null,null,null,null,null,null,null,null,null,null,null,null,null,null,null,null,null,null,null,null,null,null,null,null,null,null,null,null,null,null,5.8890000000001121,19.630000000000269,6,6,15.000024526113446,5,1964,0,0,0,0,0,0,0,0,0,0,0,0,0,0,0,0,0,0,0,0,null,null,null,null,15,9.9925399933033388E-3,0]
[null,null,null,null,null,null,null,null,null,null,null,null,null,null,null,null,null,null,null,null,null,null,null,null,null,null,null,null,null,null,null,null,null,5.8920000000001123,19.640000000000271,6,6,15.000023162047798,5,1965,0,0,0,0,0,0,0,0,0,0,0,0,0,0,0,0,0,0,0,0,null,null,null,null,15,9.9925399933033388E-3,0]
[null,null,null,null,null,null,null,null,null,null,null,null,null,null,null,null,null,null,null,null,null,null,null,null,null,null,null,null,null,null,null,null,null,5.8950000000001124,19.650000000000272,6,6,15.000021869837115,5,1966,0,0,0,0,0,0,0,0,0,0,0,0,0,0,0,0,0,0,0,0,null,null,null,null,15,9.9925399933033388E-3,0]
[null,null,null,null,null,null,null,null,null,null,null,null,null,null,null,null,null,null,null,null,null,null,null,null,null,null,null,null,null,null,null,null,null,5.8980000000001125,19.660000000000274,6,6,15.000020645933189,5,1967,0,0,0,0,0,0,0,0,0,0,0,0,0,0,0,0,0,0,0,0,null,null,null,null,15,9.9925399933033388E-3,0]
[null,null,null,null,null,null,null,null,null,null,null,null,null,null,null,null,null,null,null,null,null,null,null,null,null,null,null,null,null,null,null,null,null,5.9010000000001126,19.670000000000275,6,6,15.000019486949562,5,1968,0,0,0,0,0,0,0,0,0,0,0,0,0,0,0,0,0,0,0,0,null,null,null,null,15,9.9925399933033388E-3,0]
[null,null,null,null,null,null,null,null,null,null,null,null,null,null,null,null,null,null,null,null,null,null,null,null,null,null,null,null,null,null,null,null,null,5.9040000000001127,19.680000000000277,6,6,15.000018389654873,5,1969,0,0,0,0,0,0,0,0,0,0,0,0,0,0,0,0,0,0,0,0,null,null,null,null,15,9.9925399933033388E-3,0]
[null,null,null,null,null,null,null,null,null,null,null,null,null,null,null,null,null,null,null,null,null,null,null,null,null,null,null,null,null,null,null,null,null,5.9070000000001128,19.690000000000278,6,6,15.000017350966473,5,1970,0,0,0,0,0,0,0,0,0,0,0,0,0,0,0,0,0,0,0,0,null,null,null,null,15,9.9925399933033388E-3,0]
[null,null,null,null,null,null,null,null,null,null,null,null,null,null,null,null,null,null,null,null,null,null,null,null,null,null,null,null,null,null,null,null,null,5.9100000000001129,19.70000000000028,6,6,15.000016367944236,5,1971,0,0,0,0,0,0,0,0,0,0,0,0,0,0,0,0,0,0,0,0,null,null,null,null,15,9.9925399933033388E-3,0]
[null,null,null,null,null,null,null,null,null,null,null,null,null,null,null,null,null,null,null,null,null,null,null,null,null,null,null,null,null,null,null,null,null,5.9130000000001131,19.710000000000282,6,6,15.000015437784604,5,1972,0,0,0,0,0,0,0,0,0,0,0,0,0,0,0,0,0,0,0,0,null,null,null,null,15,9.9925399933033388E-3,0]
[null,null,null,null,null,null,null,null,null,null,null,null,null,null,null,null,null,null,null,null,null,null,null,null,null,null,null,null,null,null,null,null,null,5.9160000000001132,19.720000000000283,6,6,15.000014557814856,5,1973,0,0,0,0,0,0,0,0,0,0,0,0,0,0,0,0,0,0,0,0,null,null,null,null,15,9.9925399933033388E-3,0]
[null,null,null,null,null,null,null,null,null,null,null,null,null,null,null,null,null,null,null,null,null,null,null,null,null,null,null,null,null,null,null,null,null,5.9190000000001133,19.730000000000285,6,6,15.000013725487566,5,1974,0,0,0,0,0,0,0,0,0,0,0,0,0,0,0,0,0,0,0,0,null,null,null,null,15,9.9925399933033388E-3,0]
[null,null,null,null,null,null,null,null,null,null,null,null,null,null,null,null,null,null,null,null,null,null,null,null,null,null,null,null,null,null,null,null,null,5.9220000000001134,19.740000000000286,6,6,15.00001293837528,5,1975,0,0,0,0,0,0,0,0,0,0,0,0,0,0,0,0,0,0,0,0,null,null,null,null,15,9.9925399933033388E-3,0]
[null,null,null,null,null,null,null,null,null,null,null,null,null,null,null,null,null,null,null,null,null,null,null,null,null,null,null,null,null,null,null,null,null,5.9250000000001135,19.750000000000288,6,6,15.000012194165391,5,1976,0,0,0,0,0,0,0,0,0,0,0,0,0,0,0,0,0,0,0,0,null,null,null,null,15,9.9925399933033388E-3,0]
[null,null,null,null,null,null,null,null,null,null,null,null,null,null,null,null,null,null,null,null,null,null,null,null,null,null,null,null,null,null,null,null,null,5.9280000000001136,19.760000000000289,6,6,15.000011490655194,5,1977,0,0,0,0,0,0,0,0,0,0,0,0,0,0,0,0,0,0,0,0,null,null,null,null,15,9.9925399933033388E-3,0]
[null,null,null,null,null,null,null,null,null,null,null,null,null,null,null,null,null,null,null,null,null,null,null,null,null,null,null,null,null,null,null,null,null,5.9310000000001137,19.770000000000291,6,6,15.000010825747131,5,1978,0,0,0,0,0,0,0,0,0,0,0,0,0,0,0,0,0,0,0,0,null,null,null,null,15,9.9925399933033388E-3,0]
[null,null,null,null,null,null,null,null,null,null,null,null,null,null,null,null,null,null,null,null,null,null,null,null,null,null,null,null,null,null,null,null,null,5.9340000000001139,19.780000000000292,6,6,15.000010197444226,5,1979,0,0,0,0,0,0,0,0,0,0,0,0,0,0,0,0,0,0,0,0,null,null,null,null,15,9.9925399933033388E-3,0]
[null,null,null,null,null,null,null,null,null,null,null,null,null,null,null,null,null,null,null,null,null,null,null,null,null,null,null,null,null,null,null,null,null,5.937000000000114,19.790000000000294,6,6,15.000009603845681,5,1980,0,0,0,0,0,0,0,0,0,0,0,0,0,0,0,0,0,0,0,0,null,null,null,null,15,9.9925399933033388E-3,0]
[null,null,null,null,null,null,null,null,null,null,null,null,null,null,null,null,null,null,null,null,null,null,null,null,null,null,null,null,null,null,null,null,null,5.9400000000001141,19.800000000000296,6,6,15.000009043142649,5,1981,0,0,0,0,0,0,0,0,0,0,0,0,0,0,0,0,0,0,0,0,null,null,null,null,15,9.9925399933033388E-3,0]
[null,null,null,null,null,null,null,null,null,null,null,null,null,null,null,null,null,null,null,null,null,null,null,null,null,null,null,null,null,null,null,null,null,5.9430000000001142,19.810000000000297,6,6,15.000008513614169,5,1982,0,0,0,0,0,0,0,0,0,0,0,0,0,0,0,0,0,0,0,0,null,null,null,null,15,9.9925399933033388E-3,0]
[null,null,null,null,null,null,null,null,null,null,null,null,null,null,null,null,null,null,null,null,null,null,null,null,null,null,null,null,null,null,null,null,null,5.9460000000001143,19.820000000000299,6,6,15.00000801362326,5,1983,0,0,0,0,0,0,0,0,0,0,0,0,0,0,0,0,0,0,0,0,null,null,null,null,15,{"$f":"$BJ$31*NORMDIST(BL1984,$BJ$29,$BJ$30,FALSE)","v":9.9925399933033388E-3},{"$f":"$BJ$35*NORMDIST(AI1984,$BJ$33,$BJ$34,FALSE)","v":0}]
[null,null,null,null,null,null,null,null,null,null,null,null,null,null,null,null,null,null,null,null,null,null,null,null,null,null,null,null,null,null,null,null,null,5.9490000000001144,19.8300000000003,6,6,15.000007541613172,5,1984,0,0,0,0,0,0,0,0,0,0,0,0,0,0,0,0,0,0,0,0,null,null,null,null,15,9.9925399933033388E-3,0]
[null,null,null,null,null,null,null,null,null,null,null,null,null,null,null,null,null,null,null,null,null,null,null,null,null,null,null,null,null,null,null,null,null,5.9520000000001145,19.840000000000302,{"$f":"IF($N$29=0,-1,$N$29*($B$32*NORMDIST($AI1986,$B$29,$B$33*$B$29,FALSE)+IF(C$62<>\"\",B$6*NORMDIST($AI1986,C$62,D$62/4,FALSE),0)+IF(C$63<>\"\",B$7*NORMDIST($AI1986,C$63,D$63/4,FALSE),0)+IF(C$64<>\"\",B$8*NORMDIST($AI1986,C$64,D$64/4,FALSE),0)+IF(C$65<>\"\",B$9*NORMDIST($AI1986,C$65,D$65/4,FALSE),0)+IF(C$66<>\"\",B$10*NORMDIST($AI1986,C$66,D$66/4,FALSE),0)+IF(C$67<>\"\",B$11*NORMDIST($AI1986,C$67,D$67/4,FALSE),0)+IF(C$68<>\"\",B$12*NORMDIST($AI1986,C$68,D$68/4,FALSE),0)+IF(C$69<>\"\",B$13*NORMDIST($AI1986,C$69,D$69/4,FALSE),0)+IF(C$70<>\"\",B$14*NORMDIST($AI1986,C$70,D$70/4,FALSE),0)+IF(C$71<>\"\",B$15*NORMDIST($AI1986,C$71,D$71/4,FALSE),0)+IF(C$72<>\"\",B$16*NORMDIST($AI1986,C$72,D$72/4,FALSE),0)+IF(C$73<>\"\",B$17*NORMDIST($AI1986,C$73,D$73/4,FALSE),0)+IF(C$74<>\"\",B$18*NORMDIST($AI1986,C$74,D$74/4,FALSE),0)+IF(C$75<>\"\",B$19*NORMDIST($AI1986,C$75,D$75/4,FALSE),0)+IF(C$76<>\"\",B$20*NORMDIST($AI1986,C$76,D$76/4,FALSE),0)+IF(C$77<>\"\",B$21*NORMDIST($AI1986,C$77,D$77/4,FALSE),0)+IF(C$78<>\"\",B$22*NORMDIST($AI1986,C$78,D$78/4,FALSE),0)+IF(C$79<>\"\",B$23*NORMDIST($AI1986,C$79,D$79/4,FALSE),0)+IF(C$80<>\"\",B$24*NORMDIST($AI1986,C$80,D$80/4,FALSE),0)+IF(C$81<>\"\",B$25*NORMDIST($AI1986,C$81,D$81/4,FALSE),0))+$M$29)","v":6},{"$f":"IF($N$30<>0,SUM(AO1986:BH1986)*$N$30+$M$30,-1)","v":6},{"$f":"IF($N$31=0,-1,$N$31*($B$32*NORMDIST($AH1986,$B$29,$B$33*$B$29,FALSE)+IF(G$62<>\"\",B$6*NORMDIST($AH1986,G$62,H$62/4,FALSE),0)+IF(G$63<>\"\",B$7*NORMDIST($AH1986,G$63,H$63/4,FALSE),0)+IF(G$64<>\"\",B$8*NORMDIST($AH1986,G$64,H$64/4,FALSE),0)+IF(G$65<>\"\",B$9*NORMDIST($AH1986,G$65,H$65/4,FALSE),0)+IF(G$66<>\"\",B$10*NORMDIST($AH1986,G$66,H$66/4,FALSE),0)+IF(G$67<>\"\",B$11*NORMDIST($AH1986,G$67,H$67/4,FALSE),0)+IF(G$68<>\"\",B$12*NORMDIST($AH1986,G$68,H$68/4,FALSE),0)+IF(G$69<>\"\",B$13*NORMDIST($AH1986,G$69,H$69/4,FALSE),0)+IF(G$70<>\"\",B$14*NORMDIST($AH1986,G$70,H$70/4,FALSE),0)+IF(G$71<>\"\",B$15*NORMDIST($AH1986,G$71,H$71/4,FALSE),0)+IF(G$72<>\"\",B$16*NORMDIST($AH1986,G$72,H$72/4,FALSE),0)+IF(G$73<>\"\",B$17*NORMDIST($AH1986,G$73,H$73/4,FALSE),0)+IF(G$74<>\"\",B$18*NORMDIST($AH1986,G$74,H$74/4,FALSE),0)+IF(G$75<>\"\",B$19*NORMDIST($AH1986,G$75,H$75/4,FALSE),0)+IF(G$76<>\"\",B$20*NORMDIST($AH1986,G$76,H$76/4,FALSE),0)+IF(G$77<>\"\",B$21*NORMDIST($AH1986,G$77,H$77/4,FALSE),0)+IF(G$78<>\"\",B$22*NORMDIST($AH1986,G$78,H$78/4,FALSE),0)+IF(G$79<>\"\",B$23*NORMDIST($AH1986,G$79,H$79/4,FALSE),0)+IF(G$80<>\"\",B$24*NORMDIST($AH1986,G$80,H$80/4,FALSE),0)+IF(G$81<>\"\",B$25*NORMDIST($AH1986,G$81,H$81/4,FALSE),0))+$M$31)","v":15.000007096103777},{"$f":"IF($N$33=0,-1,$N$33*($B$32*NORMDIST($AI1986,$B$29,$B$33*$B$29,FALSE)+IF(K$62<>\"\",B$6*NORMDIST($AI1986,K$62,L$62/4,FALSE),0)+IF(K$63<>\"\",B$7*NORMDIST($AI1986,K$63,L$63/4,FALSE),0)+IF(K$64<>\"\",B$8*NORMDIST($AI1986,K$64,L$64/4,FALSE),0)+IF(K$65<>\"\",B$9*NORMDIST($AI1986,K$65,L$65/4,FALSE),0)+IF(K$66<>\"\",B$10*NORMDIST($AI1986,K$66,L$66/4,FALSE),0)+IF(K$67<>\"\",B$11*NORMDIST($AI1986,K$67,L$67/4,FALSE),0)+IF(K$68<>\"\",B$12*NORMDIST($AI1986,K$68,L$68/4,FALSE),0)+IF(K$69<>\"\",B$13*NORMDIST($AI1986,K$69,L$69/4,FALSE),0)+IF(K$70<>\"\",B$14*NORMDIST($AI1986,K$70,L$70/4,FALSE),0)+IF(K$71<>\"\",B$15*NORMDIST($AI1986,K$71,L$71/4,FALSE),0)+IF(K$72<>\"\",B$16*NORMDIST($AI1986,K$72,L$72/4,FALSE),0)+IF(K$73<>\"\",B$17*NORMDIST($AI1986,K$73,L$73/4,FALSE),0)+IF(K$74<>\"\",B$18*NORMDIST($AI1986,K$74,L$74/4,FALSE),0)+IF(K$75<>\"\",B$19*NORMDIST($AI1986,K$75,L$75/4,FALSE),0)+IF(K$76<>\"\",B$20*NORMDIST($AI1986,K$76,L$76/4,FALSE),0)+IF(K$77<>\"\",B$21*NORMDIST($AI1986,K$77,L$77/4,FALSE),0)+IF(K$78<>\"\",B$22*NORMDIST($AI1986,K$78,L$78/4,FALSE),0)+IF(K$79<>\"\",B$23*NORMDIST($AI1986,K$79,L$79/4,FALSE),0)+IF(K$80<>\"\",B$24*NORMDIST($AI1986,K$80,L$80/4,FALSE),0)+IF(K$81<>\"\",B$25*NORMDIST($AI1986,K$81,L$81/4,FALSE),0))+$M$33)","v":5},1985,{"$f":"IF($C$85>0,$B$6*NORMDIST($AI1986,$C$85,$D$85/4,FALSE),0)","v":0},{"$f":"IF($C$86>0,$B$7*NORMDIST($AI1986,$C$86,$D$86/4,FALSE),0)","v":0},{"$f":"IF($C$87>0,$B$8*NORMDIST($AI1986,$C$87,$D$87/4,FALSE),0)","v":0},{"$f":"IF($C$88>0,$B$9*NORMDIST($AI1986,$C$88,$D$88/4,FALSE),0)","v":0},{"$f":"IF($C$89>0,$B$10*NORMDIST($AI1986,$C$89,$D$89/4,FALSE),0)","v":0},{"$f":"IF($C$90>0,$B$11*NORMDIST($AI1986,$C$90,$D$90/4,FALSE),0)","v":0},{"$f":"IF($C$91>0,$B$12*NORMDIST($AI1986,$C$91,$D$91/4,FALSE),0)","v":0},{"$f":"IF($C$92>0,$B$13*NORMDIST($AI1986,$C$92,$D$92/4,FALSE),0)","v":0},{"$f":"IF($C$93>0,$B$14*NORMDIST($AI1986,$C$93,$D$93/4,FALSE),0)","v":0},{"$f":"IF($C$94>0,$B$15*NORMDIST($AI1986,$C$94,$D$94/4,FALSE),0)","v":0},{"$f":"IF($C$95>0,$B$16*NORMDIST($AI1986,$C$95,$D$95/4,FALSE),0)","v":0},0,0,0,0,0,0,0,0,0,null,null,null,null,15,9.9925399933033388E-3,0]
[null,null,null,null,null,null,null,null,null,null,null,null,null,null,null,null,null,null,null,null,null,null,null,null,null,null,null,null,null,null,null,null,null,5.9550000000001146,19.850000000000303,6,6,15.000006675688107,5,1986,0,0,0,0,0,0,0,0,0,0,0,{"$f":"IF($C$96>0,$B$17*NORMDIST($AI1987,$C$96,$D$96/4,FALSE),0)","v":0},{"$f":"IF($C$97>0,$B$18*NORMDIST($AI1987,$C$97,$D$97/4,FALSE),0)","v":0},{"$f":"IF($C$98>0,$B$19*NORMDIST($AI1987,$C$98,$D$98/4,FALSE),0)","v":0},{"$f":"IF($C$99>0,$B$20*NORMDIST($AI1987,$C$99,$D$99/4,FALSE),0)","v":0},{"$f":"IF($C$100>0,$B$21*NORMDIST($AI1987,$C$100,$D$100/4,FALSE),0)","v":0},{"$f":"IF($C$101>0,$B$22*NORMDIST($AI1987,$C$101,$D$101/4,FALSE),0)","v":0},{"$f":"IF($C$102>0,$B$23*NORMDIST($AI1987,$C$102,$D$102/4,FALSE),0)","v":0},{"$f":"IF($C$103>0,$B$24*NORMDIST($AI1987,$C$103,$D$103/4,FALSE),0)","v":0},{"$f":"IF($C$104>0,$B$25*NORMDIST($AI1987,$C$104,$D$104/4,FALSE),0)","v":0},null,null,null,null,{"$f":"$N$32*$O$61*NORMDIST(AH1987,$BJ$26,$BJ$27,FALSE)+$M$32","v":15},9.9925399933033388E-3,0]
[null,null,null,null,null,null,null,null,null,null,null,null,null,null,null,null,null,null,null,null,null,null,null,null,null,null,null,null,null,null,null,null,null,{"$f":"AH1987+$C$34","v":5.9580000000001148},{"$f":"AI1987+$B$34","v":19.860000000000305},6,6,15.000006279029044,5,1987,0,0,0,0,0,0,0,0,0,0,0,0,0,0,0,0,0,0,0,0,null,null,null,null,15,9.9925399933033388E-3,0]
[null,null,null,null,null,null,null,null,null,null,null,null,null,null,null,null,null,null,null,null,null,null,null,null,null,null,null,null,null,null,null,null,null,5.9610000000001149,19.870000000000307,6,6,15.000005904856124,5,1988,0,0,0,0,0,0,0,0,0,0,0,0,0,0,0,0,0,0,0,0,null,null,null,null,15,9.9925399933033388E-3,0]
[null,null,null,null,null,null,null,null,null,null,null,null,null,null,null,null,null,null,null,null,null,null,null,null,null,null,null,null,null,null,null,null,null,5.964000000000115,19.880000000000308,6,6,15.000005551962483,5,1989,0,0,0,0,0,0,0,0,0,0,0,0,0,0,0,0,0,0,0,0,null,null,null,null,15,9.9925399933033388E-3,0]
[null,null,null,null,null,null,null,null,null,null,null,null,null,null,null,null,null,null,null,null,null,null,null,null,null,null,null,null,null,null,null,null,null,5.9670000000001151,19.89000000000031,6,6,15.000005219201924,5,1990,0,0,0,0,0,0,0,0,0,0,0,0,0,0,0,0,0,0,0,0,null,null,null,null,15,9.9925399933033388E-3,0]
[null,null,null,null,null,null,null,null,null,null,null,null,null,null,null,null,null,null,null,null,null,null,null,null,null,null,null,null,null,null,null,null,null,5.9700000000001152,19.900000000000311,6,6,15.00000490548611,5,1991,0,0,0,0,0,0,0,0,0,0,0,0,0,0,0,0,0,0,0,0,null,null,null,null,15,9.9925399933033388E-3,0]
[null,null,null,null,null,null,null,null,null,null,null,null,null,null,null,null,null,null,null,null,null,null,null,null,null,null,null,null,null,null,null,null,null,5.9730000000001153,19.910000000000313,6,6,15.00000460978187,5,1992,0,0,0,0,0,0,0,0,0,0,0,0,0,0,0,0,0,0,0,0,null,null,null,null,15,9.9925399933033388E-3,0]
[null,null,null,null,null,null,null,null,null,null,null,null,null,null,null,null,null,null,null,null,null,null,null,null,null,null,null,null,null,null,null,null,null,5.9760000000001154,19.920000000000314,6,6,15.000004331108615,5,1993,0,0,0,0,0,0,0,0,0,0,0,0,0,0,0,0,0,0,0,0,null,null,null,null,15,9.9925399933033388E-3,0]
[null,null,null,null,null,null,null,null,null,null,null,null,null,null,null,null,null,null,null,null,null,null,null,null,null,null,null,null,null,null,null,null,null,5.9790000000001156,19.930000000000316,6,6,15.000004068535866,5,1994,0,0,0,0,0,0,0,0,0,0,0,0,0,0,0,0,0,0,0,0,null,null,null,null,15,9.9925399933033388E-3,0]
[null,null,null,null,null,null,null,null,null,null,null,null,null,null,null,null,null,null,null,null,null,null,null,null,null,null,null,null,null,null,null,null,null,5.9820000000001157,19.940000000000317,6,6,15.000003821180886,5,1995,0,0,0,0,0,0,0,0,0,0,0,0,0,0,0,0,0,0,0,0,null,null,null,null,15,9.9925399933033388E-3,0]
[null,null,null,null,null,null,null,null,null,null,null,null,null,null,null,null,null,null,null,null,null,null,null,null,null,null,null,null,null,null,null,null,null,5.9850000000001158,19.950000000000319,6,6,15.00000358820642,5,1996,0,0,0,0,0,0,0,0,0,0,0,0,0,0,0,0,0,0,0,0,null,null,null,null,15,9.9925399933033388E-3,0]
[null,null,null,null,null,null,null,null,null,null,null,null,null,null,null,null,null,null,null,null,null,null,null,null,null,null,null,null,null,null,null,null,null,5.9880000000001159,19.960000000000321,6,6,15.000003368818515,5,1997,0,0,0,0,0,0,0,0,0,0,0,0,0,0,0,0,0,0,0,0,null,null,null,null,15,9.9925399933033388E-3,0]
[null,null,null,null,null,null,null,null,null,null,null,null,null,null,null,null,null,null,null,null,null,null,null,null,null,null,null,null,null,null,null,null,null,5.991000000000116,19.970000000000322,6,6,15.00000316226445,5,1998,0,0,0,0,0,0,0,0,0,0,0,0,0,0,0,0,0,0,0,0,null,null,null,null,15,null,0]
[null,null,null,null,null,null,null,null,null,null,null,null,null,null,null,null,null,null,null,null,null,null,null,null,null,null,null,null,null,null,null,null,null,5.9940000000001161,19.980000000000324,6,6,15.000002967830753,5,1999,0,0,0,0,0,0,0,0,0,0,0,0,0,0,0,0,0,0,0,0,null,null,null,null,15,null,0]
[null,null,null,null,null,null,null,null,null,null,null,null,null,null,null,null,null,null,null,null,null,null,null,null,null,null,null,null,null,null,null,null,null,5.9970000000001162,19.990000000000325,6,6,15.000002784841293,5,2000,0,0,0,0,0,0,0,0,0,0,0,0,0,0,0,0,0,0,0,0,null,null,null,null,15,null,0]
[null,null,null,null,null,null,null,null,null,null,null,null,null,null,null,null,null,null,null,null,null,null,null,null,null,null,null,null,null,null,null,null,null,6.0000000000001164,20.000000000000327,6,6,15.00000261265547,5,2001,0,0,0,0,0,0,0,0,0,0,0,0,0,0,0,0,0,0,0,0,null,null,null,null,15,null,0]

{"sheet":"SPmodel","index":1,"n_rows":205,"n_cols":43,"rows_kept":205,"cut":false,"hidden":false,"merged":[]}
[{"$f":"GC!A1","v":"ChromSimGCxGC_4.0"},null,null,{"$f":"GC!$D$1","v":"Author: Bo Svensmark, svensmark@plen.ku.dk, Analytical Chemistry, PLEN, Univ. of Copenhagen, 2017-2026"}]
[]
[null,null,null,"Do not change any cells in this sheet!"]
[]
[null,null,null,null,null,null,null,null,null,"Column 1",{"$f":"B30","v":"HP-5"},null,null,null,null,null,null,null,null,null,null,null,"Column 2",{"$f":"X30","v":"Rxi-50-240"}]
["No","Compound name",null,"E","S","A","B","L",null,"Log(ko)","Slope",null,null,null,null,null,null,null,null,null,null,null,"Log(ko)","Slope"]
[1,{"$f":"IF(GC!C6<>\"\",GC!C6,\"\")","v":"Phenol"},null,{"$f":"IF($B7<>\"\",VLOOKUP($B7,Compounds!$B$11:'Compounds'!$G$510,2),\"\")","v":0.754},{"$f":"IF($B7<>\"\",VLOOKUP($B7,Compounds!$B$11:'Compounds'!$G$510,3),\"\")","v":0.77800000000000002},{"$f":"IF($B7<>\"\",VLOOKUP($B7,Compounds!$B$11:'Compounds'!$G$510,4),\"\")","v":0.72699999999999998},{"$f":"IF($B7<>\"\",VLOOKUP($B7,Compounds!$B$11:'Compounds'!$G$510,5),\"\")","v":0.311},{"$f":"IF($B7<>\"\",VLOOKUP($B7,Compounds!$B$11:'Compounds'!$H$510,7),\"\")","v":3.7970000000000002},null,{"$f":"IF(B7<>\"\",L147,\"\")","v":1.7891094999999988},{"$f":"IF(B7<>\"\",-K147,\"\")","v":1.2748555769230759E-2},null,null,null,null,null,null,null,null,null,null,null,{"$f":"IF(B7<>\"\",AH147,\"\")","v":1.6743937818181829},{"$f":"IF(B7<>\"\",-AG147,\"\")","v":9.7386945454545504E-3}]
[2,{"$f":"IF(GC!C7<>\"\",GC!C7,\"\")","v":"Benzonitrile"},null,{"$f":"IF($B8<>\"\",VLOOKUP($B8,Compounds!$B$11:'Compounds'!$G$510,2),\"\")","v":0.745},{"$f":"IF($B8<>\"\",VLOOKUP($B8,Compounds!$B$11:'Compounds'!$G$510,3),\"\")","v":1.133},{"$f":"IF($B8<>\"\",VLOOKUP($B8,Compounds!$B$11:'Compounds'!$G$510,4),\"\")","v":0},{"$f":"IF($B8<>\"\",VLOOKUP($B8,Compounds!$B$11:'Compounds'!$G$510,5),\"\")","v":0.33400000000000002},{"$f":"IF($B8<>\"\",VLOOKUP($B8,Compounds!$B$11:'Compounds'!$H$510,7),\"\")","v":4.0549999999999997},null,{"$f":"IF(B8<>\"\",L148,\"\")","v":1.893095604395604},{"$f":"IF(B8<>\"\",-K148,\"\")","v":1.2928278571428571E-2},null,null,null,null,null,null,null,null,null,null,null,{"$f":"IF(B8<>\"\",AH148,\"\")","v":1.9206275272727289},{"$f":"IF(B8<>\"\",-AG148,\"\")","v":1.0512811515151524E-2}]
[3,{"$f":"IF(GC!C8<>\"\",GC!C8,\"\")","v":"Benzofuran"},null,{"$f":"IF($B9<>\"\",VLOOKUP($B9,Compounds!$B$11:'Compounds'!$G$510,2),\"\")","v":0.92600000000000005},{"$f":"IF($B9<>\"\",VLOOKUP($B9,Compounds!$B$11:'Compounds'!$G$510,3),\"\")","v":0.84399999999999997},{"$f":"IF($B9<>\"\",VLOOKUP($B9,Compounds!$B$11:'Compounds'!$G$510,4),\"\")","v":0},{"$f":"IF($B9<>\"\",VLOOKUP($B9,Compounds!$B$11:'Compounds'!$G$510,5),\"\")","v":0.182},{"$f":"IF($B9<>\"\",VLOOKUP($B9,Compounds!$B$11:'Compounds'!$H$510,7),\"\")","v":4.2549999999999999},null,1.8946132692307682,1.2874574999999992E-2,null,null,null,null,null,null,null,null,null,null,null,1.719169945454545,9.7429169696969676E-3]
[4,{"$f":"IF(GC!C9<>\"\",GC!C9,\"\")","v":"o-Cresol"},null,{"$f":"IF($B10<>\"\",VLOOKUP($B10,Compounds!$B$11:'Compounds'!$G$510,2),\"\")","v":0.85299999999999998},{"$f":"IF($B10<>\"\",VLOOKUP($B10,Compounds!$B$11:'Compounds'!$G$510,3),\"\")","v":0.74399999999999999},{"$f":"IF($B10<>\"\",VLOOKUP($B10,Compounds!$B$11:'Compounds'!$G$510,4),\"\")","v":0.61299999999999999},{"$f":"IF($B10<>\"\",VLOOKUP($B10,Compounds!$B$11:'Compounds'!$G$510,5),\"\")","v":0.3},{"$f":"IF($B10<>\"\",VLOOKUP($B10,Compounds!$B$11:'Compounds'!$H$510,7),\"\")","v":4.2889999999999997},null,2.0991572637362634,1.351535274725274E-2,null,null,null,null,null,null,null,null,null,null,null,1.9602730181818202,1.0478912121212132E-2]
[5,{"$f":"IF(GC!C10<>\"\",GC!C10,\"\")","v":"3,5-Dimethylphenol"},null,{"$f":"IF($B11<>\"\",VLOOKUP($B11,Compounds!$B$11:'Compounds'!$G$510,2),\"\")","v":0.76800000000000002},{"$f":"IF($B11<>\"\",VLOOKUP($B11,Compounds!$B$11:'Compounds'!$G$510,3),\"\")","v":0.79300000000000004},{"$f":"IF($B11<>\"\",VLOOKUP($B11,Compounds!$B$11:'Compounds'!$G$510,4),\"\")","v":0.65600000000000003},{"$f":"IF($B11<>\"\",VLOOKUP($B11,Compounds!$B$11:'Compounds'!$G$510,5),\"\")","v":0.34799999999999998},{"$f":"IF($B11<>\"\",VLOOKUP($B11,Compounds!$B$11:'Compounds'!$H$510,7),\"\")","v":4.7679999999999998},null,2.5129278241758231,1.4652703296703288E-2,null,null,null,null,null,null,null,null,null,null,null,2.4342521636363652,1.1953435757575764E-2]
[6,{"$f":"IF(GC!C11<>\"\",GC!C11,\"\")","v":"Quinoline"},null,{"$f":"IF($B12<>\"\",VLOOKUP($B12,Compounds!$B$11:'Compounds'!$G$510,2),\"\")","v":1.2689999999999999},{"$f":"IF($B12<>\"\",VLOOKUP($B12,Compounds!$B$11:'Compounds'!$G$510,3),\"\")","v":1.1180000000000001},{"$f":"IF($B12<>\"\",VLOOKUP($B12,Compounds!$B$11:'Compounds'!$G$510,4),\"\")","v":0},{"$f":"IF($B12<>\"\",VLOOKUP($B12,Compounds!$B$11:'Compounds'!$G$510,5),\"\")","v":0.60499999999999998},{"$f":"IF($B12<>\"\",VLOOKUP($B12,Compounds!$B$11:'Compounds'!$H$510,7),\"\")","v":5.3380000000000001},null,2.8096796318681312,1.5097578296703293E-2,null,null,null,null,null,null,null,null,null,null,null,2.8920080363636367,1.275903090909091E-2]
[7,{"$f":"IF(GC!C12<>\"\",GC!C12,\"\")","v":"Indole"},null,{"$f":"IF($B13<>\"\",VLOOKUP($B13,Compounds!$B$11:'Compounds'!$G$510,2),\"\")","v":1.0580000000000001},{"$f":"IF($B13<>\"\",VLOOKUP($B13,Compounds!$B$11:'Compounds'!$G$510,3),\"\")","v":1.304},{"$f":"IF($B13<>\"\",VLOOKUP($B13,Compounds!$B$11:'Compounds'!$G$510,4),\"\")","v":0.433},{"$f":"IF($B13<>\"\",VLOOKUP($B13,Compounds!$B$11:'Compounds'!$G$510,5),\"\")","v":0.159},{"$f":"IF($B13<>\"\",VLOOKUP($B13,Compounds!$B$11:'Compounds'!$H$510,7),\"\")","v":5.3129999999999997},null,3.0511363791208796,1.5857877747252749E-2,null,null,null,null,null,null,null,null,null,null,null,3.3596024363636379,1.4501877575757582E-2]
[8,{"$f":"IF(GC!C13<>\"\",GC!C13,\"\")","v":"Tetradecane"},null,{"$f":"IF($B14<>\"\",VLOOKUP($B14,Compounds!$B$11:'Compounds'!$G$510,2),\"\")","v":0},{"$f":"IF($B14<>\"\",VLOOKUP($B14,Compounds!$B$11:'Compounds'!$G$510,3),\"\")","v":0},{"$f":"IF($B14<>\"\",VLOOKUP($B14,Compounds!$B$11:'Compounds'!$G$510,4),\"\")","v":0},{"$f":"IF($B14<>\"\",VLOOKUP($B14,Compounds!$B$11:'Compounds'!$G$510,5),\"\")","v":0},{"$f":"IF($B14<>\"\",VLOOKUP($B14,Compounds!$B$11:'Compounds'!$H$510,7),\"\")","v":6.65},null,3.4498414835164835,1.7556277472527471E-2,null,null,null,null,null,null,null,null,null,null,null,2.6872627272727287,1.3484818181818188E-2]
[9,{"$f":"IF(GC!C14<>\"\",GC!C14,\"\")","v":"Dibenzofuran"},null,{"$f":"IF($B15<>\"\",VLOOKUP($B15,Compounds!$B$11:'Compounds'!$G$510,2),\"\")","v":1.407},{"$f":"IF($B15<>\"\",VLOOKUP($B15,Compounds!$B$11:'Compounds'!$G$510,3),\"\")","v":1.105},{"$f":"IF($B15<>\"\",VLOOKUP($B15,Compounds!$B$11:'Compounds'!$G$510,4),\"\")","v":0},{"$f":"IF($B15<>\"\",VLOOKUP($B15,Compounds!$B$11:'Compounds'!$G$510,5),\"\")","v":0.17},{"$f":"IF($B15<>\"\",VLOOKUP($B15,Compounds!$B$11:'Compounds'!$H$510,7),\"\")","v":6.6580000000000004},null,3.7990364999999997,1.7652648076923069E-2,null,null,null,null,null,null,null,null,null,null,null,3.9390758000000035,1.5825840000000018E-2]
[10,{"$f":"IF(GC!C15<>\"\",GC!C15,\"\")","v":"Diphenylamine"},null,{"$f":"IF($B16<>\"\",VLOOKUP($B16,Compounds!$B$11:'Compounds'!$G$510,2),\"\")","v":1.244},{"$f":"IF($B16<>\"\",VLOOKUP($B16,Compounds!$B$11:'Compounds'!$G$510,3),\"\")","v":1.224},{"$f":"IF($B16<>\"\",VLOOKUP($B16,Compounds!$B$11:'Compounds'!$G$510,4),\"\")","v":0.23300000000000001},{"$f":"IF($B16<>\"\",VLOOKUP($B16,Compounds!$B$11:'Compounds'!$G$510,5),\"\")","v":0.36099999999999999},{"$f":"IF($B16<>\"\",VLOOKUP($B16,Compounds!$B$11:'Compounds'!$H$510,7),\"\")","v":6.8639999999999999},null,4.1111823736263728,1.8567390109890107E-2,null,null,null,null,null,null,null,null,null,null,null,4.3843717272727307,1.7262251515151532E-2]
[11,{"$f":"IF(GC!C16<>\"\",GC!C16,\"\")","v":"Carbazole"},null,{"$f":"IF($B17<>\"\",VLOOKUP($B17,Compounds!$B$11:'Compounds'!$G$510,2),\"\")","v":2.278},{"$f":"IF($B17<>\"\",VLOOKUP($B17,Compounds!$B$11:'Compounds'!$G$510,3),\"\")","v":1.6439999999999999},{"$f":"IF($B17<>\"\",VLOOKUP($B17,Compounds!$B$11:'Compounds'!$G$510,4),\"\")","v":0.40699999999999997},{"$f":"IF($B17<>\"\",VLOOKUP($B17,Compounds!$B$11:'Compounds'!$G$510,5),\"\")","v":0.13200000000000001},{"$f":"IF($B17<>\"\",VLOOKUP($B17,Compounds!$B$11:'Compounds'!$H$510,7),\"\")","v":7.3419999999999996},null,4.6125425494505476,1.9345879120879109E-2,null,null,null,null,null,null,null,null,null,null,null,5.308207509090912,1.9046906060606075E-2]
[12,{"$f":"IF(GC!C17<>\"\",GC!C17,\"\")","v":""},null,{"$f":"IF($B18<>\"\",VLOOKUP($B18,Compounds!$B$11:'Compounds'!$G$510,2),\"\")","v":""},{"$f":"IF($B18<>\"\",VLOOKUP($B18,Compounds!$B$11:'Compounds'!$G$510,3),\"\")","v":""},{"$f":"IF($B18<>\"\",VLOOKUP($B18,Compounds!$B$11:'Compounds'!$G$510,4),\"\")","v":""},{"$f":"IF($B18<>\"\",VLOOKUP($B18,Compounds!$B$11:'Compounds'!$G$510,5),\"\")","v":""},{"$f":"IF($B18<>\"\",VLOOKUP($B18,Compounds!$B$11:'Compounds'!$H$510,7),\"\")","v":""},null,"","",null,null,null,null,null,null,null,null,null,null,null,"",""]
[13,{"$f":"IF(GC!C18<>\"\",GC!C18,\"\")","v":""},null,{"$f":"IF($B19<>\"\",VLOOKUP($B19,Compounds!$B$11:'Compounds'!$G$510,2),\"\")","v":""},{"$f":"IF($B19<>\"\",VLOOKUP($B19,Compounds!$B$11:'Compounds'!$G$510,3),\"\")","v":""},{"$f":"IF($B19<>\"\",VLOOKUP($B19,Compounds!$B$11:'Compounds'!$G$510,4),\"\")","v":""},{"$f":"IF($B19<>\"\",VLOOKUP($B19,Compounds!$B$11:'Compounds'!$G$510,5),\"\")","v":""},{"$f":"IF($B19<>\"\",VLOOKUP($B19,Compounds!$B$11:'Compounds'!$H$510,7),\"\")","v":""},null,"","",null,null,null,null,null,null,null,null,null,null,null,"",""]
[14,{"$f":"IF(GC!C19<>\"\",GC!C19,\"\")","v":""},null,{"$f":"IF($B20<>\"\",VLOOKUP($B20,Compounds!$B$11:'Compounds'!$G$510,2),\"\")","v":""},{"$f":"IF($B20<>\"\",VLOOKUP($B20,Compounds!$B$11:'Compounds'!$G$510,3),\"\")","v":""},{"$f":"IF($B20<>\"\",VLOOKUP($B20,Compounds!$B$11:'Compounds'!$G$510,4),\"\")","v":""},{"$f":"IF($B20<>\"\",VLOOKUP($B20,Compounds!$B$11:'Compounds'!$G$510,5),\"\")","v":""},{"$f":"IF($B20<>\"\",VLOOKUP($B20,Compounds!$B$11:'Compounds'!$H$510,7),\"\")","v":""},null,"","",null,null,null,null,null,null,null,null,null,null,null,"",""]
[15,{"$f":"IF(GC!C20<>\"\",GC!C20,\"\")","v":""},null,{"$f":"IF($B21<>\"\",VLOOKUP($B21,Compounds!$B$11:'Compounds'!$G$510,2),\"\")","v":""},{"$f":"IF($B21<>\"\",VLOOKUP($B21,Compounds!$B$11:'Compounds'!$G$510,3),\"\")","v":""},{"$f":"IF($B21<>\"\",VLOOKUP($B21,Compounds!$B$11:'Compounds'!$G$510,4),\"\")","v":""},{"$f":"IF($B21<>\"\",VLOOKUP($B21,Compounds!$B$11:'Compounds'!$G$510,5),\"\")","v":""},{"$f":"IF($B21<>\"\",VLOOKUP($B21,Compounds!$B$11:'Compounds'!$H$510,7),\"\")","v":""},null,"","",null,null,null,null,null,null,null,null,null,null,null,"",""]
[16,{"$f":"IF(GC!C21<>\"\",GC!C21,\"\")","v":""},null,{"$f":"IF($B22<>\"\",VLOOKUP($B22,Compounds!$B$11:'Compounds'!$G$510,2),\"\")","v":""},{"$f":"IF($B22<>\"\",VLOOKUP($B22,Compounds!$B$11:'Compounds'!$G$510,3),\"\")","v":""},{"$f":"IF($B22<>\"\",VLOOKUP($B22,Compounds!$B$11:'Compounds'!$G$510,4),\"\")","v":""},{"$f":"IF($B22<>\"\",VLOOKUP($B22,Compounds!$B$11:'Compounds'!$G$510,5),\"\")","v":""},{"$f":"IF($B22<>\"\",VLOOKUP($B22,Compounds!$B$11:'Compounds'!$H$510,7),\"\")","v":""},null,"","",null,null,null,null,null,null,null,null,null,null,null,"",""]
[17,{"$f":"IF(GC!C22<>\"\",GC!C22,\"\")","v":""},null,{"$f":"IF($B23<>\"\",VLOOKUP($B23,Compounds!$B$11:'Compounds'!$G$510,2),\"\")","v":""},{"$f":"IF($B23<>\"\",VLOOKUP($B23,Compounds!$B$11:'Compounds'!$G$510,3),\"\")","v":""},{"$f":"IF($B23<>\"\",VLOOKUP($B23,Compounds!$B$11:'Compounds'!$G$510,4),\"\")","v":""},{"$f":"IF($B23<>\"\",VLOOKUP($B23,Compounds!$B$11:'Compounds'!$G$510,5),\"\")","v":""},{"$f":"IF($B23<>\"\",VLOOKUP($B23,Compounds!$B$11:'Compounds'!$H$510,7),\"\")","v":""},null,"","",null,null,null,null,null,null,null,null,null,null,null,"",""]
[18,{"$f":"IF(GC!C23<>\"\",GC!C23,\"\")","v":""},null,{"$f":"IF($B24<>\"\",VLOOKUP($B24,Compounds!$B$11:'Compounds'!$G$510,2),\"\")","v":""},{"$f":"IF($B24<>\"\",VLOOKUP($B24,Compounds!$B$11:'Compounds'!$G$510,3),\"\")","v":""},{"$f":"IF($B24<>\"\",VLOOKUP($B24,Compounds!$B$11:'Compounds'!$G$510,4),\"\")","v":""},{"$f":"IF($B24<>\"\",VLOOKUP($B24,Compounds!$B$11:'Compounds'!$G$510,5),\"\")","v":""},{"$f":"IF($B24<>\"\",VLOOKUP($B24,Compounds!$B$11:'Compounds'!$H$510,7),\"\")","v":""},null,"","",null,null,null,null,null,null,null,null,null,null,null,"",""]
[19,{"$f":"IF(GC!C24<>\"\",GC!C24,\"\")","v":""},null,{"$f":"IF($B25<>\"\",VLOOKUP($B25,Compounds!$B$11:'Compounds'!$G$510,2),\"\")","v":""},{"$f":"IF($B25<>\"\",VLOOKUP($B25,Compounds!$B$11:'Compounds'!$G$510,3),\"\")","v":""},{"$f":"IF($B25<>\"\",VLOOKUP($B25,Compounds!$B$11:'Compounds'!$G$510,4),\"\")","v":""},{"$f":"IF($B25<>\"\",VLOOKUP($B25,Compounds!$B$11:'Compounds'!$G$510,5),\"\")","v":""},{"$f":"IF($B25<>\"\",VLOOKUP($B25,Compounds!$B$11:'Compounds'!$H$510,7),\"\")","v":""},null,"","",null,null,null,null,null,null,null,null,null,null,null,"",""]
[20,{"$f":"IF(GC!C25<>\"\",GC!C25,\"\")","v":""},null,{"$f":"IF($B26<>\"\",VLOOKUP($B26,Compounds!$B$11:'Compounds'!$G$393,2),\"\")","v":""},{"$f":"IF($B26<>\"\",VLOOKUP($B26,Compounds!$B$11:'Compounds'!$G$393,3),\"\")","v":""},{"$f":"IF($B26<>\"\",VLOOKUP($B26,Compounds!$B$11:'Compounds'!$G$393,4),\"\")","v":""},{"$f":"IF($B26<>\"\",VLOOKUP($B26,Compounds!$B$11:'Compounds'!$G$393,5),\"\")","v":""},{"$f":"IF($B26<>\"\",VLOOKUP($B26,Compounds!$B$11:'Compounds'!$H$393,7),\"\")","v":""},null,"","",null,null,null,null,null,null,null,null,null,null,null,"",""]
[]
[]
["Column 1","T","e","s","a","b","l","c",null,null,null,null,null,null,null,null,null,null,null,null,null,null,"Column 2","T","e","s","a","b","l","c"]
[null,{"$f":"Columns!B11","v":"HP-5"},{"$f":"Columns!C11","v":0},{"$f":"Columns!D11","v":"5 % diphenylsiloxane"},{"$f":"Columns!E11","v":0},{"$f":"Columns!F11","v":0},{"$f":"Columns!G11","v":0},{"$f":"Columns!H11","v":0},null,null,null,null,null,null,null,null,null,null,null,null,null,null,null,{"$f":"Columns!K11","v":"Rxi-50-240"},{"$f":"Columns!L11","v":0},{"$f":"Columns!M11","v":"50% poly(dimethyldiphenylsiloxane) Extended temperature range"},{"$f":"Columns!N11","v":0},{"$f":"Columns!O11","v":0},{"$f":"Columns!P11","v":0},{"$f":"Columns!Q11","v":0}]
[1,{"$f":"Columns!B12","v":60},{"$f":"Columns!C12","v":-0.10299999999999999},{"$f":"Columns!D12","v":0.432},{"$f":"Columns!E12","v":0.375},{"$f":"Columns!F12","v":0},{"$f":"Columns!G12","v":0.70899999999999996},{"$f":"Columns!H12","v":-1.879},null,null,null,null,null,null,null,null,null,null,null,null,null,null,1,{"$f":"Columns!K12","v":60},{"$f":"Columns!L12","v":-2.5000000000000001E-2},{"$f":"Columns!M12","v":1.02},{"$f":"Columns!N12","v":0.48399999999999999},{"$f":"Columns!O12","v":0},{"$f":"Columns!P12","v":0.67800000000000005},{"$f":"Columns!Q12","v":-2.3450000000000002}]
[2,{"$f":"Columns!B13","v":80},{"$f":"Columns!C13","v":-0.06},{"$f":"Columns!D13","v":0.379},{"$f":"Columns!E13","v":0.317},{"$f":"Columns!F13","v":0},{"$f":"Columns!G13","v":0.628},{"$f":"Columns!H13","v":-1.905},null,null,null,null,null,null,null,null,null,null,null,null,null,null,2,{"$f":"Columns!K13","v":80},{"$f":"Columns!L13","v":1.7000000000000001E-2},{"$f":"Columns!M13","v":0.93600000000000005},{"$f":"Columns!N13","v":0.434},{"$f":"Columns!O13","v":0},{"$f":"Columns!P13","v":0.621},{"$f":"Columns!Q13","v":-2.4449999999999998}]
[3,{"$f":"Columns!B14","v":100},{"$f":"Columns!C14","v":-3.3000000000000002E-2},{"$f":"Columns!D14","v":0.34},{"$f":"Columns!E14","v":0.254},{"$f":"Columns!F14","v":0},{"$f":"Columns!G14","v":0.55600000000000005},{"$f":"Columns!H14","v":-1.913},null," q","d",null,null,null,null,null,null,null,null,null,null,null,3,{"$f":"Columns!K14","v":100},{"$f":"Columns!L14","v":5.3999999999999999E-2},{"$f":"Columns!M14","v":0.85099999999999998},{"$f":"Columns!N14","v":0.377},{"$f":"Columns!O14","v":0},{"$f":"Columns!P14","v":0.56599999999999995},{"$f":"Columns!Q14","v":-2.5089999999999999}]
[4,{"$f":"Columns!B15","v":120},{"$f":"Columns!C15","v":0},{"$f":"Columns!D15","v":0.314},{"$f":"Columns!E15","v":0.19},{"$f":"Columns!F15","v":0},{"$f":"Columns!G15","v":0.51200000000000001},{"$f":"Columns!H15","v":-1.9870000000000001},null,{"$f":"IF(B30=X30,0,ACOS((C31*Y31+D31*Z31+E31*AA31+F31*AB31+G31*AC31)/(J37*K37))*180/PI())","v":23.740122266013717},{"$f":"SQRT((C31/J37-Y31/K37)^2+(D31/J37-Z31/K37)^2+(E31/J37-AA31/K37)^2+(F31/J37-AB31/K37)^2+(G31/J37-AC31/K37)^2)","v":0.41138571040875804},null,null,null,null,null,null,null,null,null,null,null,4,{"$f":"Columns!K15","v":120},{"$f":"Columns!L15","v":8.5000000000000006E-2},{"$f":"Columns!M15","v":0.78700000000000003},{"$f":"Columns!N15","v":0.33100000000000002},{"$f":"Columns!O15","v":0},{"$f":"Columns!P15","v":0.52200000000000002},{"$f":"Columns!Q15","v":-2.5819999999999999}]
[5,{"$f":"Columns!B16","v":140},{"$f":"Columns!C16","v":3.3000000000000002E-2},{"$f":"Columns!D16","v":0.27300000000000002},{"$f":"Columns!E16","v":0.16700000000000001},{"$f":"Columns!F16","v":0},{"$f":"Columns!G16","v":0.46},{"$f":"Columns!H16","v":-2.0009999999999999},null,null,null,null,null,null,null,null,null,null,null,null,null,null,5,{"$f":"Columns!K16","v":140},{"$f":"Columns!L16","v":0.111},{"$f":"Columns!M16","v":0.73199999999999998},{"$f":"Columns!N16","v":0.28499999999999998},{"$f":"Columns!O16","v":0},{"$f":"Columns!P16","v":0.48299999999999998},{"$f":"Columns!Q16","v":-2.6520000000000001}]
[6,{"$f":"Columns!B17","v":160},{"$f":"Columns!C17","v":1.7999999999999999E-2},{"$f":"Columns!D17","v":0.26600000000000001},{"$f":"Columns!E17","v":0.14199999999999999},{"$f":"Columns!F17","v":0},{"$f":"Columns!G17","v":0.40400000000000003},{"$f":"Columns!H17","v":-2.625},null,"n1","n2",null,null,null,null,null,null,null,null,null,null,null,6,{"$f":"Columns!K17","v":160},{"$f":"Columns!L17","v":0.155},{"$f":"Columns!M17","v":0.54300000000000004},{"$f":"Columns!N17","v":0.26800000000000002},{"$f":"Columns!O17","v":9.4E-2},{"$f":"Columns!P17","v":0.39200000000000002},{"$f":"Columns!Q17","v":-2.1389999999999998}]
[7,{"$f":"Columns!B18","v":180},{"$f":"Columns!C18","v":3.6999999999999998E-2},{"$f":"Columns!D18","v":0.23699999999999999},{"$f":"Columns!E18","v":0.129},{"$f":"Columns!F18","v":0},{"$f":"Columns!G18","v":0.36399999999999999},{"$f":"Columns!H18","v":-2.6280000000000001},null,{"$f":"SQRT(C31^2+D31^2+E31^2+F31^2+G31^2)","v":0.91680914044309136},{"$f":"SQRT(Y31^2+Z31^2+AA31^2+AB31^2+AC31^2)","v":1.3171807013466299},null,null,null,null,null,null,null,null,null,null,null,7,{"$f":"Columns!K18","v":180},{"$f":"Columns!L18","v":0.17699999999999999},{"$f":"Columns!M18","v":0.49099999999999999},{"$f":"Columns!N18","v":0.23899999999999999},{"$f":"Columns!O18","v":8.5000000000000006E-2},{"$f":"Columns!P18","v":0.35499999999999998},{"$f":"Columns!Q18","v":-2.149}]
[8,{"$f":"Columns!B19","v":200},{"$f":"Columns!C19","v":6.4000000000000001E-2},{"$f":"Columns!D19","v":0.214},{"$f":"Columns!E19","v":0.108},{"$f":"Columns!F19","v":0},{"$f":"Columns!G19","v":0.32900000000000001},{"$f":"Columns!H19","v":-2.6349999999999998},null,null,null,null,null,null,null,null,null,null,null,null,null,null,8,{"$f":"Columns!K19","v":200},{"$f":"Columns!L19","v":0.183},{"$f":"Columns!M19","v":0.45400000000000001},{"$f":"Columns!N19","v":0.222},{"$f":"Columns!O19","v":6.3E-2},{"$f":"Columns!P19","v":0.32100000000000001},{"$f":"Columns!Q19","v":-2.1429999999999998}]
[9,{"$f":"Columns!B20","v":220},{"$f":"Columns!C20","v":6.9000000000000006E-2},{"$f":"Columns!D20","v":0.20699999999999999},{"$f":"Columns!E20","v":9.7000000000000003E-2},{"$f":"Columns!F20","v":0},{"$f":"Columns!G20","v":0.29499999999999998},{"$f":"Columns!H20","v":-2.6320000000000001},null,null,null,null,null,null,null,null,null,null,null,null,null,null,9,{"$f":"Columns!K20","v":220},{"$f":"Columns!L20","v":0.185},{"$f":"Columns!M20","v":0.42499999999999999},{"$f":"Columns!N20","v":0.20599999999999999},{"$f":"Columns!O20","v":4.2999999999999997E-2},{"$f":"Columns!P20","v":0.29099999999999998},{"$f":"Columns!Q20","v":-2.141}]
[10,{"$f":"Columns!B21","v":240},{"$f":"Columns!C21","v":8.2000000000000003E-2},{"$f":"Columns!D21","v":0.191},{"$f":"Columns!E21","v":9.2999999999999999E-2},{"$f":"Columns!F21","v":0},{"$f":"Columns!G21","v":0.26700000000000002},{"$f":"Columns!H21","v":-2.629},null,null,null,null,null,null,null,null,null,null,null,null,null,null,10,{"$f":"Columns!K21","v":240},{"$f":"Columns!L21","v":0.188},{"$f":"Columns!M21","v":0.39300000000000002},{"$f":"Columns!N21","v":0.19400000000000001},{"$f":"Columns!O21","v":2.3E-2},{"$f":"Columns!P21","v":0.26700000000000002},{"$f":"Columns!Q21","v":-2.1480000000000001}]
[11,{"$f":"Columns!B22","v":260},{"$f":"Columns!C22","v":9.0999999999999998E-2},{"$f":"Columns!D22","v":0.2},{"$f":"Columns!E22","v":0.112},{"$f":"Columns!F22","v":0},{"$f":"Columns!G22","v":0.246},{"$f":"Columns!H22","v":-2.6890000000000001},null,null,null,null,null,null,null,null,null,null,null,null,null,null,11,{"$f":"Columns!K22","v":""},{"$f":"Columns!L22","v":""},{"$f":"Columns!M22","v":""},{"$f":"Columns!N22","v":""},{"$f":"Columns!O22","v":""},{"$f":"Columns!P22","v":""},{"$f":"Columns!Q22","v":""}]
[12,{"$f":"Columns!B23","v":280},{"$f":"Columns!C23","v":0.105},{"$f":"Columns!D23","v":0.16200000000000001},{"$f":"Columns!E23","v":0.112},{"$f":"Columns!F23","v":0},{"$f":"Columns!G23","v":0.22500000000000001},{"$f":"Columns!H23","v":-2.6789999999999998},null,null,null,null,null,null,null,null,null,null,null,null,null,null,12,{"$f":"Columns!K23","v":""},{"$f":"Columns!L23","v":""},{"$f":"Columns!M23","v":""},{"$f":"Columns!N23","v":""},{"$f":"Columns!O23","v":""},{"$f":"Columns!P23","v":""},{"$f":"Columns!Q23","v":""}]
[13,{"$f":"Columns!B24","v":300},{"$f":"Columns!C24","v":0.10100000000000001},{"$f":"Columns!D24","v":0.13700000000000001},{"$f":"Columns!E24","v":0.10199999999999999},{"$f":"Columns!F24","v":0},{"$f":"Columns!G24","v":0.21},{"$f":"Columns!H24","v":-2.645},null,null,null,null,null,null,null,null,null,null,null,null,null,null,13,{"$f":"Columns!K24","v":""},{"$f":"Columns!L24","v":""},{"$f":"Columns!M24","v":""},{"$f":"Columns!N24","v":""},{"$f":"Columns!O24","v":""},{"$f":"Columns!P24","v":""},{"$f":"Columns!Q24","v":""}]
[14,{"$f":"Columns!B25","v":""},{"$f":"Columns!C25","v":""},{"$f":"Columns!D25","v":""},{"$f":"Columns!E25","v":""},{"$f":"Columns!F25","v":""},{"$f":"Columns!G25","v":""},{"$f":"Columns!H25","v":""},null,null,null,null,null,null,null,null,null,null,null,null,null,null,14,{"$f":"Columns!K25","v":""},{"$f":"Columns!L25","v":""},{"$f":"Columns!M25","v":""},{"$f":"Columns!N25","v":""},{"$f":"Columns!O25","v":""},{"$f":"Columns!P25","v":""},{"$f":"Columns!Q25","v":""}]
[15,{"$f":"Columns!B26","v":""},{"$f":"Columns!C26","v":""},{"$f":"Columns!D26","v":""},{"$f":"Columns!E26","v":""},{"$f":"Columns!F26","v":""},{"$f":"Columns!G26","v":""},{"$f":"Columns!H26","v":""},null,null,null,null,null,null,null,null,null,null,null,null,null,null,15,{"$f":"Columns!K26","v":""},{"$f":"Columns!L26","v":""},{"$f":"Columns!M26","v":""},{"$f":"Columns!N26","v":""},{"$f":"Columns!O26","v":""},{"$f":"Columns!P26","v":""},{"$f":"Columns!Q26","v":""}]
[16,{"$f":"Columns!B27","v":""},{"$f":"Columns!C27","v":""},{"$f":"Columns!D27","v":""},{"$f":"Columns!E27","v":""},{"$f":"Columns!F27","v":""},{"$f":"Columns!G27","v":""},{"$f":"Columns!H27","v":""},null,null,null,null,null,null,null,null,null,null,null,null,null,null,16,{"$f":"Columns!K27","v":""},{"$f":"Columns!L27","v":""},{"$f":"Columns!M27","v":""},{"$f":"Columns!N27","v":""},{"$f":"Columns!O27","v":""},{"$f":"Columns!P27","v":""},{"$f":"Columns!Q27","v":""}]
[17,{"$f":"Columns!B28","v":""},{"$f":"Columns!C28","v":""},{"$f":"Columns!D28","v":""},{"$f":"Columns!E28","v":""},{"$f":"Columns!F28","v":""},{"$f":"Columns!G28","v":""},{"$f":"Columns!H28","v":""},null,null,null,null,null,null,null,null,null,null,null,null,null,null,17,{"$f":"Columns!K28","v":""},{"$f":"Columns!L28","v":""},{"$f":"Columns!M28","v":""},{"$f":"Columns!N28","v":""},{"$f":"Columns!O28","v":""},{"$f":"Columns!P28","v":""},{"$f":"Columns!Q28","v":""}]
[18,{"$f":"Columns!B29","v":""},{"$f":"Columns!C29","v":""},{"$f":"Columns!D29","v":""},{"$f":"Columns!E29","v":""},{"$f":"Columns!F29","v":""},{"$f":"Columns!G29","v":""},{"$f":"Columns!H29","v":""},null,null,null,null,null,null,null,null,null,null,null,null,null,null,18,{"$f":"Columns!K29","v":""},{"$f":"Columns!L29","v":""},{"$f":"Columns!M29","v":""},{"$f":"Columns!N29","v":""},{"$f":"Columns!O29","v":""},{"$f":"Columns!P29","v":""},{"$f":"Columns!Q29","v":""}]
[19,{"$f":"Columns!B30","v":""},{"$f":"Columns!C30","v":""},{"$f":"Columns!D30","v":""},{"$f":"Columns!E30","v":""},{"$f":"Columns!F30","v":""},{"$f":"Columns!G30","v":""},{"$f":"Columns!H30","v":""},null,null,null,null,null,null,null,null,null,null,null,null,null,null,19,{"$f":"Columns!K30","v":""},{"$f":"Columns!L30","v":""},{"$f":"Columns!M30","v":""},{"$f":"Columns!N30","v":""},{"$f":"Columns!O30","v":""},{"$f":"Columns!P30","v":""},{"$f":"Columns!Q30","v":""}]
[20,{"$f":"Columns!B31","v":""},{"$f":"Columns!C31","v":""},{"$f":"Columns!D31","v":""},{"$f":"Columns!E31","v":""},{"$f":"Columns!F31","v":""},{"$f":"Columns!G31","v":""},{"$f":"Columns!H31","v":""},null,null,null,null,null,null,null,null,null,null,null,null,null,null,20,{"$f":"Columns!K31","v":""},{"$f":"Columns!L31","v":""},{"$f":"Columns!M31","v":""},{"$f":"Columns!N31","v":""},{"$f":"Columns!O31","v":""},{"$f":"Columns!P31","v":""},{"$f":"Columns!Q31","v":""}]
[null,1,2,3,4,5,6,7,8,9,10,11,12,13,14,15,16,17,18,19,20]
["T",{"$f":"IF($B31<>\"\",$B31,NA())","v":60},{"$f":"IF($B32<>\"\",$B32,NA())","v":80},{"$f":"IF($B33<>\"\",$B33,NA())","v":100},{"$f":"IF($B34<>\"\",$B34,NA())","v":120},{"$f":"IF($B35<>\"\",$B35,NA())","v":140},{"$f":"IF($B36<>\"\",$B36,NA())","v":160},{"$f":"IF($B37<>\"\",$B37,NA())","v":180},{"$f":"IF($B38<>\"\",$B38,NA())","v":200},{"$f":"IF($B39<>\"\",$B39,NA())","v":220},{"$f":"IF($B40<>\"\",$B40,NA())","v":240},{"$f":"IF($B41<>\"\",$B41,NA())","v":260},{"$f":"IF($B42<>\"\",$B42,NA())","v":280},{"$f":"IF($B43<>\"\",$B43,NA())","v":300},{"$f":"IF($B44<>\"\",$B44,NA())","v":{"$error":"#N/A"}},{"$f":"IF($B45<>\"\",$B45,NA())","v":{"$error":"#N/A"}},{"$f":"IF($B46<>\"\",$B46,NA())","v":{"$error":"#N/A"}},{"$f":"IF($B47<>\"\",$B47,NA())","v":{"$error":"#N/A"}},{"$f":"IF($B48<>\"\",$B48,NA())","v":{"$error":"#N/A"}},{"$f":"IF($B49<>\"\",$B49,NA())","v":{"$error":"#N/A"}},{"$f":"IF($B50<>\"\",$B50,NA())","v":{"$error":"#N/A"}},null,"T",{"$f":"IF($X31<>\"\",$X31,NA())","v":60},{"$f":"IF($X32<>\"\",$X32,NA())","v":80},{"$f":"IF($X33<>\"\",$X33,NA())","v":100},{"$f":"IF($X34<>\"\",$X34,NA())","v":120},{"$f":"IF($X35<>\"\",$X35,NA())","v":140},{"$f":"IF($X36<>\"\",$X36,NA())","v":160},{"$f":"IF($X37<>\"\",$X37,NA())","v":180},{"$f":"IF($X38<>\"\",$X38,NA())","v":200},{"$f":"IF($X39<>\"\",$X39,NA())","v":220},{"$f":"IF($X40<>\"\",$X40,NA())","v":240},{"$f":"IF($X41<>\"\",$X41,NA())","v":{"$error":"#N/A"}},{"$f":"IF($X42<>\"\",$X42,NA())","v":{"$error":"#N/A"}},{"$f":"IF($X43<>\"\",$X43,NA())","v":{"$error":"#N/A"}},{"$f":"IF($X44<>\"\",$X44,NA())","v":{"$error":"#N/A"}},{"$f":"IF($X45<>\"\",$X45,NA())","v":{"$error":"#N/A"}},{"$f":"IF($X46<>\"\",$X46,NA())","v":{"$error":"#N/A"}},{"$f":"IF($X47<>\"\",$X47,NA())","v":{"$error":"#N/A"}},{"$f":"IF($X48<>\"\",$X48,NA())","v":{"$error":"#N/A"}},{"$f":"IF($X49<>\"\",$X49,NA())","v":{"$error":"#N/A"}},{"$f":"IF($X50<>\"\",$X50,NA())","v":{"$error":"#N/A"}}]
[1,{"$f":"IF($B7<>\"\",IF($B$31<>\"\",$D7*$C$31+$E7*$D$31+$F7*$E$31+$G7*$F$31+$H7*$G$31+$H$31,\"\"),NA())","v":1.3441320000000001},{"$f":"IF($B7<>\"\",IF($B$32<>\"\",$D7*$C$32+$E7*$D$32+$F7*$E$32+$G7*$F$32+$H7*$G$32+$H$32,\"\"),NA())","v":0.95959699999999981},{"$f":"IF($B7<>\"\",IF($B$33<>\"\",$D7*$C$33+$E7*$D$33+$F7*$E$33+$G7*$F$33+$H7*$G$33+$H$33,\"\"),NA())","v":0.62242800000000043},{"$f":"IF($B7<>\"\",IF($B$34<>\"\",$D7*$C$34+$E7*$D$34+$F7*$E$34+$G7*$F$34+$H7*$G$34+$H$34,\"\"),NA())","v":0.33948599999999995},{"$f":"IF($B7<>\"\",IF($B$35<>\"\",$D7*$C$35+$E7*$D$35+$F7*$E$35+$G7*$F$35+$H7*$G$35+$H$35,\"\"),NA())","v":0.10430500000000009},{"$f":"IF($B7<>\"\",IF($B$36<>\"\",$D7*$C$36+$E7*$D$36+$F7*$E$36+$G7*$F$36+$H7*$G$36+$H$36,\"\"),NA())","v":-0.767258},{"$f":"IF($B7<>\"\",IF($B$37<>\"\",$D7*$C$37+$E7*$D$37+$F7*$E$37+$G7*$F$37+$H7*$G$37+$H$37,\"\"),NA())","v":-0.93982499999999991},{"$f":"IF($B7<>\"\",IF($B$38<>\"\",$D7*$C$38+$E7*$D$38+$F7*$E$38+$G7*$F$38+$H7*$G$38+$H$38,\"\"),NA())","v":-1.0925229999999997},{"$f":"IF($B7<>\"\",IF($B$39<>\"\",$D7*$C$39+$E7*$D$39+$F7*$E$39+$G7*$F$39+$H7*$G$39+$H$39,\"\"),NA())","v":-1.2282940000000002},{"$f":"IF($B7<>\"\",IF($B$40<>\"\",$D7*$C$40+$E7*$D$40+$F7*$E$40+$G7*$F$40+$H7*$G$40+$H$40,\"\"),NA())","v":-1.337164},{"$f":"IF($B7<>\"\",IF($B$41<>\"\",$D7*$C$41+$E7*$D$41+$F7*$E$41+$G7*$F$41+$H7*$G$41+$H$41,\"\"),NA())","v":-1.4493},{"$f":"IF($B7<>\"\",IF($B$42<>\"\",$D7*$C$42+$E7*$D$42+$F7*$E$42+$G7*$F$42+$H7*$G$42+$H$42,\"\"),NA())","v":-1.5380449999999999},{"$f":"IF($B7<>\"\",IF($B$43<>\"\",$D7*$C$43+$E7*$D$43+$F7*$E$43+$G7*$F$43+$H7*$G$43+$H$43,\"\"),NA())","v":-1.5907359999999999},{"$f":"IF($B7<>\"\",IF($B$44<>\"\",$D7*$C$44+$E7*$D$44+$F7*$E$44+$G7*$F$44+$H7*$G$44+$H$44,\"\"),NA())","v":""},{"$f":"IF($B7<>\"\",IF($B$45<>\"\",$D7*$C$45+$E7*$D$45+$F7*$E$45+$G7*$F$45+$H7*$G$45+$H$45,\"\"),NA())","v":""},{"$f":"IF($B7<>\"\",IF($B$46<>\"\",$D7*$C$46+$E7*$D$46+$F7*$E$46+$G7*$F$46+$H7*$G$46+$H$46,\"\"),NA())","v":""},{"$f":"IF($B7<>\"\",IF($B$47<>\"\",$D7*$C$47+$E7*$D$47+$F7*$E$47+$G7*$F$47+$H7*$G$47+$H$47,\"\"),NA())","v":""},{"$f":"IF($B7<>\"\",IF($B$48<>\"\",$D7*$C$48+$E7*$D$48+$F7*$E$48+$G7*$F$48+$H7*$G$48+$H$48,\"\"),NA())","v":""},{"$f":"IF($B7<>\"\",IF($B$49<>\"\",$D7*$C$49+$E7*$D$49+$F7*$E$49+$G7*$F$49+$H7*$G$49+$H$49,\"\"),NA())","v":""},{"$f":"IF($B7<>\"\",IF($B$50<>\"\",$D7*$C$50+$E7*$D$50+$F7*$E$50+$G7*$F$50+$H7*$G$50+$H$50,\"\"),NA())","v":""},null,1,{"$f":"IF($B7<>\"\",IF($X$31<>\"\",$D7*$Y$31+$E7*$Z$31+$F7*$AA$31+$G7*$AB$31+$H7*$AC$31+$AD$31,\"\"),NA())","v":1.355944},{"$f":"IF($B7<>\"\",IF($X$32<>\"\",$D7*$Y$32+$E7*$Z$32+$F7*$AA$32+$G7*$AB$32+$H7*$AC$32+$AD$32,\"\"),NA())","v":0.96948100000000048},{"$f":"IF($B7<>\"\",IF($X$33<>\"\",$D7*$Y$33+$E7*$Z$33+$F7*$AA$33+$G7*$AB$33+$H7*$AC$33+$AD$33,\"\"),NA())","v":0.6169750000000005},{"$f":"IF($B7<>\"\",IF($X$34<>\"\",$D7*$Y$34+$E7*$Z$34+$F7*$AA$34+$G7*$AB$34+$H7*$AC$34+$AD$34,\"\"),NA())","v":0.31704700000000008},{"$f":"IF($B7<>\"\",IF($X$35<>\"\",$D7*$Y$35+$E7*$Z$35+$F7*$AA$35+$G7*$AB$35+$H7*$AC$35+$AD$35,\"\"),NA())","v":4.2335999999999707E-2},{"$f":"IF($B7<>\"\",IF($X$36<>\"\",$D7*$Y$36+$E7*$Z$36+$F7*$AA$36+$G7*$AB$36+$H7*$AC$36+$AD$36,\"\"),NA())","v":0.11281800000000031},{"$f":"IF($B7<>\"\",IF($X$37<>\"\",$D7*$Y$37+$E7*$Z$37+$F7*$AA$37+$G7*$AB$37+$H7*$AC$37+$AD$37,\"\"),NA())","v":-8.5421000000000191E-2},{"$f":"IF($B7<>\"\",IF($X$38<>\"\",$D7*$Y$38+$E7*$Z$38+$F7*$AA$38+$G7*$AB$38+$H7*$AC$38+$AD$38,\"\"),NA())","v":-0.25198199999999948},{"$f":"IF($B7<>\"\",IF($X$39<>\"\",$D7*$Y$39+$E7*$Z$39+$F7*$AA$39+$G7*$AB$39+$H7*$AC$39+$AD$39,\"\"),NA())","v":-0.40279800000000021},{"$f":"IF($B7<>\"\",IF($X$40<>\"\",$D7*$Y$40+$E7*$Z$40+$F7*$AA$40+$G7*$AB$40+$H7*$AC$40+$AD$40,\"\"),NA())","v":-0.53850400000000009},{"$f":"IF($B7<>\"\",IF($X$41<>\"\",$D7*$Y$41+$E7*$Z$41+$F7*$AA$41+$G7*$AB$41+$H7*$AC$41+$AD$41,\"\"),NA())","v":""},{"$f":"IF($B7<>\"\",IF($X$42<>\"\",$D7*$Y$42+$E7*$Z$42+$F7*$AA$42+$G7*$AB$42+$H7*$AC$42+$AD$42,\"\"),NA())","v":""},{"$f":"IF($B7<>\"\",IF($X$43<>\"\",$D7*$Y$43+$E7*$Z$43+$F7*$AA$43+$G7*$AB$43+$H7*$AC$43+$AD$43,\"\"),NA())","v":""},{"$f":"IF($B7<>\"\",IF($X$44<>\"\",$D7*$Y$44+$E7*$Z$44+$F7*$AA$44+$G7*$AB$44+$H7*$AC$44+$AD$44,\"\"),NA())","v":""},{"$f":"IF($B7<>\"\",IF($X$45<>\"\",$D7*$Y$45+$E7*$Z$45+$F7*$AA$45+$G7*$AB$45+$H7*$AC$45+$AD$45,\"\"),NA())","v":""},{"$f":"IF($B7<>\"\",IF($X$46<>\"\",$D7*$Y$46+$E7*$Z$46+$F7*$AA$46+$G7*$AB$46+$H7*$AC$46+$AD$46,\"\"),NA())","v":""},{"$f":"IF($B7<>\"\",IF($X$47<>\"\",$D7*$Y$47+$E7*$Z$47+$F7*$AA$47+$G7*$AB$47+$H7*$AC$47+$AD$47,\"\"),NA())","v":""},{"$f":"IF($B7<>\"\",IF($X$48<>\"\",$D7*$Y$48+$E7*$Z$48+$F7*$AA$48+$G7*$AB$48+$H7*$AC$48+$AD$48,\"\"),NA())","v":""},{"$f":"IF($B7<>\"\",IF($X$49<>\"\",$D7*$Y$49+$E7*$Z$49+$F7*$AA$49+$G7*$AB$49+$H7*$AC$49+$AD$49,\"\"),NA())","v":""},{"$f":"IF($B7<>\"\",IF($X$50<>\"\",$D7*$Y$50+$E7*$Z$50+$F7*$AA$50+$G7*$AB$50+$H7*$AC$50+$AD$50,\"\"),NA())","v":""}]
[2,1.4087159999999996,1.0262469999999999,0.70221500000000003,0.4449219999999996,0.19819399999999998,-0.67199199999999992,-0.85589400000000015,-1.0107629999999999,-1.1498390000000003,-1.2688220000000001,-1.3970750000000001,-1.5048539999999999,-1.5629840000000002,"","","","","","","",null,2,1.5413250000000001,1.1463079999999999,0.79054299999999955,0.48970599999999997,0.21861599999999992,0.21265000000000001,7.0829999999997284E-3,-0.16958599999999979,-0.32728300000000043,-0.47230400000000028,"","","","","","","","","",""]
[3,1.4070249999999995,1.0314559999999997,0.70918199999999998,0.45657600000000009,0.21727000000000007,-0.66480800000000007,-0.84489000000000036,-0.99522499999999958,-1.1381730000000003,-1.255779,-1.3892040000000001,-1.4876669999999999,-1.5422960000000001,"","","","","","","",null,3,1.3776199999999998,1.0030809999999999,0.66757800000000023,0.38204800000000017,0.12375899999999973,0.1478900000000003,-4.4699000000000044E-2,-0.21304499999999971,-0.36495900000000026,-0.5019490000000002,"","","","","","","","","",""]
[4,1.6253249999999997,1.2136090000000002,0.85219700000000009,0.55905399999999972,0.30557200000000018,-0.59194000000000013,-0.77983800000000025,-0.94390699999999983,-1.0944190000000003,-1.2147780000000001,-1.3388270000000002,-1.4352259999999999,-1.493703,"","","","","","","",null,4,1.5971889999999997,1.1953959999999997,0.82888099999999953,0.51779400000000031,0.23358299999999943,0.27097900000000008,6.1887000000000025E-2,-0.11736999999999975,-0.27971800000000013,-0.42425900000000016,"","","","","","","","","",""]
[5,2.0109839999999992,1.5517230000000002,1.1489079999999998,0.82785799999999998,0.54366500000000029,-0.38081399999999999,-0.59146700000000019,-0.77662599999999982,-0.94466500000000031,-1.080497,-1.2141120000000001,-1.3236219999999999,-1.3905989999999999,"","","","","","","",null,5,1.9948679999999999,1.5559360000000004,1.1533149999999996,0.8134030000000001,0.50362799999999952,0.48821500000000029,0.25530300000000006,5.5649999999999977E-2,-0.12430699999999995,-0.28364300000000009,"","","","","","","","","",""]
[6,2.2579109999999996,1.7948459999999999,1.3931709999999999,1.097108,0.80157100000000048,-0.14821799999999996,-0.37304899999999996,-0.55832999999999977,-0.73830300000000015,-0.886158,-1.0367730000000002,-1.163589,-1.2426850000000003,"","","","","","","",null,6,2.3827990000000008,1.9379190000000004,1.5322520000000002,1.1921670000000004,0.88548899999999975,0.81413500000000028,0.57096599999999986,0.34841200000000017,0.14828799999999998,-3.0893000000000281E-2,"","","","","","","","","",""]
[7,2.5046459999999997,1.9995609999999997,1.5594560000000002,1.2249819999999998,0.90619700000000014,-5.1153999999999922E-2,-0.29001700000000019,-0.49349099999999968,-0.67973400000000028,-0.83434000000000008,-0.9764280000000003,-1.1127409999999998,-1.1995980000000002,"","","","","","","",null,7,2.7704159999999995,2.2808249999999997,1.8282349999999998,1.4508870000000007,1.1095499999999996,0.94674799999999992,0.68164699999999989,0.45424600000000037,0.25104799999999994,6.9605999999999835E-2,"","","","","","","","","",""]
[8,2.8358500000000002,2.2712000000000003,1.7844000000000004,1.4178000000000002,1.0580000000000003,6.1600000000000321E-2,-0.20740000000000025,-0.44714999999999971,-0.67025000000000001,-0.85344999999999982,-1.0530999999999999,-1.1827499999999997,-1.2484999999999999,"","","","","","","",null,8,2.1637,1.68465,1.2549000000000001,0.88930000000000042,0.55994999999999973,0.46780000000000044,0.21174999999999988,-8.3499999999996355E-3,-0.20585000000000009,-0.37244999999999995,"","","","","","","","","",""]
[9,3.1739609999999998,2.6105989999999997,2.1181169999999998,1.768866,1.4097760000000004,0.38408800000000065,0.10945599999999978,-0.11799999999999944,-0.34207199999999993,-0.52488499999999982,-0.70209499999999991,-0.85420499999999966,-0.95332799999999995,"","","","","","","",null,9,3.2610490000000003,2.7478170000000008,2.2757609999999997,1.8827060000000007,1.5288509999999995,1.3050160000000006,1.0206339999999998,0.76407900000000062,0.53370799999999985,0.33237700000000014,"","","","","","","","","",""]
[10,3.4755869999999995,2.868709,2.3376739999999998,1.9559740000000003,1.5705550000000001,0.52911799999999998,0.23666899999999957,-1.002799999999926E-2,-0.24531500000000017,-0.4388510000000001,-0.61635600000000013,-0.77959599999999973,-0.88646200000000008,"","","","","","","",null,10,3.638944,3.0854780000000006,2.5726649999999993,2.1471590000000003,1.7637689999999999,1.5055180000000004,1.1952639999999999,0.918161,0.6702849999999998,0.45309700000000008,"","","","","","","","","",""]
[11,3.9546769999999998,3.3211909999999989,2.756316,2.3656499999999996,1.9682750000000002,0.87727000000000022,0.57090499999999977,0.32208199999999998,7.0858999999999561E-2,-0.1300349999999999,-0.3011860000000004,-0.47594799999999982,-0.60636000000000001,"","","","","","","",null,11,4.4497939999999989,3.8685299999999994,3.3220669999999992,2.8726989999999999,2.4664469999999996,2.1063300000000003,1.776313,1.4757020000000001,1.2051699999999999,0.96866399999999997,"","","","","","","","","",""]
[12,{"$error":"#N/A"},{"$error":"#N/A"},{"$error":"#N/A"},{"$error":"#N/A"},{"$error":"#N/A"},{"$error":"#N/A"},{"$error":"#N/A"},{"$error":"#N/A"},{"$error":"#N/A"},{"$error":"#N/A"},{"$error":"#N/A"},{"$error":"#N/A"},{"$error":"#N/A"},{"$error":"#N/A"},{"$error":"#N/A"},{"$error":"#N/A"},{"$error":"#N/A"},{"$error":"#N/A"},{"$error":"#N/A"},{"$error":"#N/A"},null,12,{"$error":"#N/A"},{"$error":"#N/A"},{"$error":"#N/A"},{"$error":"#N/A"},{"$error":"#N/A"},{"$error":"#N/A"},{"$error":"#N/A"},{"$error":"#N/A"},{"$error":"#N/A"},{"$error":"#N/A"},{"$error":"#N/A"},{"$error":"#N/A"},{"$error":"#N/A"},{"$error":"#N/A"},{"$error":"#N/A"},{"$error":"#N/A"},{"$error":"#N/A"},{"$error":"#N/A"},{"$error":"#N/A"},{"$error":"#N/A"}]
[13,{"$error":"#N/A"},{"$error":"#N/A"},{"$error":"#N/A"},{"$error":"#N/A"},{"$error":"#N/A"},{"$error":"#N/A"},{"$error":"#N/A"},{"$error":"#N/A"},{"$error":"#N/A"},{"$error":"#N/A"},{"$error":"#N/A"},{"$error":"#N/A"},{"$error":"#N/A"},{"$error":"#N/A"},{"$error":"#N/A"},{"$error":"#N/A"},{"$error":"#N/A"},{"$error":"#N/A"},{"$error":"#N/A"},{"$error":"#N/A"},null,13,{"$error":"#N/A"},{"$error":"#N/A"},{"$error":"#N/A"},{"$error":"#N/A"},{"$error":"#N/A"},{"$error":"#N/A"},{"$error":"#N/A"},{"$error":"#N/A"},{"$error":"#N/A"},{"$error":"#N/A"},{"$error":"#N/A"},{"$error":"#N/A"},{"$error":"#N/A"},{"$error":"#N/A"},{"$error":"#N/A"},{"$error":"#N/A"},{"$error":"#N/A"},{"$error":"#N/A"},{"$error":"#N/A"},{"$error":"#N/A"}]
[14,{"$error":"#N/A"},{"$error":"#N/A"},{"$error":"#N/A"},{"$error":"#N/A"},{"$error":"#N/A"},{"$error":"#N/A"},{"$error":"#N/A"},{"$error":"#N/A"},{"$error":"#N/A"},{"$error":"#N/A"},{"$error":"#N/A"},{"$error":"#N/A"},{"$error":"#N/A"},{"$error":"#N/A"},{"$error":"#N/A"},{"$error":"#N/A"},{"$error":"#N/A"},{"$error":"#N/A"},{"$error":"#N/A"},{"$error":"#N/A"},null,14,{"$error":"#N/A"},{"$error":"#N/A"},{"$error":"#N/A"},{"$error":"#N/A"},{"$error":"#N/A"},{"$error":"#N/A"},{"$error":"#N/A"},{"$error":"#N/A"},{"$error":"#N/A"},{"$error":"#N/A"},{"$error":"#N/A"},{"$error":"#N/A"},{"$error":"#N/A"},{"$error":"#N/A"},{"$error":"#N/A"},{"$error":"#N/A"},{"$error":"#N/A"},{"$error":"#N/A"},{"$error":"#N/A"},{"$error":"#N/A"}]
[15,{"$error":"#N/A"},{"$error":"#N/A"},{"$error":"#N/A"},{"$error":"#N/A"},{"$error":"#N/A"},{"$error":"#N/A"},{"$error":"#N/A"},{"$error":"#N/A"},{"$error":"#N/A"},{"$error":"#N/A"},{"$error":"#N/A"},{"$error":"#N/A"},{"$error":"#N/A"},{"$error":"#N/A"},{"$error":"#N/A"},{"$error":"#N/A"},{"$error":"#N/A"},{"$error":"#N/A"},{"$error":"#N/A"},{"$error":"#N/A"},null,15,{"$error":"#N/A"},{"$error":"#N/A"},{"$error":"#N/A"},{"$error":"#N/A"},{"$error":"#N/A"},{"$error":"#N/A"},{"$error":"#N/A"},{"$error":"#N/A"},{"$error":"#N/A"},{"$error":"#N/A"},{"$error":"#N/A"},{"$error":"#N/A"},{"$error":"#N/A"},{"$error":"#N/A"},{"$error":"#N/A"},{"$error":"#N/A"},{"$error":"#N/A"},{"$error":"#N/A"},{"$error":"#N/A"},{"$error":"#N/A"}]
[16,{"$error":"#N/A"},{"$error":"#N/A"},{"$error":"#N/A"},{"$error":"#N/A"},{"$error":"#N/A"},{"$error":"#N/A"},{"$error":"#N/A"},{"$error":"#N/A"},{"$error":"#N/A"},{"$error":"#N/A"},{"$error":"#N/A"},{"$error":"#N/A"},{"$error":"#N/A"},{"$error":"#N/A"},{"$error":"#N/A"},{"$error":"#N/A"},{"$error":"#N/A"},{"$error":"#N/A"},{"$error":"#N/A"},{"$error":"#N/A"},null,16,{"$error":"#N/A"},{"$error":"#N/A"},{"$error":"#N/A"},{"$error":"#N/A"},{"$error":"#N/A"},{"$error":"#N/A"},{"$error":"#N/A"},{"$error":"#N/A"},{"$error":"#N/A"},{"$error":"#N/A"},{"$error":"#N/A"},{"$error":"#N/A"},{"$error":"#N/A"},{"$error":"#N/A"},{"$error":"#N/A"},{"$error":"#N/A"},{"$error":"#N/A"},{"$error":"#N/A"},{"$error":"#N/A"},{"$error":"#N/A"}]
[17,{"$error":"#N/A"},{"$error":"#N/A"},{"$error":"#N/A"},{"$error":"#N/A"},{"$error":"#N/A"},{"$error":"#N/A"},{"$error":"#N/A"},{"$error":"#N/A"},{"$error":"#N/A"},{"$error":"#N/A"},{"$error":"#N/A"},{"$error":"#N/A"},{"$error":"#N/A"},{"$error":"#N/A"},{"$error":"#N/A"},{"$error":"#N/A"},{"$error":"#N/A"},{"$error":"#N/A"},{"$error":"#N/A"},{"$error":"#N/A"},null,17,{"$error":"#N/A"},{"$error":"#N/A"},{"$error":"#N/A"},{"$error":"#N/A"},{"$error":"#N/A"},{"$error":"#N/A"},{"$error":"#N/A"},{"$error":"#N/A"},{"$error":"#N/A"},{"$error":"#N/A"},{"$error":"#N/A"},{"$error":"#N/A"},{"$error":"#N/A"},{"$error":"#N/A"},{"$error":"#N/A"},{"$error":"#N/A"},{"$error":"#N/A"},{"$error":"#N/A"},{"$error":"#N/A"},{"$error":"#N/A"}]
[18,{"$error":"#N/A"},{"$error":"#N/A"},{"$error":"#N/A"},{"$error":"#N/A"},{"$error":"#N/A"},{"$error":"#N/A"},{"$error":"#N/A"},{"$error":"#N/A"},{"$error":"#N/A"},{"$error":"#N/A"},{"$error":"#N/A"},{"$error":"#N/A"},{"$error":"#N/A"},{"$error":"#N/A"},{"$error":"#N/A"},{"$error":"#N/A"},{"$error":"#N/A"},{"$error":"#N/A"},{"$error":"#N/A"},{"$error":"#N/A"},null,18,{"$error":"#N/A"},{"$error":"#N/A"},{"$error":"#N/A"},{"$error":"#N/A"},{"$error":"#N/A"},{"$error":"#N/A"},{"$error":"#N/A"},{"$error":"#N/A"},{"$error":"#N/A"},{"$error":"#N/A"},{"$error":"#N/A"},{"$error":"#N/A"},{"$error":"#N/A"},{"$error":"#N/A"},{"$error":"#N/A"},{"$error":"#N/A"},{"$error":"#N/A"},{"$error":"#N/A"},{"$error":"#N/A"},{"$error":"#N/A"}]
[19,{"$error":"#N/A"},{"$error":"#N/A"},{"$error":"#N/A"},{"$error":"#N/A"},{"$error":"#N/A"},{"$error":"#N/A"},{"$error":"#N/A"},{"$error":"#N/A"},{"$error":"#N/A"},{"$error":"#N/A"},{"$error":"#N/A"},{"$error":"#N/A"},{"$error":"#N/A"},{"$error":"#N/A"},{"$error":"#N/A"},{"$error":"#N/A"},{"$error":"#N/A"},{"$error":"#N/A"},{"$error":"#N/A"},{"$error":"#N/A"},null,19,{"$error":"#N/A"},{"$error":"#N/A"},{"$error":"#N/A"},{"$error":"#N/A"},{"$error":"#N/A"},{"$error":"#N/A"},{"$error":"#N/A"},{"$error":"#N/A"},{"$error":"#N/A"},{"$error":"#N/A"},{"$error":"#N/A"},{"$error":"#N/A"},{"$error":"#N/A"},{"$error":"#N/A"},{"$error":"#N/A"},{"$error":"#N/A"},{"$error":"#N/A"},{"$error":"#N/A"},{"$error":"#N/A"},{"$error":"#N/A"}]
[20,{"$error":"#N/A"},{"$error":"#N/A"},{"$error":"#N/A"},{"$error":"#N/A"},{"$error":"#N/A"},{"$error":"#N/A"},{"$error":"#N/A"},{"$error":"#N/A"},{"$error":"#N/A"},{"$error":"#N/A"},{"$error":"#N/A"},{"$error":"#N/A"},{"$error":"#N/A"},{"$error":"#N/A"},{"$error":"#N/A"},{"$error":"#N/A"},{"$error":"#N/A"},{"$error":"#N/A"},{"$error":"#N/A"},{"$error":"#N/A"},null,20,{"$error":"#N/A"},{"$error":"#N/A"},{"$error":"#N/A"},{"$error":"#N/A"},{"$error":"#N/A"},{"$error":"#N/A"},{"$error":"#N/A"},{"$error":"#N/A"},{"$error":"#N/A"},{"$error":"#N/A"},{"$error":"#N/A"},{"$error":"#N/A"},{"$error":"#N/A"},{"$error":"#N/A"},{"$error":"#N/A"},{"$error":"#N/A"},{"$error":"#N/A"},{"$error":"#N/A"},{"$error":"#N/A"},{"$error":"#N/A"}]
[]
[]
[null,null,null,null,null,null,null,null,null,"Linear fit"]
[]
[null,null,null,null,null,null,null,null,null,"Comp.# 1-11"]
[]
[]
[]
[]
[]
[]
[]
[]
[]
[]
[]
[]
[]
[]
[]
[]
[]
[]
[]
[null,null,null,null,null,null,null,null,null,"Quadratic fit"]
[]
[null,null,null,null,null,null,null,null,null,"Comp. # 1-11"]
[]
[]
[]
[]
[]
[]
[]
[]
[]
[]
[]
[]
[]
[]
[]
[]
[]
[]
[]
[]
["Indicator",{"$f":"IF(ISNUMBER(B52),1,0)","v":1},1,1,1,1,1,1,1,1,1,{"$f":"IF(ISNUMBER(L52),1,0)","v":1},1,1,0,0,0,0,0,0,0,null,"Indicator",{"$f":"IF(ISNUMBER(X52),1,0)","v":1},1,1,1,1,1,1,1,{"$f":"IF(ISNUMBER(AF52),1,0)","v":1},1,{"$f":"IF(ISNUMBER(AH52),1,0)","v":0},0,0,0,0,0,0,0,0,0]
["x",{"$f":"IF(B120=1,B52,0)","v":60},80,100,120,140,160,180,200,220,240,{"$f":"IF(L120=1,L52,0)","v":260},280,300,0,0,0,0,0,0,0,null,"x",{"$f":"IF(X120=1,X52,0)","v":60},80,100,120,140,160,180,200,{"$f":"IF(AF120=1,AF52,0)","v":220},240,{"$f":"IF(AH120=1,AH52,0)","v":0},0,0,0,0,0,0,0,0,0]
["x^2",{"$f":"IF(B120=1,B121^2,0)","v":3600},{"$f":"IF(C120=1,C121^2,0)","v":6400},10000,14400,19600,25600,32400,40000,48400,57600,{"$f":"IF(L120=1,L121^2,0)","v":67600},78400,90000,0,0,0,0,0,0,0,null,"x^2",{"$f":"IF(X120=1,X121^2,0)","v":3600},{"$f":"IF(Y120=1,Y121^2,0)","v":6400},10000,14400,19600,25600,32400,40000,48400,57600,{"$f":"IF(AH120=1,AH121^2,0)","v":0},0,0,0,0,0,0,0,0,0]
["x^3",{"$f":"IF(B120=1,B121*B122,0)","v":216000},{"$f":"IF(C120=1,C121*C122,0)","v":512000},1000000,1728000,2744000,4096000,5832000,8000000,10648000,13824000,{"$f":"IF(L120=1,L121*L122,0)","v":17576000},21952000,27000000,0,0,0,0,0,0,0,null,"x^3",{"$f":"IF(X120=1,X121*X122,0)","v":216000},{"$f":"IF(Y120=1,Y121*Y122,0)","v":512000},1000000,1728000,2744000,4096000,5832000,8000000,10648000,13824000,{"$f":"IF(AH120=1,AH121*AH122,0)","v":0},0,0,0,0,0,0,0,0,0]
[{"$f":"A53","v":1},{"$f":"IF(B$120=1,B53,0)","v":1.3441320000000001},0.95959699999999981,0.62242800000000043,0.33948599999999995,0.10430500000000009,-0.767258,-0.93982499999999991,-1.0925229999999997,-1.2282940000000002,{"$f":"IF(K$120=1,K53,0)","v":-1.337164},{"$f":"IF(L$120=1,L53,0)","v":-1.4493},-1.5380449999999999,-1.5907359999999999,0,0,0,0,0,0,0,null,{"$f":"W53","v":1},{"$f":"IF(X$120=1,X53,0)","v":1.355944},0.96948100000000048,0.6169750000000005,0.31704700000000008,4.2335999999999707E-2,0.11281800000000031,-8.5421000000000191E-2,-0.25198199999999948,-0.40279800000000021,-0.53850400000000009,{"$f":"IF(AH$120=1,AH53,0)","v":0},0,0,0,0,0,0,0,0,0]
[2,1.4087159999999996,1.0262469999999999,0.70221500000000003,0.4449219999999996,0.19819399999999998,-0.67199199999999992,-0.85589400000000015,-1.0107629999999999,-1.1498390000000003,-1.2688220000000001,{"$f":"IF(L$120=1,L54,0)","v":-1.3970750000000001},-1.5048539999999999,-1.5629840000000002,0,0,0,0,0,0,0,null,2,1.5413250000000001,1.1463079999999999,0.79054299999999955,0.48970599999999997,0.21861599999999992,0.21265000000000001,7.0829999999997284E-3,-0.16958599999999979,-0.32728300000000043,-0.47230400000000028,{"$f":"IF(AH$120=1,AH54,0)","v":0},0,0,0,0,0,0,0,0,0]
[3,1.4070249999999995,1.0314559999999997,0.70918199999999998,0.45657600000000009,0.21727000000000007,-0.66480800000000007,-0.84489000000000036,-0.99522499999999958,-1.1381730000000003,-1.255779,{"$f":"IF(L$120=1,L55,0)","v":-1.3892040000000001},-1.4876669999999999,-1.5422960000000001,0,0,0,0,0,0,0,null,3,1.3776199999999998,1.0030809999999999,0.66757800000000023,0.38204800000000017,0.12375899999999973,0.1478900000000003,-4.4699000000000044E-2,-0.21304499999999971,-0.36495900000000026,-0.5019490000000002,{"$f":"IF(AH$120=1,AH55,0)","v":0},0,0,0,0,0,0,0,0,0]
[4,1.6253249999999997,1.2136090000000002,0.85219700000000009,0.55905399999999972,0.30557200000000018,-0.59194000000000013,-0.77983800000000025,-0.94390699999999983,-1.0944190000000003,-1.2147780000000001,{"$f":"IF(L$120=1,L56,0)","v":-1.3388270000000002},-1.4352259999999999,-1.493703,0,0,0,0,0,0,0,null,4,1.5971889999999997,1.1953959999999997,0.82888099999999953,0.51779400000000031,0.23358299999999943,0.27097900000000008,6.1887000000000025E-2,-0.11736999999999975,-0.27971800000000013,-0.42425900000000016,{"$f":"IF(AH$120=1,AH56,0)","v":0},0,0,0,0,0,0,0,0,0]
[5,2.0109839999999992,1.5517230000000002,1.1489079999999998,0.82785799999999998,0.54366500000000029,-0.38081399999999999,-0.59146700000000019,-0.77662599999999982,-0.94466500000000031,-1.080497,{"$f":"IF(L$120=1,L57,0)","v":-1.2141120000000001},-1.3236219999999999,-1.3905989999999999,0,0,0,0,0,0,0,null,5,1.9948679999999999,1.5559360000000004,1.1533149999999996,0.8134030000000001,0.50362799999999952,0.48821500000000029,0.25530300000000006,5.5649999999999977E-2,-0.12430699999999995,-0.28364300000000009,{"$f":"IF(AH$120=1,AH57,0)","v":0},0,0,0,0,0,0,0,0,0]
[6,2.2579109999999996,1.7948459999999999,1.3931709999999999,1.097108,0.80157100000000048,-0.14821799999999996,-0.37304899999999996,-0.55832999999999977,-0.73830300000000015,-0.886158,{"$f":"IF(L$120=1,L58,0)","v":-1.0367730000000002},-1.163589,-1.2426850000000003,0,0,0,0,0,0,0,null,6,2.3827990000000008,1.9379190000000004,1.5322520000000002,1.1921670000000004,0.88548899999999975,0.81413500000000028,0.57096599999999986,0.34841200000000017,0.14828799999999998,-3.0893000000000281E-2,{"$f":"IF(AH$120=1,AH58,0)","v":0},0,0,0,0,0,0,0,0,0]
[7,2.5046459999999997,1.9995609999999997,1.5594560000000002,1.2249819999999998,0.90619700000000014,-5.1153999999999922E-2,-0.29001700000000019,-0.49349099999999968,-0.67973400000000028,-0.83434000000000008,{"$f":"IF(L$120=1,L59,0)","v":-0.9764280000000003},-1.1127409999999998,-1.1995980000000002,0,0,0,0,0,0,0,null,7,2.7704159999999995,2.2808249999999997,1.8282349999999998,1.4508870000000007,1.1095499999999996,0.94674799999999992,0.68164699999999989,0.45424600000000037,0.25104799999999994,6.9605999999999835E-2,{"$f":"IF(AH$120=1,AH59,0)","v":0},0,0,0,0,0,0,0,0,0]
[8,2.8358500000000002,2.2712000000000003,1.7844000000000004,1.4178000000000002,1.0580000000000003,6.1600000000000321E-2,-0.20740000000000025,-0.44714999999999971,-0.67025000000000001,-0.85344999999999982,{"$f":"IF(L$120=1,L60,0)","v":-1.0530999999999999},-1.1827499999999997,-1.2484999999999999,0,0,0,0,0,0,0,null,8,2.1637,1.68465,1.2549000000000001,0.88930000000000042,0.55994999999999973,0.46780000000000044,0.21174999999999988,-8.3499999999996355E-3,-0.20585000000000009,-0.37244999999999995,{"$f":"IF(AH$120=1,AH60,0)","v":0},0,0,0,0,0,0,0,0,0]
[9,3.1739609999999998,2.6105989999999997,2.1181169999999998,1.768866,1.4097760000000004,0.38408800000000065,0.10945599999999978,-0.11799999999999944,-0.34207199999999993,-0.52488499999999982,{"$f":"IF(L$120=1,L61,0)","v":-0.70209499999999991},-0.85420499999999966,-0.95332799999999995,0,0,0,0,0,0,0,null,9,3.2610490000000003,2.7478170000000008,2.2757609999999997,1.8827060000000007,1.5288509999999995,1.3050160000000006,1.0206339999999998,0.76407900000000062,0.53370799999999985,0.33237700000000014,{"$f":"IF(AH$120=1,AH61,0)","v":0},0,0,0,0,0,0,0,0,0]
[10,{"$f":"IF(B$120=1,B62,0)","v":3.4755869999999995},2.868709,2.3376739999999998,1.9559740000000003,1.5705550000000001,0.52911799999999998,0.23666899999999957,-1.002799999999926E-2,-0.24531500000000017,-0.4388510000000001,{"$f":"IF(L$120=1,L62,0)","v":-0.61635600000000013},-0.77959599999999973,-0.88646200000000008,0,0,0,0,0,0,0,null,10,3.638944,3.0854780000000006,2.5726649999999993,2.1471590000000003,1.7637689999999999,1.5055180000000004,1.1952639999999999,0.918161,0.6702849999999998,0.45309700000000008,{"$f":"IF(AH$120=1,AH62,0)","v":0},0,0,0,0,0,0,0,0,0]
[11,{"$f":"IF(B$120=1,B63,0)","v":3.9546769999999998},3.3211909999999989,2.756316,2.3656499999999996,1.9682750000000002,0.87727000000000022,0.57090499999999977,0.32208199999999998,7.0858999999999561E-2,-0.1300349999999999,{"$f":"IF(L$120=1,L63,0)","v":-0.3011860000000004},-0.47594799999999982,-0.60636000000000001,0,0,0,0,0,0,0,null,11,4.4497939999999989,3.8685299999999994,3.3220669999999992,2.8726989999999999,2.4664469999999996,2.1063300000000003,1.776313,1.4757020000000001,1.2051699999999999,0.96866399999999997,{"$f":"IF(AH$120=1,AH63,0)","v":0},0,0,0,0,0,0,0,0,0]
[12,{"$error":"#N/A"},{"$error":"#N/A"},{"$error":"#N/A"},{"$error":"#N/A"},{"$error":"#N/A"},{"$error":"#N/A"},{"$error":"#N/A"},{"$error":"#N/A"},{"$error":"#N/A"},{"$error":"#N/A"},{"$f":"IF(L$120=1,L64,0)","v":{"$error":"#N/A"}},{"$error":"#N/A"},{"$error":"#N/A"},0,0,0,0,0,0,0,null,12,{"$error":"#N/A"},{"$error":"#N/A"},{"$error":"#N/A"},{"$error":"#N/A"},{"$error":"#N/A"},{"$error":"#N/A"},{"$error":"#N/A"},{"$error":"#N/A"},{"$error":"#N/A"},{"$error":"#N/A"},{"$f":"IF(AH$120=1,AH64,0)","v":0},0,0,0,0,0,0,0,0,0]
[13,{"$error":"#N/A"},{"$error":"#N/A"},{"$error":"#N/A"},{"$error":"#N/A"},{"$error":"#N/A"},{"$error":"#N/A"},{"$error":"#N/A"},{"$error":"#N/A"},{"$error":"#N/A"},{"$error":"#N/A"},{"$f":"IF(L$120=1,L65,0)","v":{"$error":"#N/A"}},{"$error":"#N/A"},{"$error":"#N/A"},0,0,0,0,0,0,0,null,13,{"$error":"#N/A"},{"$error":"#N/A"},{"$error":"#N/A"},{"$error":"#N/A"},{"$error":"#N/A"},{"$error":"#N/A"},{"$error":"#N/A"},{"$error":"#N/A"},{"$error":"#N/A"},{"$error":"#N/A"},{"$f":"IF(AH$120=1,AH65,0)","v":0},0,0,0,0,0,0,0,0,0]
[14,{"$error":"#N/A"},{"$error":"#N/A"},{"$error":"#N/A"},{"$error":"#N/A"},{"$error":"#N/A"},{"$error":"#N/A"},{"$error":"#N/A"},{"$error":"#N/A"},{"$error":"#N/A"},{"$error":"#N/A"},{"$f":"IF(L$120=1,L66,0)","v":{"$error":"#N/A"}},{"$error":"#N/A"},{"$error":"#N/A"},0,0,0,0,0,0,0,null,14,{"$error":"#N/A"},{"$error":"#N/A"},{"$error":"#N/A"},{"$error":"#N/A"},{"$error":"#N/A"},{"$error":"#N/A"},{"$error":"#N/A"},{"$error":"#N/A"},{"$error":"#N/A"},{"$error":"#N/A"},{"$f":"IF(AH$120=1,AH66,0)","v":0},0,0,0,0,0,0,0,0,0]
[15,{"$error":"#N/A"},{"$error":"#N/A"},{"$error":"#N/A"},{"$error":"#N/A"},{"$error":"#N/A"},{"$error":"#N/A"},{"$error":"#N/A"},{"$error":"#N/A"},{"$error":"#N/A"},{"$error":"#N/A"},{"$f":"IF(L$120=1,L67,0)","v":{"$error":"#N/A"}},{"$error":"#N/A"},{"$error":"#N/A"},0,0,0,0,0,0,0,null,15,{"$error":"#N/A"},{"$error":"#N/A"},{"$error":"#N/A"},{"$error":"#N/A"},{"$error":"#N/A"},{"$error":"#N/A"},{"$error":"#N/A"},{"$error":"#N/A"},{"$error":"#N/A"},{"$error":"#N/A"},{"$f":"IF(AH$120=1,AH67,0)","v":0},0,0,0,0,0,0,0,0,0]
[16,{"$error":"#N/A"},{"$error":"#N/A"},{"$error":"#N/A"},{"$error":"#N/A"},{"$error":"#N/A"},{"$error":"#N/A"},{"$error":"#N/A"},{"$error":"#N/A"},{"$error":"#N/A"},{"$error":"#N/A"},{"$f":"IF(L$120=1,L68,0)","v":{"$error":"#N/A"}},{"$error":"#N/A"},{"$error":"#N/A"},0,0,0,0,0,0,0,null,16,{"$error":"#N/A"},{"$error":"#N/A"},{"$error":"#N/A"},{"$error":"#N/A"},{"$error":"#N/A"},{"$error":"#N/A"},{"$error":"#N/A"},{"$error":"#N/A"},{"$error":"#N/A"},{"$error":"#N/A"},{"$f":"IF(AH$120=1,AH68,0)","v":0},0,0,0,0,0,0,0,0,0]
[17,{"$error":"#N/A"},{"$error":"#N/A"},{"$error":"#N/A"},{"$error":"#N/A"},{"$error":"#N/A"},{"$error":"#N/A"},{"$error":"#N/A"},{"$error":"#N/A"},{"$error":"#N/A"},{"$error":"#N/A"},{"$f":"IF(L$120=1,L69,0)","v":{"$error":"#N/A"}},{"$error":"#N/A"},{"$error":"#N/A"},0,0,0,0,0,0,0,null,17,{"$f":"IF(X$120=1,X69,0)","v":{"$error":"#N/A"}},{"$error":"#N/A"},{"$error":"#N/A"},{"$error":"#N/A"},{"$error":"#N/A"},{"$error":"#N/A"},{"$error":"#N/A"},{"$error":"#N/A"},{"$error":"#N/A"},{"$error":"#N/A"},{"$f":"IF(AH$120=1,AH69,0)","v":0},0,0,0,0,0,0,0,0,0]
[18,{"$error":"#N/A"},{"$error":"#N/A"},{"$error":"#N/A"},{"$error":"#N/A"},{"$error":"#N/A"},{"$error":"#N/A"},{"$error":"#N/A"},{"$error":"#N/A"},{"$error":"#N/A"},{"$error":"#N/A"},{"$f":"IF(L$120=1,L70,0)","v":{"$error":"#N/A"}},{"$error":"#N/A"},{"$error":"#N/A"},0,0,0,0,0,0,0,null,18,{"$error":"#N/A"},{"$error":"#N/A"},{"$error":"#N/A"},{"$error":"#N/A"},{"$error":"#N/A"},{"$error":"#N/A"},{"$error":"#N/A"},{"$error":"#N/A"},{"$error":"#N/A"},{"$error":"#N/A"},{"$f":"IF(AH$120=1,AH70,0)","v":0},0,0,0,0,0,0,0,0,0]
[19,{"$error":"#N/A"},{"$error":"#N/A"},{"$error":"#N/A"},{"$error":"#N/A"},{"$error":"#N/A"},{"$error":"#N/A"},{"$error":"#N/A"},{"$error":"#N/A"},{"$error":"#N/A"},{"$error":"#N/A"},{"$f":"IF(L$120=1,L71,0)","v":{"$error":"#N/A"}},{"$error":"#N/A"},{"$error":"#N/A"},0,0,0,0,0,0,0,null,19,{"$error":"#N/A"},{"$error":"#N/A"},{"$error":"#N/A"},{"$error":"#N/A"},{"$error":"#N/A"},{"$error":"#N/A"},{"$error":"#N/A"},{"$error":"#N/A"},{"$error":"#N/A"},{"$error":"#N/A"},{"$f":"IF(AH$120=1,AH71,0)","v":0},0,0,0,0,0,0,0,0,0]
[20,{"$error":"#N/A"},{"$error":"#N/A"},{"$error":"#N/A"},{"$error":"#N/A"},{"$error":"#N/A"},{"$error":"#N/A"},{"$error":"#N/A"},{"$error":"#N/A"},{"$error":"#N/A"},{"$error":"#N/A"},{"$f":"IF(L$120=1,L72,0)","v":{"$error":"#N/A"}},{"$error":"#N/A"},{"$error":"#N/A"},0,0,0,0,0,0,0,null,20,{"$error":"#N/A"},{"$error":"#N/A"},{"$error":"#N/A"},{"$error":"#N/A"},{"$error":"#N/A"},{"$error":"#N/A"},{"$error":"#N/A"},{"$error":"#N/A"},{"$error":"#N/A"},{"$error":"#N/A"},{"$f":"IF(AH$120=1,AH72,0)","v":0},0,0,0,0,0,0,0,0,0]
[]
["Polynomial input for macros Column 1",null,null,null,null,null,null,null,null,null,null,null,null,null,null,null,null,null,null,null,null,null,"Polynomial input for macros Column 1"]
["o=3","x3","x2","x","c","o=2","x2","x","c","0=1","x","c",null,null,null,null,null,null,null,null,null,null,"o=3","x3","x2","x","c","o=2","x2","x","c","0=1","x","c"]
[null,{"$f":"LINEST(B124:U124,B$120:U$123,TRUE,FALSE)","v":1.5258133012820443E-7},-3.2292740696802824E-5,-1.7479887708125273E-2,2.516613135864139,null,{"$f":"LINEST(B124:U124,B$120:U$122,TRUE,FALSE)","v":5.0101177572427574E-5},-3.0784979695304658E-2,3.1318210589410542,null,{"$f":"LINEST(B124:U124,B$120:U$121,TRUE,FALSE)","v":-1.2748555769230759E-2},1.7891094999999988,null,null,null,null,null,null,null,null,null,null,null,{"$f":"LINEST(X124:AQ124,X$120:AQ$123,TRUE,FALSE)","v":-4.4460691045066173E-7},2.4133749417249497E-4,-4.9523579846542452E-2,3.5764088121212128,null,{"$f":"LINEST(X124:AQ124,X$120:AQ$122,TRUE,FALSE)","v":4.1264384469696819E-5},-2.2118009886363605E-2,2.4666699636363631,null,{"$f":"LINEST(X124:AQ124,X$120:AQ$121,TRUE,FALSE)","v":-9.7386945454545504E-3},1.6743937818181829]
[null,{"$f":"LINEST(B125:U125,B$120:U$123,TRUE,FALSE)","v":1.6055896707459199E-7},-3.994111794455539E-5,-1.5761397381784902E-2,2.4989092597402616,null,{"$f":"LINEST(B125:U125,B$120:U$122,TRUE,FALSE)","v":4.6760724275724213E-5},-2.9762139310689259E-2,3.1462830149850096,null,{"$f":"LINEST(B125:U125,B$120:U$121,TRUE,FALSE)","v":-1.2928278571428571E-2},1.893095604395604,null,null,null,null,null,null,null,null,null,null,null,{"$f":"LINEST(X125:AQ125,X$120:AQ$123,TRUE,FALSE)","v":-3.7161820124320346E-7},2.0715042540792652E-4,-4.5396027894328027E-2,3.6146934666666679,null,{"$f":"LINEST(X125:AQ125,X$120:AQ$122,TRUE,FALSE)","v":3.9922234848484777E-5},-2.2489481969696967E-2,2.6871344363636385,null,{"$f":"LINEST(X125:AQ125,X$120:AQ$121,TRUE,FALSE)","v":-1.0512811515151524E-2},1.9206275272727289]
[null,{"$f":"LINEST(B126:U126,B$120:U$123,TRUE,FALSE)","v":1.6959476981351912E-7},-4.5053194930069547E-5,-1.4835984149184212E-2,2.4577570419580446,null,{"$f":"LINEST(B126:U126,B$120:U$122,TRUE,FALSE)","v":4.6527980769230739E-5},-2.962464807692303E-2,3.1415631538461484,null,{"$f":"LINEST(B126:U126,B$120:U$121,TRUE,FALSE)","v":-1.2874574999999992E-2},1.8946132692307682,null,null,null,null,null,null,null,null,null,null,null,{"$f":"LINEST(X126:AQ126,X$120:AQ$123,TRUE,FALSE)","v":-3.8917900155400356E-7},2.127924256993019E-4,-4.503047312548579E-2,3.4136687333333371,null,{"$f":"LINEST(X126:AQ126,X$120:AQ$122,TRUE,FALSE)","v":3.7661874999999943E-5},-2.1041479469696971E-2,2.4422779454545478,null,{"$f":"LINEST(X126:AQ126,X$120:AQ$121,TRUE,FALSE)","v":-9.7429169696969676E-3},1.719169945454545]
[null,{"$f":"LINEST(B127:U127,B$120:U$123,TRUE,FALSE)","v":1.5425761217948752E-7},-3.1431640546953205E-5,-1.8736378175990664E-2,2.8672387682317688,null,{"$f":"LINEST(B127:U127,B$120:U$122,TRUE,FALSE)","v":5.1867470029970041E-5},-3.2187641958041933E-2,3.4892054605394573,null,{"$f":"LINEST(B127:U127,B$120:U$121,TRUE,FALSE)","v":-1.351535274725274E-2},2.0991572637362634,null,null,null,null,null,null,null,null,null,null,null,{"$f":"LINEST(X127:AQ127,X$120:AQ$123,TRUE,FALSE)","v":-4.236128108003133E-7},2.3229370046620179E-4,-4.9090786460761635E-2,3.8176349575757609,null,{"$f":"LINEST(X127:AQ127,X$120:AQ$122,TRUE,FALSE)","v":4.1667935606060602E-5},-2.2979292803030328E-2,2.760297381818186,null,{"$f":"LINEST(X127:AQ127,X$120:AQ$121,TRUE,FALSE)","v":-1.0478912121212132E-2},1.9602730181818202]
[null,{"$f":"LINEST(B128:U128,B$120:U$123,TRUE,FALSE)","v":1.4674770541957981E-7},-2.351495723026942E-5,-2.1918672714785269E-2,3.4147730149850171,null,{"$f":"LINEST(B128:U128,B$120:U$122,TRUE,FALSE)","v":5.5728803696303579E-5},-3.4715072627372563E-2,4.0064597632367569,null,{"$f":"LINEST(B128:U128,B$120:U$121,TRUE,FALSE)","v":-1.4652703296703288E-2},2.5129278241758231,null,null,null,null,null,null,null,null,null,null,null,{"$f":"LINEST(X128:AQ128,X$120:AQ$123,TRUE,FALSE)","v":-3.9504975233100378E-7},2.2273595862470932E-4,-4.9793373513986078E-2,4.2835968909090889,null,{"$f":"LINEST(X128:AQ128,X$120:AQ$122,TRUE,FALSE)","v":4.4963570075757443E-5},-2.5442506780302996E-2,3.2975527090909078,null,{"$f":"LINEST(X128:AQ128,X$120:AQ$121,TRUE,FALSE)","v":-1.1953435757575764E-2},2.4342521636363652]
[null,{"$f":"LINEST(B129:U129,B$120:U$123,TRUE,FALSE)","v":1.5875590034964877E-7},-3.2391554070928192E-5,-2.0455251348651504E-2,3.5989975824175904,null,{"$f":"LINEST(B129:U129,B$120:U$122,TRUE,FALSE)","v":5.3336632117882051E-5},-3.4298765859140802E-2,4.2391013726273661,null,{"$f":"LINEST(B129:U129,B$120:U$121,TRUE,FALSE)","v":-1.5097578296703293E-2},2.8096796318681312,null,null,null,null,null,null,null,null,null,null,null,{"$f":"LINEST(X129:AQ129,X$120:AQ$123,TRUE,FALSE)","v":-3.5869150641026099E-7},2.0227567599067812E-4,-4.7128124796037563E-2,4.5719004000000067,null,{"$f":"LINEST(X129:AQ129,X$120:AQ$122,TRUE,FALSE)","v":4.0864498106060434E-5},-2.5018380340909068E-2,3.6766064000000012,null,{"$f":"LINEST(X129:AQ129,X$120:AQ$121,TRUE,FALSE)","v":-1.275903090909091E-2},2.8920080363636367]
[null,{"$f":"LINEST(B130:U130,B$120:U$123,TRUE,FALSE)","v":1.3891539189976574E-7},-1.6878803384115225E-5,-2.4673238540626159E-2,4.0490611398601457,null,{"$f":"LINEST(B130:U130,B$120:U$122,TRUE,FALSE)","v":5.81355082417582E-5},-3.6786660714285664E-2,4.6091679999999933,null,{"$f":"LINEST(B130:U130,B$120:U$121,TRUE,FALSE)","v":-1.5857877747252749E-2},3.0511363791208796,null,null,null,null,null,null,null,null,null,null,null,{"$f":"LINEST(X130:AQ130,X$120:AQ$123,TRUE,FALSE)","v":-2.7018898115773667E-7},1.7081423659673931E-4,-4.5925084897047753E-2,4.9791946787878896,null,{"$f":"LINEST(X130:AQ130,X$120:AQ$122,TRUE,FALSE)","v":4.9229195075757372E-5},-2.9270636098484817E-2,4.3048029818181828,null,{"$f":"LINEST(X130:AQ130,X$120:AQ$121,TRUE,FALSE)","v":-1.4501877575757582E-2},3.3596024363636379]
[null,{"$f":"LINEST(B131:U131,B$120:U$123,TRUE,FALSE)","v":1.6025276806526731E-7},-2.4631212537462133E-5,-2.5868137695637783E-2,4.4627638861138923,null,{"$f":"LINEST(B131:U131,B$120:U$122,TRUE,FALSE)","v":6.1905282217782182E-5},-3.9842179070929032E-2,5.1089030469530421,null,{"$f":"LINEST(B131:U131,B$120:U$121,TRUE,FALSE)","v":-1.7556277472527471E-2},3.4498414835164835,null,null,null,null,null,null,null,null,null,null,null,{"$f":"LINEST(X131:AQ131,X$120:AQ$123,TRUE,FALSE)","v":-3.3332604895105515E-7},1.977656614219145E-4,-4.8361717657343074E-2,4.4364081818181953,null,{"$f":"LINEST(X131:AQ131,X$120:AQ$122,TRUE,FALSE)","v":4.7768939393939265E-5},-2.7815499999999979E-2,3.6044263636363651,null,{"$f":"LINEST(X131:AQ131,X$120:AQ$121,TRUE,FALSE)","v":-1.3484818181818188E-2},2.6872627272727287]
[null,{"$f":"LINEST(B132:U132,B$120:U$123,TRUE,FALSE)","v":1.5087372523309991E-7},-2.013585882867118E-5,-2.6577402243589766E-2,4.8345171748251756,null,{"$f":"LINEST(B132:U132,B$120:U$122,TRUE,FALSE)","v":6.1335952797202743E-5},-3.9733591083916033E-2,5.4428400349650303,null,{"$f":"LINEST(B132:U132,B$120:U$121,TRUE,FALSE)","v":-1.7652648076923069E-2},3.7990364999999997,null,null,null,null,null,null,null,null,null,null,null,{"$f":"LINEST(X132:AQ132,X$120:AQ$123,TRUE,FALSE)","v":-2.3522668997669043E-7},1.5356297639860183E-4,-4.4638502942890498E-2,5.4422521636363621,null,{"$f":"LINEST(X132:AQ132,X$120:AQ$122,TRUE,FALSE)","v":4.7710965909090703E-5},-3.013912977272724E-2,4.8551263454545479,null,{"$f":"LINEST(X132:AQ132,X$120:AQ$121,TRUE,FALSE)","v":-1.5825840000000018E-2},3.9390758000000035]
[null,{"$f":"LINEST(B133:U133,B$120:U$123,TRUE,FALSE)","v":1.3723466637529142E-7},-8.5671619005994429E-6,-3.0194768061105565E-2,5.3143123516483524,null,{"$f":"LINEST(B133:U133,B$120:U$122,TRUE,FALSE)","v":6.5539557942057881E-5},-4.2161630969030917E-2,5.8676425264735208,null,{"$f":"LINEST(B133:U133,B$120:U$121,TRUE,FALSE)","v":-1.8567390109890107E-2},4.1111823736263728,null,null,null,null,null,null,null,null,null,null,null,{"$f":"LINEST(X133:AQ133,X$120:AQ$123,TRUE,FALSE)","v":-2.3012516996892404E-7},1.553416389860159E-4,-4.6982760742035952E-2,5.9530421515151524,null,{"$f":"LINEST(X133:AQ133,X$120:AQ$122,TRUE,FALSE)","v":5.1785312499999998E-5},-3.2797845265151539E-2,5.3786497272727312,null,{"$f":"LINEST(X133:AQ133,X$120:AQ$121,TRUE,FALSE)","v":-1.7262251515151532E-2},4.3843717272727307]
[null,{"$f":"LINEST(B134:U134,B$120:U$123,TRUE,FALSE)","v":1.3263945949883239E-7},-3.2970788586401861E-6,-3.2377880790043494E-2,5.9089367932068031,null,{"$f":"LINEST(B134:U134,B$120:U$122,TRUE,FALSE)","v":6.8328229270729287E-5},-4.3944041658341627E-2,6.443739093906089,null,{"$f":"LINEST(B134:U134,B$120:U$121,TRUE,FALSE)","v":-1.9345879120879109E-2},4.6125425494505476,null,null,null,null,null,null,null,null,null,null,null,{"$f":"LINEST(X134:AQ134,X$120:AQ$123,TRUE,FALSE)","v":-1.4540294774670186E-7},1.1867218822844008E-4,-4.3981802282439975E-2,6.6933578121212127,null,{"$f":"LINEST(X134:AQ134,X$120:AQ$122,TRUE,FALSE)","v":5.3240861742424081E-5},-3.5019164583333318E-2,6.3304320545454562,null,{"$f":"LINEST(X134:AQ134,X$120:AQ$121,TRUE,FALSE)","v":-1.9046906060606075E-2},5.308207509090912]
[null,{"$f":"LINEST(B135:U135,B$120:U$123,TRUE,FALSE)","v":{"$error":"#VALUE!"}},{"$error":"#VALUE!"},{"$error":"#VALUE!"},{"$error":"#VALUE!"},null,{"$f":"LINEST(B135:U135,B$120:U$122,TRUE,FALSE)","v":{"$error":"#VALUE!"}},{"$error":"#VALUE!"},{"$error":"#VALUE!"},null,{"$f":"LINEST(B135:U135,B$120:U$121,TRUE,FALSE)","v":{"$error":"#VALUE!"}},{"$error":"#VALUE!"},null,null,null,null,null,null,null,null,null,null,null,{"$f":"LINEST(X135:AQ135,X$120:AQ$123,TRUE,FALSE)","v":{"$error":"#VALUE!"}},{"$error":"#VALUE!"},{"$error":"#VALUE!"},{"$error":"#VALUE!"},null,{"$f":"LINEST(X135:AQ135,X$120:AQ$122,TRUE,FALSE)","v":{"$error":"#VALUE!"}},{"$error":"#VALUE!"},{"$error":"#VALUE!"},null,{"$f":"LINEST(X135:AQ135,X$120:AQ$121,TRUE,FALSE)","v":{"$error":"#VALUE!"}},{"$error":"#VALUE!"}]
[null,{"$f":"LINEST(B136:U136,B$120:U$123,TRUE,FALSE)","v":{"$error":"#VALUE!"}},{"$error":"#VALUE!"},{"$error":"#VALUE!"},{"$error":"#VALUE!"},null,{"$f":"LINEST(B136:U136,B$120:U$122,TRUE,FALSE)","v":{"$error":"#VALUE!"}},{"$error":"#VALUE!"},{"$error":"#VALUE!"},null,{"$f":"LINEST(B136:U136,B$120:U$121,TRUE,FALSE)","v":{"$error":"#VALUE!"}},{"$error":"#VALUE!"},null,null,null,null,null,null,null,null,null,null,null,{"$f":"LINEST(X136:AQ136,X$120:AQ$123,TRUE,FALSE)","v":{"$error":"#VALUE!"}},{"$error":"#VALUE!"},{"$error":"#VALUE!"},{"$error":"#VALUE!"},null,{"$f":"LINEST(X136:AQ136,X$120:AQ$122,TRUE,FALSE)","v":{"$error":"#VALUE!"}},{"$error":"#VALUE!"},{"$error":"#VALUE!"},null,{"$f":"LINEST(X136:AQ136,X$120:AQ$121,TRUE,FALSE)","v":{"$error":"#VALUE!"}},{"$error":"#VALUE!"}]
[null,{"$f":"LINEST(B137:U137,B$120:U$123,TRUE,FALSE)","v":{"$error":"#VALUE!"}},{"$error":"#VALUE!"},{"$error":"#VALUE!"},{"$error":"#VALUE!"},null,{"$f":"LINEST(B137:U137,B$120:U$122,TRUE,FALSE)","v":{"$error":"#VALUE!"}},{"$error":"#VALUE!"},{"$error":"#VALUE!"},null,{"$f":"LINEST(B137:U137,B$120:U$121,TRUE,FALSE)","v":{"$error":"#VALUE!"}},{"$error":"#VALUE!"},null,null,null,null,null,null,null,null,null,null,null,{"$f":"LINEST(X137:AQ137,X$120:AQ$123,TRUE,FALSE)","v":{"$error":"#VALUE!"}},{"$error":"#VALUE!"},{"$error":"#VALUE!"},{"$error":"#VALUE!"},null,{"$f":"LINEST(X137:AQ137,X$120:AQ$122,TRUE,FALSE)","v":{"$error":"#VALUE!"}},{"$error":"#VALUE!"},{"$error":"#VALUE!"},null,{"$f":"LINEST(X137:AQ137,X$120:AQ$121,TRUE,FALSE)","v":{"$error":"#VALUE!"}},{"$error":"#VALUE!"}]
[null,{"$f":"LINEST(B138:U138,B$120:U$123,TRUE,FALSE)","v":{"$error":"#VALUE!"}},{"$error":"#VALUE!"},{"$error":"#VALUE!"},{"$error":"#VALUE!"},null,{"$f":"LINEST(B138:U138,B$120:U$122,TRUE,FALSE)","v":{"$error":"#VALUE!"}},{"$error":"#VALUE!"},{"$error":"#VALUE!"},null,{"$f":"LINEST(B138:U138,B$120:U$121,TRUE,FALSE)","v":{"$error":"#VALUE!"}},{"$error":"#VALUE!"},null,null,null,null,null,null,null,null,null,null,null,{"$f":"LINEST(X138:AQ138,X$120:AQ$123,TRUE,FALSE)","v":{"$error":"#VALUE!"}},{"$error":"#VALUE!"},{"$error":"#VALUE!"},{"$error":"#VALUE!"},null,{"$f":"LINEST(X138:AQ138,X$120:AQ$122,TRUE,FALSE)","v":{"$error":"#VALUE!"}},{"$error":"#VALUE!"},{"$error":"#VALUE!"},null,{"$f":"LINEST(X138:AQ138,X$120:AQ$121,TRUE,FALSE)","v":{"$error":"#VALUE!"}},{"$error":"#VALUE!"}]
[null,{"$f":"LINEST(B139:U139,B$120:U$123,TRUE,FALSE)","v":{"$error":"#VALUE!"}},{"$error":"#VALUE!"},{"$error":"#VALUE!"},{"$error":"#VALUE!"},null,{"$f":"LINEST(B139:U139,B$120:U$122,TRUE,FALSE)","v":{"$error":"#VALUE!"}},{"$error":"#VALUE!"},{"$error":"#VALUE!"},null,{"$f":"LINEST(B139:U139,B$120:U$121,TRUE,FALSE)","v":{"$error":"#VALUE!"}},{"$error":"#VALUE!"},null,null,null,null,null,null,null,null,null,null,null,{"$f":"LINEST(X139:AQ139,X$120:AQ$123,TRUE,FALSE)","v":{"$error":"#VALUE!"}},{"$error":"#VALUE!"},{"$error":"#VALUE!"},{"$error":"#VALUE!"},null,{"$f":"LINEST(X139:AQ139,X$120:AQ$122,TRUE,FALSE)","v":{"$error":"#VALUE!"}},{"$error":"#VALUE!"},{"$error":"#VALUE!"},null,{"$f":"LINEST(X139:AQ139,X$120:AQ$121,TRUE,FALSE)","v":{"$error":"#VALUE!"}},{"$error":"#VALUE!"}]
[null,{"$f":"LINEST(B140:U140,B$120:U$123,TRUE,FALSE)","v":{"$error":"#VALUE!"}},{"$error":"#VALUE!"},{"$error":"#VALUE!"},{"$error":"#VALUE!"},null,{"$f":"LINEST(B140:U140,B$120:U$122,TRUE,FALSE)","v":{"$error":"#VALUE!"}},{"$error":"#VALUE!"},{"$error":"#VALUE!"},null,{"$f":"LINEST(B140:U140,B$120:U$121,TRUE,FALSE)","v":{"$error":"#VALUE!"}},{"$error":"#VALUE!"},null,null,null,null,null,null,null,null,null,null,null,{"$f":"LINEST(X140:AQ140,X$120:AQ$123,TRUE,FALSE)","v":{"$error":"#VALUE!"}},{"$error":"#VALUE!"},{"$error":"#VALUE!"},{"$error":"#VALUE!"},null,{"$f":"LINEST(X140:AQ140,X$120:AQ$122,TRUE,FALSE)","v":{"$error":"#VALUE!"}},{"$error":"#VALUE!"},{"$error":"#VALUE!"},null,{"$f":"LINEST(X140:AQ140,X$120:AQ$121,TRUE,FALSE)","v":{"$error":"#VALUE!"}},{"$error":"#VALUE!"}]
[null,{"$f":"LINEST(B141:U141,B$120:U$123,TRUE,FALSE)","v":{"$error":"#VALUE!"}},{"$error":"#VALUE!"},{"$error":"#VALUE!"},{"$error":"#VALUE!"},null,{"$f":"LINEST(B141:U141,B$120:U$122,TRUE,FALSE)","v":{"$error":"#VALUE!"}},{"$error":"#VALUE!"},{"$error":"#VALUE!"},null,{"$f":"LINEST(B141:U141,B$120:U$121,TRUE,FALSE)","v":{"$error":"#VALUE!"}},{"$error":"#VALUE!"},null,null,null,null,null,null,null,null,null,null,null,{"$f":"LINEST(X141:AQ141,X$120:AQ$123,TRUE,FALSE)","v":{"$error":"#VALUE!"}},{"$error":"#VALUE!"},{"$error":"#VALUE!"},{"$error":"#VALUE!"},null,{"$f":"LINEST(X141:AQ141,X$120:AQ$122,TRUE,FALSE)","v":{"$error":"#VALUE!"}},{"$error":"#VALUE!"},{"$error":"#VALUE!"},null,{"$f":"LINEST(X141:AQ141,X$120:AQ$121,TRUE,FALSE)","v":{"$error":"#VALUE!"}},{"$error":"#VALUE!"}]
[null,{"$f":"LINEST(B142:U142,B$120:U$123,TRUE,FALSE)","v":{"$error":"#VALUE!"}},{"$error":"#VALUE!"},{"$error":"#VALUE!"},{"$error":"#VALUE!"},null,{"$f":"LINEST(B142:U142,B$120:U$122,TRUE,FALSE)","v":{"$error":"#VALUE!"}},{"$error":"#VALUE!"},{"$error":"#VALUE!"},null,{"$f":"LINEST(B142:U142,B$120:U$121,TRUE,FALSE)","v":{"$error":"#VALUE!"}},{"$error":"#VALUE!"},null,null,null,null,null,null,null,null,null,null,null,{"$f":"LINEST(X142:AQ142,X$120:AQ$123,TRUE,FALSE)","v":{"$error":"#VALUE!"}},{"$error":"#VALUE!"},{"$error":"#VALUE!"},{"$error":"#VALUE!"},null,{"$f":"LINEST(X142:AQ142,X$120:AQ$122,TRUE,FALSE)","v":{"$error":"#VALUE!"}},{"$error":"#VALUE!"},{"$error":"#VALUE!"},null,{"$f":"LINEST(X142:AQ142,X$120:AQ$121,TRUE,FALSE)","v":{"$error":"#VALUE!"}},{"$error":"#VALUE!"}]
[null,{"$f":"LINEST(B143:U143,B$120:U$123,TRUE,FALSE)","v":{"$error":"#VALUE!"}},{"$error":"#VALUE!"},{"$error":"#VALUE!"},{"$error":"#VALUE!"},null,{"$f":"LINEST(B143:U143,B$120:U$122,TRUE,FALSE)","v":{"$error":"#VALUE!"}},{"$error":"#VALUE!"},{"$error":"#VALUE!"},null,{"$f":"LINEST(B143:U143,B$120:U$121,TRUE,FALSE)","v":{"$error":"#VALUE!"}},{"$error":"#VALUE!"},null,null,null,null,null,null,null,null,null,null,null,{"$f":"LINEST(X143:AQ143,X$120:AQ$123,TRUE,FALSE)","v":{"$error":"#VALUE!"}},{"$error":"#VALUE!"},{"$error":"#VALUE!"},{"$error":"#VALUE!"},null,{"$f":"LINEST(X143:AQ143,X$120:AQ$122,TRUE,FALSE)","v":{"$error":"#VALUE!"}},{"$error":"#VALUE!"},{"$error":"#VALUE!"},null,{"$f":"LINEST(X143:AQ143,X$120:AQ$121,TRUE,FALSE)","v":{"$error":"#VALUE!"}},{"$error":"#VALUE!"}]
[]
[]
[]
[]
[]
[]
[]
[]
[]
[]
[]
[]
[]
[]
[]
[]
[]
[]
[]
[]
[]
[]
[]
[]
[]
[]
[]
[]
[]
[]
[]
[]
[]
[]
[]
[]
[]
[]
[null,{"$f":"B76-B183","v":0}]

{"sheet":"Compounds","index":2,"n_rows":518,"n_cols":21,"rows_kept":518,"cut":false,"hidden":false,"merged":[]}
["ChromSimGC_4.0",null,null,null,null,null,null,null,null,null,null," Author: Bo Svensmark, svensmark@plen.ku.dk, Analytical Chemistry, PLEN KU 2017-2026",null,null,null,null,null,null,null,null,"Rules for replacing or adding compounds"]
[null,null,null,null,null,null,null,null,null,null,null,"This sheet is proteted. To unprotect go to Review and click Unprotect sheet"]
[null,"451 organic compounds",null,null,null,null,null,null,null,null,null,null,null,null,null,null,null,null,null,null,"1) Fill in all columns: Analyte to L (columns after L are optional and are not used by the workbook)"]
[null,"42 of which are PFAS",null,null,null,null,null,null,null,null,null,null,null,null,null,null,null,null,null,null,"2) Replace compounds or add at the end "]
[null,"For naming of PFAS see Ref. 6)",null,null,null,null,null,null,null,null,null,null,null,null,null,null,null,null,null,null,"3) Data starts in cell B11 (name of first compound)"]
[null,null,null,null,null,null,null,null,null,null,null,null,null,null,null,null,null,null,null,null,"4) No blank rows in the table"]
[null,null,null,null,null,null,null,null,null,null,null,null,null,null,null,null,null,null,null,null,"5) ALL DATA MUST BE SORTED IN ASCENDING ORDER A->Z"]
[null,null,null,null,null,null,null,null,null,null,null,null,null,null,null,null,null,null,null,null,"6) Max 600 compounds (or formula has to be updated)"]
[null,"Table 1",null,null,null,null,null,null,null,null,null,"Table 2"]
[null,"Analyte (Alphabetic order)","E","S","A","B","V","L",null,"Ref",null,"Analytes according to type",null,null,null,null,null,"References"]
[1,"(Methacryloxypropyl)trimethoxy-silane",4.8000000000000001E-2,0.85799999999999998,0,1.02,null,6.2149999999999999,null,"1)",null,null,null,null,null,null,"1)","Sanka N. Atapattua, Kimberly Eggersa, Colin F. Poolea,.,Waruna Kiridenab, WladyslawW. Koziol"]
[2,"1,1,2,2-Tetrachloroethane",0.59599999999999997,0.71099999999999997,0.20399999999999999,0.126,0.88,3.8140000000000001,null,"7)",null,"n-Alkanes",null,null,null,null,null,"Extension of the system constants database for open-tubular columns: System"]
[3,"1,2,3-Trimethylbenzene",0.72799999999999998,0.53400000000000003,0,0.17799999999999999,1.1391,4.2060000000000004,null,"7)",null,null,"2-Methylbutane",null,null,null,null,"maps at low and intermediate temperatures for four new columns"]
[4,"1,2,4,5-Tetrachlorobenzene",1.0369999999999999,0.66900000000000004,0,3.3000000000000002E-2,1.206,5.9889999999999999,null,"7)",null,null,"2-Methylpropane",null,null,null,null,"Journal of Chromatography A, 1216 (2009) 1640–1649"]
[5,"1,2,4-Trichlorobenzene",1.0209999999999999,0.70799999999999996,0,6.5000000000000002E-2,1.0835999999999999,5.2549999999999999,null,"7)",null,null,"Decane",null,null,null,null,"95 comp 160-240 oC 2009 ref 74"]
[6,"1,2-Dichlorobenzene",0.87,0.75800000000000001,0,4.8000000000000001E-2,0.96120000000000005,4.5419999999999998,null,"7)",null,null,"Dodecane"]
[7,"1,2-Dichloroethane",0.42,0.64,0.1,0.11,0.63519999999999999,2.573,null,"6)",null,null,"Dotricontane",null,null,null,"4)","Colin F. Poole ∗, Salwa K. Poole"]
[8,"1,2-Dicyanobenzene",0.74399999999999999,1.9410000000000001,0,0.42799999999999999,1.0258,5.2249999999999996,null,"7)",null,null,"Heptadecane",null,null,null,null,"Separation characteristics of wall-coated open-tubular"]
[9,"1,2-Dimethylbenzene",0.66300000000000003,0.53900000000000003,0,0.16700000000000001,0.99819999999999998,3.9609999999999999,null,"7)",null,null,"Heptane",null,null,null,null,"columns for gas chromatography"]
[10,"1,3-Benzothiazole",1.2809999999999999,1.1240000000000001,0,0.51800000000000002,0.96899999999999997,5.1929999999999996,null,"7)",null,null,"Hexadecane",null,null,null,null,"Journal of Chromatography A, 1184 (2008) 254–280"]
[11,"1,3-Dibromobenzene",1.1930000000000001,0.77500000000000002,0,7.9000000000000001E-2,1.0664,5.25,null,"7)",null,null,"Hexane"]
[12,"1,3-Dichlorobenzene",0.84699999999999998,0.67800000000000005,0,8.9999999999999993E-3,0.96120000000000005,4.4429999999999996,null,"7)",null,null,"n-Butane",null,null,null,"5)","Colin F. Poole∗, Sanka N. Atapattu, Salwa K. Poole, Andrea K. Bell"]
[13,"1,3-Diethyl-1,3-diphenylurea",1.7050000000000001,1.2290000000000001,0,1.3540000000000001,2.2440000000000002,7.9889999999999999,null,"7)",null,null,"n-Eicosane",null,null,null,null,"Determination of solute descriptors by chromatographic methods"]
[14,"1,3-Dimethylbenzene",0.621,0.49399999999999999,0,0.157,0.99819999999999998,3.8639999999999999,null,"7)",null,null,"n-Nonadecane",null,null,null,null,"Analytica Chimica Acta 652 (2009) 32–53"]
[15,"1,3-Dinitrobenzene",1.256,1.7949999999999999,0,0.45900000000000002,1.0648,5.7869999999999999,null,"7)",null,null,"n-Nonane"]
[16,"1,4-Benzodioxan",1.0940000000000001,1.052,0,0.34899999999999998,1.0069999999999999,4.9560000000000004,null,"7)",null,null,"Nonane",null,null,null,"6)"," Satoshi Endo, Environ. Sci. Technol. 2023, 57, 17534−17541"]
[17,"1,4-Butanediol",0.4,0.93,0.72,0.9,0.78959999999999997,3.7949999999999999,null,"6)",null,null,"n-Pentane",null,null,null,null,"Intermolecular Interactions, Solute Descriptors, and Partition"]
[18,"1,4-Dimethylbenzene",0.61299999999999999,0.48599999999999999,0,0.16300000000000001,0.99819999999999998,3.8639999999999999,null,"7)",null,null,"Octadecane",null,null,null,null,"Properties of Neutral Per- and Polyfluoroalkyl Substances (PFAS)"]
[19,"1,4-Dioxane",0.32900000000000001,0.74199999999999999,0,0.57599999999999996,null,2.83,null,"5)",null,null,"Octane",null,null,null,null,"https://doi.org/10.1021/acs.est.3c07503 "]
[20,"1,4-Diphenylbenzene",2.1429999999999998,1.327,0,0.48699999999999999,1.9319999999999999,9.2739999999999991,null,"7)",null,null,"Pentadecane",null,null,null,null,"(NA's for B are replaced with 0's)"]
[21,"1.12-Dodecanediol",0.36,0.80600000000000005,0.79600000000000004,0.92,null,7.62,null,"1)",null,null,"Tetradecane"]
[22,"1.2-Dicyanobenzene",0.70499999999999996,1.944,0,0.27,null,5.266,null,"1)",null,null,"Tridecane",null,null,null,"7)","Colin F. Pole"]
[23,"1.3.5-Triethylbenzene",0.67200000000000004,0.41799999999999998,0,0.19,null,5.5030000000000001,null,"1)",null,null,"Undecane",null,null,null,null,"The complete 2025 Wayne State University compound descriptor database"]
[24,"1.3-Dinitrobenzene",1.0229999999999999,1.7529999999999999,0,0.47,null,5.9340000000000002,null,"1)",null,"Alkynes",null,null,null,null,null,"for use with the solvation parameter model"]
[25,"10:2 FTI ",0,0.32,0,0.17,2.8490000000000002,5.0199999999999996,null,"6)",null,null,"1-Dodecyne",null,null,null,null,"Journal of Chromatography A 1752 (2025) 465958"]
[26,"10:2 FTOH ",0,0.35,0.6,0.31,2.65,4.117,null,"6)",null,null,"1-Hexyne",null,null,null,null,"https://doi.org/10.1016/j.chroma.2025.465958 "]
[27,"12:2 FTOH ",0,0.35,0.6,0.31,3.0819999999999999,4.6820000000000004,null,"6)",null,null,"2-Octyne"]
[28,"1-Acetonaphthone",1.5169999999999999,1.4179999999999999,0,0.56799999999999995,1.3829,6.6769999999999996,null,"7)",null,"Terpenes"]
[29,"1-Bromobutane",0.35799999999999998,0.42899999999999999,0,9.4E-2,0.84719999999999995,3.177,null,"7)",null,null,"Alpha-Pinene"]
[30,"1-Bromodecane",0.33300000000000002,0.42899999999999999,0,9.4E-2,1.6926000000000001,6.173,null,"7)",null,null,"Beta-Pinene"]
[31,"1-Bromododecane",0.32200000000000001,0.42899999999999999,0,9.4E-2,1.9743999999999999,7.1840000000000002,null,"7)",null,null,"Limonene"]
[32,"1-Bromoheptane",0.34100000000000003,0.42899999999999999,0,9.4E-2,1.2699,4.6820000000000004,null,"7)",null,"Cyclic Hydrocarbons"]
[33,"1-Bromohexane",0.34799999999999998,0.42899999999999999,0,9.4E-2,1.129,4.1669999999999998,null,"7)",null,null,"cis-Hydrindane"]
[34,"1-Bromonaphthalene",1.5980000000000001,1.0349999999999999,0,0.14799999999999999,1.2604,6.5579999999999998,null,"7)",null,null,"Cyclohexane"]
[35,"1-Bromononane",0.34499999999999997,0.42899999999999999,0,9.4E-2,1.5517000000000001,5.665,null,"7)",null,null,"Methylcyclohexane"]
[36,"1-Bromooctane",0.33500000000000002,0.42899999999999999,0,9.4E-2,1.4108000000000001,5.202,null,"7)",null,null,"Phenylcyclohexane"]
[37,"1-Bromopentane",0.35,0.42899999999999999,0,9.4E-2,0.98809999999999998,3.6579999999999999,null,"7)",null,"Aromatic Hydrocarbons"]
[38,"1-Chloronaphthalene",1.42,0.96399999999999997,0,0.13100000000000001,1.2078,6.1849999999999996,null,"7)",null,null,"1,2,3-Trimethylbenzene"]
[39,"1-Dodecyne",0.13500000000000001,0.26,6.0999999999999999E-2,7.0999999999999994E-2,1.7134,5.6479999999999997,null,"7)",null,null,"1,2-Dimethylbenzene"]
[40,"1H,1H,7H-Dodecafluoro-1-heptanol",-0.64800000000000002,0.216,0.82,0.30499999999999999,1.3648,3.1560000000000001,null,"7)",null,null,"1,3,5-Triethylbenzene"]
[41,"1-Hexyne",0.16700000000000001,0.21099999999999999,0.111,0.106,0.86799999999999999,2.5739999999999998,null,"7)",null,null,"1,3-Dimethylbenzene"]
[42,"1-Hydroxyanthraquinone",1.284,1.27,0.11,0.57499999999999996,1.5874999999999999,9.3130000000000006,null,"7)",null,null,"1,4-Dimethylbenzene"]
[43,"1-Iodobutane",0.51600000000000001,0.47599999999999998,0,8.4000000000000005E-2,0.93049999999999999,3.6349999999999998,null,"7)",null,null,"1,4-Diphenylbenzene"]
[44,"1-Methylnaphthalene",1.3380000000000001,0.91400000000000003,0,0.19600000000000001,1.2262999999999999,5.7039999999999997,null,"7)",null,null,"Benzene"]
[45,"1-Naphthol",1.4450000000000001,1.1759999999999999,0.74399999999999999,0.32100000000000001,1.1440999999999999,6.0979999999999999,null,"7)",null,null,"Biphenyl"]
[46,"1-Nitrobutane",0.22600000000000001,0.93300000000000005,4.4999999999999998E-2,0.25800000000000001,0.84640000000000004,3.3479999999999999,null,"7)",null,null,"Ethylbenzene"]
[47,"1-Nitrohexane",0.22700000000000001,0.93300000000000005,4.4999999999999998E-2,0.25800000000000001,1.1282000000000001,4.3680000000000003,null,"7)",null,null,"Hexamethylbenzene"]
[48,"1-Nitronaphthalene",1.492,1.4810000000000001,0,0.32100000000000001,1.2596000000000001,6.7779999999999996,null,"7)",null,null,"m-Xylene"]
[49,"1-Nitropentane",0.218,0.93300000000000005,4.4999999999999998E-2,0.25800000000000001,0.98729999999999996,3.8650000000000002,null,"7)",null,null,"n-Butylbenzene"]
[50,"1-Nitropropane",0.245,0.93300000000000005,4.4999999999999998E-2,0.25800000000000001,0.70550000000000002,2.8620000000000001,null,"7)",null,null,"n-Dodecylbenzene"]
[51,"1-Nitropyrene",3.0640000000000001,2.1059999999999999,0,0.38100000000000001,1.7587999999999999,10.281000000000001,null,"7)",null,null,"n-Pentylbenzene"]
[52,"1-Phenyl-1-propanol",0.77500000000000002,0.77700000000000002,0.34300000000000003,0.65800000000000003,1.1978,4.9080000000000004,null,"7)",null,null,"n-Propylbenzene"]
[53,"1-Phenyl-2-propanol",0.79800000000000004,0.79,0.311,0.69799999999999995,1.1978,4.8380000000000001,null,"7)",null,null,"o-Xylene"]
[54,"1-Phenylethanol",0.78700000000000003,0.71299999999999997,0.434,0.67700000000000005,1.0569,4.4939999999999998,null,"7)",null,null,"p-Xylene"]
[55,"2-(1-Naphthyl)ethanol",1.6559999999999999,1.2350000000000001,0.42899999999999999,0.746,1.4258999999999999,6.9870000000000001,null,"7)",null,null,"Styrene"]
[56,"2,3-Dimethylphenol",0.80100000000000005,0.77400000000000002,0.60299999999999998,0.38100000000000001,1.0569,4.8639999999999999,null,"7)",null,null,"Toluene"]
[57,"2,4,6-Trimethylphenol",0.746,0.83099999999999996,0.38700000000000001,0.33800000000000002,1.1978,5.1139999999999999,null,"7)",null,null,"t-Stilbene"]
[58,"2,4,6-Trimethylpyridine",0.63500000000000001,0.67500000000000004,0,0.42899999999999999,1.0981000000000001,4.3029999999999999,null,"7)",null,"Polycyclic Aromatic Hydrocarbons"]
[59,"2,4-Dimethylaniline",0.95,0.872,0.245,0.64200000000000002,1.0980000000000001,4.9649999999999999,null,"7)",null,null,"1-Methylnaphthalene"]
[60,"2,4-Dinitroaniline",1.734,2.4750000000000001,0.34899999999999998,0.441,1.1646000000000001,7.4770000000000003,null,"7)",null,null,"2-Methylnaphthalene"]
[61,"2,5-Dimethylphenol",0.79700000000000004,0.76500000000000001,0.58099999999999996,0.38,1.0569,4.7519999999999998,null,"7)",null,null,"9,10-Dimethylanthracene"]
[62,"2,6-Dichloro-4-nitroaniline",1.119,1.2230000000000001,0.52,0.36099999999999999,1.2352000000000001,7.4290000000000003,null,"7)",null,null,"Acenaphthene"]
[63,"2,6-Dimethylaniline",0.97199999999999998,0.97799999999999998,0.13100000000000001,0.52100000000000002,1.0980000000000001,4.9550000000000001,null,"7)",null,null,"Acenaphthylene"]
[64,"2,6-Dimethylphenol",0.72599999999999998,0.752,0.439,0.40500000000000003,1.0569,4.6399999999999997,null,"7)",null,null,"Anthracene"]
[65,"2-Acetonaphthone",1.3839999999999999,1.4810000000000001,0,0.53700000000000003,1.3829,6.7839999999999998,null,"7)",null,null,"Azulene"]
[66,"2-Chloroacetamide",0.69399999999999995,1.3220000000000001,0.3,0.57799999999999996,0.62829999999999997,3.26,null,"7)",null,null,"Benz[a]anthracene"]
[67,"2-Chloroaniline",1.0309999999999999,1.016,0.23400000000000001,0.307,0.93859999999999999,4.67,null,"7)",null,null,"Benzo[a]pyrene"]
[68,"2-Chlorophenol",0.85299999999999998,0.68700000000000006,0.51700000000000002,0.34100000000000003,0.89749999999999996,4.0960000000000001,null,"7)",null,null,"Benzo[e]pyrene"]
[69,"2-Ethoxyethanol",0.23699999999999999,0.6,0.29099999999999998,0.77600000000000002,0.77590000000000003,2.754,null,"7)",null,null,"Benzo[g,h,i]perylene"]
[70,"2-Methoxycinnamaldehyde",1.145,1.4970000000000001,0,0.61599999999999999,1.3113999999999999,6.3470000000000004,null,"7)",null,null,"Chrysene"]
[71,"2-Methoxyethanol",0.26900000000000002,0.67200000000000004,0.31,0.71799999999999997,0.64870000000000005,2.2709999999999999,null,"7)",null,null,"Dibenz[a,h]anthracene"]
[72,"2-Methoxynaphthalene",1.4339999999999999,1.1659999999999999,0,0.35099999999999998,1.2849999999999999,6.2430000000000003,null,"7)",null,null,"Dibenzo[a,i]pyrene"]
[73,"2-Methyl-1-propanol",0.21,0.35399999999999998,0.38200000000000001,0.52600000000000002,0.73089999999999999,2.399,null,"7)",null,null,"Fluoranthene"]
[74,"2-Methylaniline",0.96399999999999997,1.046,0.17,0.496,0.95709999999999995,4.2779999999999996,null,"7)",null,null,"Fluorene"]
[75,"2-Methylbenzaldehyde",0.879,0.97599999999999998,0,0.41699999999999998,1.0139,4.7110000000000003,null,"7)",null,null,"Naphthalene"]
[76,"2-Methylbenzothiazole",1.266,0.95899999999999996,0,0.57599999999999996,1.1099000000000001,5.68,null,"7)",null,null,"Perylene"]
[77,"2-Methylbutan-1-ol",0.218,0.38900000000000001,0.36199999999999999,0.52300000000000002,0.87180000000000002,3,null,"7)",null,null,"Phenanthrene"]
[78,"2-Methylbutan-2-ol",0.193,0.318,0.28399999999999997,0.65900000000000003,0.87180000000000002,2.5710000000000002,null,"7)",null,null,"Pyrene"]
[79,"2-Methylbutane",0,0,0,0,0.81310000000000004,2.0129999999999999,null,"6)",null,null,"Triphenylene"]
[80,"2-Methylnaphthalene",1.3149999999999999,0.93899999999999995,0,0.18099999999999999,1.2262999999999999,5.7220000000000004,null,"7)",null,null,"Triphenylmethane"]
[81,"2-Methylpentan-2-ol",0.17199999999999999,0.308,0.27800000000000002,0.628,1.0126999999999999,3.08,null,"7)",null,"Aliphatic alcohols"]
[82,"2-Methylphenol",0.755,0.73399999999999999,0.63,0.35299999999999998,0.91600000000000004,4.2720000000000002,null,"7)",null,null,"1,4-Butanediol"]
[83,"2-Methylpropanal",0.14499999999999999,0.438,0,0.51900000000000002,0.68789999999999996,2.516,null,"7)",null,null,"1,12-Dodecanediol"]
[84,"2-Methylpropane",0,0,0,0,0.67220000000000002,1.409,null,"6)",null,null,"1H,1H,7H-Dodecafluoro-1-heptanol"]
[85,"2-Naphthaldehyde",1.6060000000000001,1.506,0,0.41899999999999998,1.242,7.0579999999999998,null,"7)",null,null,"2-Ethoxyethanol"]
[86,"2-Naphthol",1.516,1.2350000000000001,0.754,0.34599999999999997,1.1440999999999999,6.1180000000000003,null,"7)",null,null,"2-Methoxyethanol"]
[87,"2-Nitroaniline",1.157,1.454,0.35099999999999998,0.35,0.99039999999999995,5.7759999999999998,null,"7)",null,null,"2-Methyl-1-propanol"]
[88,"2-Nitrophenol",0.87,1.073,6.3E-2,0.373,0.94930000000000003,4.74,null,"7)",null,null,"2-Methylbutan-1-ol"]
[89,"2-Nitropropane",0.217,0.90300000000000002,1.2999999999999999E-2,0.26400000000000001,0.70550000000000002,2.69,null,"7)",null,null,"2-Methylbutan-2-ol"]
[90,"2-Nitrotoluene",0.877,1.0960000000000001,0,0.28799999999999998,1.0315000000000001,4.9550000000000001,null,"7)",null,null,"2-Methylpentan-2-ol"]
[91,"2-Octyne",0.23400000000000001,0.27900000000000003,0,0.16200000000000001,1.1497999999999999,3.9039999999999999,null,"7)",null,null,"3-Methylbutan-1-ol"]
[92,"2-Phenyl-1-propanol",0.81100000000000005,0.85699999999999998,0.32400000000000001,0.64500000000000002,1.1978,4.9509999999999996,null,"7)",null,null,"Borneol"]
[93,"2-Phenylacetamide",1.2569999999999999,1.633,0.41599999999999998,0.94499999999999995,1.1136999999999999,5.431,null,"7)",null,null,"Butan-1-ol"]
[94,"2-Phenylethanol",0.81,0.80800000000000005,0.42699999999999999,0.63,1.0569,4.6989999999999998,null,"7)",null,null,"Cyclohexanol"]
[95,"2-Phenylpropan-1-ol",0.81100000000000005,0.85299999999999998,0.33200000000000002,0.64,null,4.9359999999999999,null,"4)",null,null,"Decan-1-ol"]
[96,"2-Undecanone",0.105,0.66100000000000003,0,0.51,null,5.7350000000000003,null,"1)",null,null,"Dodecan-1,12-diol"]
[97,"3-(Glycidoxypropyl)trimethoxy-silane",0.13300000000000001,1.0880000000000001,0,0.97,null,6.2210000000000001,null,"1)",null,null,"Dodecan-1-ol"]
[98,"3,3′-Dichlorobenzidine",1.6639999999999999,2.0880000000000001,0.77200000000000002,0.25800000000000001,1.7685999999999999,9.81,null,"7)",null,null,"Ethanol"]
[99,"3,4-Dichloroaniline",1.2669999999999999,1.262,0.41499999999999998,0.21199999999999999,1.0609999999999999,5.9160000000000004,null,"7)",null,null,"Geraniol"]
[100,"3,5-Dimethylphenol",0.76800000000000002,0.79300000000000004,0.65600000000000003,0.34799999999999998,1.0569,4.7679999999999998,null,"7)",null,null,"Heptan-1-ol"]
[101,"3.4-Dichloroaniline",1.214,1.1459999999999999,0.53800000000000003,0.24,null,6.0170000000000003,null,"1)",null,null,"Hexan-1-ol"]
[102,"3.5-Dimethylphenol",0.82,0.77600000000000002,0.64900000000000002,0.37,null,4.79,null,"1)",null,null,"Linalool"]
[103,"3:1 FTOH ",0,0.3,0.84,0.14000000000000001,0.995,1.542,null,"6)",null,null,"Nonan-1-ol"]
[104,"3:3 FTOH ",0,0.53,0.52,0.39,1.2769999999999999,2.71,null,"6)",null,null,"Octan-1-ol"]
[105,"3-Aminopropyltriethoxysilane",-2.1000000000000001E-2,0.46300000000000002,0.17199999999999999,1.33,1.8983000000000001,5.5659999999999998,null,"7)",null,null,"Octan-2-ol"]
[106,"3-Bromophenol",1.18,0.82499999999999996,0.92500000000000004,0.20599999999999999,0.95009999999999994,5.2460000000000004,null,"7)",null,null,"Pentan-1-ol"]
[107,"3-Glycidyloxypropyltimethoxysilane",6.7000000000000004E-2,1.101,0,1.091,1.8072999999999999,6.24,null,"7)",null,null,"Pentan-2-ol"]
[108,"3-Methacryloxypropyltrimethoxysilane",4.5999999999999999E-2,0.879,0,1.0409999999999999,1.9708000000000001,6.2,null,"7)",null,null,"Pentan-3-ol"]
[109,"3-Methylaniline",0.94199999999999995,1.0309999999999999,0.21299999999999999,0.47899999999999998,0.95709999999999995,4.3979999999999997,null,"7)",null,null,"Propan-1-ol"]
[110,"3-Methylbutan-1-ol",0.19800000000000001,0.37,0.38500000000000001,0.52100000000000002,0.87180000000000002,2.9929999999999999,null,"7)",null,null,"Propan-2-ol"]
[111,"3-Methylphenol",0.71399999999999997,0.745,0.72,0.32600000000000001,0.91600000000000004,4.3390000000000004,null,"7)",null,null,"Terpinen-4-ol"]
[112,"3-Nitroaniline",1.278,1.5920000000000001,0.47599999999999998,0.39200000000000002,0.99039999999999995,5.8890000000000002,null,"7)",null,null,"trans-Cyclohexane-1,2-diol"]
[113,"3-Nitrophenol",1.173,1.1930000000000001,1.018,0.25700000000000001,0.94930000000000003,5.7439999999999998,null,"7)",null,null,"Undecan-1-ol"]
[114,"3-Nitrotoluene",0.874,1.111,0,0.26600000000000001,1.0315000000000001,5.133,null,"7)",null,"Aromatic alcohols"]
[115,"3-Phenyl-1-propanol",0.81200000000000006,0.86099999999999999,0.39700000000000002,0.66300000000000003,1.1978,5.1829999999999998,null,"7)",null,null,"1-Phenyl-1-propanol"]
[116,"4-(Dimethylamino)azobenzene",1.8089999999999999,1.639,0,1.544,1.8624000000000001,8.6950000000000003,null,"7)",null,null,"1-Phenyl-2-propanol"]
[117,"4,4′-Dibromobiphenyl",2.0939999999999999,1.155,0,0.25600000000000001,1.6741999999999999,8.7309999999999999,null,"7)",null,null,"1-Phenylethanol"]
[118,"4,4′-Methylenedianiline",1.9790000000000001,1.6539999999999999,0.57399999999999995,1.107,1.6647000000000001,8.6809999999999992,null,"7)",null,null,"2-(1-Naphthyl)ethanol"]
[119,"4:2 FTI ",0,0.32,0,0.17,1.552,3.3250000000000002,null,"6)",null,null,"2-Phenyl-1-propanol"]
[120,"4:2 FTOH ",0,0.35,0.6,0.31,1.3520000000000001,2.4209999999999998,null,"6)",null,null,"2-Phenylethanol"]
[121,"4:4 FTOH ",0,0.52,0.51,0.44,1.6339999999999999,3.4990000000000001,null,"6)",null,null,"2-Phenylpropan-1-ol"]
[122,"4-Acetylbiphenyl",1.5309999999999999,1.504,0,0.64,1.6216999999999999,7.66,null,"7)",null,null,"3-Phenyl-1-propanol"]
[123,"4-Bromoacetanilide",1.05,1.48,0.80800000000000005,0.47599999999999998,1.2887,6.9169999999999998,null,"7)",null,null,"4-Methoxybenzyl alcohol"]
[124,"4-Bromophenol",1.167,1.1140000000000001,0.69699999999999995,0.19500000000000001,0.95009999999999994,5.157,null,"7)",null,null,"4-Nitrobenzyl alcohol"]
[125,"4-Chloro-2-nitroaniline",0.98299999999999998,1.4179999999999999,0.46200000000000002,0.182,1.1128,6.7629999999999999,null,"7)",null,null,"4-Phenyl-1-butanol"]
[126,"4-Chloro-3-methylphenol",1.056,0.88200000000000001,0.78400000000000003,0.221,1.0384,5.2590000000000003,null,"7)",null,null,"Benzyl alcohol"]
[127,"4-Chloroaniline",0.93,1.1080000000000001,0.35599999999999998,0.29499999999999998,0.93859999999999999,4.9770000000000003,null,"7)",null,null,"Cinnamyl alcohol"]
[128,"4-Chlorophenol",1.077,0.83399999999999996,0.84799999999999998,0.20399999999999999,0.89749999999999996,4.7770000000000001,null,"7)",null,null,"m-Cresol"]
[129,"4-Cyanophenol",1.1659999999999999,1.276,0.83399999999999996,0.38400000000000001,0.92979999999999996,5.4690000000000003,null,"7)",null,null,"o-Cresol"]
[130,"4-Fluoroaniline",0.77600000000000002,0.96699999999999997,0.32900000000000001,0.40600000000000003,0.83379999999999999,4.0640000000000001,null,"7)",null,null,"p-Cresol"]
[131,"4-Hydroxybenzaldehyde",1.1779999999999999,1.2609999999999999,0.89200000000000002,0.47399999999999998,0.93169999999999997,5.2690000000000001,null,"7)",null,"Aliphatic aldehydes"]
[132,"4-Hydroxybenzyl alcohol",1.196,1.2709999999999999,0.96,0.76700000000000002,0.97470000000000001,5.1360000000000001,null,"7)",null,null,"2-Methylpropanal"]
[133,"4-Methoxy – 2- nitroaniline",1.415,1.5580000000000001,0.311,0.52800000000000002,1.19,6.7610000000000001,null,"7)",null,null,"Butanal"]
[134,"4-Methoxybenzyl alcohol",0.88800000000000001,0.97899999999999998,0.53100000000000003,0.77900000000000003,1.1155999999999999,5.3170000000000002,null,"7)",null,null,"Citronellal"]
[135,"4-Methylaniline",0.86599999999999999,1.024,0.191,0.50600000000000001,0.95709999999999995,4.3710000000000004,null,"7)",null,null,"Geranial"]
[136,"4-Methylphenol",0.81200000000000006,0.76600000000000001,0.68400000000000005,0.35299999999999998,0.91600000000000004,4.33,null,"7)",null,null,"Heptanal"]
[137,"4-Nitroaniline",1.1890000000000001,1.7929999999999999,0.61799999999999999,0.34399999999999997,0.99039999999999995,6.3689999999999998,null,"7)",null,null,"Hexanal"]
[138,"4-Nitroanisole",0.98,1.49,0,0.37,1.0902000000000001,5.62,null,"6)",null,null,"Hydroxycitronellal"]
[139,"4-Nitrobenzyl alcohol",1.02,1.353,0.52,0.58599999999999997,1.0902000000000001,6.3380000000000001,null,"7)",null,null,"Neral"]
[140,"4-Nitrotoluene",0.92100000000000004,1.1619999999999999,0,0.27600000000000002,1.0315000000000001,5.226,null,"7)",null,null,"Nonanal"]
[141,"4-Phenylphenol",1.488,1.1910000000000001,0.81100000000000005,0.436,1.3829,7.0419999999999998,null,"7)",null,null,"Octanal"]
[142,"4‑tert-Butylphenol",0.74,0.93600000000000005,0.51500000000000001,0.34699999999999998,1.3387,5.2640000000000002,null,"7)",null,null,"Pentanal"]
[143,"5:2s FTOH ",0,0.39,0.62,0.19,1.5680000000000001,2.2959999999999998,null,"6)",null,"Aromatic aldehydes"]
[144,"6:1 FTI ",0,0.27,0.13,0.11,1.843,3.3820000000000001,null,"6)",null,null,"2-Methoxybenzaldehyde"]
[145,"6:1 FTI-7H ",0,0.63,0.24,0.14000000000000001,1.806,3.887,null,"6)",null,null,"2-Methoxycinnamaldehyde"]
[146,"6:2 FTI ",0,0.32,0,0.17,1.984,3.8919999999999999,null,"6)",null,null,"2-Methylbenzaldehyde"]
[147,"6:2 FTOH ",0,0.35,0.6,0.31,1.7849999999999999,2.9969999999999999,null,"6)",null,null,"2-Naphthaldehyde"]
[148,"7:1 FTOH ",0,0.3,0.84,0.14000000000000001,1.86,2.7149999999999999,null,"6)",null,null,"4-Methylbenzaldehyde"]
[149,"8:2 FTI ",0,0.32,0,0.17,2.4169999999999998,4.4550000000000001,null,"6)",null,null,"Amyl cinnamal"]
[150,"8:2 FTOH ",0,0.35,0.6,0.31,2.2170000000000001,3.5539999999999998,null,"6)",null,null,"Benzaldehyde"]
[151,"8-Hydroxyquinoline",1,1.115,0.112,0.59599999999999997,1.103,5.9859999999999998,null,"7)",null,null,"Cinnamaldehyde"]
[152,"9,10-Dimethylanthracene",2.16,1.2709999999999999,0,0.40500000000000003,1.7362,9.2330000000000005,null,"7)",null,null,"lilial"]
[153,"Acenaphthene",1.605,0.999,0,0.21199999999999999,1.2585999999999999,6.66,null,"7)",null,"Aliphatic amines (see also Variable B compounds)"]
[154,"Acenaphthylene",1.611,1.169,0,0.20799999999999999,1.2156,6.3529999999999998,null,"7)",null,null,"Dicyclohexylamine"]
[155,"Acetamide",0.35699999999999998,1.278,0.49199999999999999,0.75700000000000001,0.50590000000000002,2.66,null,"7)",null,null,"Hexadecylamine"]
[156,"Acetanilide",1.0429999999999999,1.248,0.51500000000000001,0.70099999999999996,1.1136999999999999,5.9160000000000004,null,"7)",null,null,"n-Pentylamine"]
[157,"Acetoacetanilide",0.79500000000000004,0.439,0.49099999999999999,1.528,1.4112,4.6130000000000004,null,"7)",null,null,"Triethylamine"]
[158,"Acetone",0.18,0.7,0.04,0.49,0.54700000000000004,1.696,null,"6)",null,null,"Triisopropanolamine"]
[159,"Acetonitrile",0.23799999999999999,0.85799999999999998,0.152,0.29399999999999998,0.4042,1.5109999999999999,null,"7)",null,null,"Tri-n-butylamine"]
[160,"Acetophenone",0.82199999999999995,1.022,0,0.505,1.0139,4.5460000000000003,null,"7)",null,"Aromatic amines (see also Variable B compounds)"]
[161,"AFOE ",0,0.3,0,0,2.2400000000000002,3.5840000000000001,null,"6)",null,null,"3.4-Dichloroaniline"]
[162,"Alpha-Pinene",0.44700000000000001,0.23799999999999999,0,0.17100000000000001,1.2574000000000001,4.32,null,"7)",null,null,"Tribenzylamine"]
[163,"Amyl cinnamal",1.0640000000000001,1.032,0,0.68200000000000005,1.8163,7.1660000000000004,null,"7)",null,null,"Triphenylamine"]
[164,"Androsterone",1.516,1.5840000000000001,0.53500000000000003,1.4319999999999999,2.4257,10.708,null,"7)",null,"Aliphatic amides and related compounds"]
[165,"Aniline",0.95499999999999996,1.0149999999999999,0.23200000000000001,0.42699999999999999,0.81620000000000004,3.952,null,"7)",null,null,"2-Chloroacetamide"]
[166,"Anisole",0.71199999999999997,0.76800000000000002,0,0.311,null,3.8079999999999998,null,"5)",null,null,"Acetamide"]
[167,"Anthracene",1.9850000000000001,1.341,0,0.22700000000000001,1.4543999999999999,7.6779999999999999,null,"7)",null,null,"Dibutylformamide"]
[168,"Anthraquinone",1.839,1.4510000000000001,0,0.60299999999999998,1.5287999999999999,8.5510000000000002,null,"7)",null,null,"Dimethylformamide"]
[169,"APFIPE ",0,0.15,0,0,1.234,1.7170000000000001,null,"6)",null,null,"N,N-Diethyldodecanamide"]
[170,"Azulene",1.4950000000000001,1.105,0,0.21199999999999999,1.0853999999999999,5.71,null,"7)",null,null,"N,N-Dimethylacetamide"]
[171,"Benz[a]anthracene",2.464,1.5720000000000001,0,0.38100000000000001,1.8233999999999999,10.278,null,"7)",null,null,"N-Methylacetamide"]
[172,"Benzaldehyde",0.81599999999999995,1.018,0,0.39900000000000002,0.873,4.0140000000000002,null,"7)",null,null,"Thioacetamide"]
[173,"Benzamide",1.379,1.393,0.62,0.67300000000000004,0.9728,5.2169999999999996,null,"7)",null,"Aromatic amides and related compounds"]
[174,"Benzene",0.60699999999999998,0.50800000000000001,0,0.14399999999999999,0.71640000000000004,2.7770000000000001,null,"7)",null,null,"1,3-Diethyl-1,3-diphenylurea"]
[175,"Benzenesulfonamide",1.022,1.784,0.71499999999999997,0.66300000000000003,1.0971,6.109,null,"7)",null,null,"2-Phenylacetamide"]
[176,"Benzidine",1.3919999999999999,1.615,0.19700000000000001,1.0880000000000001,1.5238,8.99,null,"7)",null,null,"4-Bromoacetanilide"]
[177,"Benzo[a]pyrene",2.9409999999999998,1.8160000000000001,0,0.41699999999999998,1.9536,11.555999999999999,null,"7)",null,null,"Acetanilide"]
[178,"Benzo[e]pyrene",3.137,1.887,0,0.39600000000000002,1.9536,11.37,null,"7)",null,null,"Acetoacetanilide"]
[179,"Benzo[g,h,i]perylene",3.6640000000000001,2.028,0,0.47799999999999998,2.0838000000000001,12.787000000000001,null,"7)",null,null,"Benzamide"]
[180,"Benzofuran",0.92600000000000005,0.84399999999999997,0,0.182,0.90529999999999999,4.2549999999999999,null,"7)",null,null,"Benzenesulfonamide"]
[181,"Benzonitrile",0.745,1.133,0,0.33400000000000002,0.87109999999999999,4.0549999999999997,null,"7)",null,null,"Ethyl carbamate"]
[182,"Benzophenone",1.159,1.3029999999999999,0,0.57599999999999996,1.4807999999999999,7.0540000000000003,null,"7)",null,null,"N-Methylbenzamide"]
[183,"Benzyl 2-ethylhexyl phthalate",1.256,1.2869999999999999,0,1.319,3.0228999999999999,10.858000000000001,null,"7)",null,"Haloaliphatic hydrocarbons"]
[184,"Benzyl alcohol",0.80400000000000005,0.85099999999999998,0.434,0.56299999999999994,0.91600000000000004,4.2590000000000003,null,"7)",null,null,"1,1,2,2-Tetrachloroethane"]
[185,"Benzyl benzoate",1.264,1.3049999999999999,0,0.58399999999999996,1.6803999999999999,7.4649999999999999,null,"7)",null,null,"1,2-Dichloroethane"]
[186,"Benzyl cinnamate",1.4830000000000001,1.496,0,0.64800000000000002,1.9192,8.8510000000000009,null,"7)",null,null,"1-Bromobutane"]
[187,"Benzyl salicylate",1.3919999999999999,1.18,0.11899999999999999,0.45700000000000002,1.7391000000000001,8.0630000000000006,null,"7)",null,null,"1-Bromodecane"]
[188,"Beta-Pinene",0.52100000000000002,0.20200000000000001,0,0.21,1.2574000000000001,4.5970000000000004,null,"7)",null,null,"1-Bromododecane"]
[189,"Biphenyl",1.3069999999999999,0.96,0,0.27700000000000002,1.3242,6.0149999999999997,null,"7)",null,null,"1-Bromoheptane"]
[190,"Bis(2-Butoxyethyl) phthalate",0.64100000000000001,1.534,0,1.5289999999999999,2.9552,10.622,null,"7)",null,null,"1-Bromohexane"]
[191,"Bis(2-ethoxyethyl) phthalate",0.70799999999999996,1.5740000000000001,0,1.5009999999999999,2.3915999999999999,8.9930000000000003,null,"7)",null,null,"1-Bromononane"]
[192,"Bis(2-ethylhexyl) phthalate",0.65900000000000003,1.151,0,1.3740000000000001,3.4014000000000002,11.208,null,"7)",null,null,"1-Bromooctane"]
[193,"Bis(2-methoxyethyl) phthalate",0.78800000000000003,1.768,0,1.3919999999999999,2.1097999999999999,8.2810000000000006,null,"7)",null,null,"1-Bromopentane"]
[194,"Bis(trimethylsiloxy)methylsilane",-0.44800000000000001,-0.104,1.2999999999999999E-2,0.36199999999999999,1.9494,3.831,null,"7)",null,null,"Carbon tetrachloride"]
[195,"Borneol",0.65800000000000003,0.63900000000000001,0.20399999999999999,0.65100000000000002,1.3591,5.1349999999999998,null,"7)",null,null,"Chloroform"]
[196,"Bromobenzene",0.88400000000000001,0.70899999999999996,0,0.10199999999999999,0.89139999999999997,4.069,null,"7)",null,null,"Dichloromethane"]
[197,"Butan-1-ol",0.22500000000000001,0.41799999999999998,0.35599999999999998,0.52900000000000003,0.73089999999999999,2.58,null,"7)",null,null,"Trichloromethane"]
[198,"Butan-2-one",0.16600000000000001,0.68100000000000005,0,0.50600000000000001,0.68789999999999996,2.2799999999999998,null,"7)",null,"Haloaromatic hydrocarbons"]
[199,"Butan-2-one 2",0.16600000000000001,0.66200000000000003,0,0.496,null,2.4220000000000002,null,"5)",null,null,"1,2,4,5-Tetrachlorobenzene"]
[200,"Butanal",0.187,0.63700000000000001,0,0.432,0.68789999999999996,2.2290000000000001,null,"7)",null,null,"1,2,4-Trichlorobenzene"]
[201,"Butyl 2-ethylhyexyl phthalate",0.503,1.1220000000000001,0,1.075,2.8378000000000001,11.294,null,"7)",null,null,"1,2-Dichlorobenzene"]
[202,"Butyl acetate",8.4000000000000005E-2,0.56599999999999995,0,0.47399999999999998,1.0284,3.411,null,"7)",null,null,"1,3-Dibromobenzene"]
[203,"Butyl benzoate",0.67400000000000004,0.84799999999999998,0,0.41,1.4953000000000001,5.9950000000000001,null,"7)",null,null,"1,3-Dichlorobenzene"]
[204,"Butyl benzyl phthalate",1.2250000000000001,1.6850000000000001,0,1.052,2.4592999999999998,9.8520000000000003,null,"7)",null,null,"1,4-Dichlorobenzene"]
[205,"Butyl cyclohexyl phthalate",1.3140000000000001,1.3959999999999999,0,0.97,2.4474,9.5380000000000003,null,"7)",null,null,"1-Bromonaphthalene"]
[206,"Butyl oleate",3.4000000000000002E-2,0.59299999999999997,0,0.61299999999999999,3.2397999999999998,10.885999999999999,null,"7)",null,null,"1-Chloronaphthalene"]
[207,"Butyl stearate",6.8000000000000005E-2,0.5,0,0.66200000000000003,3.2827999999999999,11.034000000000001,null,"7)",null,null,"1-Iodobutane"]
[208,"Butyrophenone",0.79800000000000004,1.026,0,0.503,null,5.3879999999999999,null,"5)",null,null,"4,4′-Dibromobiphenyl"]
[209,"Butyropheone",0.79200000000000004,1.022,0,0.505,1.2957000000000001,5.3659999999999997,null,"7)",null,null,"Bromobenzene"]
[210,"Caffeine",1.6319999999999999,1.742,3.4000000000000002E-2,1.2330000000000001,1.3632,7.6369999999999996,null,"7)",null,null,"Chlorobenzene"]
[211,"Camphor",0.51100000000000001,0.86,0,0.59799999999999998,1.3161,5.0129999999999999,null,"7)",null,null,"Hexachlorobenzene"]
[212,"Carbazole",2.278,1.6439999999999999,0.40699999999999997,0.13200000000000001,1.3153999999999999,7.3419999999999996,null,"7)",null,null,"Iodobenzene"]
[213,"Carbon disulfide",0.88,0.26,0,0.03,0.49049999999999999,2.37,null,"6)",null,"Aliphatic esters"]
[214,"Carbon tetrachloride",0.45700000000000002,0.35499999999999998,0,2.4E-2,0.73909999999999998,2.8570000000000002,null,"7)",null,null,"Butyl acetate"]
[215,"Carvone",0.67100000000000004,0.94499999999999995,0,0.55900000000000005,1.3387,5.4029999999999996,null,"7)",null,null,"Butyl oleate"]
[216,"Chlorobenzene",0.71699999999999997,0.64400000000000002,0,0.06,0.83879999999999999,3.6760000000000002,null,"7)",null,null,"Butyl stearate"]
[217,"Chloroform",0.42899999999999999,0.53900000000000003,0.16700000000000001,3.3000000000000002E-2,0.61670000000000003,2.3759999999999999,null,"7)",null,null,"Dibutyl succinate"]
[218,"Cholestane",1.1060000000000001,0.41499999999999998,0,0,3.4784999999999999,12.986000000000001,null,"7)",null,null,"Dicyclohexyl adipate"]
[219,"Cholesterol",1.292,1.0680000000000001,0.245,0.48599999999999999,3.4942000000000002,13.340999999999999,null,"7)",null,null,"Diethyl adipate"]
[220,"Cholesteryl acetate",1.036,0.94499999999999995,0,0.38700000000000001,3.7917000000000001,14.339,null,"7)",null,null,"Diethyl diethylmalonate"]
[221,"Chrysene",2.7360000000000002,1.647,0,0.33700000000000002,1.8233999999999999,10.066000000000001,null,"7)",null,null,"Diethyl sebacate"]
[222,"Cinnamaldehyde",1.28,1.34,0,0.61399999999999999,1.1117999999999999,5.306,null,"7)",null,null,"Ethyl 2-methylbutyrate"]
[223,"cinnamyl acetate",0.98299999999999998,1.2210000000000001,0,0.64200000000000002,1.4522999999999999,6.04,null,"7)",null,null,"Ethyl acetate"]
[224,"Cinnamyl alcohol",1.1160000000000001,1.004,0.46400000000000002,0.59299999999999997,1.1548,5.4169999999999998,null,"7)",null,null,"Ethyl hexanoate"]
[225,"cis-Hydrindane",0.436,0.23699999999999999,0,0,1.1595,4.6310000000000002,null,"7)",null,null,"Ethyl oleate"]
[226,"Citronellal",0.27900000000000003,0.68600000000000005,0,0.51800000000000002,1.4903,5.0650000000000004,null,"7)",null,null,"Ethyl propanoate"]
[227,"Coumarin",1.4359999999999999,1.6419999999999999,0,0.52400000000000002,1.0619000000000001,5.9630000000000001,null,"7)",null,null,"Methyl abietate"]
[228,"Cyclohexane",0.31,0.1,0,0,0.84540000000000004,2.964,null,"6)",null,null,"Methyl decanoate"]
[229,"Cyclohexanol",0.46500000000000002,0.59899999999999998,0.26500000000000001,0.58699999999999997,0.90410000000000001,3.7519999999999998,null,"7)",null,null,"Methyl heptanoate"]
[230,"Cyclohexanone",0.40400000000000003,0.92100000000000004,0,0.52100000000000002,0.86109999999999998,3.7370000000000001,null,"7)",null,null,"Methyl hexanoate"]
[231,"Cyclohexanone N-oxime",0.85699999999999998,0.73699999999999999,0.433,0.628,0.96089999999999998,4.3940000000000001,null,"7)",null,null,"Methyl nonanoate"]
[232,"Cyclopentanone",0.371,0.89200000000000002,0,0.51400000000000001,0.72019999999999995,3.153,null,"7)",null,null,"Methyl octanoate"]
[233,"Decamethylcyclopentasiloxane",-0.69799999999999995,-0.151,0,0.69799999999999995,2.931,5.3609999999999998,null,"7)",null,null,"Methyl undecanoate"]
[234,"Decamethyltetrasiloxane",-0.71699999999999997,-0.16300000000000001,0,0.56499999999999995,2.6764999999999999,4.9329999999999998,null,"7)",null,null,"Propyl acetate"]
[235,"Decan-1-ol",0.193,0.41799999999999998,0.35599999999999998,0.52900000000000003,1.5763,5.6260000000000003,null,"7)",null,null,"Propyl formate"]
[236,"Decane",0,0,0,0,1.5176000000000001,4.71,null,"7)",null,null,"Tributyrin"]
[237,"Dibenz[a,h]anthracene",3.7360000000000002,2.2240000000000002,0,0.54500000000000004,2.1924000000000001,12.632,null,"7)",null,"Aromatic Esters"]
[238,"Dibenzo[a,i]pyrene",4.5579999999999998,2.5030000000000001,0,0.495,2.3226,13.308999999999999,null,"7)",null,null,"Benzyl benzoate"]
[239,"Dibenzofuran",1.407,1.105,0,0.17,null,6.6580000000000004,null,"1)",null,null,"Benzyl cinnamate"]
[240,"Dibenzyl ether",1.2410000000000001,1.0920000000000001,0,0.76,1.6647000000000001,7.157,null,"7)",null,null,"Butyl benzoate"]
[241,"Dibenzylamine",1.3280000000000001,1.0129999999999999,0.05,0.97099999999999997,1.7058,7.5839999999999996,null,"7)",null,null,"cinnamyl acetate"]
[242,"Dibutyl phthalate",0.69399999999999995,1.3089999999999999,0,0.93799999999999994,2.2742,8.5060000000000002,null,"7)",null,null,"Ethyl benzoate"]
[243,"Dibutyl succinate",0.04,0.97799999999999998,0,0.91500000000000004,1.9481999999999999,6.843,null,"7)",null,null,"Ethyl cinnamate"]
[244,"Dibutylformamide",0.25600000000000001,1.109,0,0.749,1.4922,5.8310000000000004,null,"7)",null,null,"Eugenol acetate"]
[245,"Dichloromethane",0.38800000000000001,0.59599999999999997,8.8999999999999996E-2,3.6999999999999998E-2,0.49430000000000002,1.905,null,"7)",null,null,"Methyl benzoate"]
[246,"Dicyclohexyl adipate",0.94799999999999995,1.2270000000000001,0,1.1970000000000001,2.5764,10.016,null,"7)",null,null,"Methyl cinnamate"]
[247,"Dicyclohexyl phthalate",1.57,1.498,0,1.0980000000000001,2.6206,10.673999999999999,null,"7)",null,null,"Phenyl acetate"]
[248,"Dicyclohexylamine",0.58499999999999996,0.42299999999999999,1.4999999999999999E-2,0.56000000000000005,null,6.6740000000000004,null,"1)",null,null,"Phenyl benzoate"]
[249,"Dicyclohexylphthalate",1.377,1.5549999999999999,0,0.86,null,10.718999999999999,null,"1)",null,null,"Propyl benzoate"]
[250,"Diethyl adipate",8.5000000000000006E-2,1.0720000000000001,0,0.81499999999999995,1.6664000000000001,5.8490000000000002,null,"7)",null,"Phthalate esters"]
[251,"Diethyl diethylmalonate",0.01,0.751,0,0.85699999999999998,1.8072999999999999,5.6130000000000004,null,"7)",null,null,"Benzyl 2-ethylhexyl phthalate"]
[252,"Diethyl ether",0.04,0.25,0,0.45,0.73089999999999999,2.0150000000000001,null,"6)",null,null,"Bis(2-Butoxyethyl) phthalate"]
[253,"Diethyl phthalate",0.72499999999999998,1.39,0,0.89800000000000002,1.7105999999999999,6.6989999999999998,null,"7)",null,null,"Bis(2-ethoxyethyl) phthalate"]
[254,"Diethyl sebacate",5.3999999999999999E-2,1.044,0,1.038,2.23,7.8789999999999996,null,"7)",null,null,"Bis(2-ethylhexyl) phthalate"]
[255,"Dihexyl ether",-5.0000000000000001E-3,0.14299999999999999,0,0.45500000000000002,1.8581000000000001,6.0129999999999999,null,"7)",null,null,"Bis(2-methoxyethyl) phthalate"]
[256,"Dihydrocholesterol",1.008,1.0169999999999999,0.26300000000000001,0.51300000000000001,3.5371999999999999,13.547000000000001,null,"7)",null,null,"Butyl 2-ethylhyexyl phthalate"]
[257,"Diisobutyl phthalate",0.68300000000000005,1.228,0,0.94899999999999995,2.2742,8.1159999999999997,null,"7)",null,null,"Butyl benzyl phthalate"]
[258,"Diisobutylphthalate",0.66,1.2370000000000001,0,0.88,null,8.1219999999999999,null,"1)",null,null,"Butyl cyclohexyl phthalate"]
[259,"Diisoctyl phthalate",0.65900000000000003,1.1259999999999999,0,1.091,3.4014000000000002,11.185,null,"7)",null,null,"Dibutyl phthalate"]
[260,"Dimethyl phthalate",0.78800000000000003,1.496,0,0.81100000000000005,1.4288000000000001,5.97,null,"7)",null,null,"Dicyclohexyl phthalate"]
[261,"Dimethyl sulfoxide",0.52,1.72,0,0.97,0.61260000000000003,3.4590000000000001,null,"6)",null,null,"Dicyclohexylphthalate"]
[262,"Dimethylformamide",0.36599999999999999,1.167,0.114,0.76300000000000001,0.64680000000000004,3.048,null,"7)",null,null,"Diethyl phthalate"]
[263,"Di-n-butyl ether",0,0.25,0,0.45,1.2945,3.9239999999999999,null,"6)",null,null,"Diisobutyl phthalate"]
[264,"Dioctyl phthalate",0.63500000000000001,1.27,0,1.123,3.4014000000000002,11.989000000000001,null,"7)",null,null,"Diisobutylphthalate"]
[265,"Dioxane",0.32900000000000001,0.74199999999999999,0,0.59899999999999998,0.68100000000000005,2.8180000000000001,null,"7)",null,null,"Diisoctyl phthalate"]
[266,"Diphenyl ether",1.1819999999999999,0.92500000000000004,0,0.34499999999999997,1.3829,6.0979999999999999,null,"7)",null,null,"Dimethyl phthalate"]
[267,"Diphenylamine",1.244,1.224,0.23300000000000001,0.36099999999999999,1.4239999999999999,6.8639999999999999,null,"7)",null,null,"Dioctyl phthalate"]
[268,"Dodecamethylcyclohexasiloxane",-0.88,-5.6000000000000001E-2,0,0.81100000000000005,3.5171999999999999,6.12,null,"7)",null,"Aliphatic ethers"]
[269,"Dodecan-1,12-diol",0.47499999999999998,0.83,0.77,1.2629999999999999,1.9168000000000001,7.5490000000000004,null,"7)",null,null,"1,4-Dioxane"]
[270,"Dodecan-1-ol",0.19,0.41799999999999998,0.35599999999999998,0.52900000000000003,1.8581000000000001,6.6109999999999998,null,"7)",null,null,"2-Methoxyfuran"]
[271,"Dodecan-2-one",0.1,0.68,0,0.51,1.8150999999999999,6.1840000000000002,null,"6)",null,null,"Diethyl ether"]
[272,"Dodecane",0,0,0,0,1.7994000000000001,5.6929999999999996,null,"7)",null,null,"Dihexyl ether"]
[273,"Dotricontane",0,0,0,0,4.6173999999999999,15.041,null,"7)",null,null,"Di-n-butyl ether"]
[274,"EtFHxSA ",0,0.88,0.74,0.24,2.1070000000000002,4.4000000000000004,null,"6)",null,null,"Dioxane"]
[275,"EtFHxSE ",0,1,0.55000000000000004,0.68,2.4470000000000001,5.6849999999999996,null,"6)",null,null,"Tetrahydrofuran"]
[276,"EtFOSA ",0,0.88,0.74,0.24,2.5390000000000001,4.9669999999999996,null,"6)",null,"Aromatic ethers"]
[277,"EtFOSE ",0,1,0.55000000000000004,0.68,2.88,6.2530000000000001,null,"6)",null,null,"1,4-Benzodioxan"]
[278,"Ethanol",0.248,0.41799999999999998,0.35599999999999998,0.52900000000000003,0.4491,1.494,null,"7)",null,null,"2-Methoxynaphthalene"]
[279,"Ethyl 2-methylbutyrate",0.03,0.439,0,0.51700000000000002,1.1693,3.673,null,"7)",null,null,"4-Nitroanisole"]
[280,"Ethyl acetate",0.109,0.61399999999999999,0,0.46400000000000002,0.74660000000000004,2.2810000000000001,null,"7)",null,null,"Anisole"]
[281,"Ethyl benzoate",0.69399999999999995,0.90100000000000002,0,0.44900000000000001,1.2135,5.0339999999999998,null,"7)",null,null,"Benzofuran"]
[282,"Ethyl carbamate",0.33600000000000002,0.996,0.33800000000000002,0.61699999999999999,0.70550000000000002,3.0259999999999998,null,"7)",null,null,"Butyrophenone"]
[283,"Ethyl cinnamate",1.095,1.0980000000000001,0,0.61799999999999999,1.4522999999999999,6.3419999999999996,null,"7)",null,null,"Dibenzyl ether"]
[284,"Ethyl hexanoate",4.4999999999999998E-2,0.54800000000000004,0,0.46200000000000002,1.3102,4.3579999999999997,null,"7)",null,null,"Diphenyl ether"]
[285,"Ethyl oleate",0.14399999999999999,0.56999999999999995,0,0.64600000000000002,2.9580000000000002,9.9710000000000001,null,"7)",null,null,"Methyl eugenol"]
[286,"Ethyl propanoate",8.8999999999999996E-2,0.51900000000000002,0,0.49,0.88749999999999996,2.89,null,"7)",null,null,"Methyl phenyl ether"]
[287,"Ethylbenzene",0.61399999999999999,0.49299999999999999,0,0.14799999999999999,0.99819999999999998,3.819,null,"7)",null,"Aliphatic ketones"]
[288,"Eugenol",0.95,0.78100000000000003,0.43,0.55200000000000005,1.3544,5.7960000000000003,null,"7)",null,null,"2-Undecanone"]
[289,"Eugenol acetate",0.89700000000000002,1.3240000000000001,0,0.79300000000000004,1.6518999999999999,6.4219999999999997,null,"7)",null,null,"Acetone"]
[290,"FE-E1-I ",0,0.06,0,0,1.5449999999999999,1.9370000000000001,null,"6)",null,null,"Butan-2-one"]
[291,"FE-E3 ",0,-0.33,0.68,0,2.702,1.899,null,"6)",null,null,"Butan-2-one 2"]
[292,"FE-E4 ",0,-0.55000000000000004,1.03,0,3.4089999999999998,2.5419999999999998,null,"6)",null,null,"Camphor"]
[293,"FE-E5 ",0,-0.81,1.55,0,4.117,3.1280000000000001,null,"6)",null,null,"Carvone"]
[294,"Fluoranthene",2.371,1.496,0,0.27500000000000002,1.5846,8.6880000000000006,null,"7)",null,null,"Cyclohexanone"]
[295,"Fluorene",1.6479999999999999,1.1180000000000001,0,0.24399999999999999,1.3565,6.95,null,"7)",null,null,"Cyclohexanone N-oxime"]
[296,"Geranial",0.61,0.94199999999999995,0,0.64700000000000002,1.4473,5.4770000000000003,null,"7)",null,null,"Cyclopentanone"]
[297,"Geraniol",0.52400000000000002,0.64500000000000002,0.27300000000000002,0.61399999999999999,1.4903,5.4059999999999997,null,"7)",null,null,"Dodecan-2-one"]
[298,"Heptadecane",0,0,0,0,2.5038999999999998,8.1419999999999995,null,"7)",null,null,"Heptan-2-one"]
[299,"Heptan-1-ol",0.214,0.41799999999999998,0.35599999999999998,0.52900000000000003,1.1536,4.1580000000000004,null,"7)",null,null,"Hexan-2-one"]
[300,"Heptan-2-one",0.125,0.68100000000000005,0,0.50600000000000001,1.1106,3.7679999999999998,null,"7)",null,null,"Nonan-2-one"]
[301,"Heptanal",0.14000000000000001,0.63700000000000001,0,0.432,1.1106,3.8690000000000002,null,"7)",null,null,"Octan-2-one"]
[302,"Heptane",0,0,0,0,1.0949,3.165,null,"7)",null,null,"Pentan-2-one"]
[303,"Hexachlorobenzene",1.498,0.86199999999999999,0,8.5999999999999993E-2,1.4508000000000001,7.6909999999999998,null,"7)",null,null,"Tetradecan-2-one"]
[304,"Hexadecane",0,0,0,0,2.363,7.609,null,"7)",null,null,"Undecan-2-one"]
[305,"Hexadecylamine",0.17,0.28000000000000003,0.23499999999999999,0.61,null,8.6379999999999999,null,"1)",null,null,"α-Isomethyl ionone"]
[306,"Hexamethylbenzene",0.98799999999999999,0.59899999999999998,0,0.26200000000000001,1.5618000000000001,6.5780000000000003,null,"7)",null,"Aromatic ketones"]
[307,"Hexamethylcyclotrisiloxane",-0.246,8.0000000000000002E-3,0,0.52600000000000002,1.7585999999999999,3.665,null,"7)",null,null,"1-Acetonaphthone"]
[308,"Hexamethyldisiloxane",-0.27100000000000002,-0.16900000000000001,0,0.255,1.5041,3.1219999999999999,null,"7)",null,null,"2-Acetonaphthone"]
[309,"Hexan-1-ol",0.21,0.41799999999999998,0.35599999999999998,0.52900000000000003,1.0126999999999999,3.661,null,"7)",null,null,"2-Bromoacetophenone"]
[310,"Hexan-2-one",0.13500000000000001,0.68100000000000005,0,0.50600000000000001,0.96970000000000001,3.254,null,"7)",null,null,"4-Acetylbiphenyl"]
[311,"Hexanal",0.15,0.63700000000000001,0,0.432,0.96970000000000001,3.3490000000000002,null,"7)",null,null,"4-Chloroacetophenone"]
[312,"Hexane",0,0,0,0,0.95399999999999996,2.6219999999999999,null,"7)",null,null,"Acetophenone"]
[313,"Hexanophenone",0.78,1.022,0,0.505,1.5774999999999999,6.3019999999999996,null,"7)",null,null,"Benzophenone"]
[314,"Hydroxycitronellal",0.29199999999999998,1.022,0.249,1.1459999999999999,1.5920000000000001,5.4029999999999996,null,"7)",null,null,"Butyropheone"]
[315,"Indole",1.0580000000000001,1.304,0.433,0.159,0.94640000000000002,5.3129999999999997,null,"7)",null,null,"Hexanophenone"]
[316,"Iodobenzene",1.1890000000000001,0.77200000000000002,0,0.124,0.97470000000000001,4.5620000000000003,null,"7)",null,null,"Octanophenone"]
[317,"Isocyanatopropyltriethoxysilane",-8.1000000000000003E-2,0.67400000000000004,0,0.84099999999999997,2.0118999999999998,5.931,null,"7)",null,null,"Propiophenone"]
[318,"lilial",0.77500000000000002,0.96399999999999997,0,1.038,1.8593,6.6980000000000004,null,"7)",null,null,"Valerophenone"]
[319,"Limonene",0.497,0.34799999999999998,0,0.17599999999999999,1.323,4.673,null,"7)",null,"Nitrohydrocarbons"]
[320,"Linalool",0.40799999999999997,0.53200000000000003,0.19800000000000001,0.72399999999999998,1.4903,4.79,null,"7)",null,null,"1-Nitrobutane"]
[321,"m-Cresol",0.82199999999999995,0.77,0.67200000000000004,0.34,null,4.3609999999999998,null,"4)",null,null,"1-Nitrohexane"]
[322,"MeFBSA ",0,0.88,0.74,0.24,1.5329999999999999,3.5659999999999998,null,"6)",null,null,"1-Nitropentane"]
[323,"MeFBSE ",0,1,0.55000000000000004,0.68,1.8740000000000001,4.7690000000000001,null,"6)",null,null,"1-Nitropropane"]
[324,"MeFHxSA ",0,0.88,0.74,0.24,1.966,4.1349999999999998,null,"6)",null,null,"2-Nitropropane"]
[325,"MeFOSA ",0,0.88,0.74,0.24,2.3980000000000001,4.7030000000000003,null,"6)",null,null,"Nitrocyclohexane"]
[326,"MeFOSE ",0,1,0.55000000000000004,0.68,2.7389999999999999,5.9089999999999998,null,"6)",null,null,"Nitromethane"]
[327,"Melatonin",2.09,2.4260000000000002,2.5000000000000001E-2,1.3320000000000001,1.8250999999999999,9.4870000000000001,null,"7)",null,"Nitroaromatic hydrocarbons"]
[328,"Methyl abietate",1.107,1.0409999999999999,0,1.1180000000000001,2.7301000000000002,10.347,null,"7)",null,null,"1,3-Dinitrobenzene"]
[329,"Methyl benzoate",0.73299999999999998,0.92800000000000005,0,0.44,1.0726,4.6859999999999999,null,"7)",null,null,"1.3-Dinitrobenzene"]
[330,"Methyl cinnamate",1.04,1.169,0,0.55800000000000005,1.3113999999999999,5.7869999999999999,null,"7)",null,null,"1-Nitronaphthalene"]
[331,"Methyl decanoate",4.9000000000000002E-2,0.56299999999999994,0,0.47,1.7329000000000001,5.8979999999999997,null,"7)",null,null,"1-Nitropyrene"]
[332,"Methyl eugenol",0.93899999999999995,1.024,0,0.81499999999999995,1.4953000000000001,5.9489999999999998,null,"7)",null,null,"2-Nitrotoluene"]
[333,"Methyl heptanoate",0.08,0.56299999999999994,0,0.47,1.3102,4.4139999999999997,null,"7)",null,null,"3-Nitrotoluene"]
[334,"Methyl hexanoate",0.08,0.56299999999999994,0,0.47,1.1693,3.9780000000000002,null,"7)",null,null,"4-Nitrotoluene"]
[335,"Methyl nonanoate",5.3999999999999999E-2,0.56299999999999994,0,0.47,1.5920000000000001,5.4260000000000002,null,"7)",null,null,"Nitrobenzene"]
[336,"Methyl octanoate",6.5000000000000002E-2,0.56299999999999994,0,0.47,1.4511000000000001,4.9569999999999999,null,"7)",null,"Nitroanilines"]
[337,"Methyl phenyl ether",0.70699999999999996,0.755,0,0.312,0.91600000000000004,3.883,null,"7)",null,null,"2,4-Dinitroaniline"]
[338,"Methyl undecanoate",0.05,0.56299999999999994,0,0.47,1.8737999999999999,6.3490000000000002,null,"7)",null,null,"2,6-Dichloro-4-nitroaniline"]
[339,"Methylcyclohexane",0.245,0.121,0,0,0.98629999999999995,3.3180000000000001,null,"7)",null,null,"2-Nitroaniline"]
[340,"m-Xylene",0.623,0.50900000000000001,0,0.16,null,3.8439999999999999,null,"1)",null,null,"3-Nitroaniline"]
[341,"N,N’-Diphenyl-1,4-phenylenediamine",2.5049999999999999,1.964,0.38200000000000001,0.96,2.1316000000000002,10.445,null,"7)",null,null,"4-Chloro-2-nitroaniline"]
[342,"N,N-Diethyl-4-nitroaniline",0.88400000000000001,1.5840000000000001,0,0.747,1.554,8.1910000000000007,null,"7)",null,null,"4-Methoxy – 2- nitroaniline"]
[343,"N,N-Diethylaniline",0.95299999999999996,0.71099999999999997,0,0.441,1.1397999999999999,5.4779999999999998,null,"7)",null,null,"4-Nitroaniline"]
[344,"N,N-Diethyldodecanamide",0.23100000000000001,0.92800000000000005,0,1.1830000000000001,2.4784999999999999,8.7449999999999992,null,"7)",null,null,"N,N-Diethyl-4-nitroaniline"]
[345,"N,N-Dimethyl-4-nitroaniline",1.079,1.879,0,0.39200000000000002,1.2722,7.1920000000000002,null,"7)",null,null,"N,N-Dimethyl-4-nitroaniline"]
[346,"N,N-Dimethylacetamide",0.36699999999999999,1.1850000000000001,0,0.92,0.78769999999999996,3.6259999999999999,null,"7)",null,"Phenoles"]
[347,"N,N-Dimethylaniline",0.95699999999999996,0.80500000000000005,0,0.34100000000000003,1.0980000000000001,4.7699999999999996,null,"7)",null,null,"1-Naphthol"]
[348,"Naphthalene",1.24,0.91900000000000004,0,0.191,1.0853999999999999,5.133,null,"7)",null,null,"2,3-Dimethylphenol"]
[349,"n-Butane",0,0,0,0,0.67220000000000002,1.615,null,"6)",null,null,"2,4,6-Trimethylphenol"]
[350,"n-Butylbenzene",0.6,0.49299999999999999,0,0.14799999999999999,1.28,4.74,null,"7)",null,null,"2,5-Dimethylphenol"]
[351,"n-Dodecylbenzene",0.56999999999999995,0.47,0,0.15,2.4072,8.8550000000000004,null,"6)",null,null,"2,6-Dimethylphenol"]
[352,"n-Eicosane",0,0,0,0,2.9266000000000001,9,null,"6)",null,null,"2-Chlorophenol"]
[353,"Neral",0.58699999999999997,0.92500000000000004,0,0.63300000000000001,1.4473,5.375,null,"7)",null,null,"2-Methylphenol"]
[354,"Nicotinamide",1.105,1.7030000000000001,0.48499999999999999,0.76,0.93169999999999997,5.4279999999999999,null,"7)",null,null,"2-Naphthol"]
[355,"Nicotine",0.86599999999999999,0.95299999999999996,0,1.101,1.371,5.9320000000000004,null,"7)",null,null,"2-Nitrophenol"]
[356,"Nitrobenzene",0.86699999999999999,1.151,0,0.26600000000000001,0.89059999999999995,4.5339999999999998,null,"7)",null,null,"3,5-Dimethylphenol"]
[357,"Nitrocyclohexane",0.441,0.93600000000000005,3.6999999999999998E-2,0.40300000000000002,1.0196000000000001,4.8090000000000002,null,"7)",null,null,"3.5-Dimethylphenol"]
[358,"Nitromethane",0.311,0.93300000000000005,0.10299999999999999,0.253,0.42370000000000002,1.9330000000000001,null,"7)",null,null,"3-Bromophenol"]
[359,"N-Methylacetamide",0.36499999999999999,1.325,0.14499999999999999,0.66100000000000003,0.64680000000000004,3.1269999999999998,null,"7)",null,null,"3-Methylphenol"]
[360,"N-Methylaniline",0.96,0.94799999999999995,0.151,0.39300000000000002,0.95709999999999995,4.4669999999999996,null,"7)",null,null,"3-Nitrophenol"]
[361,"n-Nonadecane",0,0,0,0,2.7856999999999998,9.2260000000000009,null,"6)",null,null,"4-Bromophenol"]
[362,"n-Nonane",0,0,0,0,1.3767,4.1820000000000004,null,"6)",null,null,"4-Chloro-3-methylphenol"]
[363,"n-Octyltriethoxysilane",-0.26800000000000002,-2E-3,0,0.96399999999999997,2.5030000000000001,7.0049999999999999,null,"7)",null,null,"4-Chlorophenol"]
[364,"Nonan-1-ol",0.20899999999999999,0.41799999999999998,0.35599999999999998,0.52900000000000003,1.4354,5.1459999999999999,null,"7)",null,null,"4-Cyanophenol"]
[365,"Nonan-2-one",0.113,0.68100000000000005,0,0.50600000000000001,1.3924000000000001,4.7709999999999999,null,"7)",null,null,"4-Hydroxybenzaldehyde"]
[366,"Nonanal",0.13500000000000001,0.63700000000000001,0,0.432,1.3924000000000001,4.8639999999999999,null,"7)",null,null,"4-Hydroxybenzyl alcohol"]
[367,"Nonane",0,0,0,0,1.3767,4.2130000000000001,null,"7)",null,null,"4-Iodophenol"]
[368,"n-Pentylamine",0.21,0.35,0.16,0.61,0.91290000000000004,3.1389999999999998,null,"6)",null,null,"4-Methylphenol"]
[369,"n-Pentylbenzene",0.59499999999999997,0.49299999999999999,0,0.14799999999999999,1.4209000000000001,5.2110000000000003,null,"7)",null,null,"4-Nitrophenol"]
[370,"n-Propylbenzene",0.60399999999999998,0.49299999999999999,0,0.14799999999999999,1.1391,4.2249999999999996,null,"7)",null,null,"4-Phenylphenol"]
[371,"o-Cresol",0.85299999999999998,0.74399999999999999,0.61299999999999999,0.3,null,4.2889999999999997,null,"4)",null,null,"4‑tert-Butylphenol"]
[372,"Octadecane",0,0,0,0,2.6448,8.6270000000000007,null,"7)",null,null,"Benzyl salicylate"]
[373,"Octaethylcycloterasiloxane",-0.26600000000000001,-0.122,0,0.79,null,8.2750000000000004,null,"1)",null,null,"Eugenol"]
[374,"Octamethylcyclotetrasiloxane",-0.47099999999999997,-8.6999999999999994E-2,0,0.52200000000000002,2.3448000000000002,4.5039999999999996,null,"7)",null,null,"Methyl 3-Hydroxybenzoate"]
[375,"Octamethyltrisiloxane",-0.498,-5.5E-2,0,0.35399999999999998,2.0903,3.9649999999999999,null,"7)",null,null,"Methyl 4-Hydroxybenzoate"]
[376,"Octan-1-ol",0.2,0.41799999999999998,0.35599999999999998,0.52900000000000003,1.2945,4.6760000000000002,null,"7)",null,null,"Methyl salicylate"]
[377,"Octan-2-ol",0.17899999999999999,0.40799999999999997,0.27300000000000002,0.56399999999999995,1.2945,4.3540000000000001,null,"7)",null,null,"Pentachlorophenol"]
[378,"Octan-2-one",0.11600000000000001,0.68100000000000005,0,0.50600000000000001,1.2515000000000001,4.2679999999999998,null,"7)",null,null,"Pentafluorophenol"]
[379,"Octanal",0.155,0.63700000000000001,0,0.432,1.2515000000000001,4.3659999999999997,null,"7)",null,null,"Phenol"]
[380,"Octane",0,0,0,0,1.2358,3.6960000000000002,null,"7)",null,null,"Propyl 4-Hydroxybenzoate"]
[381,"Octanophenone",0.76900000000000002,1.022,0,0.505,1.8593,7.3289999999999997,null,"7)",null,null,"Resorcinol"]
[382,"o-Xylene",0.66300000000000003,0.54900000000000004,0,0.17799999999999999,null,3.944,null,"5)",null,null,"Vanillin"]
[383,"p-Cresol",0.82,0.75700000000000001,0.67100000000000004,0.31,null,4.3550000000000004,null,"4)",null,"Steroids"]
[384,"Pentachlorophenol",1.587,0.97599999999999998,0.63600000000000001,0.13,1.3871,7.5339999999999998,null,"7)",null,null,"Androsterone"]
[385,"Pentadecane",0,0,0,0,2.2221000000000002,7.14,null,"7)",null,null,"Cholestane"]
[386,"Pentafluorophenol",1.22,0.57799999999999996,1.17,2.5000000000000001E-2,0.86309999999999998,2.3239999999999998,null,"7)",null,null,"Cholesterol"]
[387,"Pentan-1-ol",0.218,0.41799999999999998,0.35599999999999998,0.52900000000000003,0.87180000000000002,3.1389999999999998,null,"7)",null,null,"Cholesteryl acetate"]
[388,"Pentan-2-ol",0.19500000000000001,0.33800000000000002,0.32900000000000001,0.58899999999999997,0.87180000000000002,2.839,null,"7)",null,null,"Dihydrocholesterol"]
[389,"Pentan-2-one",0.14499999999999999,0.68100000000000005,0,0.50600000000000001,0.82879999999999998,2.7189999999999999,null,"7)",null,null,"Progesterone"]
[390,"Pentan-3-ol",0.20699999999999999,0.33200000000000002,0.314,0.57399999999999995,0.87180000000000002,2.8679999999999999,null,"7)",null,"Organosiloxanes"]
[391,"Pentanal",0.16200000000000001,0.63700000000000001,0,0.432,0.82879999999999998,2.8029999999999999,null,"7)",null,null,"(Methacryloxypropyl)trimethoxy-silane"]
[392,"Perylene",2.7869999999999999,1.851,0,0.41799999999999998,1.9536,11.688000000000001,null,"7)",null,null,"3-(Glycidoxypropyl)trimethoxy-silane"]
[393,"PFBI ",0,7.0000000000000007E-2,0,0,1.27,1.9390000000000001,null,"6)",null,null,"3-Aminopropyltriethoxysilane"]
[394,"PFBSA ",0,0.96,1.1499999999999999,0.23,1.3919999999999999,3.6070000000000002,null,"6)",null,null,"3-Glycidyloxypropyltimethoxysilane"]
[395,"PFBSF ",0,0.16,0,0,1.33,1.278,null,"6)",null,null,"3-Methacryloxypropyltrimethoxysilane"]
[396,"PFDI ",0,7.0000000000000007E-2,0,0,2.5680000000000001,3.6230000000000002,null,"6)",null,null,"Bis(trimethylsiloxy)methylsilane"]
[397,"PFHpI ",0,7.0000000000000007E-2,0,0,1.919,2.7919999999999998,null,"6)",null,null,"Decamethylcyclopentasiloxane"]
[398,"PFHxI ",0,7.0000000000000007E-2,0,0,1.702,2.508,null,"6)",null,null,"Decamethyltetrasiloxane"]
[399,"PFHxSA ",0,0.96,1.1499999999999999,0.23,1.825,4.1890000000000001,null,"6)",null,null,"Dodecamethylcyclohexasiloxane"]
[400,"PFOI ",0,7.0000000000000007E-2,0,0,2.1349999999999998,3.0680000000000001,null,"6)",null,null,"Hexamethylcyclotrisiloxane"]
[401,"PFOSA ",0,0.96,1.1499999999999999,0.23,2.2570000000000001,4.7439999999999998,null,"6)",null,null,"Hexamethyldisiloxane"]
[402,"PFTBA ",0,-0.23,0,0,2.9169999999999998,2.302,null,"6)",null,null,"Isocyanatopropyltriethoxysilane"]
[403,"PFTPrA ",0,-0.26,0,0,2.2679999999999998,1.5209999999999999,null,"6)",null,null,"n-Octyltriethoxysilane"]
[404,"Phenanthrene",1.952,1.3340000000000001,0,0.26900000000000002,1.4543999999999999,7.657,null,"7)",null,null,"Octaethylcycloterasiloxane"]
[405,"Phenol",0.754,0.77800000000000002,0.72699999999999998,0.311,0.77510000000000001,3.7970000000000002,null,"7)",null,null,"Octamethylcyclotetrasiloxane"]
[406,"Phenyl acetate",0.64800000000000002,1.0680000000000001,0,0.51800000000000002,1.0725,4.3760000000000003,null,"7)",null,null,"Octamethyltrisiloxane"]
[407,"Phenyl benzoate",1.24,1.33,0,0.505,1.5395000000000001,7.0369999999999999,null,"7)",null,"Miscellaneous compounds"]
[408,"Phenylcyclohexane",0.88500000000000001,0.59,0,0.25600000000000001,1.4532,6.0650000000000004,null,"7)",null,null,"1,2-Dicyanobenzene"]
[409,"Phthalimide",1.502,1.5840000000000001,0.27900000000000003,0.73099999999999998,1.0207999999999999,5.8559999999999999,null,"7)",null,null,"1,3-Benzothiazole"]
[410,"Progesterone",1.675,2.206,0,1.395,2.6215000000000002,11.657,null,"7)",null,null,"1-Hydroxyanthraquinone"]
[411,"Propan-1-ol",0.24099999999999999,0.41799999999999998,0.35599999999999998,0.52900000000000003,0.59,2.0129999999999999,null,"7)",null,null,"2-Methylbenzothiazole"]
[412,"Propan-2-ol",0.21,0.36,0.33,0.56000000000000005,0.59,1.764,null,"6)",null,null,"Acetonitrile"]
[413,"Propyl acetate",8.6999999999999994E-2,0.56100000000000005,0,0.47599999999999998,0.88749999999999996,2.8769999999999998,null,"7)",null,null,"Anthraquinone"]
[414,"Propyl formate",0.12,0.53100000000000003,0,0.39500000000000002,0.74660000000000004,2.4180000000000001,null,"7)",null,null,"Benzonitrile"]
[415,"p-Xylene",0.61299999999999999,0.495,0,0.16,null,3.851,null,"1)",null,null,"Caffeine"]
[416,"Pyrene",2.3370000000000002,1.4950000000000001,0,0.27400000000000002,1.5846,8.9109999999999996,null,"7)",null,null,"Carbon disulfide"]
[417,"Pyridine",0.63,0.84399999999999997,0,0.53800000000000003,0.67530000000000001,2.9929999999999999,null,"7)",null,null,"Coumarin"]
[418,"Quinine",1.1950000000000001,1.026,0.93100000000000005,1.143,2.5512000000000001,12.356999999999999,null,"7)",null,null,"Dibenzofuran"]
[419,"Quinoline",1.2689999999999999,1.1180000000000001,0,0.60499999999999998,1.0443,5.3380000000000001,null,"7)",null,null,"Dimethyl sulfoxide"]
[420,"Resorcinol",0.91800000000000004,0.98399999999999999,1.345,0.48399999999999999,0.83379999999999999,4.8659999999999997,null,"7)",null,null,"Melatonin"]
[421,"Styrene",0.84499999999999997,0.65700000000000003,0,0.159,0.95520000000000005,3.8780000000000001,null,"7)",null,null,"Nicotine"]
[422,"Terpinen-4-ol",0.52700000000000002,0.51400000000000001,0.18099999999999999,0.67400000000000004,1.4247000000000001,5.2779999999999996,null,"7)",null,null,"Triethyl phosphate"]
[423,"Tetradecan-2-one",0.1,0.68,0,0.51,2.0969000000000002,7.1509999999999998,null,"6)",null,null,"Trimethoprim"]
[424,"Tetradecane",0,0,0,0,2.0811999999999999,6.65,null,"7)",null,null,"Trimethyl phosphate"]
[425,"Tetrahydrofuran",0.29499999999999998,0.52600000000000002,0,0.442,0.62229999999999996,2.532,null,"7)",null,null,"Tri-n-propyl phosphate"]
[426,"Thioacetamide",0.48599999999999999,1.663,0.17699999999999999,0.32800000000000001,0.61070000000000002,3.8879999999999999,null,"7)",null,"Variable B compounds"]
[427,"Toluene",0.60499999999999998,0.49299999999999999,0,0.14799999999999999,0.85729999999999995,3.347,null,"7)",null,null,"2,4,6-Trimethylpyridine"]
[428,"Toluene 2",0.60599999999999998,0.499,0,0.13900000000000001,null,3.34,null,"5)",null,null,"2,4-Dimethylaniline"]
[429,"trans-Cyclohexane-1,2-diol",0.63,0.8,0.75,0.9,0.96279999999999999,4.1820000000000004,null,"6)",null,null,"2,5-Dichloroaniline"]
[430,"trans-Stilbene",1.45,1.198,0,0.34,null,7.3849999999999998,null,"1)",null,null,"2,5-Diethoxyaniline"]
[431,"Tribenzylamine",1.7030000000000001,1.1779999999999999,0,0.67900000000000005,2.4544999999999999,9.8369999999999997,null,"7)",null,null,"2,6-Dimethylaniline"]
[432,"Tributyrin",-8.0000000000000002E-3,1.202,0,1.3120000000000001,2.4453,8.0570000000000004,null,"7)",null,null,"2-Aminobiphenyl"]
[433,"Trichloromethane",0.43,0.49,0.15,0.02,0.61670000000000003,2.48,null,"6)",null,null,"2-Aminophenol"]
[434,"Tridecane",0,0,0,0,1.9402999999999999,6.1719999999999997,null,"7)",null,null,"2-Chloroaniline"]
[435,"Triethyl phosphate",0,1,0,1.06,1.3934,4.75,null,"6)",null,null,"2-Ethylimidazole"]
[436,"Triethylamine",9.8000000000000004E-2,0.111,0,0.80400000000000005,1.0538000000000001,3.0369999999999999,null,"7)",null,null,"2-Methylaniline"]
[437,"Triisopropanolamine",0.72599999999999998,1.4179999999999999,0.34200000000000003,1.538,1.6526000000000001,5.8319999999999999,null,"7)",null,null,"2-Phenylimidazole"]
[438,"Trimethoprim",2.0489999999999999,2.0569999999999999,4.3999999999999997E-2,2.0270000000000001,2.1812999999999998,10.41,null,"7)",null,null,"3,3′-Dichlorobenzidine"]
[439,"Trimethyl phosphate",0.11,1.27,0,0.96,0.97070000000000001,3.798,null,"6)",null,null,"3,4-Dichloroaniline"]
[440,"Tri-n-butylamine",3.3000000000000002E-2,0,0,0.754,1.8992,5.657,null,"7)",null,null,"3-Methylaniline"]
[441,"Tri-n-propyl phosphate",0.05,1,0,1.1499999999999999,1.8161,6.18,null,"6)",null,null,"4-(Dimethylamino)azobenzene"]
[442,"Triphenylamine",2.12,0.89900000000000002,0,0.71399999999999997,2.0318000000000001,8.907,null,"7)",null,null,"4,4′-Methylenedianiline"]
[443,"Triphenylene",2.988,1.746,0,0.443,1.8233999999999999,9.9049999999999994,null,"7)",null,null,"4-Aminobenzonitrile"]
[444,"Triphenylmethane",1.8520000000000001,1.0649999999999999,0,0.63400000000000001,2.0729000000000002,8.6760000000000002,null,"7)",null,null,"4-Chloroaniline"]
[445,"t-Stilbene",1.611,1.2030000000000001,0,0.30299999999999999,1.5629999999999999,7.3209999999999997,null,"7)",null,null,"4-Fluoroaniline"]
[446,"Undecan-1-ol",0.18099999999999999,0.41799999999999998,0.35599999999999998,0.52900000000000003,1.7172000000000001,6.0880000000000001,null,"7)",null,null,"4-Methylaniline"]
[447,"Undecan-2-one",0.10100000000000001,0.68100000000000005,0,0.50600000000000001,1.6741999999999999,5.7290000000000001,null,"7)",null,null,"8-Hydroxyquinoline"]
[448,"Undecane",0,0,0,0,1.6585000000000001,5.2030000000000003,null,"7)",null,null,"Aniline"]
[449,"Valerophenone",0.78400000000000003,1.022,0,0.505,1.4366000000000001,5.8449999999999998,null,"7)",null,null,"Benzidine"]
[450,"Vanillin",1.1140000000000001,1.4830000000000001,0.307,0.72899999999999998,1.1313,5.6230000000000002,null,"7)",null,null,"Carbazole"]
[451,"α-Isomethyl ionone",0.751,0.82899999999999996,0,0.79200000000000004,1.9023000000000001,6.51,null,"7)",null,null,"Dibenzylamine"]
[452,null,null,null,null,null,null,null,null,null,null,null,"Dicyclohexylamine"]
[453,null,null,null,null,null,null,null,null,null,null,null,"Diphenylamine"]
[454,null,null,null,null,null,null,null,null,null,null,null,"Indole"]
[455,null,null,null,null,null,null,null,null,null,null,null,"N,N’-Diphenyl-1,4-phenylenediamine"]
[456,null,null,null,null,null,null,null,null,null,null,null,"N,N-Diethylaniline"]
[457,null,null,null,null,null,null,null,null,null,null,null,"N,N-Dimethylaniline"]
[458,null,null,null,null,null,null,null,null,null,null,null,"N,N-Dimethyldodecylamine"]
[459,null,null,null,null,null,null,null,null,null,null,null,"N-Ethylaniline"]
[460,null,null,null,null,null,null,null,null,null,null,null,"Nicotinamide"]
[461,null,null,null,null,null,null,null,null,null,null,null,"N-Methylaniline"]
[462,null,null,null,null,null,null,null,null,null,null,null,"Phthalimide"]
[463,null,null,null,null,null,null,null,null,null,null,null,"Pyridine"]
[464,null,null,null,null,null,null,null,null,null,null,null,"Quinine"]
[465,null,null,null,null,null,null,null,null,null,null,null,"Quinoline"]
[466,null,null,null,null,null,null,null,null,null,null,"Fluorinated compounds"]
[467,null,null,null,null,null,null,null,null,null,null,null,"10:2 FTI "]
[468,null,null,null,null,null,null,null,null,null,null,null,"10:2 FTOH "]
[469,null,null,null,null,null,null,null,null,null,null,null,"12:2 FTOH "]
[470,null,null,null,null,null,null,null,null,null,null,null,"3:1 FTOH "]
[471,null,null,null,null,null,null,null,null,null,null,null,"3:3 FTOH "]
[472,null,null,null,null,null,null,null,null,null,null,null,"4:2 FTI "]
[473,null,null,null,null,null,null,null,null,null,null,null,"4:2 FTOH "]
[474,null,null,null,null,null,null,null,null,null,null,null,"4:4 FTOH "]
[475,null,null,null,null,null,null,null,null,null,null,null,"5:2s FTOH "]
[476,null,null,null,null,null,null,null,null,null,null,null,"6:1 FTI "]
[477,null,null,null,null,null,null,null,null,null,null,null,"6:1 FTI-7H "]
[478,null,null,null,null,null,null,null,null,null,null,null,"6:2 FTI "]
[479,null,null,null,null,null,null,null,null,null,null,null,"6:2 FTOH "]
[480,null,null,null,null,null,null,null,null,null,null,null,"7:1 FTOH "]
[481,null,null,null,null,null,null,null,null,null,null,null,"8:2 FTI "]
[482,null,null,null,null,null,null,null,null,null,null,null,"8:2 FTOH "]
[483,null,null,null,null,null,null,null,null,null,null,null,"AFOE "]
[484,null,null,null,null,null,null,null,null,null,null,null,"APFIPE "]
[485,null,null,null,null,null,null,null,null,null,null,null,"EtFHxSA "]
[486,null,null,null,null,null,null,null,null,null,null,null,"EtFHxSE "]
[487,null,null,null,null,null,null,null,null,null,null,null,"EtFOSA "]
[488,null,null,null,null,null,null,null,null,null,null,null,"EtFOSE "]
[489,null,null,null,null,null,null,null,null,null,null,null,"FE-E1-I "]
[490,null,null,null,null,null,null,null,null,null,null,null,"FE-E3 "]
[491,null,null,null,null,null,null,null,null,null,null,null,"FE-E4 "]
[492,null,null,null,null,null,null,null,null,null,null,null,"FE-E5 "]
[493,null,null,null,null,null,null,null,null,null,null,null,"MeFBSA "]
[494,null,null,null,null,null,null,null,null,null,null,null,"MeFBSE "]
[495,null,null,null,null,null,null,null,null,null,null,null,"MeFHxSA "]
[496,null,null,null,null,null,null,null,null,null,null,null,"MeFOSA "]
[497,null,null,null,null,null,null,null,null,null,null,null,"MeFOSE "]
[498,null,null,null,null,null,null,null,null,null,null,null,"PFBI "]
[499,null,null,null,null,null,null,null,null,null,null,null,"PFBSA "]
[500,null,null,null,null,null,null,null,null,null,null,null,"PFBSF "]
[null,null,null,null,null,null,null,null,null,null,null,null,"PFDI "]
[null,null,null,null,null,null,null,null,null,null,null,null,"PFHpI "]
[null,null,null,null,null,null,null,null,null,null,null,null,"PFHxI "]
[null,null,null,null,null,null,null,null,null,null,null,null,"PFHxSA "]
[null,null,null,null,null,null,null,null,null,null,null,null,"PFOI "]
[null,null,null,null,null,null,null,null,null,null,null,null,"PFOSA "]
[null,null,null,null,null,null,null,null,null,null,null,null,"PFTBA "]
[null,null,null,null,null,null,null,null,null,null,null,null,"PFTPrA "]

{"sheet":"Columns","index":3,"n_rows":605,"n_cols":40,"rows_kept":605,"cut":false,"hidden":false,"merged":[]}
[{"$f":"GC!A1","v":"ChromSimGCxGC_4.0"},null,null,null,null,null,null,null,null,null,null,null,null,{"$f":"GC!D1","v":"Author: Bo Svensmark, svensmark@plen.ku.dk, Analytical Chemistry, PLEN, Univ. of Copenhagen, 2017-2026"}]
[null,null,null,null,null,null,null,null,null,null,null,null,null,null,null,null,null,null,null,null,null,null,null,"To add a column or change data for existing colums"]
[null,null,null,null,null,null,null,null,null,null,"Table 1",null,null,null,null,null,null,null,null,null,null,null,null,null,"1) Enter the data for the new column in column A-P or edit the column data"]
[null,null,null,null,null,null,null,null,null,null,"c-term = c(mean):  0",null,null,null,null,null,null,null,null,null,null,null,null,null,"2) Same data format as the existing column data "]
["Selected reference column 1:",null,null,{"$f":"B11","v":"HP-5"},{"$f":"D11","v":"5 % diphenylsiloxane"},null,null,null,null,null,"c-term = c(litt):       1 ",null,null,null,null,null,null,null,null,null,null,null,null,null,"3) Max 80 columns of max 20 temperatures"]
["Parameters",{"$f":"SPmodel!B31","v":60},{"$f":"SPmodel!C31","v":-0.10299999999999999},{"$f":"SPmodel!D31","v":0.432},{"$f":"SPmodel!E31","v":0.375},{"$f":"SPmodel!F31","v":0},{"$f":"SPmodel!G31","v":0.70899999999999996},{"$f":"SPmodel!H31","v":-1.879},null,null,"Column 1","Column 2",null,null,null,null,null,null,null,null,null,null,null,null,"4) Press the button Update columns"]
["Norm",null,{"$f":"C6/$I$7","v":-0.11234617485403818},0.4711994906499466,0.40902733563363419,0,0.77333434923799105,-2.0494996364149296,{"$f":"SQRT(C6^2+D6^2+E6^2+F6^2+G6^2)","v":0.91680914044309136},null,1,1,null,null,null,null,null,null,null,null,null,null,null,null,"This sheet is proteted. To update unprotect, Update, Protect: To unprotect:Go to  Review and click Unprotect sheet"]
[]
["Column 1","Name:",{"$f":"GC!E29","v":"HP-5"},null,"Index:",{"$f":"VLOOKUP(C9,V10:AI89,13,FALSE)","v":63},"Length:",{"$f":"VLOOKUP(C9,V10:AI89,14,FALSE)","v":13},null,"Column 2","Name:",{"$f":"GC!E31","v":"Rxi-50-240"},null,"Index:",{"$f":"VLOOKUP(L9,V10:AI89,13,FALSE)","v":157},"Length:",{"$f":"VLOOKUP(L9,V10:AI89,14,FALSE)","v":10},null,"Length"," q","d","Name",null,"Description",null,null,null,null,null,null,null,"Beta","No","Index","Length",null,"References"]
["Column","T","e","s","a","b","l","c(sim)",null,"Column","T","e","s","a","b","l","c(sim)",null,{"$f":"IF($AH10=\"\",\"\",INDEX($N$42:$P$641,$AH10,1))","v":0.79452312741669151},{"$f":"IF($AH10=\"\",\"\",INDEX($N$42:$P$641,$AH10,2))","v":9.4320232730777889},{"$f":"IF($AH10=\"\",\"\",INDEX($N$42:$P$641,$AH10,3))","v":0.16442796142470842},{"$f":"IF(AH10=\"\",NA(),INDEX($D$41:$F$640,$AH10,1))","v":"DB-1"},null,{"$f":"IF(AH10=\"\",\"\",INDEX($D$41:$F$640,$AH10,3))","v":"Poly(dimethylsiloxane)"},null,null,null,null,null,null,null,{"$f":"IF(AH10=\"\",\"\",INDEX($P$41:$P$640,$AH10,1))","v":3.1323395073973664E-3},1,1,5]
["Name",{"$f":"INDEX($D$41:$K$639,$F$9,1)","v":"HP-5"},null,{"$f":"INDEX($D$41:$K$639,$F$9,3)","v":"5 % diphenylsiloxane"},null,null,null,null,null,"Name",{"$f":"INDEX($D$41:$K$639,$O$9,1)","v":"Rxi-50-240"},null,{"$f":"INDEX($D$41:$K$639,$O$9,3)","v":"50% poly(dimethyldiphenylsiloxane) Extended temperature range"},null,null,null,null,null,{"$f":"IF($AH11=\"\",\"\",INDEX($N$42:$P$641,$AH11,1))","v":0.89237548150988544},{"$f":"IF($AH11=\"\",\"\",INDEX($N$42:$P$641,$AH11,2))","v":5.6115933199231494},{"$f":"IF($AH11=\"\",\"\",INDEX($N$42:$P$641,$AH11,3))","v":9.7891424260208915E-2},{"$f":"IF(AH11=\"\",NA(),INDEX($D$41:$F$640,$AH11,1))","v":"SolGel-1"},null,{"$f":"IF(AH11=\"\",\"\",INDEX($D$41:$F$640,$AH11,3))","v":"Poly(dimethylsiloxane)"},null,null,null,null,null,null,null,{"$f":"IF(AH11=\"\",\"\",INDEX($P$41:$P$640,$AH11,1))","v":1.2618171749535225E-2},2,8,5]
[1,{"$f":"IF($A12>$H$9,\"\",INDEX($D$41:$K$639,$F$9+$A12,2))","v":60},{"$f":"IF($A12>$H$9,\"\",INDEX($D$41:$K$639,$F$9+$A12,3))","v":-0.10299999999999999},{"$f":"IF($A12>$H$9,\"\",INDEX($D$41:$K$639,$F$9+$A12,4))","v":0.432},{"$f":"IF($A12>$H$9,\"\",INDEX($D$41:$K$639,$F$9+$A12,5))","v":0.375},{"$f":"IF($A12>$H$9,\"\",INDEX($D$41:$K$639,$F$9+$A12,6))","v":0},{"$f":"IF($A12>$H$9,\"\",INDEX($D$41:$K$639,$F$9+$A12,7))","v":0.70899999999999996},{"$f":"IF($A12>$H$9,\"\",INDEX($D$41:$L$639,$F$9+$A12,8+$K$7))","v":-1.879},null,1,{"$f":"IF($J12>$Q$9,\"\",INDEX($D$41:$K$639,$O$9+$J12,2))","v":60},{"$f":"IF($J12>$Q$9,\"\",INDEX($D$41:$K$639,$O$9+$J12,3))","v":-2.5000000000000001E-2},{"$f":"IF($J12>$Q$9,\"\",INDEX($D$41:$K$639,$O$9+$J12,4))","v":1.02},{"$f":"IF($J12>$Q$9,\"\",INDEX($D$41:$K$639,$O$9+$J12,5))","v":0.48399999999999999},{"$f":"IF($J12>$Q$9,\"\",INDEX($D$41:$K$639,$O$9+$J12,6))","v":0},{"$f":"IF($J12>$Q$9,\"\",INDEX($D$41:$K$639,$O$9+$J12,7))","v":0.67800000000000005},{"$f":"IF($J12>$Q$9,\"\",INDEX($D$41:$L$639,$O$9+$J12,8+$L$7))","v":-2.3450000000000002},null,{"$f":"IF($AH12=\"\",\"\",INDEX($N$42:$P$641,$AH12,1))","v":0.78183246287168195},{"$f":"IF($AH12=\"\",\"\",INDEX($N$42:$P$641,$AH12,2))","v":33.625022263449658},{"$f":"IF($AH12=\"\",\"\",INDEX($N$42:$P$641,$AH12,3))","v":0.57847993285511423},{"$f":"IF(AH12=\"\",NA(),INDEX($D$41:$F$640,$AH12,1))","v":"SPB-Octyl"},null,{"$f":"IF(AH12=\"\",\"\",INDEX($D$41:$F$640,$AH12,3))","v":"Poly(methyloctylsiloxane)"},null,null,null,null,null,null,null,{"$f":"IF(AH12=\"\",\"\",INDEX($P$41:$P$640,$AH12,1))","v":1.2618171749535225E-2},3,15,11,null,"1)","Colin F. Poole"]
[2,{"$f":"IF($A13>$H$9,\"\",INDEX($D$41:$K$639,$F$9+$A13,2))","v":80},{"$f":"IF($A13>$H$9,\"\",INDEX($D$41:$K$639,$F$9+$A13,3))","v":-0.06},{"$f":"IF($A13>$H$9,\"\",INDEX($D$41:$K$639,$F$9+$A13,4))","v":0.379},{"$f":"IF($A13>$H$9,\"\",INDEX($D$41:$K$639,$F$9+$A13,5))","v":0.317},{"$f":"IF($A13>$H$9,\"\",INDEX($D$41:$K$639,$F$9+$A13,6))","v":0},{"$f":"IF($A13>$H$9,\"\",INDEX($D$41:$K$639,$F$9+$A13,7))","v":0.628},{"$f":"IF($A13>$H$9,\"\",INDEX($D$41:$L$639,$F$9+$A13,8+$K$7))","v":-1.905},null,2,{"$f":"IF($J13>$Q$9,\"\",INDEX($D$41:$K$639,$O$9+$J13,2))","v":80},{"$f":"IF($J13>$Q$9,\"\",INDEX($D$41:$K$639,$O$9+$J13,3))","v":1.7000000000000001E-2},{"$f":"IF($J13>$Q$9,\"\",INDEX($D$41:$K$639,$O$9+$J13,4))","v":0.93600000000000005},{"$f":"IF($J13>$Q$9,\"\",INDEX($D$41:$K$639,$O$9+$J13,5))","v":0.434},{"$f":"IF($J13>$Q$9,\"\",INDEX($D$41:$K$639,$O$9+$J13,6))","v":0},{"$f":"IF($J13>$Q$9,\"\",INDEX($D$41:$K$639,$O$9+$J13,7))","v":0.621},{"$f":"IF($J13>$Q$9,\"\",INDEX($D$41:$L$639,$O$9+$J13,8+$L$7))","v":-2.4449999999999998},null,{"$f":"IF($AH13=\"\",\"\",INDEX($N$42:$P$641,$AH13,1))","v":0.82923639572802155},{"$f":"IF($AH13=\"\",\"\",INDEX($N$42:$P$641,$AH13,2))","v":6.8502795807012244},{"$f":"IF($AH13=\"\",\"\",INDEX($N$42:$P$641,$AH13,3))","v":0.11948036602415903},{"$f":"IF(AH13=\"\",NA(),INDEX($D$41:$F$640,$AH13,1))","v":"G-PDMS"},null,{"$f":"IF(AH13=\"\",\"\",INDEX($D$41:$F$640,$AH13,3))","v":"Generic-Poly(dimethylsiloxane) [c = -2.000]"},null,null,null,null,null,null,null,{"$f":"IF(AH13=\"\",\"\",INDEX($P$41:$P$640,$AH13,1))","v":0},4,28,5,null,null,"Update and expansion of a system constant database for open-tubular"]
[3,{"$f":"IF($A14>$H$9,\"\",INDEX($D$41:$K$639,$F$9+$A14,2))","v":100},{"$f":"IF($A14>$H$9,\"\",INDEX($D$41:$K$639,$F$9+$A14,3))","v":-3.3000000000000002E-2},{"$f":"IF($A14>$H$9,\"\",INDEX($D$41:$K$639,$F$9+$A14,4))","v":0.34},{"$f":"IF($A14>$H$9,\"\",INDEX($D$41:$K$639,$F$9+$A14,5))","v":0.254},{"$f":"IF($A14>$H$9,\"\",INDEX($D$41:$K$639,$F$9+$A14,6))","v":0},{"$f":"IF($A14>$H$9,\"\",INDEX($D$41:$K$639,$F$9+$A14,7))","v":0.55600000000000005},{"$f":"IF($A14>$H$9,\"\",INDEX($D$41:$L$639,$F$9+$A14,8+$K$7))","v":-1.913},null,3,{"$f":"IF($J14>$Q$9,\"\",INDEX($D$41:$K$639,$O$9+$J14,2))","v":100},{"$f":"IF($J14>$Q$9,\"\",INDEX($D$41:$K$639,$O$9+$J14,3))","v":5.3999999999999999E-2},{"$f":"IF($J14>$Q$9,\"\",INDEX($D$41:$K$639,$O$9+$J14,4))","v":0.85099999999999998},{"$f":"IF($J14>$Q$9,\"\",INDEX($D$41:$K$639,$O$9+$J14,5))","v":0.377},{"$f":"IF($J14>$Q$9,\"\",INDEX($D$41:$K$639,$O$9+$J14,6))","v":0},{"$f":"IF($J14>$Q$9,\"\",INDEX($D$41:$K$639,$O$9+$J14,7))","v":0.56599999999999995},{"$f":"IF($J14>$Q$9,\"\",INDEX($D$41:$L$639,$O$9+$J14,8+$L$7))","v":-2.5089999999999999},null,{"$f":"IF($AH14=\"\",\"\",INDEX($N$42:$P$641,$AH14,1))","v":0.91215952552171486},{"$f":"IF($AH14=\"\",\"\",INDEX($N$42:$P$641,$AH14,2))","v":1.0961075240264806},{"$f":"IF($AH14=\"\",\"\",INDEX($N$42:$P$641,$AH14,3))","v":1.9078049069695062E-2},{"$f":"IF(AH14=\"\",NA(),INDEX($D$41:$F$640,$AH14,1))","v":"G-PDMPS-5"},null,{"$f":"IF(AH14=\"\",\"\",INDEX($D$41:$F$640,$AH14,3))","v":"Generic-Poly(dimethyldiphenylsiloxane) [c = -2.000]"},null,null,null,null,null,null,null,{"$f":"IF(AH14=\"\",\"\",INDEX($P$41:$P$640,$AH14,1))","v":0},5,35,5,null,null,"columns used in gas chromatography"]
[4,{"$f":"IF($A15>$H$9,\"\",INDEX($D$41:$K$639,$F$9+$A15,2))","v":120},{"$f":"IF($A15>$H$9,\"\",INDEX($D$41:$K$639,$F$9+$A15,3))","v":0},{"$f":"IF($A15>$H$9,\"\",INDEX($D$41:$K$639,$F$9+$A15,4))","v":0.314},{"$f":"IF($A15>$H$9,\"\",INDEX($D$41:$K$639,$F$9+$A15,5))","v":0.19},{"$f":"IF($A15>$H$9,\"\",INDEX($D$41:$K$639,$F$9+$A15,6))","v":0},{"$f":"IF($A15>$H$9,\"\",INDEX($D$41:$K$639,$F$9+$A15,7))","v":0.51200000000000001},{"$f":"IF($A15>$H$9,\"\",INDEX($D$41:$L$639,$F$9+$A15,8+$K$7))","v":-1.9870000000000001},null,4,{"$f":"IF($J15>$Q$9,\"\",INDEX($D$41:$K$639,$O$9+$J15,2))","v":120},{"$f":"IF($J15>$Q$9,\"\",INDEX($D$41:$K$639,$O$9+$J15,3))","v":8.5000000000000006E-2},{"$f":"IF($J15>$Q$9,\"\",INDEX($D$41:$K$639,$O$9+$J15,4))","v":0.78700000000000003},{"$f":"IF($J15>$Q$9,\"\",INDEX($D$41:$K$639,$O$9+$J15,5))","v":0.33100000000000002},{"$f":"IF($J15>$Q$9,\"\",INDEX($D$41:$K$639,$O$9+$J15,6))","v":0},{"$f":"IF($J15>$Q$9,\"\",INDEX($D$41:$K$639,$O$9+$J15,7))","v":0.52200000000000002},{"$f":"IF($J15>$Q$9,\"\",INDEX($D$41:$L$639,$O$9+$J15,8+$L$7))","v":-2.5819999999999999},null,{"$f":"IF($AH15=\"\",\"\",INDEX($N$42:$P$641,$AH15,1))","v":1.1021556151469718},{"$f":"IF($AH15=\"\",\"\",INDEX($N$42:$P$641,$AH15,2))","v":42.586623616802775},{"$f":"IF($AH15=\"\",\"\",INDEX($N$42:$P$641,$AH15,3))","v":0.72628356469433109},{"$f":"IF(AH15=\"\",NA(),INDEX($D$41:$F$640,$AH15,1))","v":"G-PMPS"},null,{"$f":"IF(AH15=\"\",\"\",INDEX($D$41:$F$640,$AH15,3))","v":"Generc-Poly(methylphenylsiloxane) [c = -2.000]"},null,null,null,null,null,null,null,{"$f":"IF(AH15=\"\",\"\",INDEX($P$41:$P$640,$AH15,1))","v":0},6,42,5,null,null,"Journal of Chromatography A 1766 (2026) 466595"]
[5,{"$f":"IF($A16>$H$9,\"\",INDEX($D$41:$K$639,$F$9+$A16,2))","v":140},{"$f":"IF($A16>$H$9,\"\",INDEX($D$41:$K$639,$F$9+$A16,3))","v":3.3000000000000002E-2},{"$f":"IF($A16>$H$9,\"\",INDEX($D$41:$K$639,$F$9+$A16,4))","v":0.27300000000000002},{"$f":"IF($A16>$H$9,\"\",INDEX($D$41:$K$639,$F$9+$A16,5))","v":0.16700000000000001},{"$f":"IF($A16>$H$9,\"\",INDEX($D$41:$K$639,$F$9+$A16,6))","v":0},{"$f":"IF($A16>$H$9,\"\",INDEX($D$41:$K$639,$F$9+$A16,7))","v":0.46},{"$f":"IF($A16>$H$9,\"\",INDEX($D$41:$L$639,$F$9+$A16,8+$K$7))","v":-2.0009999999999999},null,5,{"$f":"IF($J16>$Q$9,\"\",INDEX($D$41:$K$639,$O$9+$J16,2))","v":140},{"$f":"IF($J16>$Q$9,\"\",INDEX($D$41:$K$639,$O$9+$J16,3))","v":0.111},{"$f":"IF($J16>$Q$9,\"\",INDEX($D$41:$K$639,$O$9+$J16,4))","v":0.73199999999999998},{"$f":"IF($J16>$Q$9,\"\",INDEX($D$41:$K$639,$O$9+$J16,5))","v":0.28499999999999998},{"$f":"IF($J16>$Q$9,\"\",INDEX($D$41:$K$639,$O$9+$J16,6))","v":0},{"$f":"IF($J16>$Q$9,\"\",INDEX($D$41:$K$639,$O$9+$J16,7))","v":0.48299999999999998},{"$f":"IF($J16>$Q$9,\"\",INDEX($D$41:$L$639,$O$9+$J16,8+$L$7))","v":-2.6520000000000001},null,{"$f":"IF($AH16=\"\",\"\",INDEX($N$42:$P$641,$AH16,1))","v":0.94516823899240288},{"$f":"IF($AH16=\"\",\"\",INDEX($N$42:$P$641,$AH16,2))","v":1.3165311801250072},{"$f":"IF($AH16=\"\",\"\",INDEX($N$42:$P$641,$AH16,3))","v":2.2933735797090186E-2},{"$f":"IF(AH16=\"\",NA(),INDEX($D$41:$F$640,$AH16,1))","v":"G-ASA-5"},null,{"$f":"IF(AH16=\"\",\"\",INDEX($D$41:$F$640,$AH16,3))","v":"Generic-Silarylene-siloxane copolymer [c = -2.000]"},null,null,null,null,null,null,null,{"$f":"IF(AH16=\"\",\"\",INDEX($P$41:$P$640,$AH16,1))","v":0},7,49,5,null,null,"https://doi.org/10.1016/j.chroma.2025.466595"]
[6,{"$f":"IF($A17>$H$9,\"\",INDEX($D$41:$K$639,$F$9+$A17,2))","v":160},{"$f":"IF($A17>$H$9,\"\",INDEX($D$41:$K$639,$F$9+$A17,3))","v":1.7999999999999999E-2},{"$f":"IF($A17>$H$9,\"\",INDEX($D$41:$K$639,$F$9+$A17,4))","v":0.26600000000000001},{"$f":"IF($A17>$H$9,\"\",INDEX($D$41:$K$639,$F$9+$A17,5))","v":0.14199999999999999},{"$f":"IF($A17>$H$9,\"\",INDEX($D$41:$K$639,$F$9+$A17,6))","v":0},{"$f":"IF($A17>$H$9,\"\",INDEX($D$41:$K$639,$F$9+$A17,7))","v":0.40400000000000003},{"$f":"IF($A17>$H$9,\"\",INDEX($D$41:$L$639,$F$9+$A17,8+$K$7))","v":-2.625},null,6,{"$f":"IF($J17>$Q$9,\"\",INDEX($D$41:$K$639,$O$9+$J17,2))","v":160},{"$f":"IF($J17>$Q$9,\"\",INDEX($D$41:$K$639,$O$9+$J17,3))","v":0.155},{"$f":"IF($J17>$Q$9,\"\",INDEX($D$41:$K$639,$O$9+$J17,4))","v":0.54300000000000004},{"$f":"IF($J17>$Q$9,\"\",INDEX($D$41:$K$639,$O$9+$J17,5))","v":0.26800000000000002},{"$f":"IF($J17>$Q$9,\"\",INDEX($D$41:$K$639,$O$9+$J17,6))","v":9.4E-2},{"$f":"IF($J17>$Q$9,\"\",INDEX($D$41:$K$639,$O$9+$J17,7))","v":0.39200000000000002},{"$f":"IF($J17>$Q$9,\"\",INDEX($D$41:$L$639,$O$9+$J17,8+$L$7))","v":-2.1389999999999998},null,{"$f":"IF($AH17=\"\",\"\",INDEX($N$42:$P$641,$AH17,1))","v":3.2715418383386141},{"$f":"IF($AH17=\"\",\"\",INDEX($N$42:$P$641,$AH17,2))","v":43.87719031283337},{"$f":"IF($AH17=\"\",\"\",INDEX($N$42:$P$641,$AH17,3))","v":0.74722406182580858},{"$f":"IF(AH17=\"\",NA(),INDEX($D$41:$F$640,$AH17,1))","v":"G-PEG"},null,{"$f":"IF(AH17=\"\",\"\",INDEX($D$41:$F$640,$AH17,3))","v":"Generic Polyethyleneglycol [c = -2.000]"},null,null,null,null,null,null,null,{"$f":"IF(AH17=\"\",\"\",INDEX($P$41:$P$640,$AH17,1))","v":0},8,56,5]
[7,{"$f":"IF($A18>$H$9,\"\",INDEX($D$41:$K$639,$F$9+$A18,2))","v":180},{"$f":"IF($A18>$H$9,\"\",INDEX($D$41:$K$639,$F$9+$A18,3))","v":3.6999999999999998E-2},{"$f":"IF($A18>$H$9,\"\",INDEX($D$41:$K$639,$F$9+$A18,4))","v":0.23699999999999999},{"$f":"IF($A18>$H$9,\"\",INDEX($D$41:$K$639,$F$9+$A18,5))","v":0.129},{"$f":"IF($A18>$H$9,\"\",INDEX($D$41:$K$639,$F$9+$A18,6))","v":0},{"$f":"IF($A18>$H$9,\"\",INDEX($D$41:$K$639,$F$9+$A18,7))","v":0.36399999999999999},{"$f":"IF($A18>$H$9,\"\",INDEX($D$41:$L$639,$F$9+$A18,8+$K$7))","v":-2.6280000000000001},null,7,{"$f":"IF($J18>$Q$9,\"\",INDEX($D$41:$K$639,$O$9+$J18,2))","v":180},{"$f":"IF($J18>$Q$9,\"\",INDEX($D$41:$K$639,$O$9+$J18,3))","v":0.17699999999999999},{"$f":"IF($J18>$Q$9,\"\",INDEX($D$41:$K$639,$O$9+$J18,4))","v":0.49099999999999999},{"$f":"IF($J18>$Q$9,\"\",INDEX($D$41:$K$639,$O$9+$J18,5))","v":0.23899999999999999},{"$f":"IF($J18>$Q$9,\"\",INDEX($D$41:$K$639,$O$9+$J18,6))","v":8.5000000000000006E-2},{"$f":"IF($J18>$Q$9,\"\",INDEX($D$41:$K$639,$O$9+$J18,7))","v":0.35499999999999998},{"$f":"IF($J18>$Q$9,\"\",INDEX($D$41:$L$639,$O$9+$J18,8+$L$7))","v":-2.149},null,{"$f":"IF($AH18=\"\",\"\",INDEX($N$42:$P$641,$AH18,1))","v":0.91680914044309136},{"$f":"IF($AH18=\"\",\"\",INDEX($N$42:$P$641,$AH18,2))","v":8.102847521217231E-2},{"$f":"IF($AH18=\"\",\"\",INDEX($N$42:$P$641,$AH18,3))","v":0},{"$f":"IF(AH18=\"\",NA(),INDEX($D$41:$F$640,$AH18,1))","v":"HP-5"},null,{"$f":"IF(AH18=\"\",\"\",INDEX($D$41:$F$640,$AH18,3))","v":"5 % diphenylsiloxane"},null,null,null,null,null,null,null,{"$f":"IF(AH18=\"\",\"\",INDEX($P$41:$P$640,$AH18,1))","v":1.6019220500498371E-3},9,63,13,null,"2)","Sanka N. Atapattua, Kimberly Eggersa, Colin F. Poolea,.,Waruna Kiridenab, WladyslawW. Koziol"]
[8,{"$f":"IF($A19>$H$9,\"\",INDEX($D$41:$K$639,$F$9+$A19,2))","v":200},{"$f":"IF($A19>$H$9,\"\",INDEX($D$41:$K$639,$F$9+$A19,3))","v":6.4000000000000001E-2},{"$f":"IF($A19>$H$9,\"\",INDEX($D$41:$K$639,$F$9+$A19,4))","v":0.214},{"$f":"IF($A19>$H$9,\"\",INDEX($D$41:$K$639,$F$9+$A19,5))","v":0.108},{"$f":"IF($A19>$H$9,\"\",INDEX($D$41:$K$639,$F$9+$A19,6))","v":0},{"$f":"IF($A19>$H$9,\"\",INDEX($D$41:$K$639,$F$9+$A19,7))","v":0.32900000000000001},{"$f":"IF($A19>$H$9,\"\",INDEX($D$41:$L$639,$F$9+$A19,8+$K$7))","v":-2.6349999999999998},null,8,{"$f":"IF($J19>$Q$9,\"\",INDEX($D$41:$K$639,$O$9+$J19,2))","v":200},{"$f":"IF($J19>$Q$9,\"\",INDEX($D$41:$K$639,$O$9+$J19,3))","v":0.183},{"$f":"IF($J19>$Q$9,\"\",INDEX($D$41:$K$639,$O$9+$J19,4))","v":0.45400000000000001},{"$f":"IF($J19>$Q$9,\"\",INDEX($D$41:$K$639,$O$9+$J19,5))","v":0.222},{"$f":"IF($J19>$Q$9,\"\",INDEX($D$41:$K$639,$O$9+$J19,6))","v":6.3E-2},{"$f":"IF($J19>$Q$9,\"\",INDEX($D$41:$K$639,$O$9+$J19,7))","v":0.32100000000000001},{"$f":"IF($J19>$Q$9,\"\",INDEX($D$41:$L$639,$O$9+$J19,8+$L$7))","v":-2.1429999999999998},null,{"$f":"IF($AH19=\"\",\"\",INDEX($N$42:$P$641,$AH19,1))","v":0.76242114346337486},{"$f":"IF($AH19=\"\",\"\",INDEX($N$42:$P$641,$AH19,2))","v":5.1441601645580795},{"$f":"IF($AH19=\"\",\"\",INDEX($N$42:$P$641,$AH19,3))","v":8.9741237356939396E-2},{"$f":"IF(AH19=\"\",NA(),INDEX($D$41:$F$640,$AH19,1))","v":"DB-5"},null,{"$f":"IF(AH19=\"\",\"\",INDEX($D$41:$F$640,$AH19,3))","v":"5 % diphenylsiloxane"},null,null,null,null,null,null,null,{"$f":"IF(AH19=\"\",\"\",INDEX($P$41:$P$640,$AH19,1))","v":1.6194068678459937E-2},10,78,5,null,null,"Extension of the system constants database for open-tubular columns: System"]
[9,{"$f":"IF($A20>$H$9,\"\",INDEX($D$41:$K$639,$F$9+$A20,2))","v":220},{"$f":"IF($A20>$H$9,\"\",INDEX($D$41:$K$639,$F$9+$A20,3))","v":6.9000000000000006E-2},{"$f":"IF($A20>$H$9,\"\",INDEX($D$41:$K$639,$F$9+$A20,4))","v":0.20699999999999999},{"$f":"IF($A20>$H$9,\"\",INDEX($D$41:$K$639,$F$9+$A20,5))","v":9.7000000000000003E-2},{"$f":"IF($A20>$H$9,\"\",INDEX($D$41:$K$639,$F$9+$A20,6))","v":0},{"$f":"IF($A20>$H$9,\"\",INDEX($D$41:$K$639,$F$9+$A20,7))","v":0.29499999999999998},{"$f":"IF($A20>$H$9,\"\",INDEX($D$41:$L$639,$F$9+$A20,8+$K$7))","v":-2.6320000000000001},null,9,{"$f":"IF($J20>$Q$9,\"\",INDEX($D$41:$K$639,$O$9+$J20,2))","v":220},{"$f":"IF($J20>$Q$9,\"\",INDEX($D$41:$K$639,$O$9+$J20,3))","v":0.185},{"$f":"IF($J20>$Q$9,\"\",INDEX($D$41:$K$639,$O$9+$J20,4))","v":0.42499999999999999},{"$f":"IF($J20>$Q$9,\"\",INDEX($D$41:$K$639,$O$9+$J20,5))","v":0.20599999999999999},{"$f":"IF($J20>$Q$9,\"\",INDEX($D$41:$K$639,$O$9+$J20,6))","v":4.2999999999999997E-2},{"$f":"IF($J20>$Q$9,\"\",INDEX($D$41:$K$639,$O$9+$J20,7))","v":0.29099999999999998},{"$f":"IF($J20>$Q$9,\"\",INDEX($D$41:$L$639,$O$9+$J20,8+$L$7))","v":-2.141},null,{"$f":"IF($AH20=\"\",\"\",INDEX($N$42:$P$641,$AH20,1))","v":0.91298357049839618},{"$f":"IF($AH20=\"\",\"\",INDEX($N$42:$P$641,$AH20,2))","v":2.0246061157785089},{"$f":"IF($AH20=\"\",\"\",INDEX($N$42:$P$641,$AH20,3))","v":3.5305891862329457E-2},{"$f":"IF(AH20=\"\",NA(),INDEX($D$41:$F$640,$AH20,1))","v":"OV-5"},null,{"$f":"IF(AH20=\"\",\"\",INDEX($D$41:$F$640,$AH20,3))","v":"5 % diphenylsiloxane"},null,null,null,null,null,null,null,{"$f":"IF(AH20=\"\",\"\",INDEX($P$41:$P$640,$AH20,1))","v":1.1417604931425959E-2},11,85,10,null,null,"maps at low and intermediate temperatures for four new columns"]
[10,{"$f":"IF($A21>$H$9,\"\",INDEX($D$41:$K$639,$F$9+$A21,2))","v":240},{"$f":"IF($A21>$H$9,\"\",INDEX($D$41:$K$639,$F$9+$A21,3))","v":8.2000000000000003E-2},{"$f":"IF($A21>$H$9,\"\",INDEX($D$41:$K$639,$F$9+$A21,4))","v":0.191},{"$f":"IF($A21>$H$9,\"\",INDEX($D$41:$K$639,$F$9+$A21,5))","v":9.2999999999999999E-2},{"$f":"IF($A21>$H$9,\"\",INDEX($D$41:$K$639,$F$9+$A21,6))","v":0},{"$f":"IF($A21>$H$9,\"\",INDEX($D$41:$K$639,$F$9+$A21,7))","v":0.26700000000000002},{"$f":"IF($A21>$H$9,\"\",INDEX($D$41:$L$639,$F$9+$A21,8+$K$7))","v":-2.629},null,10,{"$f":"IF($J21>$Q$9,\"\",INDEX($D$41:$K$639,$O$9+$J21,2))","v":240},{"$f":"IF($J21>$Q$9,\"\",INDEX($D$41:$K$639,$O$9+$J21,3))","v":0.188},{"$f":"IF($J21>$Q$9,\"\",INDEX($D$41:$K$639,$O$9+$J21,4))","v":0.39300000000000002},{"$f":"IF($J21>$Q$9,\"\",INDEX($D$41:$K$639,$O$9+$J21,5))","v":0.19400000000000001},{"$f":"IF($J21>$Q$9,\"\",INDEX($D$41:$K$639,$O$9+$J21,6))","v":2.3E-2},{"$f":"IF($J21>$Q$9,\"\",INDEX($D$41:$K$639,$O$9+$J21,7))","v":0.26700000000000002},{"$f":"IF($J21>$Q$9,\"\",INDEX($D$41:$L$639,$O$9+$J21,8+$L$7))","v":-2.1480000000000001},null,{"$f":"IF($AH21=\"\",\"\",INDEX($N$42:$P$641,$AH21,1))","v":0.89443725324921475},{"$f":"IF($AH21=\"\",\"\",INDEX($N$42:$P$641,$AH21,2))","v":1.8054081465708369},{"$f":"IF($AH21=\"\",\"\",INDEX($N$42:$P$641,$AH21,3))","v":3.1477259957632647E-2},{"$f":"IF(AH21=\"\",NA(),INDEX($D$41:$F$640,$AH21,1))","v":"PTE-5"},null,{"$f":"IF(AH21=\"\",\"\",INDEX($D$41:$F$640,$AH21,3))","v":"5 % diphenylsiloxane"},null,null,null,null,null,null,null,{"$f":"IF(AH21=\"\",\"\",INDEX($P$41:$P$640,$AH21,1))","v":4.0120320801924486E-3},12,97,5,null,null,"Journal of Chromatography A, 1216 (2009) 1640–1649",null,"DOI 10.1007/s10337-014-2790-x"]
[11,{"$f":"IF($A22>$H$9,\"\",INDEX($D$41:$K$639,$F$9+$A22,2))","v":260},{"$f":"IF($A22>$H$9,\"\",INDEX($D$41:$K$639,$F$9+$A22,3))","v":9.0999999999999998E-2},{"$f":"IF($A22>$H$9,\"\",INDEX($D$41:$K$639,$F$9+$A22,4))","v":0.2},{"$f":"IF($A22>$H$9,\"\",INDEX($D$41:$K$639,$F$9+$A22,5))","v":0.112},{"$f":"IF($A22>$H$9,\"\",INDEX($D$41:$K$639,$F$9+$A22,6))","v":0},{"$f":"IF($A22>$H$9,\"\",INDEX($D$41:$K$639,$F$9+$A22,7))","v":0.246},{"$f":"IF($A22>$H$9,\"\",INDEX($D$41:$L$639,$F$9+$A22,8+$K$7))","v":-2.6890000000000001},null,11,{"$f":"IF($J22>$Q$9,\"\",INDEX($D$41:$K$639,$O$9+$J22,2))","v":""},{"$f":"IF($J22>$Q$9,\"\",INDEX($D$41:$K$639,$O$9+$J22,3))","v":""},{"$f":"IF($J22>$Q$9,\"\",INDEX($D$41:$K$639,$O$9+$J22,4))","v":""},{"$f":"IF($J22>$Q$9,\"\",INDEX($D$41:$K$639,$O$9+$J22,5))","v":""},{"$f":"IF($J22>$Q$9,\"\",INDEX($D$41:$K$639,$O$9+$J22,6))","v":""},{"$f":"IF($J22>$Q$9,\"\",INDEX($D$41:$K$639,$O$9+$J22,7))","v":""},{"$f":"IF($J22>$Q$9,\"\",INDEX($D$41:$L$639,$O$9+$J22,8+$L$7))","v":""},null,{"$f":"IF($AH22=\"\",\"\",INDEX($N$42:$P$641,$AH22,1))","v":1.0852677089087281},{"$f":"IF($AH22=\"\",\"\",INDEX($N$42:$P$641,$AH22,2))","v":13.117232643632319},{"$f":"IF($AH22=\"\",\"\",INDEX($N$42:$P$641,$AH22,3))","v":0.22843487415056846},{"$f":"IF(AH22=\"\",NA(),INDEX($D$41:$F$640,$AH22,1))","v":"Rtx-20"},null,{"$f":"IF(AH22=\"\",\"\",INDEX($D$41:$F$640,$AH22,3))","v":"20 % diphenylsiloxane"},null,null,null,null,null,null,null,{"$f":"IF(AH22=\"\",\"\",INDEX($P$41:$P$640,$AH22,1))","v":8.0482572861728038E-3},13,104,5]
[12,{"$f":"IF($A23>$H$9,\"\",INDEX($D$41:$K$639,$F$9+$A23,2))","v":280},{"$f":"IF($A23>$H$9,\"\",INDEX($D$41:$K$639,$F$9+$A23,3))","v":0.105},{"$f":"IF($A23>$H$9,\"\",INDEX($D$41:$K$639,$F$9+$A23,4))","v":0.16200000000000001},{"$f":"IF($A23>$H$9,\"\",INDEX($D$41:$K$639,$F$9+$A23,5))","v":0.112},{"$f":"IF($A23>$H$9,\"\",INDEX($D$41:$K$639,$F$9+$A23,6))","v":0},{"$f":"IF($A23>$H$9,\"\",INDEX($D$41:$K$639,$F$9+$A23,7))","v":0.22500000000000001},{"$f":"IF($A23>$H$9,\"\",INDEX($D$41:$L$639,$F$9+$A23,8+$K$7))","v":-2.6789999999999998},null,12,{"$f":"IF($J23>$Q$9,\"\",INDEX($D$41:$K$639,$O$9+$J23,2))","v":""},{"$f":"IF($J23>$Q$9,\"\",INDEX($D$41:$K$639,$O$9+$J23,3))","v":""},{"$f":"IF($J23>$Q$9,\"\",INDEX($D$41:$K$639,$O$9+$J23,4))","v":""},{"$f":"IF($J23>$Q$9,\"\",INDEX($D$41:$K$639,$O$9+$J23,5))","v":""},{"$f":"IF($J23>$Q$9,\"\",INDEX($D$41:$K$639,$O$9+$J23,6))","v":""},{"$f":"IF($J23>$Q$9,\"\",INDEX($D$41:$K$639,$O$9+$J23,7))","v":""},{"$f":"IF($J23>$Q$9,\"\",INDEX($D$41:$L$639,$O$9+$J23,8+$L$7))","v":""},null,{"$f":"IF($AH23=\"\",\"\",INDEX($N$42:$P$641,$AH23,1))","v":1.1562871615649808},{"$f":"IF($AH23=\"\",\"\",INDEX($N$42:$P$641,$AH23,2))","v":18.64253095803728},{"$f":"IF($AH23=\"\",\"\",INDEX($N$42:$P$641,$AH23,3))","v":0.32393708110479819},{"$f":"IF(AH23=\"\",NA(),INDEX($D$41:$F$640,$AH23,1))","v":"DB-35"},null,{"$f":"IF(AH23=\"\",\"\",INDEX($D$41:$F$640,$AH23,3))","v":"35 % diphenylsiloxane"},null,null,null,null,null,null,null,{"$f":"IF(AH23=\"\",\"\",INDEX($P$41:$P$640,$AH23,1))","v":8.0482572861728038E-3},14,111,5,null,"3)","Colin F. Poole ∗, Salwa K. Poole"]
[13,{"$f":"IF($A24>$H$9,\"\",INDEX($D$41:$K$639,$F$9+$A24,2))","v":300},{"$f":"IF($A24>$H$9,\"\",INDEX($D$41:$K$639,$F$9+$A24,3))","v":0.10100000000000001},{"$f":"IF($A24>$H$9,\"\",INDEX($D$41:$K$639,$F$9+$A24,4))","v":0.13700000000000001},{"$f":"IF($A24>$H$9,\"\",INDEX($D$41:$K$639,$F$9+$A24,5))","v":0.10199999999999999},{"$f":"IF($A24>$H$9,\"\",INDEX($D$41:$K$639,$F$9+$A24,6))","v":0},{"$f":"IF($A24>$H$9,\"\",INDEX($D$41:$K$639,$F$9+$A24,7))","v":0.21},{"$f":"IF($A24>$H$9,\"\",INDEX($D$41:$L$639,$F$9+$A24,8+$K$7))","v":-2.645},null,13,{"$f":"IF($J24>$Q$9,\"\",INDEX($D$41:$K$639,$O$9+$J24,2))","v":""},{"$f":"IF($J24>$Q$9,\"\",INDEX($D$41:$K$639,$O$9+$J24,3))","v":""},{"$f":"IF($J24>$Q$9,\"\",INDEX($D$41:$K$639,$O$9+$J24,4))","v":""},{"$f":"IF($J24>$Q$9,\"\",INDEX($D$41:$K$639,$O$9+$J24,5))","v":""},{"$f":"IF($J24>$Q$9,\"\",INDEX($D$41:$K$639,$O$9+$J24,6))","v":""},{"$f":"IF($J24>$Q$9,\"\",INDEX($D$41:$K$639,$O$9+$J24,7))","v":""},{"$f":"IF($J24>$Q$9,\"\",INDEX($D$41:$L$639,$O$9+$J24,8+$L$7))","v":""},null,{"$f":"IF($AH24=\"\",\"\",INDEX($N$42:$P$641,$AH24,1))","v":1.3242994374385273},{"$f":"IF($AH24=\"\",\"\",INDEX($N$42:$P$641,$AH24,2))","v":21.994177849935042},{"$f":"IF($AH24=\"\",\"\",INDEX($N$42:$P$641,$AH24,3))","v":0.38151562042313625},{"$f":"IF(AH24=\"\",NA(),INDEX($D$41:$F$640,$AH24,1))","v":"Rxi-17"},null,{"$f":"IF(AH24=\"\",\"\",INDEX($D$41:$F$640,$AH24,3))","v":"50 % diphenylsiloxane"},null,null,null,null,null,null,null,{"$f":"IF(AH24=\"\",\"\",INDEX($P$41:$P$640,$AH24,1))","v":8.0482572861728038E-3},15,118,5,null,null,"Separation characteristics of wall-coated open-tubular"]
[14,{"$f":"IF($A25>$H$9,\"\",INDEX($D$41:$K$639,$F$9+$A25,2))","v":""},{"$f":"IF($A25>$H$9,\"\",INDEX($D$41:$K$639,$F$9+$A25,3))","v":""},{"$f":"IF($A25>$H$9,\"\",INDEX($D$41:$K$639,$F$9+$A25,4))","v":""},{"$f":"IF($A25>$H$9,\"\",INDEX($D$41:$K$639,$F$9+$A25,5))","v":""},{"$f":"IF($A25>$H$9,\"\",INDEX($D$41:$K$639,$F$9+$A25,6))","v":""},{"$f":"IF($A25>$H$9,\"\",INDEX($D$41:$K$639,$F$9+$A25,7))","v":""},{"$f":"IF($A25>$H$9,\"\",INDEX($D$41:$L$639,$F$9+$A25,8+$K$7))","v":""},null,14,{"$f":"IF($J25>$Q$9,\"\",INDEX($D$41:$K$639,$O$9+$J25,2))","v":""},{"$f":"IF($J25>$Q$9,\"\",INDEX($D$41:$K$639,$O$9+$J25,3))","v":""},{"$f":"IF($J25>$Q$9,\"\",INDEX($D$41:$K$639,$O$9+$J25,4))","v":""},{"$f":"IF($J25>$Q$9,\"\",INDEX($D$41:$K$639,$O$9+$J25,5))","v":""},{"$f":"IF($J25>$Q$9,\"\",INDEX($D$41:$K$639,$O$9+$J25,6))","v":""},{"$f":"IF($J25>$Q$9,\"\",INDEX($D$41:$K$639,$O$9+$J25,7))","v":""},{"$f":"IF($J25>$Q$9,\"\",INDEX($D$41:$L$639,$O$9+$J25,8+$L$7))","v":""},null,{"$f":"IF($AH25=\"\",\"\",INDEX($N$42:$P$641,$AH25,1))","v":1.3311990835333383},{"$f":"IF($AH25=\"\",\"\",INDEX($N$42:$P$641,$AH25,2))","v":22.258331150832035},{"$f":"IF($AH25=\"\",\"\",INDEX($N$42:$P$641,$AH25,3))","v":0.38604031797763344},{"$f":"IF(AH25=\"\",NA(),INDEX($D$41:$F$640,$AH25,1))","v":"Rxi-17-240"},null,{"$f":"IF(AH25=\"\",\"\",INDEX($D$41:$F$640,$AH25,3))","v":"50% poly(dimethyldiphenylsiloxane) Extended temperature range"},null,null,null,null,null,null,null,{"$f":"IF(AH25=\"\",\"\",INDEX($P$41:$P$640,$AH25,1))","v":0},16,125,10,null,null,"columns for gas chromatography"]
[15,{"$f":"IF($A26>$H$9,\"\",INDEX($D$41:$K$639,$F$9+$A26,2))","v":""},{"$f":"IF($A26>$H$9,\"\",INDEX($D$41:$K$639,$F$9+$A26,3))","v":""},{"$f":"IF($A26>$H$9,\"\",INDEX($D$41:$K$639,$F$9+$A26,4))","v":""},{"$f":"IF($A26>$H$9,\"\",INDEX($D$41:$K$639,$F$9+$A26,5))","v":""},{"$f":"IF($A26>$H$9,\"\",INDEX($D$41:$K$639,$F$9+$A26,6))","v":""},{"$f":"IF($A26>$H$9,\"\",INDEX($D$41:$K$639,$F$9+$A26,7))","v":""},{"$f":"IF($A26>$H$9,\"\",INDEX($D$41:$L$639,$F$9+$A26,8+$K$7))","v":""},null,15,{"$f":"IF($J26>$Q$9,\"\",INDEX($D$41:$K$639,$O$9+$J26,2))","v":""},{"$f":"IF($J26>$Q$9,\"\",INDEX($D$41:$K$639,$O$9+$J26,3))","v":""},{"$f":"IF($J26>$Q$9,\"\",INDEX($D$41:$K$639,$O$9+$J26,4))","v":""},{"$f":"IF($J26>$Q$9,\"\",INDEX($D$41:$K$639,$O$9+$J26,5))","v":""},{"$f":"IF($J26>$Q$9,\"\",INDEX($D$41:$K$639,$O$9+$J26,6))","v":""},{"$f":"IF($J26>$Q$9,\"\",INDEX($D$41:$K$639,$O$9+$J26,7))","v":""},{"$f":"IF($J26>$Q$9,\"\",INDEX($D$41:$L$639,$O$9+$J26,8+$L$7))","v":""},null,{"$f":"IF($AH26=\"\",\"\",INDEX($N$42:$P$641,$AH26,1))","v":1.362451467025523},{"$f":"IF($AH26=\"\",\"\",INDEX($N$42:$P$641,$AH26,2))","v":25.300317371643271},{"$f":"IF($AH26=\"\",\"\",INDEX($N$42:$P$641,$AH26,3))","v":0.43799273410702966},{"$f":"IF(AH26=\"\",NA(),INDEX($D$41:$F$640,$AH26,1))","v":"Rtx-65"},null,{"$f":"IF(AH26=\"\",\"\",INDEX($D$41:$F$640,$AH26,3))","v":"65 % diphenylsiloxane"},null,null,null,null,null,null,null,{"$f":"IF(AH26=\"\",\"\",INDEX($P$41:$P$640,$AH26,1))","v":0},17,136,5,null,null,"Journal of Chromatography A, 1184 (2008) 254–280"]
[16,{"$f":"IF($A27>$H$9,\"\",INDEX($D$41:$K$639,$F$9+$A27,2))","v":""},{"$f":"IF($A27>$H$9,\"\",INDEX($D$41:$K$639,$F$9+$A27,3))","v":""},{"$f":"IF($A27>$H$9,\"\",INDEX($D$41:$K$639,$F$9+$A27,4))","v":""},{"$f":"IF($A27>$H$9,\"\",INDEX($D$41:$K$639,$F$9+$A27,5))","v":""},{"$f":"IF($A27>$H$9,\"\",INDEX($D$41:$K$639,$F$9+$A27,6))","v":""},{"$f":"IF($A27>$H$9,\"\",INDEX($D$41:$K$639,$F$9+$A27,7))","v":""},{"$f":"IF($A27>$H$9,\"\",INDEX($D$41:$L$639,$F$9+$A27,8+$K$7))","v":""},null,16,{"$f":"IF($J27>$Q$9,\"\",INDEX($D$41:$K$639,$O$9+$J27,2))","v":""},{"$f":"IF($J27>$Q$9,\"\",INDEX($D$41:$K$639,$O$9+$J27,3))","v":""},{"$f":"IF($J27>$Q$9,\"\",INDEX($D$41:$K$639,$O$9+$J27,4))","v":""},{"$f":"IF($J27>$Q$9,\"\",INDEX($D$41:$K$639,$O$9+$J27,5))","v":""},{"$f":"IF($J27>$Q$9,\"\",INDEX($D$41:$K$639,$O$9+$J27,6))","v":""},{"$f":"IF($J27>$Q$9,\"\",INDEX($D$41:$K$639,$O$9+$J27,7))","v":""},{"$f":"IF($J27>$Q$9,\"\",INDEX($D$41:$L$639,$O$9+$J27,8+$L$7))","v":""},null,{"$f":"IF($AH27=\"\",\"\",INDEX($N$42:$P$641,$AH27,1))","v":1.3192588828580993},{"$f":"IF($AH27=\"\",\"\",INDEX($N$42:$P$641,$AH27,2))","v":23.781657274890808},{"$f":"IF($AH27=\"\",\"\",INDEX($N$42:$P$641,$AH27,3))","v":0.41209267808657868},{"$f":"IF(AH27=\"\",NA(),INDEX($D$41:$F$640,$AH27,1))","v":"Rtx-50"},null,{"$f":"IF(AH27=\"\",\"\",INDEX($D$41:$F$640,$AH27,3))","v":"(iii) Poly(methylphenylsiloxane)"},null,null,null,null,null,null,null,{"$f":"IF(AH27=\"\",\"\",INDEX($P$41:$P$640,$AH27,1))","v":8.0482572861728038E-3},18,143,5]
[17,{"$f":"IF($A28>$H$9,\"\",INDEX($D$41:$K$639,$F$9+$A28,2))","v":""},{"$f":"IF($A28>$H$9,\"\",INDEX($D$41:$K$639,$F$9+$A28,3))","v":""},{"$f":"IF($A28>$H$9,\"\",INDEX($D$41:$K$639,$F$9+$A28,4))","v":""},{"$f":"IF($A28>$H$9,\"\",INDEX($D$41:$K$639,$F$9+$A28,5))","v":""},{"$f":"IF($A28>$H$9,\"\",INDEX($D$41:$K$639,$F$9+$A28,6))","v":""},{"$f":"IF($A28>$H$9,\"\",INDEX($D$41:$K$639,$F$9+$A28,7))","v":""},{"$f":"IF($A28>$H$9,\"\",INDEX($D$41:$L$639,$F$9+$A28,8+$K$7))","v":""},null,17,{"$f":"IF($J28>$Q$9,\"\",INDEX($D$41:$K$639,$O$9+$J28,2))","v":""},{"$f":"IF($J28>$Q$9,\"\",INDEX($D$41:$K$639,$O$9+$J28,3))","v":""},{"$f":"IF($J28>$Q$9,\"\",INDEX($D$41:$K$639,$O$9+$J28,4))","v":""},{"$f":"IF($J28>$Q$9,\"\",INDEX($D$41:$K$639,$O$9+$J28,5))","v":""},{"$f":"IF($J28>$Q$9,\"\",INDEX($D$41:$K$639,$O$9+$J28,6))","v":""},{"$f":"IF($J28>$Q$9,\"\",INDEX($D$41:$K$639,$O$9+$J28,7))","v":""},{"$f":"IF($J28>$Q$9,\"\",INDEX($D$41:$L$639,$O$9+$J28,8+$L$7))","v":""},null,{"$f":"IF($AH28=\"\",\"\",INDEX($N$42:$P$641,$AH28,1))","v":1.299426411921814},{"$f":"IF($AH28=\"\",\"\",INDEX($N$42:$P$641,$AH28,2))","v":22.868874191114163},{"$f":"IF($AH28=\"\",\"\",INDEX($N$42:$P$641,$AH28,3))","v":0.39649045291327323},{"$f":"IF(AH28=\"\",NA(),INDEX($D$41:$F$640,$AH28,1))","v":"Rxi-50"},null,{"$f":"IF(AH28=\"\",\"\",INDEX($D$41:$F$640,$AH28,3))","v":"(iii) Poly(methylphenylsiloxane)"},null,null,null,null,null,null,null,{"$f":"IF(AH28=\"\",\"\",INDEX($P$41:$P$640,$AH28,1))","v":8.0482572861728038E-3},19,150,5]
[18,{"$f":"IF($A29>$H$9,\"\",INDEX($D$41:$K$639,$F$9+$A29,2))","v":""},{"$f":"IF($A29>$H$9,\"\",INDEX($D$41:$K$639,$F$9+$A29,3))","v":""},{"$f":"IF($A29>$H$9,\"\",INDEX($D$41:$K$639,$F$9+$A29,4))","v":""},{"$f":"IF($A29>$H$9,\"\",INDEX($D$41:$K$639,$F$9+$A29,5))","v":""},{"$f":"IF($A29>$H$9,\"\",INDEX($D$41:$K$639,$F$9+$A29,6))","v":""},{"$f":"IF($A29>$H$9,\"\",INDEX($D$41:$K$639,$F$9+$A29,7))","v":""},{"$f":"IF($A29>$H$9,\"\",INDEX($D$41:$L$639,$F$9+$A29,8+$K$7))","v":""},null,18,{"$f":"IF($J29>$Q$9,\"\",INDEX($D$41:$K$639,$O$9+$J29,2))","v":""},{"$f":"IF($J29>$Q$9,\"\",INDEX($D$41:$K$639,$O$9+$J29,3))","v":""},{"$f":"IF($J29>$Q$9,\"\",INDEX($D$41:$K$639,$O$9+$J29,4))","v":""},{"$f":"IF($J29>$Q$9,\"\",INDEX($D$41:$K$639,$O$9+$J29,5))","v":""},{"$f":"IF($J29>$Q$9,\"\",INDEX($D$41:$K$639,$O$9+$J29,6))","v":""},{"$f":"IF($J29>$Q$9,\"\",INDEX($D$41:$K$639,$O$9+$J29,7))","v":""},{"$f":"IF($J29>$Q$9,\"\",INDEX($D$41:$L$639,$O$9+$J29,8+$L$7))","v":""},null,{"$f":"IF($AH29=\"\",\"\",INDEX($N$42:$P$641,$AH29,1))","v":1.3171807013466299},{"$f":"IF($AH29=\"\",\"\",INDEX($N$42:$P$641,$AH29,2))","v":23.740264583946075},{"$f":"IF($AH29=\"\",\"\",INDEX($N$42:$P$641,$AH29,3))","v":0.41138571040875804},{"$f":"IF(AH29=\"\",NA(),INDEX($D$41:$F$640,$AH29,1))","v":"Rxi-50-240"},null,{"$f":"IF(AH29=\"\",\"\",INDEX($D$41:$F$640,$AH29,3))","v":"50% poly(dimethyldiphenylsiloxane) Extended temperature range"},null,null,null,null,null,null,null,{"$f":"IF(AH29=\"\",\"\",INDEX($P$41:$P$640,$AH29,1))","v":6.2794194239443402E-3},20,157,10]
[19,{"$f":"IF($A30>$H$9,\"\",INDEX($D$41:$K$639,$F$9+$A30,2))","v":""},{"$f":"IF($A30>$H$9,\"\",INDEX($D$41:$K$639,$F$9+$A30,3))","v":""},{"$f":"IF($A30>$H$9,\"\",INDEX($D$41:$K$639,$F$9+$A30,4))","v":""},{"$f":"IF($A30>$H$9,\"\",INDEX($D$41:$K$639,$F$9+$A30,5))","v":""},{"$f":"IF($A30>$H$9,\"\",INDEX($D$41:$K$639,$F$9+$A30,6))","v":""},{"$f":"IF($A30>$H$9,\"\",INDEX($D$41:$K$639,$F$9+$A30,7))","v":""},{"$f":"IF($A30>$H$9,\"\",INDEX($D$41:$L$639,$F$9+$A30,8+$K$7))","v":""},null,19,{"$f":"IF($J30>$Q$9,\"\",INDEX($D$41:$K$639,$O$9+$J30,2))","v":""},{"$f":"IF($J30>$Q$9,\"\",INDEX($D$41:$K$639,$O$9+$J30,3))","v":""},{"$f":"IF($J30>$Q$9,\"\",INDEX($D$41:$K$639,$O$9+$J30,4))","v":""},{"$f":"IF($J30>$Q$9,\"\",INDEX($D$41:$K$639,$O$9+$J30,5))","v":""},{"$f":"IF($J30>$Q$9,\"\",INDEX($D$41:$K$639,$O$9+$J30,6))","v":""},{"$f":"IF($J30>$Q$9,\"\",INDEX($D$41:$K$639,$O$9+$J30,7))","v":""},{"$f":"IF($J30>$Q$9,\"\",INDEX($D$41:$L$639,$O$9+$J30,8+$L$7))","v":""},null,{"$f":"IF($AH30=\"\",\"\",INDEX($N$42:$P$641,$AH30,1))","v":1.24100362610268},{"$f":"IF($AH30=\"\",\"\",INDEX($N$42:$P$641,$AH30,2))","v":22.476369816546139},{"$f":"IF($AH30=\"\",\"\",INDEX($N$42:$P$641,$AH30,3))","v":0.38977357027260706},{"$f":"IF(AH30=\"\",NA(),INDEX($D$41:$F$640,$AH30,1))","v":"HP-50+"},null,{"$f":"IF(AH30=\"\",\"\",INDEX($D$41:$F$640,$AH30,3))","v":"(iii) Poly(methylphenylsiloxane)"},null,null,null,null,null,null,null,{"$f":"IF(AH30=\"\",\"\",INDEX($P$41:$P$640,$AH30,1))","v":0},21,168,5]
[20,{"$f":"IF($A31>$H$9,\"\",INDEX($D$41:$K$639,$F$9+$A31,2))","v":""},{"$f":"IF($A31>$H$9,\"\",INDEX($D$41:$K$639,$F$9+$A31,3))","v":""},{"$f":"IF($A31>$H$9,\"\",INDEX($D$41:$K$639,$F$9+$A31,4))","v":""},{"$f":"IF($A31>$H$9,\"\",INDEX($D$41:$K$639,$F$9+$A31,5))","v":""},{"$f":"IF($A31>$H$9,\"\",INDEX($D$41:$K$639,$F$9+$A31,6))","v":""},{"$f":"IF($A31>$H$9,\"\",INDEX($D$41:$K$639,$F$9+$A31,7))","v":""},{"$f":"IF($A31>$H$9,\"\",INDEX($D$41:$L$639,$F$9+$A31,8+$K$7))","v":""},null,20,{"$f":"IF($J31>$Q$9,\"\",INDEX($D$41:$K$639,$O$9+$J31,2))","v":""},{"$f":"IF($J31>$Q$9,\"\",INDEX($D$41:$K$639,$O$9+$J31,3))","v":""},{"$f":"IF($J31>$Q$9,\"\",INDEX($D$41:$K$639,$O$9+$J31,4))","v":""},{"$f":"IF($J31>$Q$9,\"\",INDEX($D$41:$K$639,$O$9+$J31,5))","v":""},{"$f":"IF($J31>$Q$9,\"\",INDEX($D$41:$K$639,$O$9+$J31,6))","v":""},{"$f":"IF($J31>$Q$9,\"\",INDEX($D$41:$K$639,$O$9+$J31,7))","v":""},{"$f":"IF($J31>$Q$9,\"\",INDEX($D$41:$L$639,$O$9+$J31,8+$L$7))","v":""},null,{"$f":"IF($AH31=\"\",\"\",INDEX($N$42:$P$641,$AH31,1))","v":0.92241313954214676},{"$f":"IF($AH31=\"\",\"\",INDEX($N$42:$P$641,$AH31,2))","v":0.66897857458297993},{"$f":"IF($AH31=\"\",\"\",INDEX($N$42:$P$641,$AH31,3))","v":1.1589848829829207E-2},{"$f":"IF(AH31=\"\",NA(),INDEX($D$41:$F$640,$AH31,1))","v":"DB-5ms"},null,{"$f":"IF(AH31=\"\",\"\",INDEX($D$41:$F$640,$AH31,3))","v":"5 % 1,4-bis(dimethylsiloxane)phenylene"},null,null,null,null,null,null,null,{"$f":"IF(AH31=\"\",\"\",INDEX($P$41:$P$640,$AH31,1))","v":1.6194068678459937E-2},22,175,5]
[null,null,null,null,null,null,null,null,null,null,null,null,null,null,null,null,null,null,{"$f":"IF($AH32=\"\",\"\",INDEX($N$42:$P$641,$AH32,1))","v":0.92072308540624748},{"$f":"IF($AH32=\"\",\"\",INDEX($N$42:$P$641,$AH32,2))","v":0.94241544494112695},{"$f":"IF($AH32=\"\",\"\",INDEX($N$42:$P$641,$AH32,3))","v":1.6387156821694941E-2},{"$f":"IF(AH32=\"\",NA(),INDEX($D$41:$F$640,$AH32,1))","v":"ZB-5MS"},null,{"$f":"IF(AH32=\"\",\"\",INDEX($D$41:$F$640,$AH32,3))","v":"(iv) Silarylene-siloxane and similar copolymers"},null,null,null,null,null,null,null,{"$f":"IF(AH32=\"\",\"\",INDEX($P$41:$P$640,$AH32,1))","v":8.0482572861728038E-3},23,182,5]
[null,null,null,null,null,null,null,null,null,null,null,null,null,null,null,null,null,null,{"$f":"IF($AH33=\"\",\"\",INDEX($N$42:$P$641,$AH33,1))","v":0.97257853153357232},{"$f":"IF($AH33=\"\",\"\",INDEX($N$42:$P$641,$AH33,2))","v":2.2684758881242848},{"$f":"IF($AH33=\"\",\"\",INDEX($N$42:$P$641,$AH33,3))","v":3.9564520228780403E-2},{"$f":"IF(AH33=\"\",NA(),INDEX($D$41:$F$640,$AH33,1))","v":"HP-5TA"},null,{"$f":"IF(AH33=\"\",\"\",INDEX($D$41:$F$640,$AH33,3))","v":"(iv) Silarylene-siloxane and similar copolymers"},null,null,null,null,null,null,null,{"$f":"IF(AH33=\"\",\"\",INDEX($P$41:$P$640,$AH33,1))","v":1.6019220500498371E-3},24,189,5]
[null,null,null,null,null,null,null,null,null,null,null,null,null,null,null,null,null,null,{"$f":"IF($AH34=\"\",\"\",INDEX($N$42:$P$641,$AH34,1))","v":1.0423579039849988},{"$f":"IF($AH34=\"\",\"\",INDEX($N$42:$P$641,$AH34,2))","v":8.0767276215637178},{"$f":"IF($AH34=\"\",\"\",INDEX($N$42:$P$641,$AH34,3))","v":0.14084170364605142},{"$f":"IF(AH34=\"\",NA(),INDEX($D$41:$F$640,$AH34,1))","v":"Rxi-5Sil MS"},null,{"$f":"IF(AH34=\"\",\"\",INDEX($D$41:$F$640,$AH34,3))","v":"(iv) Silarylene-siloxane and similar copolymers"},null,null,null,null,null,null,null,{"$f":"IF(AH34=\"\",\"\",INDEX($P$41:$P$640,$AH34,1))","v":8.0482572861728038E-3},25,196,13]
[null,null,null,null,null,null,null,null,null,null,null,null,null,null,null,null,null,null,{"$f":"IF($AH35=\"\",\"\",INDEX($N$42:$P$641,$AH35,1))","v":1.2464144575541476},{"$f":"IF($AH35=\"\",\"\",INDEX($N$42:$P$641,$AH35,2))","v":18.872543498650277},{"$f":"IF($AH35=\"\",\"\",INDEX($N$42:$P$641,$AH35,3))","v":0.32789793083749402},{"$f":"IF(AH35=\"\",NA(),INDEX($D$41:$F$640,$AH35,1))","v":"DB-35ms"},null,{"$f":"IF(AH35=\"\",\"\",INDEX($D$41:$F$640,$AH35,3))","v":"35 % 1,4-bis(dimethylsiloxane)phenylene"},null,null,null,null,null,null,null,{"$f":"IF(AH35=\"\",\"\",INDEX($P$41:$P$640,$AH35,1))","v":8.0482572861728038E-3},26,211,5]
[null,null,null,null,null,null,null,null,null,null,null,null,null,null,null,null,null,null,{"$f":"IF($AH36=\"\",\"\",INDEX($N$42:$P$641,$AH36,1))","v":1.3443384990395835},{"$f":"IF($AH36=\"\",\"\",INDEX($N$42:$P$641,$AH36,2))","v":23.226090697247876},{"$f":"IF($AH36=\"\",\"\",INDEX($N$42:$P$641,$AH36,3))","v":0.40259941579499514},{"$f":"IF(AH36=\"\",NA(),INDEX($D$41:$F$640,$AH36,1))","v":"DB-17ms"},null,{"$f":"IF(AH36=\"\",\"\",INDEX($D$41:$F$640,$AH36,3))","v":"50 % 1,4-bis(dimethylsiloxane)phenylene"},null,null,null,null,null,null,null,{"$f":"IF(AH36=\"\",\"\",INDEX($P$41:$P$640,$AH36,1))","v":4.0120320801924486E-3},27,218,5]
[null,null,null,null,null,null,null,null,null,null,null,null,null,null,null,null,null,null,{"$f":"IF($AH37=\"\",\"\",INDEX($N$42:$P$641,$AH37,1))","v":1.0319738368776603},{"$f":"IF($AH37=\"\",\"\",INDEX($N$42:$P$641,$AH37,2))","v":13.824723667449746},{"$f":"IF($AH37=\"\",\"\",INDEX($N$42:$P$641,$AH37,3))","v":0.24069790164912142},{"$f":"IF(AH37=\"\",NA(),INDEX($D$41:$F$640,$AH37,1))","v":"Stx-500"},null,{"$f":"IF(AH37=\"\",\"\",INDEX($D$41:$F$640,$AH37,3))","v":"Carborane-siloxane copolymer containing 5 % phenyl"},null,null,null,null,null,null,null,{"$f":"IF(AH37=\"\",\"\",INDEX($P$41:$P$640,$AH37,1))","v":2.4043269223830068E-3},28,225,5]
["Column type",null,null,"Column",null,"Stationary phase",null,null,null,null,null,null,null,"d, mm","h, µm","Beta",null,null,{"$f":"IF($AH38=\"\",\"\",INDEX($N$42:$P$641,$AH38,1))","v":1.5803547070199147},{"$f":"IF($AH38=\"\",\"\",INDEX($N$42:$P$641,$AH38,2))","v":35.64839607950131},{"$f":"IF($AH38=\"\",\"\",INDEX($N$42:$P$641,$AH38,3))","v":0.61219315792896745},{"$f":"IF(AH38=\"\",NA(),INDEX($D$41:$F$640,$AH38,1))","v":"DB-200"},null,{"$f":"IF(AH38=\"\",\"\",INDEX($D$41:$F$640,$AH38,3))","v":"35 % 3,3,3-trifluoropropylmethylsiloxane"},null,null,null,null,null,null,null,{"$f":"IF(AH38=\"\",\"\",INDEX($P$41:$P$640,$AH38,1))","v":8.0482572861728038E-3},29,232,5]
[null,null,null,null,"T","e","s","a","b","l","c(sim)","c(litt)","Ref","Length"," q","d",null,null,{"$f":"IF($AH39=\"\",\"\",INDEX($N$42:$P$641,$AH39,1))","v":1.6733609891472909},{"$f":"IF($AH39=\"\",\"\",INDEX($N$42:$P$641,$AH39,2))","v":39.637334705376141},{"$f":"IF($AH39=\"\",\"\",INDEX($N$42:$P$641,$AH39,3))","v":0.67808742043119219},{"$f":"IF(AH39=\"\",NA(),INDEX($D$41:$F$640,$AH39,1))","v":"DB-210"},null,{"$f":"IF(AH39=\"\",\"\",INDEX($D$41:$F$640,$AH39,3))","v":"50 % 3,3,3-trifluoropropylmethylsiloxane"},null,null,null,null,null,null,null,{"$f":"IF(AH39=\"\",\"\",INDEX($P$41:$P$640,$AH39,1))","v":3.1323395073973664E-3},30,239,6]
["Poly(dialkylsiloxane)",null,null,null,null,null,null,null,null,null,null,null,null,null,null,null,null,null,{"$f":"IF($AH40=\"\",\"\",INDEX($N$42:$P$641,$AH40,1))","v":1.0117163634141735},{"$f":"IF($AH40=\"\",\"\",INDEX($N$42:$P$641,$AH40,2))","v":5.7689476159484014},{"$f":"IF($AH40=\"\",\"\",INDEX($N$42:$P$641,$AH40,3))","v":0.10063466772498603},{"$f":"IF(AH40=\"\",NA(),INDEX($D$41:$F$640,$AH40,1))","v":"DB-XLB"},null,{"$f":"IF(AH40=\"\",\"\",INDEX($D$41:$F$640,$AH40,3))","v":"Proprietary (similar to DB-5 ms but more dipolar/polarizable)"},null,null,null,null,null,null,null,{"$f":"IF(AH40=\"\",\"\",INDEX($P$41:$P$640,$AH40,1))","v":8.0482572861728038E-3},31,247,5]
[null,null,null,"DB-1",null,"Poly(dimethylsiloxane)",null,null,null,null,null,null,null,0.32,0.25,3.1323395073973664E-3,null,null,{"$f":"IF($AH41=\"\",\"\",INDEX($N$42:$P$641,$AH41,1))","v":0.84634508328459024},{"$f":"IF($AH41=\"\",\"\",INDEX($N$42:$P$641,$AH41,2))","v":6.9677942606856957},{"$f":"IF($AH41=\"\",\"\",INDEX($N$42:$P$641,$AH41,3))","v":0.12152779819713018},{"$f":"IF(AH41=\"\",NA(),INDEX($D$41:$F$640,$AH41,1))","v":"DB-VRX"},null,{"$f":"IF(AH41=\"\",\"\",INDEX($D$41:$F$640,$AH41,3))","v":"Proprietary (similar to DB-5)"},null,null,null,null,null,null,null,{"$f":"IF(AH41=\"\",\"\",INDEX($P$41:$P$640,$AH41,1))","v":8.0482572861728038E-3},32,254,5]
[null,null,null,null,60,-7.6999999999999999E-2,0.26800000000000002,0.29499999999999998,0,0.68300000000000005,-1.9893999999999998,-1.879,"1)",{"$f":"SQRT(F42^2+G42^2+H42^2+I42^2+J42^2)","v":0.79452312741669151},{"$f":"ACOS(($C$6*F42+$D$6*G42+$E$6*H42+$F$6*I42+$G$6*J42)/($I$7*N42)-0.000001)*180/PI()","v":9.4320232730777889},{"$f":"SQRT(($C$7-F42/N42)^2+($D$7-G42/N42)^2+($E$7-H42/N42)^2+($F$7-I42/N42)^2+($G$7-J42/N42)^2)","v":0.16442796142470842},null,null,{"$f":"IF($AH42=\"\",\"\",INDEX($N$42:$P$641,$AH42,1))","v":1.0450885129978225},{"$f":"IF($AH42=\"\",\"\",INDEX($N$42:$P$641,$AH42,2))","v":6.8901028188685594},{"$f":"IF($AH42=\"\",\"\",INDEX($N$42:$P$641,$AH42,3))","v":0.1201742121827248},{"$f":"IF(AH42=\"\",NA(),INDEX($D$41:$F$640,$AH42,1))","v":"Rtx-440"},null,{"$f":"IF(AH42=\"\",\"\",INDEX($D$41:$F$640,$AH42,3))","v":"Proprietary (for non-hydrogen-bond acids similar to DB-XLB)"},null,null,null,null,null,null,null,{"$f":"IF(AH42=\"\",\"\",INDEX($P$41:$P$640,$AH42,1))","v":8.0482572861728038E-3},33,261,13]
[null,null,null,null,80,-4.4999999999999998E-2,0.25700000000000001,0.28699999999999998,0,0.61699999999999999,-1.9893999999999998,-1.958,null,null,null,null,null,null,{"$f":"IF($AH43=\"\",\"\",INDEX($N$42:$P$641,$AH43,1))","v":1.3541414254057809},{"$f":"IF($AH43=\"\",\"\",INDEX($N$42:$P$641,$AH43,2))","v":21.248214612667617},{"$f":"IF($AH43=\"\",\"\",INDEX($N$42:$P$641,$AH43,3))","v":0.36872710038401779},{"$f":"IF(AH43=\"\",NA(),INDEX($D$41:$F$640,$AH43,1))","v":"Rtx-VGC"},null,{"$f":"IF(AH43=\"\",\"\",INDEX($D$41:$F$640,$AH43,3))","v":"Proprietary (for non-hydrogen bond acids similar to DB-1701)"},null,null,null,null,null,null,null,{"$f":"IF(AH43=\"\",\"\",INDEX($P$41:$P$640,$AH43,1))","v":2.2782019459368939E-2},34,276,5]
[null,null,null,null,100,-2.3E-2,0.23699999999999999,0.22700000000000001,0,0.55500000000000005,-1.9893999999999998,-1.998,null,null,null,null,null,null,{"$f":"IF($AH44=\"\",\"\",INDEX($N$42:$P$641,$AH44,1))","v":1.0219271011182745},{"$f":"IF($AH44=\"\",\"\",INDEX($N$42:$P$641,$AH44,2))","v":9.1420065184029049},{"$f":"IF($AH44=\"\",\"\",INDEX($N$42:$P$641,$AH44,3))","v":0.15938263722134377},{"$f":"IF(AH44=\"\",NA(),INDEX($D$41:$F$640,$AH44,1))","v":"Rtx-Volatiles"},null,{"$f":"IF(AH44=\"\",\"\",INDEX($D$41:$F$640,$AH44,3))","v":"Poly(dimethyldiphenylsiloxane) estimated to contain ÷ 15-16 % diphenylsiloxane monomer"},null,null,null,null,null,null,null,{"$f":"IF(AH44=\"\",\"\",INDEX($P$41:$P$640,$AH44,1))","v":8.0482572861728038E-3},35,283,5]
[null,null,null,null,120,0,0.217,0.182,0,0.502,-1.9893999999999998,-2.0379999999999998,null,null,null,null,null,null,{"$f":"IF($AH45=\"\",\"\",INDEX($N$42:$P$641,$AH45,1))","v":1.3306036224210425},{"$f":"IF($AH45=\"\",\"\",INDEX($N$42:$P$641,$AH45,2))","v":22.999746818836698},{"$f":"IF($AH45=\"\",\"\",INDEX($N$42:$P$641,$AH45,3))","v":0.39872903073714305},{"$f":"IF(AH45=\"\",NA(),INDEX($D$41:$F$640,$AH45,1))","v":"DB-608"},null,{"$f":"IF(AH45=\"\",\"\",INDEX($D$41:$F$640,$AH45,3))","v":"Poly(dimethyldiphenylsiloxane) estimated to contain ÷ 50-65 % diphenylsiloxane monomer"},null,null,null,null,null,null,null,{"$f":"IF(AH45=\"\",\"\",INDEX($P$41:$P$640,$AH45,1))","v":4.0120320801924486E-3},36,290,5]
[null,null,null,null,140,1.7999999999999999E-2,0.20799999999999999,0.14299999999999999,0,0.45500000000000002,-1.9893999999999998,-2.0739999999999998,null,null,null,null,null,null,{"$f":"IF($AH46=\"\",\"\",INDEX($N$42:$P$641,$AH46,1))","v":0.84256691128954264},{"$f":"IF($AH46=\"\",\"\",INDEX($N$42:$P$641,$AH46,2))","v":2.2200821523451042},{"$f":"IF($AH46=\"\",\"\",INDEX($N$42:$P$641,$AH46,3))","v":3.8719501123195603E-2},{"$f":"IF(AH46=\"\",NA(),INDEX($D$41:$F$640,$AH46,1))","v":"Rtx-TNT"},null,{"$f":"IF(AH46=\"\",\"\",INDEX($D$41:$F$640,$AH46,3))","v":"Poly(dimethyldiphenylsiloxane) estimated to contain 5 %"},null,null,null,null,null,null,null,{"$f":"IF(AH46=\"\",\"\",INDEX($P$41:$P$640,$AH46,1))","v":1.1417604931425959E-2},37,297,9]
[null,null,null,null,null,null,null,null,null,null,null,null,null,null,null,null,null,null,{"$f":"IF($AH47=\"\",\"\",INDEX($N$42:$P$641,$AH47,1))","v":1.3899255375738659},{"$f":"IF($AH47=\"\",\"\",INDEX($N$42:$P$641,$AH47,2))","v":31.285207532109858},{"$f":"IF($AH47=\"\",\"\",INDEX($N$42:$P$641,$AH47,3))","v":0.53927000717689189},{"$f":"IF(AH47=\"\",NA(),INDEX($D$41:$F$640,$AH47,1))","v":"Rtx-TNT2"},null,{"$f":"IF(AH47=\"\",\"\",INDEX($D$41:$F$640,$AH47,3))","v":"Poly(dimethylmethyltrifluoropropylsiloxane)-type phase"},null,null,null,null,null,null,null,{"$f":"IF(AH47=\"\",\"\",INDEX($P$41:$P$640,$AH47,1))","v":1.1417604931425959E-2},38,308,8]
[null,null,null,"SolGel-1",null,"Poly(dimethylsiloxane)",null,null,null,null,null,null,null,0.32,1,1.2618171749535225E-2,null,null,{"$f":"IF($AH48=\"\",\"\",INDEX($N$42:$P$641,$AH48,1))","v":1.2385580325523711},{"$f":"IF($AH48=\"\",\"\",INDEX($N$42:$P$641,$AH48,2))","v":25.779971105863705},{"$f":"IF($AH48=\"\",\"\",INDEX($N$42:$P$641,$AH48,3))","v":0.44615723643161326},{"$f":"IF(AH48=\"\",NA(),INDEX($D$41:$F$640,$AH48,1))","v":"Rtx-CLPesticides"},null,{"$f":"IF(AH48=\"\",\"\",INDEX($D$41:$F$640,$AH48,3))","v":"Poly(dimethylmethyltrifluoropropylsiloxane)-type phase"},null,null,null,null,null,null,null,{"$f":"IF(AH48=\"\",\"\",INDEX($P$41:$P$640,$AH48,1))","v":4.0120320801924486E-3},39,318,5]
[null,null,null,null,60,-0.11,0.34799999999999998,0.41099999999999998,0,0.70299999999999996,-2.5436000000000001,-2.3690000000000002,"1)",{"$f":"SQRT(F49^2+G49^2+H49^2+I49^2+J49^2)","v":0.89237548150988544},{"$f":"ACOS(($C$6*F49+$D$6*G49+$E$6*H49+$F$6*I49+$G$6*J49)/($I$7*N49)-0.000001)*180/PI()","v":5.6115933199231494},{"$f":"SQRT(($C$7-F49/N49)^2+($D$7-G49/N49)^2+($E$7-H49/N49)^2+($F$7-I49/N49)^2+($G$7-J49/N49)^2)","v":9.7891424260208915E-2},null,null,{"$f":"IF($AH49=\"\",\"\",INDEX($N$42:$P$641,$AH49,1))","v":1.441887304888978},{"$f":"IF($AH49=\"\",\"\",INDEX($N$42:$P$641,$AH49,2))","v":31.018943872201461},{"$f":"IF($AH49=\"\",\"\",INDEX($N$42:$P$641,$AH49,3))","v":0.53479348294685469},{"$f":"IF(AH49=\"\",NA(),INDEX($D$41:$F$640,$AH49,1))","v":"Rtx-OPPesticides"},null,{"$f":"IF(AH49=\"\",\"\",INDEX($D$41:$F$640,$AH49,3))","v":"Poly(dimethylmethyltrifluoropropylsiloxane)-type phase"},null,null,null,null,null,null,null,{"$f":"IF(AH49=\"\",\"\",INDEX($P$41:$P$640,$AH49,1))","v":6.2794194239443402E-3},40,325,13]
[null,null,null,null,80,-6.7000000000000004E-2,0.311,0.33500000000000002,0,0.64400000000000002,-2.5436000000000001,-2.4809999999999999,null,null,null,null,null,null,{"$f":"IF($AH50=\"\",\"\",INDEX($N$42:$P$641,$AH50,1))","v":1.0384897688470502},{"$f":"IF($AH50=\"\",\"\",INDEX($N$42:$P$641,$AH50,2))","v":17.04804813452899},{"$f":"IF($AH50=\"\",\"\",INDEX($N$42:$P$641,$AH50,3))","v":0.29644480982864146},{"$f":"IF(AH50=\"\",NA(),INDEX($D$41:$F$640,$AH50,1))","v":"Rtx-Dioxin"},null,{"$f":"IF(AH50=\"\",\"\",INDEX($D$41:$F$640,$AH50,3))","v":"Similar to Stx-500 (carborane-dimethylsiloxane with 5 % phenyl)"},null,null,null,null,null,null,null,{"$f":"IF(AH50=\"\",\"\",INDEX($P$41:$P$640,$AH50,1))","v":2.4043269223830068E-3},41,340,5]
[null,null,null,null,100,-2.5999999999999999E-2,0.27200000000000002,0.27900000000000003,0,0.59499999999999997,-2.5436000000000001,-2.6019999999999999,null,null,null,null,null,null,{"$f":"IF($AH51=\"\",\"\",INDEX($N$42:$P$641,$AH51,1))","v":1.0513515111512419},{"$f":"IF($AH51=\"\",\"\",INDEX($N$42:$P$641,$AH51,2))","v":6.2432317614175359},{"$f":"IF($AH51=\"\",\"\",INDEX($N$42:$P$641,$AH51,3))","v":0.10890186850517658},{"$f":"IF(AH51=\"\",NA(),INDEX($D$41:$F$640,$AH51,1))","v":"DB-Dioxin2"},null,{"$f":"IF(AH51=\"\",\"\",INDEX($D$41:$F$640,$AH51,3))","v":"Similar to DB-XLB and Rtx-Volatiles"},null,null,null,null,null,null,null,{"$f":"IF(AH51=\"\",\"\",INDEX($P$41:$P$640,$AH51,1))","v":4.0120320801924486E-3},42,347,5]
[null,null,null,null,120,0,0.22900000000000001,0.224,0,0.53600000000000003,-2.5436000000000001,-2.6110000000000002,null,null,null,null,null,null,{"$f":"IF($AH52=\"\",\"\",INDEX($N$42:$P$641,$AH52,1))","v":2.6482337510121723},{"$f":"IF($AH52=\"\",\"\",INDEX($N$42:$P$641,$AH52,2))","v":38.703957340763836},{"$f":"IF($AH52=\"\",\"\",INDEX($N$42:$P$641,$AH52,3))","v":0.6627394347317922},{"$f":"IF(AH52=\"\",NA(),INDEX($D$41:$F$640,$AH52,1))","v":"DB-23"},null,{"$f":"IF(AH52=\"\",\"\",INDEX($D$41:$F$640,$AH52,3))","v":"100 % 3-cyanopropylmethylsiloxane"},null,null,null,null,null,null,null,{"$f":"IF(AH52=\"\",\"\",INDEX($P$41:$P$640,$AH52,1))","v":4.0120320801924486E-3},43,354,5]
[null,null,null,null,140,0,0.23200000000000001,0.187,0,0.48599999999999999,-2.5436000000000001,-2.6549999999999998,null,null,null,null,null,null,{"$f":"IF($AH53=\"\",\"\",INDEX($N$42:$P$641,$AH53,1))","v":1.1359762321457259},{"$f":"IF($AH53=\"\",\"\",INDEX($N$42:$P$641,$AH53,2))","v":13.658964464487307},{"$f":"IF($AH53=\"\",\"\",INDEX($N$42:$P$641,$AH53,3))","v":0.23782558517491773},{"$f":"IF(AH53=\"\",NA(),INDEX($D$41:$F$640,$AH53,1))","v":"DB-1301"},null,{"$f":"IF(AH53=\"\",\"\",INDEX($D$41:$F$640,$AH53,3))","v":"6 % 3-cyanopropylphenylsiloxane"},null,null,null,null,null,null,null,{"$f":"IF(AH53=\"\",\"\",INDEX($P$41:$P$640,$AH53,1))","v":1.6194068678459937E-2},44,361,5]
[null,null,null,null,null,null,null,null,null,null,null,null,null,null,null,null,null,null,{"$f":"IF($AH54=\"\",\"\",INDEX($N$42:$P$641,$AH54,1))","v":1.1542750971930391},{"$f":"IF($AH54=\"\",\"\",INDEX($N$42:$P$641,$AH54,2))","v":14.685509790479722},{"$f":"IF($AH54=\"\",\"\",INDEX($N$42:$P$641,$AH54,3))","v":0.25560556449405952},{"$f":"IF(AH54=\"\",NA(),INDEX($D$41:$F$640,$AH54,1))","v":"DB-624"},null,{"$f":"IF(AH54=\"\",\"\",INDEX($D$41:$F$640,$AH54,3))","v":"6 % 3-cyanopropylphenylsiloxane"},null,null,null,null,null,null,null,{"$f":"IF(AH54=\"\",\"\",INDEX($P$41:$P$640,$AH54,1))","v":2.2782019459368939E-2},45,368,5]
[null,null,null,"SPB-Octyl",null,"Poly(methyloctylsiloxane)",null,null,null,null,null,null,null,0.32,1,1.2618171749535225E-2,null,null,{"$f":"IF($AH55=\"\",\"\",INDEX($N$42:$P$641,$AH55,1))","v":1.5044829676669655},{"$f":"IF($AH55=\"\",\"\",INDEX($N$42:$P$641,$AH55,2))","v":23.394468351431769},{"$f":"IF($AH55=\"\",\"\",INDEX($N$42:$P$641,$AH55,3))","v":0.40547758448359461},{"$f":"IF(AH55=\"\",NA(),INDEX($D$41:$F$640,$AH55,1))","v":"DB-1701"},null,{"$f":"IF(AH55=\"\",\"\",INDEX($D$41:$F$640,$AH55,3))","v":"14 % 3-cyanopropylphenylsiloxane"},null,null,null,null,null,null,null,{"$f":"IF(AH55=\"\",\"\",INDEX($P$41:$P$640,$AH55,1))","v":3.1323395073973664E-3},46,375,11]
[null,null,null,null,60,0.11700000000000001,9.4E-2,7.0999999999999994E-2,0,0.76400000000000001,-2.3192727272727272,-2.548,"1)",{"$f":"SQRT(F56^2+G56^2+H56^2+I56^2+J56^2)","v":0.78183246287168195},{"$f":"ACOS(($C$6*F56+$D$6*G56+$E$6*H56+$F$6*I56+$G$6*J56)/($I$7*N56)-0.000001)*180/PI()","v":33.625022263449658},{"$f":"SQRT(($C$7-F56/N56)^2+($D$7-G56/N56)^2+($E$7-H56/N56)^2+($F$7-I56/N56)^2+($G$7-J56/N56)^2)","v":0.57847993285511423},null,null,{"$f":"IF($AH56=\"\",\"\",INDEX($N$42:$P$641,$AH56,1))","v":2.3336685711557243},{"$f":"IF($AH56=\"\",\"\",INDEX($N$42:$P$641,$AH56,2))","v":35.500213851689324},{"$f":"IF($AH56=\"\",\"\",INDEX($N$42:$P$641,$AH56,3))","v":0.60973051272575585},{"$f":"IF(AH56=\"\",NA(),INDEX($D$41:$F$640,$AH56,1))","v":"DB-225"},null,{"$f":"IF(AH56=\"\",\"\",INDEX($D$41:$F$640,$AH56,3))","v":"50 % 3-cyanopropylphenylsiloxane"},null,null,null,null,null,null,null,{"$f":"IF(AH56=\"\",\"\",INDEX($P$41:$P$640,$AH56,1))","v":3.1323395073973664E-3},47,388,10]
[null,null,null,null,80,0.151,8.6999999999999994E-2,0,0,0.69799999999999995,-2.3192727272727272,-2.6389999999999998,null,null,null,null,null,null,{"$f":"IF($AH57=\"\",\"\",INDEX($N$42:$P$641,$AH57,1))","v":3.0472028156983582},{"$f":"IF($AH57=\"\",\"\",INDEX($N$42:$P$641,$AH57,2))","v":42.171570353275364},{"$f":"IF($AH57=\"\",\"\",INDEX($N$42:$P$641,$AH57,3))","v":0.71952928119848414},{"$f":"IF(AH57=\"\",NA(),INDEX($D$41:$F$640,$AH57,1))","v":"SP-2340"},null,{"$f":"IF(AH57=\"\",\"\",INDEX($D$41:$F$640,$AH57,3))","v":"(viii) Poly(biscyanopropylsiloxane)"},null,null,null,null,null,null,null,{"$f":"IF(AH57=\"\",\"\",INDEX($P$41:$P$640,$AH57,1))","v":3.207696416831093E-3},48,400,5]
[null,null,null,null,100,0.184,8.6999999999999994E-2,0,0,0.63700000000000001,-2.3192727272727272,-2.726,null,null,null,null,null,null,{"$f":"IF($AH58=\"\",\"\",INDEX($N$42:$P$641,$AH58,1))","v":3.0029683648017342},{"$f":"IF($AH58=\"\",\"\",INDEX($N$42:$P$641,$AH58,2))","v":41.437754626448829},{"$f":"IF($AH58=\"\",\"\",INDEX($N$42:$P$641,$AH58,3))","v":0.70756463974531114},{"$f":"IF(AH58=\"\",NA(),INDEX($D$41:$F$640,$AH58,1))","v":"HP-88"},null,{"$f":"IF(AH58=\"\",\"\",INDEX($D$41:$F$640,$AH58,3))","v":"88 % biscyanopropylsiloxane"},null,null,null,null,null,null,null,{"$f":"IF(AH58=\"\",\"\",INDEX($P$41:$P$640,$AH58,1))","v":3.207696416831093E-3},49,407,10]
[null,null,null,null,120,0.191,7.0999999999999994E-2,0,0,0.58599999999999997,-2.3192727272727272,-2.79,null,null,null,null,null,null,{"$f":"IF($AH59=\"\",\"\",INDEX($N$42:$P$641,$AH59,1))","v":3.1726775758024961},{"$f":"IF($AH59=\"\",\"\",INDEX($N$42:$P$641,$AH59,2))","v":42.496875585835362},{"$f":"IF($AH59=\"\",\"\",INDEX($N$42:$P$641,$AH59,3))","v":0.72482387303965889},{"$f":"IF(AH59=\"\",NA(),INDEX($D$41:$F$640,$AH59,1))","v":"BPX-90"},null,{"$f":"IF(AH59=\"\",\"\",INDEX($D$41:$F$640,$AH59,3))","v":"90 % biscyanopropylsiloxane"},null,null,null,null,null,null,null,{"$f":"IF(AH59=\"\",\"\",INDEX($P$41:$P$640,$AH59,1))","v":4.0120320801924486E-3},50,419,5]
[null,null,null,null,140,0.19900000000000001,8.3000000000000004E-2,0,0,0.52500000000000002,-2.3192727272727272,-2.7850000000000001,null,null,null,null,null,null,{"$f":"IF($AH60=\"\",\"\",INDEX($N$42:$P$641,$AH60,1))","v":3.1840147612723153},{"$f":"IF($AH60=\"\",\"\",INDEX($N$42:$P$641,$AH60,2))","v":43.191222784807707},{"$f":"IF($AH60=\"\",\"\",INDEX($N$42:$P$641,$AH60,3))","v":0.73610531103718613},{"$f":"IF(AH60=\"\",NA(),INDEX($D$41:$F$640,$AH60,1))","v":"SolGel-Wax"},null,{"$f":"IF(AH60=\"\",\"\",INDEX($D$41:$F$640,$AH60,3))","v":"(x) Poly(ethylene glycol)"},null,null,null,null,null,null,null,{"$f":"IF(AH60=\"\",\"\",INDEX($P$41:$P$640,$AH60,1))","v":4.0120320801924486E-3},51,426,5]
[null,null,null,null,160,0.17,6.5000000000000002E-2,0,0,0.433,-2.3192727272727272,-1.9950000000000001,null,null,null,null,null,null,{"$f":"IF($AH61=\"\",\"\",INDEX($N$42:$P$641,$AH61,1))","v":3.217490481726403},{"$f":"IF($AH61=\"\",\"\",INDEX($N$42:$P$641,$AH61,2))","v":43.666879637450307},{"$f":"IF($AH61=\"\",\"\",INDEX($N$42:$P$641,$AH61,3))","v":0.74381799366237689},{"$f":"IF(AH61=\"\",NA(),INDEX($D$41:$F$640,$AH61,1))","v":"HP-INNOWax"},null,{"$f":"IF(AH61=\"\",\"\",INDEX($D$41:$F$640,$AH61,3))","v":"(x) Poly(ethylene glycol)"},null,null,null,null,null,null,null,{"$f":"IF(AH61=\"\",\"\",INDEX($P$41:$P$640,$AH61,1))","v":8.0482572861728038E-3},52,433,9]
[null,null,null,null,180,0.184,5.6000000000000001E-2,0,0,0.38900000000000001,-2.3192727272727272,-1.9870000000000001,null,null,null,null,null,null,{"$f":"IF($AH62=\"\",\"\",INDEX($N$42:$P$641,$AH62,1))","v":3.2051822101091223},{"$f":"IF($AH62=\"\",\"\",INDEX($N$42:$P$641,$AH62,2))","v":43.89264494595303},{"$f":"IF($AH62=\"\",\"\",INDEX($N$42:$P$641,$AH62,3))","v":0.74747425684995594},{"$f":"IF(AH62=\"\",NA(),INDEX($D$41:$F$640,$AH62,1))","v":"DB-WAXetr"},null,{"$f":"IF(AH62=\"\",\"\",INDEX($D$41:$F$640,$AH62,3))","v":"(x) Poly(ethylene glycol)"},null,null,null,null,null,null,null,{"$f":"IF(AH62=\"\",\"\",INDEX($P$41:$P$640,$AH62,1))","v":8.0482572861728038E-3},53,444,5]
[null,null,null,null,200,0.17,5.7000000000000002E-2,0,0,0.35,-2.3192727272727272,-1.9590000000000001,null,null,null,null,null,null,{"$f":"IF($AH63=\"\",\"\",INDEX($N$42:$P$641,$AH63,1))","v":3.3847187475475713},{"$f":"IF($AH63=\"\",\"\",INDEX($N$42:$P$641,$AH63,2))","v":43.995986110994501},{"$f":"IF($AH63=\"\",\"\",INDEX($N$42:$P$641,$AH63,3))","v":0.74914689711998694},{"$f":"IF(AH63=\"\",NA(),INDEX($D$41:$F$640,$AH63,1))","v":"EC-Wax"},null,{"$f":"IF(AH63=\"\",\"\",INDEX($D$41:$F$640,$AH63,3))","v":"(x) Poly(ethylene glycol)"},null,null,null,null,null,null,null,{"$f":"IF(AH63=\"\",\"\",INDEX($P$41:$P$640,$AH63,1))","v":4.0120320801924486E-3},54,451,5]
[null,null,null,null,220,0.182,4.9000000000000002E-2,0,0,0.34399999999999997,-2.3192727272727272,-2.085,null,null,null,null,null,null,{"$f":"IF($AH64=\"\",\"\",INDEX($N$42:$P$641,$AH64,1))","v":3.2836129491765624},{"$f":"IF($AH64=\"\",\"\",INDEX($N$42:$P$641,$AH64,2))","v":43.788352566388113},{"$f":"IF($AH64=\"\",\"\",INDEX($N$42:$P$641,$AH64,3))","v":0.74578560424987927},{"$f":"IF(AH64=\"\",NA(),INDEX($D$41:$F$640,$AH64,1))","v":"HP-20M"},null,{"$f":"IF(AH64=\"\",\"\",INDEX($D$41:$F$640,$AH64,3))","v":"(x) Poly(ethylene glycol)"},null,null,null,null,null,null,null,{"$f":"IF(AH64=\"\",\"\",INDEX($P$41:$P$640,$AH64,1))","v":3.7605733041250838E-3},55,458,5]
[null,null,null,null,240,0.185,4.7E-2,0,0,0.29099999999999998,-2.3192727272727272,-1.9890000000000001,null,null,null,null,null,null,{"$f":"IF($AH65=\"\",\"\",INDEX($N$42:$P$641,$AH65,1))","v":3.3546060871583716},{"$f":"IF($AH65=\"\",\"\",INDEX($N$42:$P$641,$AH65,2))","v":44.734703142015327},{"$f":"IF($AH65=\"\",\"\",INDEX($N$42:$P$641,$AH65,3))","v":0.76108566069824013},{"$f":"IF(AH65=\"\",NA(),INDEX($D$41:$F$640,$AH65,1))","v":"AT-Wax"},null,{"$f":"IF(AH65=\"\",\"\",INDEX($D$41:$F$640,$AH65,3))","v":"(x) Poly(ethylene glycol)"},null,null,null,null,null,null,null,{"$f":"IF(AH65=\"\",\"\",INDEX($P$41:$P$640,$AH65,1))","v":4.0120320801924486E-3},56,465,5]
[null,null,null,null,260,0.19700000000000001,3.7999999999999999E-2,0,0,0.26400000000000001,-2.3192727272727272,-2.0089999999999999,null,null,null,null,null,null,{"$f":"IF($AH66=\"\",\"\",INDEX($N$42:$P$641,$AH66,1))","v":3.4065272639449113},{"$f":"IF($AH66=\"\",\"\",INDEX($N$42:$P$641,$AH66,2))","v":44.625020165051097},{"$f":"IF($AH66=\"\",\"\",INDEX($N$42:$P$641,$AH66,3))","v":0.75931500851033662},{"$f":"IF(AH66=\"\",NA(),INDEX($D$41:$F$640,$AH66,1))","v":"DB-FFAP"},null,{"$f":"IF(AH66=\"\",\"\",INDEX($D$41:$F$640,$AH66,3))","v":"Modified with nitroterephthalic acid"},null,null,null,null,null,null,null,{"$f":"IF(AH66=\"\",\"\",INDEX($P$41:$P$640,$AH66,1))","v":3.1323395073973664E-3},57,472,5]
["Generic column types",null,null,null,null,null,null,null,null,null,null,null,null,null,null,null,null,null,{"$f":"IF($AH67=\"\",\"\",INDEX($N$42:$P$641,$AH67,1))","v":3.1996385733391826},{"$f":"IF($AH67=\"\",\"\",INDEX($N$42:$P$641,$AH67,2))","v":43.313829956259987},{"$f":"IF($AH67=\"\",\"\",INDEX($N$42:$P$641,$AH67,3))","v":0.73809458091967983},{"$f":"IF(AH67=\"\",NA(),INDEX($D$41:$F$640,$AH67,1))","v":"PAG"},null,{"$f":"IF(AH67=\"\",\"\",INDEX($D$41:$F$640,$AH67,3))","v":"Ethylene glycol-propylene glycol copolymer"},null,null,null,null,null,null,null,{"$f":"IF(AH67=\"\",\"\",INDEX($P$41:$P$640,$AH67,1))","v":4.0120320801924486E-3},58,479,5]
[null,null,null,"G-PDMS",null,"Generic-Poly(dimethylsiloxane) [c = -2.000]",null,null,null,null,null,null,null,null,null,null,null,null,{"$f":"IF($AH68=\"\",\"\",INDEX($N$42:$P$641,$AH68,1))","v":1.1536333906401983},{"$f":"IF($AH68=\"\",\"\",INDEX($N$42:$P$641,$AH68,2))","v":20.826880244398193},{"$f":"IF($AH68=\"\",\"\",INDEX($N$42:$P$641,$AH68,3))","v":0.36149695564360834},{"$f":"IF(AH68=\"\",NA(),INDEX($D$41:$F$640,$AH68,1))","v":"DX-1"},null,{"$f":"IF(AH68=\"\",\"\",INDEX($D$41:$F$640,$AH68,3))","v":"poly(dimethylsiloxane) 90 % + poly(ethylene glycol) 10 %"},null,null,null,null,null,null,null,{"$f":"IF(AH68=\"\",\"\",INDEX($P$41:$P$640,$AH68,1))","v":1.6194068678459937E-2},59,486,5]
[null,null,null,null,60,-9.4E-2,0.308,0.32200000000000001,0,0.69299999999999995,-2,-2,"1)",{"$f":"SQRT(F69^2+G69^2+H69^2+I69^2+J69^2)","v":0.82923639572802155},{"$f":"ACOS(($C$6*F69+$D$6*G69+$E$6*H69+$F$6*I69+$G$6*J69)/($I$7*N69)-0.000001)*180/PI()","v":6.8502795807012244},{"$f":"SQRT(($C$7-F69/N69)^2+($D$7-G69/N69)^2+($E$7-H69/N69)^2+($F$7-I69/N69)^2+($G$7-J69/N69)^2)","v":0.11948036602415903},null,null,{"$f":"IF($AH69=\"\",\"\",INDEX($N$42:$P$641,$AH69,1))","v":2.5530119467013859},{"$f":"IF($AH69=\"\",\"\",INDEX($N$42:$P$641,$AH69,2))","v":39.635534558918778},{"$f":"IF($AH69=\"\",\"\",INDEX($N$42:$P$641,$AH69,3))","v":0.6780578627060867},{"$f":"IF(AH69=\"\",NA(),INDEX($D$41:$F$640,$AH69,1))","v":"DX-3"},null,{"$f":"IF(AH69=\"\",\"\",INDEX($D$41:$F$640,$AH69,3))","v":"poly(dimethylsiloxane) 50 % + poly(ethylene glycol) 50 %"},null,null,null,null,null,null,null,{"$f":"IF(AH69=\"\",\"\",INDEX($P$41:$P$640,$AH69,1))","v":4.0120320801924486E-3},60,493,5]
[null,null,null,null,80,-5.6000000000000001E-2,0.28399999999999997,0.29899999999999999,0,0.63100000000000001,-2,-2,null,null,null,null,null,null,{"$f":"IF($AH70=\"\",\"\",INDEX($N$42:$P$641,$AH70,1))","v":2.7429360182111431},{"$f":"IF($AH70=\"\",\"\",INDEX($N$42:$P$641,$AH70,2))","v":41.971154396838415},{"$f":"IF($AH70=\"\",\"\",INDEX($N$42:$P$641,$AH70,3))","v":0.71626446849053993},{"$f":"IF(AH70=\"\",NA(),INDEX($D$41:$F$640,$AH70,1))","v":"DX-4"},null,{"$f":"IF(AH70=\"\",\"\",INDEX($D$41:$F$640,$AH70,3))","v":"poly(dimethylsiloxane) 15 % + poly(ethylene glycol) 85 %"},null,null,null,null,null,null,null,{"$f":"IF(AH70=\"\",\"\",INDEX($P$41:$P$640,$AH70,1))","v":4.0120320801924486E-3},61,500,5]
[null,null,null,null,100,-2.5000000000000001E-2,0.255,0.253,0,0.57499999999999996,-2,-2,null,null,null,null,null,null,{"$f":"IF($AH71=\"\",\"\",INDEX($N$42:$P$641,$AH71,1))","v":2.059795863671932},{"$f":"IF($AH71=\"\",\"\",INDEX($N$42:$P$641,$AH71,2))","v":34.024480325241882},{"$f":"IF($AH71=\"\",\"\",INDEX($N$42:$P$641,$AH71,3))","v":0.5851502800867785},{"$f":"IF(AH71=\"\",NA(),INDEX($D$41:$F$640,$AH71,1))","v":"Cyclodex-B"},null,{"$f":"IF(AH71=\"\",\"\",INDEX($D$41:$F$640,$AH71,3))","v":"DB-1701 89.5 % + permethylated ?-cyclodextrin 10.5 %"},null,null,null,null,null,null,null,{"$f":"IF(AH71=\"\",\"\",INDEX($P$41:$P$640,$AH71,1))","v":4.0120320801924486E-3},62,507,5]
[null,null,null,null,120,0,0.23300000000000001,0.20300000000000001,0,0.51900000000000002,-2,-2,null,null,null,null,null,null,{"$f":"IF($AH72=\"\",\"\",INDEX($N$42:$P$641,$AH72,1))","v":2.1723832534799197},{"$f":"IF($AH72=\"\",\"\",INDEX($N$42:$P$641,$AH72,2))","v":36.269996477970359},{"$f":"IF($AH72=\"\",\"\",INDEX($N$42:$P$641,$AH72,3))","v":0.62251235248674575},{"$f":"IF(AH72=\"\",NA(),INDEX($D$41:$F$640,$AH72,1))","v":"CycloSil-B"},null,{"$f":"IF(AH72=\"\",\"\",INDEX($D$41:$F$640,$AH72,3))","v":"DB-1701 70 % + heptakis(2,3-di-O-methyl-6-O-t-butyldimethylsilyl)-β-cyclodextrin 30 %"},null,null,null,null,null,null,null,{"$f":"IF(AH72=\"\",\"\",INDEX($P$41:$P$640,$AH72,1))","v":4.0120320801924486E-3},63,514,5]
[null,null,null,null,140,8.9999999999999993E-3,0.22,0.16500000000000001,0,0.47099999999999997,-2,-2,null,null,null,null,null,null,{"$f":"IF($AH73=\"\",\"\",INDEX($N$42:$P$641,$AH73,1))","v":2.3033742639875094},{"$f":"IF($AH73=\"\",\"\",INDEX($N$42:$P$641,$AH73,2))","v":38.66929266587394},{"$f":"IF($AH73=\"\",\"\",INDEX($N$42:$P$641,$AH73,3))","v":0.66216857318696287},{"$f":"IF(AH73=\"\",NA(),INDEX($D$41:$F$640,$AH73,1))","v":"SLB-IL60"},null,{"$f":"IF(AH73=\"\",\"\",INDEX($D$41:$F$640,$AH73,3))","v":"1,12-Di(tripropylphosphonium)dodecane bis(trifluoromethylsulfonyl)imide"},null,null,null,null,null,null,null,{"$f":"IF(AH73=\"\",\"\",INDEX($P$41:$P$640,$AH73,1))","v":3.207696416831093E-3},64,521,11]
[null,null,null,null,null,null,null,null,null,null,null,null,null,null,null,null,null,null,{"$f":"IF($AH74=\"\",\"\",INDEX($N$42:$P$641,$AH74,1))","v":2.4321839979738376},{"$f":"IF($AH74=\"\",\"\",INDEX($N$42:$P$641,$AH74,2))","v":39.647302790773949},{"$f":"IF($AH74=\"\",\"\",INDEX($N$42:$P$641,$AH74,3))","v":0.67825108960040137},{"$f":"IF(AH74=\"\",NA(),INDEX($D$41:$F$640,$AH74,1))","v":"SLB-IL61"},null,{"$f":"IF(AH74=\"\",\"\",INDEX($D$41:$F$640,$AH74,3))","v":"1,12-Di(tripropylphosphonium)dodecane bis(trifluoromethylsulfonyl)imide trifluoromethylsulfonate"},null,null,null,null,null,null,null,{"$f":"IF(AH74=\"\",\"\",INDEX($P$41:$P$640,$AH74,1))","v":3.207696416831093E-3},65,534,10]
[null,null,null,"G-PDMPS-5",null,"Generic-Poly(dimethyldiphenylsiloxane) [c = -2.000]",null,null,null,null,null,null,null,null,null,null,null,null,{"$f":"IF($AH75=\"\",\"\",INDEX($N$42:$P$641,$AH75,1))","v":2.4982229684317612},{"$f":"IF($AH75=\"\",\"\",INDEX($N$42:$P$641,$AH75,2))","v":41.709574864213096},{"$f":"IF($AH75=\"\",\"\",INDEX($N$42:$P$641,$AH75,3))","v":0.71199999538955372},{"$f":"IF(AH75=\"\",NA(),INDEX($D$41:$F$640,$AH75,1))","v":"SLB-IL76"},null,{"$f":"IF(AH75=\"\",\"\",INDEX($D$41:$F$640,$AH75,3))","v":"Tri(tripropylphosphoniumhexamide)triethylamine bis(trifluoromethylsulfonyl)imide"},null,null,null,null,null,null,null,{"$f":"IF(AH75=\"\",\"\",INDEX($P$41:$P$640,$AH75,1))","v":3.207696416831093E-3},66,546,9]
[null,null,null,null,60,-9.7000000000000003E-2,0.42099999999999999,0.38700000000000001,0,0.70399999999999996,-2,-2,"1)",{"$f":"SQRT(F76^2+G76^2+H76^2+I76^2+J76^2)","v":0.91215952552171486},{"$f":"ACOS(($C$6*F76+$D$6*G76+$E$6*H76+$F$6*I76+$G$6*J76)/($I$7*N76)-0.000001)*180/PI()","v":1.0961075240264806},{"$f":"SQRT(($C$7-F76/N76)^2+($D$7-G76/N76)^2+($E$7-H76/N76)^2+($F$7-I76/N76)^2+($G$7-J76/N76)^2)","v":1.9078049069695062E-2},null,null,{"$f":"IF($AH76=\"\",\"\",INDEX($N$42:$P$641,$AH76,1))","v":2.7294563561266187},{"$f":"IF($AH76=\"\",\"\",INDEX($N$42:$P$641,$AH76,2))","v":43.975656825975953},{"$f":"IF($AH76=\"\",\"\",INDEX($N$42:$P$641,$AH76,3))","v":0.74881790324453845},{"$f":"IF(AH76=\"\",NA(),INDEX($D$41:$F$640,$AH76,1))","v":"SLB-IL100"},null,{"$f":"IF(AH76=\"\",\"\",INDEX($D$41:$F$640,$AH76,3))","v":"1,9-Di(3-vinylimidazolium)nonane bis(trifluoromethylsulfonyl)imide"},null,null,null,null,null,null,null,{"$f":"IF(AH76=\"\",\"\",INDEX($P$41:$P$640,$AH76,1))","v":3.207696416831093E-3},67,557,8]
[null,null,null,null,80,-5.3999999999999999E-2,0.371,0.308,0,0.629,-2,-2,null,null,null,null,null,null,{"$f":"IF($AH77=\"\",\"\",INDEX($N$42:$P$641,$AH77,1))","v":""},{"$f":"IF($AH77=\"\",\"\",INDEX($N$42:$P$641,$AH77,2))","v":""},{"$f":"IF($AH77=\"\",\"\",INDEX($N$42:$P$641,$AH77,3))","v":""},{"$f":"IF(AH77=\"\",NA(),INDEX($D$41:$F$640,$AH77,1))","v":{"$error":"#N/A"}},null,{"$f":"IF(AH77=\"\",\"\",INDEX($D$41:$F$640,$AH77,3))","v":""},null,null,null,null,null,null,null,{"$f":"IF(AH77=\"\",\"\",INDEX($P$41:$P$640,$AH77,1))","v":""}]
[null,null,null,null,100,-2.4E-2,0.33300000000000002,0.25,0,0.56599999999999995,-2,-2,null,null,null,null,null,null,{"$f":"IF($AH78=\"\",\"\",INDEX($N$42:$P$641,$AH78,1))","v":""},{"$f":"IF($AH78=\"\",\"\",INDEX($N$42:$P$641,$AH78,2))","v":""},{"$f":"IF($AH78=\"\",\"\",INDEX($N$42:$P$641,$AH78,3))","v":""},{"$f":"IF(AH78=\"\",NA(),INDEX($D$41:$F$640,$AH78,1))","v":{"$error":"#N/A"}},null,{"$f":"IF(AH78=\"\",\"\",INDEX($D$41:$F$640,$AH78,3))","v":""},null,null,null,null,null,null,null,{"$f":"IF(AH78=\"\",\"\",INDEX($P$41:$P$640,$AH78,1))","v":""}]
[null,null,null,null,120,0,0.309,0.20200000000000001,0,0.51300000000000001,-2,-2,null,null,null,null,null,null,{"$f":"IF($AH79=\"\",\"\",INDEX($N$42:$P$641,$AH79,1))","v":""},{"$f":"IF($AH79=\"\",\"\",INDEX($N$42:$P$641,$AH79,2))","v":""},{"$f":"IF($AH79=\"\",\"\",INDEX($N$42:$P$641,$AH79,3))","v":""},{"$f":"IF(AH79=\"\",NA(),INDEX($D$41:$F$640,$AH79,1))","v":{"$error":"#N/A"}},null,{"$f":"IF(AH79=\"\",\"\",INDEX($D$41:$F$640,$AH79,3))","v":""},null,null,null,null,null,null,null,{"$f":"IF(AH79=\"\",\"\",INDEX($P$41:$P$640,$AH79,1))","v":""}]
[null,null,null,null,140,2.5999999999999999E-2,0.27600000000000002,0.17599999999999999,0,0.46500000000000002,-2,-2,null,null,null,null,null,null,{"$f":"IF($AH80=\"\",\"\",INDEX($N$42:$P$641,$AH80,1))","v":""},{"$f":"IF($AH80=\"\",\"\",INDEX($N$42:$P$641,$AH80,2))","v":""},{"$f":"IF($AH80=\"\",\"\",INDEX($N$42:$P$641,$AH80,3))","v":""},{"$f":"IF(AH80=\"\",NA(),INDEX($D$41:$F$640,$AH80,1))","v":{"$error":"#N/A"}},null,{"$f":"IF(AH80=\"\",\"\",INDEX($D$41:$F$640,$AH80,3))","v":""},null,null,null,null,null,null,null,{"$f":"IF(AH80=\"\",\"\",INDEX($P$41:$P$640,$AH80,1))","v":""}]
[null,null,null,null,null,null,null,null,null,null,null,null,null,null,null,null,null,null,{"$f":"IF($AH81=\"\",\"\",INDEX($N$42:$P$641,$AH81,1))","v":""},{"$f":"IF($AH81=\"\",\"\",INDEX($N$42:$P$641,$AH81,2))","v":""},{"$f":"IF($AH81=\"\",\"\",INDEX($N$42:$P$641,$AH81,3))","v":""},{"$f":"IF(AH81=\"\",NA(),INDEX($D$41:$F$640,$AH81,1))","v":{"$error":"#N/A"}},null,{"$f":"IF(AH81=\"\",\"\",INDEX($D$41:$F$640,$AH81,3))","v":""},null,null,null,null,null,null,null,{"$f":"IF(AH81=\"\",\"\",INDEX($P$41:$P$640,$AH81,1))","v":""}]
[null,null,null,"G-PMPS",null,"Generc-Poly(methylphenylsiloxane) [c = -2.000]",null,null,null,null,null,null,null,null,null,null,null,null,{"$f":"IF($AH82=\"\",\"\",INDEX($N$42:$P$641,$AH82,1))","v":""},{"$f":"IF($AH82=\"\",\"\",INDEX($N$42:$P$641,$AH82,2))","v":""},{"$f":"IF($AH82=\"\",\"\",INDEX($N$42:$P$641,$AH82,3))","v":""},{"$f":"IF(AH82=\"\",NA(),INDEX($D$41:$F$640,$AH82,1))","v":{"$error":"#N/A"}},null,{"$f":"IF(AH82=\"\",\"\",INDEX($D$41:$F$640,$AH82,3))","v":""},null,null,null,null,null,null,null,{"$f":"IF(AH82=\"\",\"\",INDEX($P$41:$P$640,$AH82,1))","v":""}]
[null,null,null,null,60,-9.7000000000000003E-2,1.0999999999999999E-2,0.96899999999999997,0,0.51600000000000001,-2,-2,"1)",{"$f":"SQRT(F83^2+G83^2+H83^2+I83^2+J83^2)","v":1.1021556151469718},{"$f":"ACOS(($C$6*F83+$D$6*G83+$E$6*H83+$F$6*I83+$G$6*J83)/($I$7*N83)-0.000001)*180/PI()","v":42.586623616802775},{"$f":"SQRT(($C$7-F83/N83)^2+($D$7-G83/N83)^2+($E$7-H83/N83)^2+($F$7-I83/N83)^2+($G$7-J83/N83)^2)","v":0.72628356469433109},null,null,{"$f":"IF($AH83=\"\",\"\",INDEX($N$42:$P$641,$AH83,1))","v":""},{"$f":"IF($AH83=\"\",\"\",INDEX($N$42:$P$641,$AH83,2))","v":""},{"$f":"IF($AH83=\"\",\"\",INDEX($N$42:$P$641,$AH83,3))","v":""},{"$f":"IF(AH83=\"\",NA(),INDEX($D$41:$F$640,$AH83,1))","v":{"$error":"#N/A"}},null,{"$f":"IF(AH83=\"\",\"\",INDEX($D$41:$F$640,$AH83,3))","v":""},null,null,null,null,null,null,null,{"$f":"IF(AH83=\"\",\"\",INDEX($P$41:$P$640,$AH83,1))","v":""}]
[null,null,null,null,80,4.5999999999999999E-2,0.88,0.44600000000000001,0,0.60699999999999998,-2,-2,null,null,null,null,null,null,{"$f":"IF($AH84=\"\",\"\",INDEX($N$42:$P$641,$AH84,1))","v":""},{"$f":"IF($AH84=\"\",\"\",INDEX($N$42:$P$641,$AH84,2))","v":""},{"$f":"IF($AH84=\"\",\"\",INDEX($N$42:$P$641,$AH84,3))","v":""},{"$f":"IF(AH84=\"\",NA(),INDEX($D$41:$F$640,$AH84,1))","v":{"$error":"#N/A"}},null,{"$f":"IF(AH84=\"\",\"\",INDEX($D$41:$F$640,$AH84,3))","v":""},null,null,null,null,null,null,null,{"$f":"IF(AH84=\"\",\"\",INDEX($P$41:$P$640,$AH84,1))","v":""}]
[null,null,null,null,100,8.1000000000000003E-2,0.80500000000000005,0.38100000000000001,0,0.55600000000000005,-2,-2,null,null,null,null,null,null,{"$f":"IF($AH85=\"\",\"\",INDEX($N$42:$P$641,$AH85,1))","v":""},{"$f":"IF($AH85=\"\",\"\",INDEX($N$42:$P$641,$AH85,2))","v":""},{"$f":"IF($AH85=\"\",\"\",INDEX($N$42:$P$641,$AH85,3))","v":""},{"$f":"IF(AH85=\"\",NA(),INDEX($D$41:$F$640,$AH85,1))","v":{"$error":"#N/A"}},null,{"$f":"IF(AH85=\"\",\"\",INDEX($D$41:$F$640,$AH85,3))","v":""},null,null,null,null,null,null,null,{"$f":"IF(AH85=\"\",\"\",INDEX($P$41:$P$640,$AH85,1))","v":""}]
[null,null,null,null,120,0.112,0.72899999999999998,0.33200000000000002,0,0.503,-2,-2,null,null,null,null,null,null,{"$f":"IF($AH86=\"\",\"\",INDEX($N$42:$P$641,$AH86,1))","v":""},{"$f":"IF($AH86=\"\",\"\",INDEX($N$42:$P$641,$AH86,2))","v":""},{"$f":"IF($AH86=\"\",\"\",INDEX($N$42:$P$641,$AH86,3))","v":""},{"$f":"IF(AH86=\"\",NA(),INDEX($D$41:$F$640,$AH86,1))","v":{"$error":"#N/A"}},null,{"$f":"IF(AH86=\"\",\"\",INDEX($D$41:$F$640,$AH86,3))","v":""},null,null,null,null,null,null,null,{"$f":"IF(AH86=\"\",\"\",INDEX($P$41:$P$640,$AH86,1))","v":""}]
[null,null,null,null,140,0.13700000000000001,0.67300000000000004,0.28299999999999997,0,0.45600000000000002,-2,-2,null,null,null,null,null,null,{"$f":"IF($AH87=\"\",\"\",INDEX($N$42:$P$641,$AH87,1))","v":""},{"$f":"IF($AH87=\"\",\"\",INDEX($N$42:$P$641,$AH87,2))","v":""},{"$f":"IF($AH87=\"\",\"\",INDEX($N$42:$P$641,$AH87,3))","v":""},{"$f":"IF(AH87=\"\",NA(),INDEX($D$41:$F$640,$AH87,1))","v":{"$error":"#N/A"}},null,{"$f":"IF(AH87=\"\",\"\",INDEX($D$41:$F$640,$AH87,3))","v":""},null,null,null,null,null,null,null,{"$f":"IF(AH87=\"\",\"\",INDEX($P$41:$P$640,$AH87,1))","v":""}]
[null,null,null,null,null,null,null,null,null,null,null,null,null,null,null,null,null,null,{"$f":"IF($AH88=\"\",\"\",INDEX($N$42:$P$641,$AH88,1))","v":""},{"$f":"IF($AH88=\"\",\"\",INDEX($N$42:$P$641,$AH88,2))","v":""},{"$f":"IF($AH88=\"\",\"\",INDEX($N$42:$P$641,$AH88,3))","v":""},{"$f":"IF(AH88=\"\",NA(),INDEX($D$41:$F$640,$AH88,1))","v":{"$error":"#N/A"}},null,{"$f":"IF(AH88=\"\",\"\",INDEX($D$41:$F$640,$AH88,3))","v":""},null,null,null,null,null,null,null,{"$f":"IF(AH88=\"\",\"\",INDEX($P$41:$P$640,$AH88,1))","v":""}]
[null,null,null,"G-ASA-5",null,"Generic-Silarylene-siloxane copolymer [c = -2.000]",null,null,null,null,null,null,null,null,null,null,null,null,{"$f":"IF($AH89=\"\",\"\",INDEX($N$42:$P$641,$AH89,1))","v":""},{"$f":"IF($AH89=\"\",\"\",INDEX($N$42:$P$641,$AH89,2))","v":""},{"$f":"IF($AH89=\"\",\"\",INDEX($N$42:$P$641,$AH89,3))","v":""},{"$f":"IF(AH89=\"\",NA(),INDEX($D$41:$F$640,$AH89,1))","v":{"$error":"#N/A"}},null,{"$f":"IF(AH89=\"\",\"\",INDEX($D$41:$F$640,$AH89,3))","v":""},null,null,null,null,null,null,null,{"$f":"IF(AH89=\"\",\"\",INDEX($P$41:$P$640,$AH89,1))","v":""}]
[null,null,null,null,60,-0.109,0.45800000000000002,0.39700000000000002,0,0.71699999999999997,-2,-2,"1)",{"$f":"SQRT(F90^2+G90^2+H90^2+I90^2+J90^2)","v":0.94516823899240288},{"$f":"ACOS(($C$6*F90+$D$6*G90+$E$6*H90+$F$6*I90+$G$6*J90)/($I$7*N90)-0.000001)*180/PI()","v":1.3165311801250072},{"$f":"SQRT(($C$7-F90/N90)^2+($D$7-G90/N90)^2+($E$7-H90/N90)^2+($F$7-I90/N90)^2+($G$7-J90/N90)^2)","v":2.2933735797090186E-2},null,null,{"$f":"SQRT(K90^2+L90^2+M90^2+N90^2+O90^2)","v":{"$error":"#VALUE!"}},{"$f":"ACOS(($C$6*K90+$D$6*L90+$E$6*M90+$F$6*N90+$G$6*O90)/($I$7*S90)-0.000001)*180/PI()","v":{"$error":"#VALUE!"}},{"$f":"SQRT(($C$7-K90/S90)^2+($D$7-L90/S90)^2+($E$7-M90/S90)^2+($F$7-N90/S90)^2+($G$7-O90/S90)^2)","v":{"$error":"#VALUE!"}},"Don't change this line (hidden formulas)"]
[null,null,null,null,80,-7.0000000000000007E-2,0.41899999999999998,0.35199999999999998,0,0.66100000000000003,-2,-2]
[null,null,null,null,100,-2.9000000000000001E-2,0.376,0.28799999999999998,0,0.60599999999999998,-2,-2]
[null,null,null,null,120,3.0000000000000001E-3,0.33900000000000002,0.247,0,0.55800000000000005,-2,-2]
[null,null,null,null,140,0.02,0.32,0.19700000000000001,0,0.502,-2,-2]
[]
[null,null,null,"G-PEG",null,"Generic Polyethyleneglycol [c = -2.000]"]
[null,null,null,null,60,0.217,1.6890000000000001,2.726,0,0.61,-2,-2,"1)",{"$f":"SQRT(F97^2+G97^2+H97^2+I97^2+J97^2)","v":3.2715418383386141},{"$f":"ACOS(($C$6*F97+$D$6*G97+$E$6*H97+$F$6*I97+$G$6*J97)/($I$7*N97)-0.000001)*180/PI()","v":43.87719031283337},{"$f":"SQRT(($C$7-F97/N97)^2+($D$7-G97/N97)^2+($E$7-H97/N97)^2+($F$7-I97/N97)^2+($G$7-J97/N97)^2)","v":0.74722406182580858}]
[null,null,null,null,80,0.22500000000000001,1.5680000000000001,2.4279999999999999,0,0.56000000000000005,-2,-2]
[null,null,null,null,100,0.23200000000000001,1.4419999999999999,2.16,0,0.50900000000000001,-2,-2]
[null,null,null,null,120,0.23899999999999999,1.327,1.929,0,0.46400000000000002,-2,-2]
[null,null,null,null,140,0.24299999999999999,1.2250000000000001,1.7170000000000001,0,0.42499999999999999,-2,-2]
["(ii) Poly(dimethyldiphenylsiloxane)"]
[null,null,null,"HP-5",null,"5 % diphenylsiloxane",null,null,null,null,null,null,null,0.25,0.1,1.6019220500498371E-3]
[null,null,null,null,60,-0.10299999999999999,0.432,0.375,0,0.70899999999999996,-2.372846153846154,-1.879,"1)",{"$f":"SQRT(F104^2+G104^2+H104^2+I104^2+J104^2)","v":0.91680914044309136},{"$f":"ACOS(($C$6*F104+$D$6*G104+$E$6*H104+$F$6*I104+$G$6*J104)/($I$7*N104)-0.000001)*180/PI()","v":8.102847521217231E-2},{"$f":"SQRT(($C$7-F104/N104)^2+($D$7-G104/N104)^2+($E$7-H104/N104)^2+($F$7-I104/N104)^2+($G$7-J104/N104)^2)","v":0}]
[null,null,null,null,80,-0.06,0.379,0.317,0,0.628,-2.372846153846154,-1.905]
[null,null,null,null,100,-3.3000000000000002E-2,0.34,0.254,0,0.55600000000000005,-2.372846153846154,-1.913]
[null,null,null,null,120,0,0.314,0.19,0,0.51200000000000001,-2.372846153846154,-1.9870000000000001]
[null,null,null,null,140,3.3000000000000002E-2,0.27300000000000002,0.16700000000000001,0,0.46,-2.372846153846154,-2.0009999999999999]
[null,null,null,null,160,1.7999999999999999E-2,0.26600000000000001,0.14199999999999999,0,0.40400000000000003,-2.372846153846154,-2.625]
[null,null,null,null,180,3.6999999999999998E-2,0.23699999999999999,0.129,0,0.36399999999999999,-2.372846153846154,-2.6280000000000001]
[null,null,null,null,200,6.4000000000000001E-2,0.214,0.108,0,0.32900000000000001,-2.372846153846154,-2.6349999999999998]
[null,null,null,null,220,6.9000000000000006E-2,0.20699999999999999,9.7000000000000003E-2,0,0.29499999999999998,-2.372846153846154,-2.6320000000000001]
[null,null,null,null,240,8.2000000000000003E-2,0.191,9.2999999999999999E-2,0,0.26700000000000002,-2.372846153846154,-2.629]
[null,null,null,null,260,9.0999999999999998E-2,0.2,0.112,0,0.246,-2.372846153846154,-2.6890000000000001]
[null,null,null,null,280,0.105,0.16200000000000001,0.112,0,0.22500000000000001,-2.372846153846154,-2.6789999999999998]
[null,null,null,null,300,0.10100000000000001,0.13700000000000001,0.10199999999999999,0,0.21,-2.372846153846154,-2.645]
[]
[null,null,null,"DB-5",null,"5 % diphenylsiloxane",null,null,null,null,null,null,null,0.25,1,1.6194068678459937E-2]
[null,null,null,null,80,-4.9000000000000002E-2,0.35399999999999998,0.26300000000000001,0,0.62,-1.9207999999999998,-1.85,"1)",{"$f":"SQRT(F119^2+G119^2+H119^2+I119^2+J119^2)","v":0.76242114346337486},{"$f":"ACOS(($C$6*F119+$D$6*G119+$E$6*H119+$F$6*I119+$G$6*J119)/($I$7*N119)-0.000001)*180/PI()","v":5.1441601645580795},{"$f":"SQRT(($C$7-F119/N119)^2+($D$7-G119/N119)^2+($E$7-H119/N119)^2+($F$7-I119/N119)^2+($G$7-J119/N119)^2)","v":8.9741237356939396E-2}]
[null,null,null,null,100,-1.9E-2,0.32,0.222,0,0.56000000000000005,-1.9207999999999998,-1.897]
[null,null,null,null,120,0,0.29399999999999998,0.17199999999999999,0,0.504,-1.9207999999999998,-1.923]
[null,null,null,null,140,2.8000000000000001E-2,0.26200000000000001,0.156,0,0.45700000000000002,-1.9207999999999998,-1.958]
[null,null,null,null,160,4.3999999999999997E-2,0.24399999999999999,0.13600000000000001,0,0.41399999999999998,-1.9207999999999998,-1.976]
[]
[null,null,null,"OV-5",null,"5 % diphenylsiloxane",null,null,null,null,null,null,null,0.53,1.5,1.1417604931425959E-2]
[null,null,null,null,60,-9.9000000000000005E-2,0.41099999999999998,0.39900000000000002,0,0.70399999999999996,-2.2733999999999996,-2.0710000000000002,"1)",{"$f":"SQRT(F126^2+G126^2+H126^2+I126^2+J126^2)","v":0.91298357049839618},{"$f":"ACOS(($C$6*F126+$D$6*G126+$E$6*H126+$F$6*I126+$G$6*J126)/($I$7*N126)-0.000001)*180/PI()","v":2.0246061157785089},{"$f":"SQRT(($C$7-F126/N126)^2+($D$7-G126/N126)^2+($E$7-H126/N126)^2+($F$7-I126/N126)^2+($G$7-J126/N126)^2)","v":3.5305891862329457E-2}]
[null,null,null,null,80,-5.3999999999999999E-2,0.36,0.33,0,0.63,-2.2733999999999996,-2.1120000000000001]
[null,null,null,null,100,-2.1999999999999999E-2,0.33,0.25800000000000001,0,0.57099999999999995,-2.2733999999999996,-2.169]
[null,null,null,null,120,0,0.30299999999999999,0.22500000000000001,0,0.51600000000000001,-2.2733999999999996,-2.2090000000000001]
[null,null,null,null,140,2.9000000000000001E-2,0.27400000000000002,0.186,0,0.46700000000000003,-2.2733999999999996,-2.2429999999999999]
[null,null,null,null,60,-0.1,0.436,0.39200000000000002,0,0.70599999999999996,-2.2733999999999996,-2.2810000000000001]
[null,null,null,null,80,-5.6000000000000001E-2,0.39500000000000002,0.308,0,0.63800000000000001,-2.2733999999999996,-2.351]
[null,null,null,null,100,-2.3E-2,0.34899999999999998,0.26,0,0.57299999999999995,-2.2733999999999996,-2.383]
[null,null,null,null,120,0,0.33,0.21099999999999999,0,0.52,-2.2733999999999996,-2.4390000000000001]
[null,null,null,null,140,2.1000000000000001E-2,0.29499999999999998,0.185,0,0.47299999999999998,-2.2733999999999996,-2.476]
[]
[null,null,null,"PTE-5",null,"5 % diphenylsiloxane",null,null,null,null,null,null,null,0.25,0.25,4.0120320801924486E-3]
[null,null,null,null,60,-8.5000000000000006E-2,0.40400000000000003,0.38100000000000001,0,0.69599999999999995,-2.5287999999999999,-2.4239999999999999,"1)",{"$f":"SQRT(F138^2+G138^2+H138^2+I138^2+J138^2)","v":0.89443725324921475},{"$f":"ACOS(($C$6*F138+$D$6*G138+$E$6*H138+$F$6*I138+$G$6*J138)/($I$7*N138)-0.000001)*180/PI()","v":1.8054081465708369},{"$f":"SQRT(($C$7-F138/N138)^2+($D$7-G138/N138)^2+($E$7-H138/N138)^2+($F$7-I138/N138)^2+($G$7-J138/N138)^2)","v":3.1477259957632647E-2}]
[null,null,null,null,80,-5.2999999999999999E-2,0.36699999999999999,0.32100000000000001,0,0.63,-2.5287999999999999,-2.4969999999999999]
[null,null,null,null,100,-2.3E-2,0.32500000000000001,0.255,0,0.56999999999999995,-2.5287999999999999,-2.544]
[null,null,null,null,120,0,0.30299999999999999,0.21299999999999999,0,0.51100000000000001,-2.5287999999999999,-2.5630000000000002]
[null,null,null,null,140,0.02,0.27800000000000002,0.185,0,0.46700000000000003,-2.5287999999999999,-2.6160000000000001]
[]
[null,null,null,"Rtx-20",null,"20 % diphenylsiloxane",null,null,null,null,null,null,null,0.25,0.5,8.0482572861728038E-3]
[null,null,null,null,60,-8.2000000000000003E-2,0.71099999999999997,0.41899999999999998,0,0.7,-2.4178000000000002,-2.2530000000000001,"1)",{"$f":"SQRT(F145^2+G145^2+H145^2+I145^2+J145^2)","v":1.0852677089087281},{"$f":"ACOS(($C$6*F145+$D$6*G145+$E$6*H145+$F$6*I145+$G$6*J145)/($I$7*N145)-0.000001)*180/PI()","v":13.117232643632319},{"$f":"SQRT(($C$7-F145/N145)^2+($D$7-G145/N145)^2+($E$7-H145/N145)^2+($F$7-I145/N145)^2+($G$7-J145/N145)^2)","v":0.22843487415056846}]
[null,null,null,null,80,-3.4000000000000002E-2,0.63900000000000001,0.36,0,0.64,-2.4178000000000002,-2.3479999999999999]
[null,null,null,null,100,0,0.58699999999999997,0.30499999999999999,0,0.58699999999999997,-2.4178000000000002,-2.4319999999999999]
[null,null,null,null,120,3.4000000000000002E-2,0.53800000000000003,0.26300000000000001,0,0.54,-2.4178000000000002,-2.5049999999999999]
[null,null,null,null,140,6.9000000000000006E-2,0.49,0.221,0,0.49299999999999999,-2.4178000000000002,-2.5510000000000002]
[]
[null,null,null,"DB-35",null,"35 % diphenylsiloxane",null,null,null,null,null,null,null,0.25,0.5,8.0482572861728038E-3]
[null,null,null,null,60,0,0.82199999999999995,0.44600000000000001,0,0.68,-2.4346000000000001,-2.2629999999999999,"1)",{"$f":"SQRT(F152^2+G152^2+H152^2+I152^2+J152^2)","v":1.1562871615649808},{"$f":"ACOS(($C$6*F152+$D$6*G152+$E$6*H152+$F$6*I152+$G$6*J152)/($I$7*N152)-0.000001)*180/PI()","v":18.64253095803728},{"$f":"SQRT(($C$7-F152/N152)^2+($D$7-G152/N152)^2+($E$7-H152/N152)^2+($F$7-I152/N152)^2+($G$7-J152/N152)^2)","v":0.32393708110479819}]
[null,null,null,null,80,0,0.76,0.40300000000000002,0,0.625,-2.4346000000000001,-2.363]
[null,null,null,null,100,5.0999999999999997E-2,0.69099999999999995,0.35,0,0.57399999999999995,-2.4346000000000001,-2.452]
[null,null,null,null,120,8.4000000000000005E-2,0.63100000000000001,0.30199999999999999,0,0.52700000000000002,-2.4346000000000001,-2.5219999999999998]
[null,null,null,null,140,0.11600000000000001,0.57799999999999996,0.26200000000000001,0,0.48199999999999998,-2.4346000000000001,-2.573]
[]
[null,null,null,"Rxi-17",null,"50 % diphenylsiloxane",null,null,null,null,null,null,null,0.25,0.5,8.0482572861728038E-3]
[null,null,null,null,60,0,0.95799999999999996,0.60899999999999999,0,0.68200000000000005,-2.6173999999999999,-2.3530000000000002,"1)",{"$f":"SQRT(F159^2+G159^2+H159^2+I159^2+J159^2)","v":1.3242994374385273},{"$f":"ACOS(($C$6*F159+$D$6*G159+$E$6*H159+$F$6*I159+$G$6*J159)/($I$7*N159)-0.000001)*180/PI()","v":21.994177849935042},{"$f":"SQRT(($C$7-F159/N159)^2+($D$7-G159/N159)^2+($E$7-H159/N159)^2+($F$7-I159/N159)^2+($G$7-J159/N159)^2)","v":0.38151562042313625}]
[null,null,null,null,80,4.2999999999999997E-2,0.90400000000000003,0.51100000000000001,0,0.63800000000000001,-2.6173999999999999,-2.5449999999999999]
[null,null,null,null,100,8.1000000000000003E-2,0.85,0.41599999999999998,0,0.59299999999999997,-2.6173999999999999,-2.669]
[null,null,null,null,120,0.113,0.79300000000000004,0.34699999999999998,0,0.55000000000000004,-2.6173999999999999,-2.77]
[null,null,null,null,140,0.14799999999999999,0.70699999999999996,0.30599999999999999,0,0.49299999999999999,-2.6173999999999999,-2.75]
[]
[null,null,null,"Rxi-17-240",null,"50% poly(dimethyldiphenylsiloxane) Extended temperature range",null,null,null,null,null,null,"2)"]
[null,null,null,null,60,4.5999999999999999E-2,0.95099999999999996,0.61699999999999999,5.7000000000000002E-2,0.69399999999999995,-2.6196000000000002,-2.4289999999999998,null,{"$f":"SQRT(F166^2+G166^2+H166^2+I166^2+J166^2)","v":1.3311990835333383},{"$f":"ACOS(($C$6*F166+$D$6*G166+$E$6*H166+$F$6*I166+$G$6*J166)/($I$7*N166)-0.000001)*180/PI()","v":22.258331150832035},{"$f":"SQRT(($C$7-F166/N166)^2+($D$7-G166/N166)^2+($E$7-H166/N166)^2+($F$7-I166/N166)^2+($G$7-J166/N166)^2)","v":0.38604031797763344}]
[null,null,null,null,80,5.0999999999999997E-2,0.90700000000000003,0.46300000000000002,2.5999999999999999E-2,0.64100000000000001,-2.6196000000000002,-2.556]
[null,null,null,null,100,0.108,0.82299999999999995,0.38100000000000001,6.3E-2,0.6,-2.6196000000000002,-2.7080000000000002]
[null,null,null,null,120,0.14000000000000001,0.75900000000000001,0.317,0.05,0.55300000000000005,-2.6196000000000002,-2.78]
[null,null,null,null,140,0.183,0.67800000000000005,0.27500000000000002,7.0999999999999994E-2,0.503,-2.6196000000000002,-2.8050000000000002]
[null,null,null,null,160,0.18,0.51200000000000001,0.26900000000000002,0.10199999999999999,0.39800000000000002,-2.6196000000000002,-2.4910000000000001]
[null,null,null,null,180,0.19900000000000001,0.49099999999999999,0.24399999999999999,8.8999999999999996E-2,0.36799999999999999,-2.6196000000000002,-2.5710000000000002]
[null,null,null,null,200,0.20399999999999999,0.45700000000000002,0.22700000000000001,8.2000000000000003E-2,0.34200000000000003,-2.6196000000000002,-2.6320000000000001]
[null,null,null,null,220,0.2,0.432,0.20799999999999999,4.9000000000000002E-2,0.307,-2.6196000000000002,-2.5950000000000002]
[null,null,null,null,240,0.19900000000000001,0.41299999999999998,0.19800000000000001,2.1000000000000001E-2,0.28399999999999997,-2.6196000000000002,-2.629]
[null,null,"DB-65 ?","Rtx-65",null,"65 % diphenylsiloxane"]
[null,null,null,null,60,0,1.069,0.51700000000000002,0,0.66800000000000004,-2.7145999999999999,-2.5219999999999998,"1)",{"$f":"SQRT(F177^2+G177^2+H177^2+I177^2+J177^2)","v":1.362451467025523},{"$f":"ACOS(($C$6*F177+$D$6*G177+$E$6*H177+$F$6*I177+$G$6*J177)/($I$7*N177)-0.000001)*180/PI()","v":25.300317371643271},{"$f":"SQRT(($C$7-F177/N177)^2+($D$7-G177/N177)^2+($E$7-H177/N177)^2+($F$7-I177/N177)^2+($G$7-J177/N177)^2)","v":0.43799273410702966}]
[null,null,null,null,80,5.5E-2,0.96499999999999997,0.47,0,0.61199999999999999,-2.7145999999999999,-2.62]
[null,null,null,null,100,9.7000000000000003E-2,0.88600000000000001,0.41499999999999998,0,0.56499999999999995,-2.7145999999999999,-2.7210000000000001]
[null,null,null,null,120,0.129,0.82799999999999996,0.36499999999999999,0,0.52100000000000002,-2.7145999999999999,-2.8109999999999999]
[null,null,null,null,140,0.16700000000000001,0.76600000000000001,0.32900000000000001,0,0.48399999999999999,-2.7145999999999999,-2.899]
["(iii) Poly(methylphenylsiloxane)"]
[null,null,null,"Rtx-50",null,"(iii) Poly(methylphenylsiloxane)",null,null,null,null,null,null,null,0.25,0.5,8.0482572861728038E-3]
[null,null,null,null,60,-2.9000000000000001E-2,1.0189999999999999,0.501,0,0.67100000000000004,-2.4984000000000002,-2.3130000000000002,"1)",{"$f":"SQRT(F184^2+G184^2+H184^2+I184^2+J184^2)","v":1.3192588828580993},{"$f":"ACOS(($C$6*F184+$D$6*G184+$E$6*H184+$F$6*I184+$G$6*J184)/($I$7*N184)-0.000001)*180/PI()","v":23.781657274890808},{"$f":"SQRT(($C$7-F184/N184)^2+($D$7-G184/N184)^2+($E$7-H184/N184)^2+($F$7-I184/N184)^2+($G$7-J184/N184)^2)","v":0.41209267808657868}]
[null,null,null,null,80,0,0.94499999999999995,0.46300000000000002,0,0.621,-2.4984000000000002,-2.444]
[null,null,null,null,100,0.06,0.85099999999999998,0.39900000000000002,0,0.56999999999999995,-2.4984000000000002,-2.5230000000000001]
[null,null,null,null,120,9.8000000000000004E-2,0.77800000000000002,0.35499999999999998,0,0.52100000000000002,-2.4984000000000002,-2.5790000000000002]
[null,null,null,null,140,0.127,0.72099999999999997,0.31,0,0.47699999999999998,-2.4984000000000002,-2.633]
[]
[null,null,null,"Rxi-50",null,"(iii) Poly(methylphenylsiloxane)",null,null,null,null,null,null,null,0.25,0.5,8.0482572861728038E-3]
[null,null,null,null,60,0,0.98,0.52200000000000002,0,0.67500000000000004,-2.1482000000000001,-2.0710000000000002,"1)",{"$f":"SQRT(F191^2+G191^2+H191^2+I191^2+J191^2)","v":1.299426411921814},{"$f":"ACOS(($C$6*F191+$D$6*G191+$E$6*H191+$F$6*I191+$G$6*J191)/($I$7*N191)-0.000001)*180/PI()","v":22.868874191114163},{"$f":"SQRT(($C$7-F191/N191)^2+($D$7-G191/N191)^2+($E$7-H191/N191)^2+($F$7-I191/N191)^2+($G$7-J191/N191)^2)","v":0.39649045291327323}]
[null,null,null,null,80,4.5999999999999999E-2,0.878,0.44700000000000001,0,0.60599999999999998,-2.1482000000000001,-2.1120000000000001]
[null,null,null,null,100,7.8E-2,0.80400000000000005,0.38500000000000001,0,0.55200000000000005,-2.1482000000000001,-2.1709999999999998]
[null,null,null,null,120,0.11,0.72399999999999998,0.33200000000000002,0,0.496,-2.1482000000000001,-2.1840000000000002]
[null,null,null,null,140,0.13700000000000001,0.65700000000000003,0.29099999999999998,0,0.44900000000000001,-2.1482000000000001,-2.2029999999999998]
[]
[null,null,null,"Rxi-50-240",null,"50% poly(dimethyldiphenylsiloxane) Extended temperature range",null,null,null,null,null,null,null,0.32,0.5,6.2794194239443402E-3]
[null,null,null,null,60,-2.5000000000000001E-2,1.02,0.48399999999999999,0,0.67800000000000005,-2.3253000000000004,-2.3450000000000002,"3)",{"$f":"SQRT(F198^2+G198^2+H198^2+I198^2+J198^2)","v":1.3171807013466299},{"$f":"ACOS(($C$6*F198+$D$6*G198+$E$6*H198+$F$6*I198+$G$6*J198)/($I$7*N198)-0.000001)*180/PI()","v":23.740264583946075},{"$f":"SQRT(($C$7-F198/N198)^2+($D$7-G198/N198)^2+($E$7-H198/N198)^2+($F$7-I198/N198)^2+($G$7-J198/N198)^2)","v":0.41138571040875804}]
[null,null,null,null,80,1.7000000000000001E-2,0.93600000000000005,0.434,0,0.621,-2.3253000000000004,-2.4449999999999998]
[null,null,null,null,100,5.3999999999999999E-2,0.85099999999999998,0.377,0,0.56599999999999995,-2.3253000000000004,-2.5089999999999999]
[null,null,null,null,120,8.5000000000000006E-2,0.78700000000000003,0.33100000000000002,0,0.52200000000000002,-2.3253000000000004,-2.5819999999999999]
[null,null,null,null,140,0.111,0.73199999999999998,0.28499999999999998,0,0.48299999999999998,-2.3253000000000004,-2.6520000000000001]
[null,null,null,null,160,0.155,0.54300000000000004,0.26800000000000002,9.4E-2,0.39200000000000002,-2.3253000000000004,-2.1389999999999998]
[null,null,null,null,180,0.17699999999999999,0.49099999999999999,0.23899999999999999,8.5000000000000006E-2,0.35499999999999998,-2.3253000000000004,-2.149]
[null,null,null,null,200,0.183,0.45400000000000001,0.222,6.3E-2,0.32100000000000001,-2.3253000000000004,-2.1429999999999998]
[null,null,null,null,220,0.185,0.42499999999999999,0.20599999999999999,4.2999999999999997E-2,0.29099999999999998,-2.3253000000000004,-2.141]
[null,null,null,null,240,0.188,0.39300000000000002,0.19400000000000001,2.3E-2,0.26700000000000002,-2.3253000000000004,-2.1480000000000001]
[null,null,null,"HP-50+",null,"(iii) Poly(methylphenylsiloxane)"]
[null,null,null,null,60,6.2E-2,0.90700000000000003,0.52600000000000002,0,0.66100000000000003,-2.5332000000000003,-2.4380000000000002,"1)",{"$f":"SQRT(F209^2+G209^2+H209^2+I209^2+J209^2)","v":1.24100362610268},{"$f":"ACOS(($C$6*F209+$D$6*G209+$E$6*H209+$F$6*I209+$G$6*J209)/($I$7*N209)-0.000001)*180/PI()","v":22.476369816546139},{"$f":"SQRT(($C$7-F209/N209)^2+($D$7-G209/N209)^2+($E$7-H209/N209)^2+($F$7-I209/N209)^2+($G$7-J209/N209)^2)","v":0.38977357027260706}]
[null,null,null,null,80,9.1999999999999998E-2,0.81699999999999995,0.42699999999999999,0,0.59499999999999997,-2.5332000000000003,-2.4830000000000001]
[null,null,null,null,100,0.105,0.75900000000000001,0.35899999999999999,0,0.54700000000000004,-2.5332000000000003,-2.5870000000000002]
[null,null,null,null,120,0.129,0.68400000000000005,0.31,0,0.49099999999999999,-2.5332000000000003,-2.5720000000000001]
[null,null,null,null,140,0.14699999999999999,0.64,0.248,0,0.442,-2.5332000000000003,-2.5859999999999999]
["(iv) Silarylene-siloxane and similar copolymers"]
[null,null,null,"DB-5ms",null,"5 % 1,4-bis(dimethylsiloxane)phenylene",null,null,null,null,null,null,null,0.25,1,1.6194068678459937E-2]
[null,null,null,null,60,-0.10199999999999999,0.44400000000000001,0.375,0,0.70899999999999996,-2.0452000000000004,-1.89,"1)",{"$f":"SQRT(F216^2+G216^2+H216^2+I216^2+J216^2)","v":0.92241313954214676},{"$f":"ACOS(($C$6*F216+$D$6*G216+$E$6*H216+$F$6*I216+$G$6*J216)/($I$7*N216)-0.000001)*180/PI()","v":0.66897857458297993},{"$f":"SQRT(($C$7-F216/N216)^2+($D$7-G216/N216)^2+($E$7-H216/N216)^2+($F$7-I216/N216)^2+($G$7-J216/N216)^2)","v":1.1589848829829207E-2}]
[null,null,null,null,80,-6.2E-2,0.39600000000000002,0.318,0,0.65100000000000002,-2.0452000000000004,-2.0030000000000001]
[null,null,null,null,100,-2.1999999999999999E-2,0.35499999999999998,0.26600000000000001,0,0.59099999999999997,-2.0452000000000004,-2.0489999999999999]
[null,null,null,null,120,0.01,0.31900000000000001,0.217,0,0.54100000000000004,-2.0452000000000004,-2.1150000000000002]
[null,null,null,null,140,3.5999999999999997E-2,0.28799999999999998,0.182,0,0.497,-2.0452000000000004,-2.169]
[]
[null,null,null,"ZB-5MS",null,"(iv) Silarylene-siloxane and similar copolymers",null,null,null,null,null,null,null,0.25,0.5,8.0482572861728038E-3]
[null,null,null,null,60,-9.7000000000000003E-2,0.441,0.38500000000000001,0,0.70399999999999996,-2.3226000000000004,-2.1829999999999998,"1)",{"$f":"SQRT(F223^2+G223^2+H223^2+I223^2+J223^2)","v":0.92072308540624748},{"$f":"ACOS(($C$6*F223+$D$6*G223+$E$6*H223+$F$6*I223+$G$6*J223)/($I$7*N223)-0.000001)*180/PI()","v":0.94241544494112695},{"$f":"SQRT(($C$7-F223/N223)^2+($D$7-G223/N223)^2+($E$7-H223/N223)^2+($F$7-I223/N223)^2+($G$7-J223/N223)^2)","v":1.6387156821694941E-2}]
[null,null,null,null,80,-5.3999999999999999E-2,0.39500000000000002,0.317,0,0.64,-2.3226000000000004,-2.3620000000000001]
[null,null,null,null,100,-2.5000000000000001E-2,0.35599999999999998,0.26400000000000001,0,0.58099999999999996,-2.3226000000000004,-2.3199999999999998]
[null,null,null,null,120,0,0.32600000000000001,0.22900000000000001,0,0.52600000000000002,-2.3226000000000004,-2.3610000000000002]
[null,null,null,null,140,2.9000000000000001E-2,0.29199999999999998,0.186,0,0.47699999999999998,-2.3226000000000004,-2.387]
[]
[null,null,null,"HP-5TA",null,"(iv) Silarylene-siloxane and similar copolymers",null,null,null,null,null,null,null,0.25,0.1,1.6019220500498371E-3]
[null,null,null,null,60,-0.11600000000000001,0.45600000000000002,0.43099999999999999,0,0.73399999999999999,-2.8328000000000002,-2.6080000000000001,"1)",{"$f":"SQRT(F230^2+G230^2+H230^2+I230^2+J230^2)","v":0.97257853153357232},{"$f":"ACOS(($C$6*F230+$D$6*G230+$E$6*H230+$F$6*I230+$G$6*J230)/($I$7*N230)-0.000001)*180/PI()","v":2.2684758881242848},{"$f":"SQRT(($C$7-F230/N230)^2+($D$7-G230/N230)^2+($E$7-H230/N230)^2+($F$7-I230/N230)^2+($G$7-J230/N230)^2)","v":3.9564520228780403E-2}]
[null,null,null,null,80,-7.1999999999999995E-2,0.41099999999999998,0.371,0,0.67700000000000005,-2.8328000000000002,-2.742]
[null,null,null,null,100,-2.9000000000000001E-2,0.379,0.32,0,0.626,-2.8328000000000002,-2.8570000000000002]
[null,null,null,null,120,0,0.35199999999999998,0.28599999999999998,0,0.58099999999999996,-2.8328000000000002,-2.964]
[null,null,null,null,140,0,0.35599999999999998,0.218,0,0.52800000000000002,-2.8328000000000002,-2.9929999999999999]
[]
[null,null,null,"Rxi-5Sil MS",null,"(iv) Silarylene-siloxane and similar copolymers",null,null,null,null,null,null,null,0.25,0.5,8.0482572861728038E-3]
[null,null,null,null,60,-0.12,0.49099999999999999,0.55000000000000004,0,0.72699999999999998,-2.4355384615384614,-2.2570000000000001,"1)",{"$f":"SQRT(F237^2+G237^2+H237^2+I237^2+J237^2)","v":1.0423579039849988},{"$f":"ACOS(($C$6*F237+$D$6*G237+$E$6*H237+$F$6*I237+$G$6*J237)/($I$7*N237)-0.000001)*180/PI()","v":8.0767276215637178},{"$f":"SQRT(($C$7-F237/N237)^2+($D$7-G237/N237)^2+($E$7-H237/N237)^2+($F$7-I237/N237)^2+($G$7-J237/N237)^2)","v":0.14084170364605142}]
[null,null,null,null,80,-0.09,0.47499999999999998,0.39900000000000002,0,0.67700000000000005,-2.4355384615384614,-2.4319999999999999]
[null,null,null,null,100,-3.7999999999999999E-2,0.41299999999999998,0.30199999999999999,0,0.626,-2.4355384615384614,-2.5259999999999998]
[null,null,null,null,120,0,0.35899999999999999,0.255,0,0.58399999999999996,-2.4355384615384614,-2.6429999999999998]
[null,null,null,null,140,1.7999999999999999E-2,0.34499999999999997,0.20200000000000001,0,0.50800000000000001,-2.4355384615384614,-2.5579999999999998]
[null,null,null,null,160,2.9000000000000001E-2,0.27100000000000002,0.17799999999999999,0,0.42399999999999999,-2.4355384615384614,-2.3959999999999999]
[null,null,null,null,180,4.9000000000000002E-2,0.24399999999999999,0.153,0,0.39200000000000002,-2.4355384615384614,-2.456]
[null,null,null,null,200,7.3999999999999996E-2,0.219,0.11600000000000001,0,0.34699999999999998,-2.4355384615384614,-2.4209999999999998]
[null,null,null,null,220,8.1000000000000003E-2,0.21099999999999999,9.9000000000000005E-2,0,0.316,-2.4355384615384614,-2.4390000000000001]
[null,null,null,null,240,8.6999999999999994E-2,0.19800000000000001,9.9000000000000005E-2,0,0.28799999999999998,-2.4355384615384614,-2.452]
[null,null,null,null,260,9.8000000000000004E-2,0.17100000000000001,0.105,0,0.254,-2.4355384615384614,-2.3780000000000001]
[null,null,null,null,280,0.1,0.154,0.113,0,0.22900000000000001,-2.4355384615384614,-2.3519999999999999]
[null,null,null,null,300,0.111,0.13500000000000001,0.108,0,0.20799999999999999,-2.4355384615384614,-2.3519999999999999]
[]
[null,null,null,"DB-35ms",null,"35 % 1,4-bis(dimethylsiloxane)phenylene",null,null,null,null,null,null,null,0.25,0.5,8.0482572861728038E-3]
[null,null,null,null,60,-5.8000000000000003E-2,0.9,0.47699999999999998,0,0.71599999999999997,-2.9219999999999997,-2.762,"1)",{"$f":"SQRT(F252^2+G252^2+H252^2+I252^2+J252^2)","v":1.2464144575541476},{"$f":"ACOS(($C$6*F252+$D$6*G252+$E$6*H252+$F$6*I252+$G$6*J252)/($I$7*N252)-0.000001)*180/PI()","v":18.872543498650277},{"$f":"SQRT(($C$7-F252/N252)^2+($D$7-G252/N252)^2+($E$7-H252/N252)^2+($F$7-I252/N252)^2+($G$7-J252/N252)^2)","v":0.32789793083749402}]
[null,null,null,null,80,0,0.81599999999999995,0.40799999999999997,0,0.65700000000000003,-2.9219999999999997,-2.8679999999999999]
[null,null,null,null,100,4.2999999999999997E-2,0.74399999999999999,0.35599999999999998,0,0.60299999999999998,-2.9219999999999997,-2.9529999999999998]
[null,null,null,null,120,7.6999999999999999E-2,0.67800000000000005,0.318,0,0.55500000000000005,-2.9219999999999997,-3.0179999999999998]
[null,null,null,null,140,0.11899999999999999,0.59399999999999997,0.27400000000000002,0,0.5,-2.9219999999999997,-3.0089999999999999]
[]
[null,null,null,"DB-17ms",null,"50 % 1,4-bis(dimethylsiloxane)phenylene",null,null,null,null,null,null,null,0.25,0.25,4.0120320801924486E-3]
[null,null,null,null,60,0,1.026,0.51300000000000001,0,0.70099999999999996,-3.0356000000000001,-2.8340000000000001,"1)",{"$f":"SQRT(F259^2+G259^2+H259^2+I259^2+J259^2)","v":1.3443384990395835},{"$f":"ACOS(($C$6*F259+$D$6*G259+$E$6*H259+$F$6*I259+$G$6*J259)/($I$7*N259)-0.000001)*180/PI()","v":23.226090697247876},{"$f":"SQRT(($C$7-F259/N259)^2+($D$7-G259/N259)^2+($E$7-H259/N259)^2+($F$7-I259/N259)^2+($G$7-J259/N259)^2)","v":0.40259941579499514}]
[null,null,null,null,80,5.0999999999999997E-2,0.92800000000000005,0.438,0,0.64600000000000002,-3.0356000000000001,-2.956]
[null,null,null,null,100,9.7000000000000003E-2,0.84299999999999997,0.39100000000000001,0,0.59699999999999998,-3.0356000000000001,-3.0550000000000002]
[null,null,null,null,120,0.14699999999999999,0.75900000000000001,0.35799999999999998,0,0.54800000000000004,-3.0356000000000001,-3.12]
[null,null,null,null,140,0.17699999999999999,0.69199999999999995,0.33900000000000002,0,0.51300000000000001,-3.0356000000000001,-3.2130000000000001]
[]
[null,null,null,"Stx-500",null,"Carborane-siloxane copolymer containing 5 % phenyl",null,null,null,null,null,null,null,0.25,0.15,2.4043269223830068E-3]
[null,null,null,null,60,-0.17899999999999999,0.65200000000000002,0.26,0,0.73499999999999999,-3.0032000000000001,-2.8210000000000002,"1)",{"$f":"SQRT(F266^2+G266^2+H266^2+I266^2+J266^2)","v":1.0319738368776603},{"$f":"ACOS(($C$6*F266+$D$6*G266+$E$6*H266+$F$6*I266+$G$6*J266)/($I$7*N266)-0.000001)*180/PI()","v":13.824723667449746},{"$f":"SQRT(($C$7-F266/N266)^2+($D$7-G266/N266)^2+($E$7-H266/N266)^2+($F$7-I266/N266)^2+($G$7-J266/N266)^2)","v":0.24069790164912142}]
[null,null,null,null,80,-0.122,0.60299999999999998,0.21,0,0.68100000000000005,-3.0032000000000001,-2.968]
[null,null,null,null,100,-7.1999999999999995E-2,0.54800000000000004,0.152,0,0.61499999999999999,-3.0032000000000001,-3.0059999999999998]
[null,null,null,null,120,0,0.49,0.14199999999999999,0,0.56599999999999995,-3.0032000000000001,-3.093]
[null,null,null,null,140,0,0.47799999999999998,0.12,0,0.51700000000000002,-3.0032000000000001,-3.1280000000000001]
["(v) Poly(dimethylmethyltrifluoropropylsiloxane)"]
[null,null,null,"DB-200",null,"35 % 3,3,3-trifluoropropylmethylsiloxane",null,null,null,null,null,null,null,0.25,0.5,8.0482572861728038E-3]
[null,null,null,null,60,-0.53800000000000003,1.3160000000000001,0.315,0,0.61399999999999999,-2.44,-2.2839999999999998,"1)",{"$f":"SQRT(F273^2+G273^2+H273^2+I273^2+J273^2)","v":1.5803547070199147},{"$f":"ACOS(($C$6*F273+$D$6*G273+$E$6*H273+$F$6*I273+$G$6*J273)/($I$7*N273)-0.000001)*180/PI()","v":35.64839607950131},{"$f":"SQRT(($C$7-F273/N273)^2+($D$7-G273/N273)^2+($E$7-H273/N273)^2+($F$7-I273/N273)^2+($G$7-J273/N273)^2)","v":0.61219315792896745}]
[null,null,null,null,80,-0.437,1.206,0.255,0,0.55900000000000005,-2.44,-2.3759999999999999]
[null,null,null,null,100,-0.36799999999999999,1.111,0.22600000000000001,0,0.50800000000000001,-2.44,-2.4590000000000001]
[null,null,null,null,120,-0.309,1.018,0.17799999999999999,0,0.46400000000000002,-2.44,-2.52]
[null,null,null,null,140,-0.26,0.94399999999999995,0.105,0,0.42099999999999999,-2.44,-2.5609999999999999]
[]
[null,null,null,"DB-210",null,"50 % 3,3,3-trifluoropropylmethylsiloxane",null,null,null,null,null,null,null,0.32,0.25,3.1323395073973664E-3]
[null,null,null,null,60,-0.56399999999999995,1.448,0.29899999999999999,0,0.54400000000000004,-2.4314999999999998,-2.133,"1)",{"$f":"SQRT(F280^2+G280^2+H280^2+I280^2+J280^2)","v":1.6733609891472909},{"$f":"ACOS(($C$6*F280+$D$6*G280+$E$6*H280+$F$6*I280+$G$6*J280)/($I$7*N280)-0.000001)*180/PI()","v":39.637334705376141},{"$f":"SQRT(($C$7-F280/N280)^2+($D$7-G280/N280)^2+($E$7-H280/N280)^2+($F$7-I280/N280)^2+($G$7-J280/N280)^2)","v":0.67808742043119219}]
[null,null,null,null,80,-0.438,1.369,0.214,0,0.502,-2.4314999999999998,-2.3140000000000001]
[null,null,null,null,100,-0.40300000000000002,1.327,0.17699999999999999,0,0.46,-2.4314999999999998,-2.452]
[null,null,null,null,120,-0.378,1.26,0.154,0,0.432,-2.4314999999999998,-2.5979999999999999]
[null,null,null,null,140,-0.39200000000000002,1.2390000000000001,0.128,0,0.41599999999999998,-2.4314999999999998,-2.7829999999999999]
[null,null,null,null,320,0.111,0.123,0.13600000000000001,0,0.187,-2.4314999999999998,-2.3090000000000002]
["Proprietary  and special columns"]
[null,null,null,"DB-XLB",null,"Proprietary (similar to DB-5 ms but more dipolar/polarizable)",null,null,null,null,null,null,null,0.25,0.5,8.0482572861728038E-3]
[null,null,null,null,60,-0.125,0.56200000000000006,0.39900000000000002,0,0.73,-2.4484000000000004,-2.3069999999999999,"1)",{"$f":"SQRT(F288^2+G288^2+H288^2+I288^2+J288^2)","v":1.0117163634141735},{"$f":"ACOS(($C$6*F288+$D$6*G288+$E$6*H288+$F$6*I288+$G$6*J288)/($I$7*N288)-0.000001)*180/PI()","v":5.7689476159484014},{"$f":"SQRT(($C$7-F288/N288)^2+($D$7-G288/N288)^2+($E$7-H288/N288)^2+($F$7-I288/N288)^2+($G$7-J288/N288)^2)","v":0.10063466772498603}]
[null,null,null,null,80,-6.5000000000000002E-2,0.498,0.33500000000000002,0,0.66800000000000004,-2.4484000000000004,-2.403]
[null,null,null,null,100,-2.5000000000000001E-2,0.44600000000000001,0.28100000000000003,0,0.60799999999999998,-2.4484000000000004,-2.4620000000000002]
[null,null,null,null,120,1.2E-2,0.40200000000000002,0.24299999999999999,0,0.55500000000000005,-2.4484000000000004,-2.5139999999999998]
[null,null,null,null,140,0.04,0.36699999999999999,0.20599999999999999,0,0.50800000000000001,-2.4484000000000004,-2.556]
[]
[null,null,null,"DB-VRX",null,"Proprietary (similar to DB-5)",null,null,null,null,null,null,null,0.25,0.5,8.0482572861728038E-3]
[null,null,null,null,60,-9.5000000000000001E-2,0.40500000000000003,0.251,0,0.69299999999999995,-1.8246000000000002,-1.6719999999999999,"1)",{"$f":"SQRT(F295^2+G295^2+H295^2+I295^2+J295^2)","v":0.84634508328459024},{"$f":"ACOS(($C$6*F295+$D$6*G295+$E$6*H295+$F$6*I295+$G$6*J295)/($I$7*N295)-0.000001)*180/PI()","v":6.9677942606856957},{"$f":"SQRT(($C$7-F295/N295)^2+($D$7-G295/N295)^2+($E$7-H295/N295)^2+($F$7-I295/N295)^2+($G$7-J295/N295)^2)","v":0.12152779819713018}]
[null,null,null,null,80,-4.8000000000000001E-2,0.36599999999999999,0.217,0,0.629,-1.8246000000000002,-1.7569999999999999]
[null,null,null,null,100,0,0.32400000000000001,0.19600000000000001,0,0.57499999999999996,-1.8246000000000002,-1.837]
[null,null,null,null,120,0,0.308,0.16900000000000001,0,0.52800000000000002,-1.8246000000000002,-1.905]
[null,null,null,null,140,3.2000000000000001E-2,0.27800000000000002,0.14099999999999999,0,0.48199999999999998,-1.8246000000000002,-1.952]
[]
[null,null,null,"Rtx-440",null,"Proprietary (for non-hydrogen-bond acids similar to DB-XLB)",null,null,null,null,null,null,null,0.25,0.5,8.0482572861728038E-3]
[null,null,null,null,60,-0.113,0.56399999999999995,0.48699999999999999,0,0.72399999999999998,-2.4549230769230772,-2.3279999999999998,"1)",{"$f":"SQRT(F302^2+G302^2+H302^2+I302^2+J302^2)","v":1.0450885129978225},{"$f":"ACOS(($C$6*F302+$D$6*G302+$E$6*H302+$F$6*I302+$G$6*J302)/($I$7*N302)-0.000001)*180/PI()","v":6.8901028188685594},{"$f":"SQRT(($C$7-F302/N302)^2+($D$7-G302/N302)^2+($E$7-H302/N302)^2+($F$7-I302/N302)^2+($G$7-J302/N302)^2)","v":0.1201742121827248}]
[null,null,null,null,80,-4.9000000000000002E-2,0.51400000000000001,0.40699999999999997,0,0.66700000000000004,-2.4549230769230772,-2.4529999999999998]
[null,null,null,null,100,-1.2999999999999999E-2,0.46400000000000002,0.35399999999999998,0,0.60599999999999998,-2.4549230769230772,-2.5099999999999998]
[null,null,null,null,120,3.4000000000000002E-2,0.40500000000000003,0.30199999999999999,0,0.55100000000000005,-2.4549230769230772,-2.5510000000000002]
[null,null,null,null,140,0.06,0.36399999999999999,0.251,0,0.496,-2.4549230769230772,-2.5579999999999998]
[null,null,null,null,160,5.2999999999999999E-2,0.311,0.20100000000000001,0,0.42399999999999999,-2.4549230769230772,-2.39]
[null,null,null,null,180,6.4000000000000001E-2,0.28999999999999998,0.16400000000000001,0,0.38600000000000001,-2.4549230769230772,-2.41]
[null,null,null,null,200,7.6999999999999999E-2,0.26800000000000002,0.14299999999999999,0,0.34799999999999998,-2.4549230769230772,-2.4049999999999998]
[null,null,null,null,220,8.6999999999999994E-2,0.253,0.13,0,0.31900000000000001,-2.4549230769230772,-2.444]
[null,null,null,null,240,0.104,0.224,0.11700000000000001,0,0.28799999999999998,-2.4549230769230772,-2.419]
[null,null,null,null,260,0.115,0.216,0.11700000000000001,0,0.26700000000000002,-2.4549230769230772,-2.4780000000000002]
[null,null,null,null,280,0.124,0.19,0.121,0,0.24399999999999999,-2.4549230769230772,-2.4740000000000002]
[null,null,null,null,300,0.129,0.17399999999999999,0.113,0,0.22600000000000001,-2.4549230769230772,-2.4940000000000002]
[]
[null,null,null,"Rtx-VGC",null,"Proprietary (for non-hydrogen bond acids similar to DB-1701)",null,null,null,null,null,null,null,0.25,1.4,2.2782019459368939E-2]
[null,null,null,null,60,-0.30299999999999999,0.86,0.74299999999999999,0,0.67100000000000004,-1.9479999999999997,-1.786,"1)",{"$f":"SQRT(F317^2+G317^2+H317^2+I317^2+J317^2)","v":1.3541414254057809},{"$f":"ACOS(($C$6*F317+$D$6*G317+$E$6*H317+$F$6*I317+$G$6*J317)/($I$7*N317)-0.000001)*180/PI()","v":21.248214612667617},{"$f":"SQRT(($C$7-F317/N317)^2+($D$7-G317/N317)^2+($E$7-H317/N317)^2+($F$7-I317/N317)^2+($G$7-J317/N317)^2)","v":0.36872710038401779}]
[null,null,null,null,80,-0.24099999999999999,0.80400000000000005,0.629,0,0.61,-1.9479999999999997,-1.88]
[null,null,null,null,100,-0.187,0.73799999999999999,0.59299999999999997,0,0.55900000000000005,-1.9479999999999997,-1.974]
[null,null,null,null,120,-0.13900000000000001,0.68,0.51200000000000001,0,0.50800000000000001,-1.9479999999999997,-2.0259999999999998]
[null,null,null,null,140,-0.109,0.63300000000000001,0.438,0,0.46400000000000002,-1.9479999999999997,-2.0739999999999998]
[]
[null,null,null,"Rtx-Volatiles",null,"Poly(dimethyldiphenylsiloxane) estimated to contain ÷ 15-16 % diphenylsiloxane monomer",null,null,null,null,null,null,null,0.25,0.5,8.0482572861728038E-3]
[null,null,null,null,60,-9.7000000000000003E-2,0.61499999999999999,0.41,0,0.69899999999999995,-2.0558000000000001,-1.8939999999999999,"1)",{"$f":"SQRT(F324^2+G324^2+H324^2+I324^2+J324^2)","v":1.0219271011182745},{"$f":"ACOS(($C$6*F324+$D$6*G324+$E$6*H324+$F$6*I324+$G$6*J324)/($I$7*N324)-0.000001)*180/PI()","v":9.1420065184029049},{"$f":"SQRT(($C$7-F324/N324)^2+($D$7-G324/N324)^2+($E$7-H324/N324)^2+($F$7-I324/N324)^2+($G$7-J324/N324)^2)","v":0.15938263722134377}]
[null,null,null,null,80,-4.7E-2,0.55100000000000005,0.34699999999999998,0,0.64100000000000001,-2.0558000000000001,-1.9990000000000001]
[null,null,null,null,100,0,0.49299999999999999,0.29099999999999998,0,0.58399999999999996,-2.0558000000000001,-2.069]
[null,null,null,null,120,2.7E-2,0.45100000000000001,0.254,0,0.53400000000000003,-2.0558000000000001,-2.133]
[null,null,null,null,140,5.6000000000000001E-2,0.41199999999999998,0.214,0,0.48899999999999999,-2.0558000000000001,-2.1840000000000002]
[]
[null,null,null,"DB-608",null,"Poly(dimethyldiphenylsiloxane) estimated to contain ÷ 50-65 % diphenylsiloxane monomer",null,null,null,null,null,null,null,0.25,0.25,4.0120320801924486E-3]
[null,null,null,null,60,0,1.004,0.53900000000000003,0,0.68700000000000006,-2.9576000000000002,-2.774,"1)",{"$f":"SQRT(F331^2+G331^2+H331^2+I331^2+J331^2)","v":1.3306036224210425},{"$f":"ACOS(($C$6*F331+$D$6*G331+$E$6*H331+$F$6*I331+$G$6*J331)/($I$7*N331)-0.000001)*180/PI()","v":22.999746818836698},{"$f":"SQRT(($C$7-F331/N331)^2+($D$7-G331/N331)^2+($E$7-H331/N331)^2+($F$7-I331/N331)^2+($G$7-J331/N331)^2)","v":0.39872903073714305}]
[null,null,null,null,80,6.6000000000000003E-2,0.91900000000000004,0.44700000000000001,0,0.63300000000000001,-2.9576000000000002,-2.9060000000000001]
[null,null,null,null,100,0.109,0.81799999999999995,0.39900000000000002,0,0.58299999999999996,-2.9576000000000002,-2.99]
[null,null,null,null,120,0.14699999999999999,0.73099999999999998,0.36,0,0.53300000000000003,-2.9576000000000002,-3.036]
[null,null,null,null,140,0.17100000000000001,0.67300000000000004,0.308,0,0.48699999999999999,-2.9576000000000002,-3.0819999999999999]
[]
[null,null,null,"Rtx-TNT",null,"Poly(dimethyldiphenylsiloxane) estimated to contain 5 %",null,null,null,null,null,null,null,0.53,1.5,1.1417604931425959E-2]
[null,null,null,null,80,-6.6000000000000003E-2,0.39100000000000001,0.35899999999999999,0,0.65100000000000002,-2.1882222222222225,-2.1259999999999999,"1)",{"$f":"SQRT(F338^2+G338^2+H338^2+I338^2+J338^2)","v":0.84256691128954264},{"$f":"ACOS(($C$6*F338+$D$6*G338+$E$6*H338+$F$6*I338+$G$6*J338)/($I$7*N338)-0.000001)*180/PI()","v":2.2200821523451042},{"$f":"SQRT(($C$7-F338/N338)^2+($D$7-G338/N338)^2+($E$7-H338/N338)^2+($F$7-I338/N338)^2+($G$7-J338/N338)^2)","v":3.8719501123195603E-2}]
[null,null,null,null,100,-5.1999999999999998E-2,0.34300000000000003,0.26900000000000002,0,0.55800000000000005,-2.1882222222222225,-2.0430000000000001]
[null,null,null,null,120,0,0.26800000000000002,0.22800000000000001,0,0.498,-2.1882222222222225,-2.0350000000000001]
[null,null,null,null,140,0,0.26,0.223,0,0.45900000000000002,-2.1882222222222225,-2.145]
[null,null,null,null,160,0,0.23699999999999999,0.14199999999999999,0,0.40400000000000003,-2.1882222222222225,-2.1059999999999999]
[null,null,null,null,180,3.2000000000000001E-2,0.22900000000000001,0.13900000000000001,0,0.36399999999999999,-2.1882222222222225,-2.1539999999999999]
[null,null,null,null,200,5.5E-2,0.19700000000000001,0.121,0,0.33500000000000002,-2.1882222222222225,-2.2040000000000002]
[null,null,null,null,220,6.7000000000000004E-2,0.22700000000000001,0.11799999999999999,0,0.32,-2.1882222222222225,-2.4089999999999998]
[null,null,null,null,240,9.2999999999999999E-2,0.20100000000000001,0.129,0,0.29199999999999998,-2.1882222222222225,-2.472]
[]
[null,null,null,"Rtx-TNT2",null,"Poly(dimethylmethyltrifluoropropylsiloxane)-type phase",null,null,null,null,null,null,null,0.53,1.5,1.1417604931425959E-2]
[null,null,null,null,60,-0.41799999999999998,1.127,0.29599999999999999,0,0.63200000000000001,-2.3988749999999999,-2.0110000000000001,"1)",{"$f":"SQRT(F349^2+G349^2+H349^2+I349^2+J349^2)","v":1.3899255375738659},{"$f":"ACOS(($C$6*F349+$D$6*G349+$E$6*H349+$F$6*I349+$G$6*J349)/($I$7*N349)-0.000001)*180/PI()","v":31.285207532109858},{"$f":"SQRT(($C$7-F349/N349)^2+($D$7-G349/N349)^2+($E$7-H349/N349)^2+($F$7-I349/N349)^2+($G$7-J349/N349)^2)","v":0.53927000717689189}]
[null,null,null,null,80,-0.35199999999999998,1.0529999999999999,0.23599999999999999,0,0.58199999999999996,-2.3988749999999999,-2.1850000000000001]
[null,null,null,null,100,-0.27600000000000002,0.91800000000000004,0.2,0,0.50600000000000001,-2.3988749999999999,-2.1560000000000001]
[null,null,null,null,120,-0.26800000000000002,0.91100000000000003,0.16400000000000001,0,0.48199999999999998,-2.3988749999999999,-2.3820000000000001]
[null,null,null,null,160,-0.13100000000000001,0.75900000000000001,0.13100000000000001,0,0.39600000000000002,-2.3988749999999999,-2.59]
[null,null,null,null,180,-0.114,0.71799999999999997,0.13900000000000001,0,0.36699999999999999,-2.3988749999999999,-2.6720000000000002]
[null,null,null,null,200,-0.09,0.64500000000000002,0.106,0,0.32,-2.3988749999999999,-2.556]
[null,null,null,null,220,-5.7000000000000002E-2,0.61199999999999999,0.129,0,0.29199999999999998,-2.3988749999999999,-2.6389999999999998]
[]
[null,null,null,"Rtx-CLPesticides",null,"Poly(dimethylmethyltrifluoropropylsiloxane)-type phase",null,null,null,null,null,null,null,0.25,0.25,4.0120320801924486E-3]
[null,null,null,null,60,-0.38,0.92700000000000005,0.29899999999999999,0,0.66400000000000003,-2.5534000000000003,-2.3450000000000002,"1)",{"$f":"SQRT(F359^2+G359^2+H359^2+I359^2+J359^2)","v":1.2385580325523711},{"$f":"ACOS(($C$6*F359+$D$6*G359+$E$6*H359+$F$6*I359+$G$6*J359)/($I$7*N359)-0.000001)*180/PI()","v":25.779971105863705},{"$f":"SQRT(($C$7-F359/N359)^2+($D$7-G359/N359)^2+($E$7-H359/N359)^2+($F$7-I359/N359)^2+($G$7-J359/N359)^2)","v":0.44615723643161326}]
[null,null,null,null,80,-0.307,0.84899999999999998,0.23499999999999999,0,0.61,-2.5534000000000003,-2.472]
[null,null,null,null,100,-0.26400000000000001,0.8,0.20300000000000001,0,0.56399999999999995,-2.5534000000000003,-2.6019999999999999]
[null,null,null,null,120,-0.19500000000000001,0.71199999999999997,0.153,0,0.51,-2.5534000000000003,-2.6339999999999999]
[null,null,null,null,140,-0.158,0.66300000000000003,0.13200000000000001,0,0.47099999999999997,-2.5534000000000003,-2.714]
[]
[null,null,null,"Rtx-OPPesticides",null,"Poly(dimethylmethyltrifluoropropylsiloxane)-type phase",null,null,null,null,null,null,null,0.32,0.5,6.2794194239443402E-3]
[null,null,null,null,60,-0.45800000000000002,1.155,0.34899999999999998,0,0.64300000000000002,-2.5212307692307694,-2.4329999999999998,"1)",{"$f":"SQRT(F366^2+G366^2+H366^2+I366^2+J366^2)","v":1.441887304888978},{"$f":"ACOS(($C$6*F366+$D$6*G366+$E$6*H366+$F$6*I366+$G$6*J366)/($I$7*N366)-0.000001)*180/PI()","v":31.018943872201461},{"$f":"SQRT(($C$7-F366/N366)^2+($D$7-G366/N366)^2+($E$7-H366/N366)^2+($F$7-I366/N366)^2+($G$7-J366/N366)^2)","v":0.53479348294685469}]
[null,null,null,null,80,-0.377,1.0669999999999999,0.27700000000000002,0,0.59,-2.5212307692307694,-2.5539999999999998]
[null,null,null,null,100,-0.31,0.97899999999999998,0.22,0,0.53100000000000003,-2.5212307692307694,-2.0640000000000001]
[null,null,null,null,120,-0.253,0.89,0.182,0,0.48499999999999999,-2.5212307692307694,-2.6629999999999998]
[null,null,null,null,140,-0.21199999999999999,0.81799999999999995,0.161,0,0.443,-2.5212307692307694,-2.7170000000000001]
[null,null,null,null,160,-0.126,0.68400000000000005,0.14599999999999999,0,0.36399999999999999,-2.5212307692307694,-2.54]
[null,null,null,null,180,-8.4000000000000005E-2,0.60499999999999998,0.14099999999999999,0,0.32800000000000001,-2.5212307692307694,-2.5369999999999999]
[null,null,null,null,200,-0.05,0.56000000000000005,0.122,0,0.29299999999999998,-2.5212307692307694,-2.5379999999999998]
[null,null,null,null,220,-2.5999999999999999E-2,0.51500000000000001,0.13100000000000001,0,0.26400000000000001,-2.5212307692307694,-2.5449999999999999]
[null,null,null,null,240,0,0.46300000000000002,0.11600000000000001,0,0.23799999999999999,-2.5212307692307694,-2.528]
[null,null,null,null,260,2.1999999999999999E-2,0.41299999999999998,0.108,0,0.215,-2.5212307692307694,-2.5150000000000001]
[null,null,null,null,280,0.03,0.40799999999999997,0.14299999999999999,0,0.20200000000000001,-2.5212307692307694,-2.62]
[null,null,null,null,300,5.6000000000000001E-2,0.31900000000000001,0.16500000000000001,0,0.18099999999999999,-2.5212307692307694,-2.5219999999999998]
[]
[null,null,null,"Rtx-Dioxin",null,"Similar to Stx-500 (carborane-dimethylsiloxane with 5 % phenyl)",null,null,null,null,null,null,null,0.25,0.15,2.4043269223830068E-3]
[null,null,null,null,60,-0.19400000000000001,0.66500000000000004,0.19,0,0.75,-3.0875999999999997,-2.8919999999999999,"1)",{"$f":"SQRT(F381^2+G381^2+H381^2+I381^2+J381^2)","v":1.0384897688470502},{"$f":"ACOS(($C$6*F381+$D$6*G381+$E$6*H381+$F$6*I381+$G$6*J381)/($I$7*N381)-0.000001)*180/PI()","v":17.04804813452899},{"$f":"SQRT(($C$7-F381/N381)^2+($D$7-G381/N381)^2+($E$7-H381/N381)^2+($F$7-I381/N381)^2+($G$7-J381/N381)^2)","v":0.29644480982864146}]
[null,null,null,null,80,-0.121,0.59799999999999998,0.122,0,0.68500000000000005,-3.0875999999999997,-2.9910000000000001]
[null,null,null,null,100,-7.0999999999999994E-2,0.56699999999999995,8.4000000000000005E-2,0,0.64,-3.0875999999999997,-3.1459999999999999]
[null,null,null,null,120,-3.7999999999999999E-2,0.495,9.2999999999999999E-2,0,0.57499999999999996,-3.0875999999999997,-3.141]
[null,null,null,null,140,0,0.47199999999999998,7.4999999999999997E-2,0,0.53900000000000003,-3.0875999999999997,-3.2679999999999998]
[]
[null,null,null,"DB-Dioxin2",null,"Similar to DB-XLB and Rtx-Volatiles",null,null,null,null,null,null,null,0.25,0.25,4.0120320801924486E-3]
[null,null,null,null,60,-0.10100000000000001,0.56699999999999995,0.47699999999999998,0,0.73899999999999999,-2.7654000000000001,-2.56,"1)",{"$f":"SQRT(F388^2+G388^2+H388^2+I388^2+J388^2)","v":1.0513515111512419},{"$f":"ACOS(($C$6*F388+$D$6*G388+$E$6*H388+$F$6*I388+$G$6*J388)/($I$7*N388)-0.000001)*180/PI()","v":6.2432317614175359},{"$f":"SQRT(($C$7-F388/N388)^2+($D$7-G388/N388)^2+($E$7-H388/N388)^2+($F$7-I388/N388)^2+($G$7-J388/N388)^2)","v":0.10890186850517658}]
[null,null,null,null,80,-5.8999999999999997E-2,0.51700000000000002,0.38800000000000001,0,0.68200000000000005,-2.7654000000000001,-2.6890000000000001]
[null,null,null,null,100,-1.9E-2,0.47499999999999998,0.32700000000000001,0,0.627,-2.7654000000000001,-2.786]
[null,null,null,null,120,0,0.443,0.27500000000000002,0,0.57499999999999996,-2.7654000000000001,-2.8490000000000002]
[null,null,null,null,140,4.7E-2,0.38,0.223,0,0.53800000000000003,-2.7654000000000001,-2.9430000000000001]
["(vi) Poly(cyanopropylmethylsiloxane)"]
[null,null,null,"DB-23",null,"100 % 3-cyanopropylmethylsiloxane",null,null,null,null,null,null,null,0.25,0.25,4.0120320801924486E-3]
[null,null,null,null,60,-9.4E-2,1.716,1.925,0,0.59499999999999997,-3.0886,-2.875,"1)",{"$f":"SQRT(F395^2+G395^2+H395^2+I395^2+J395^2)","v":2.6482337510121723},{"$f":"ACOS(($C$6*F395+$D$6*G395+$E$6*H395+$F$6*I395+$G$6*J395)/($I$7*N395)-0.000001)*180/PI()","v":38.703957340763836},{"$f":"SQRT(($C$7-F395/N395)^2+($D$7-G395/N395)^2+($E$7-H395/N395)^2+($F$7-I395/N395)^2+($G$7-J395/N395)^2)","v":0.6627394347317922}]
[null,null,null,null,80,-5.3999999999999999E-2,1.637,1.7430000000000001,0,0.54400000000000004,-3.0886,-3.0110000000000001]
[null,null,null,null,100,-2.7E-2,1.554,1.59,0,0.49199999999999999,-3.0886,-3.093]
[null,null,null,null,120,0,1.476,1.4319999999999999,0,0.44800000000000001,-3.0886,-3.17]
[null,null,null,null,140,0,1.4410000000000001,1.3080000000000001,0,0.41599999999999998,-3.0886,-3.294]
["(vii) Poly(cyanopropylphenyldimethylsiloxane)"]
[null,null,null,"DB-1301",null,"6 % 3-cyanopropylphenylsiloxane",null,null,null,null,null,null,null,0.25,1,1.6194068678459937E-2]
[null,null,null,null,60,-0.188,0.61599999999999999,0.63100000000000001,0,0.69099999999999995,-2.0697999999999999,-1.8720000000000001,null,{"$f":"SQRT(F402^2+G402^2+H402^2+I402^2+J402^2)","v":1.1359762321457259},{"$f":"ACOS(($C$6*F402+$D$6*G402+$E$6*H402+$F$6*I402+$G$6*J402)/($I$7*N402)-0.000001)*180/PI()","v":13.658964464487307},{"$f":"SQRT(($C$7-F402/N402)^2+($D$7-G402/N402)^2+($E$7-H402/N402)^2+($F$7-I402/N402)^2+($G$7-J402/N402)^2)","v":0.23782558517491773}]
[null,null,null,null,80,-0.13500000000000001,0.57399999999999995,0.54900000000000004,0,0.63400000000000001,-2.0697999999999999,-1.99,"1)"]
[null,null,null,null,100,-8.4000000000000005E-2,0.52200000000000002,0.53800000000000003,0,0.58399999999999996,-2.0697999999999999,-2.09]
[null,null,null,null,120,-5.3999999999999999E-2,0.48199999999999998,0.45300000000000001,0,0.53600000000000003,-2.0697999999999999,-2.1619999999999999]
[null,null,null,null,140,-3.6999999999999998E-2,0.45800000000000002,0.42499999999999999,0,0.49399999999999999,-2.0697999999999999,-2.2349999999999999]
[]
[null,null,null,"DB-624",null,"6 % 3-cyanopropylphenylsiloxane",null,null,null,null,null,null,null,0.25,1.4,2.2782019459368939E-2]
[null,null,null,null,60,-0.19,0.63500000000000001,0.65100000000000002,0,0.68500000000000005,-1.8388000000000002,-1.6879999999999999,null,{"$f":"SQRT(F409^2+G409^2+H409^2+I409^2+J409^2)","v":1.1542750971930391},{"$f":"ACOS(($C$6*F409+$D$6*G409+$E$6*H409+$F$6*I409+$G$6*J409)/($I$7*N409)-0.000001)*180/PI()","v":14.685509790479722},{"$f":"SQRT(($C$7-F409/N409)^2+($D$7-G409/N409)^2+($E$7-H409/N409)^2+($F$7-I409/N409)^2+($G$7-J409/N409)^2)","v":0.25560556449405952}]
[null,null,null,null,80,-0.13200000000000001,0.58199999999999996,0.55900000000000005,0,0.628,-1.8388000000000002,-1.786,"1)"]
[null,null,null,null,100,-8.7999999999999995E-2,0.52900000000000003,0.46600000000000003,0,0.56999999999999995,-1.8388000000000002,-1.8580000000000001]
[null,null,null,null,120,-5.7000000000000002E-2,0.48299999999999998,0.39700000000000002,0,0.51800000000000002,-1.8388000000000002,-1.903]
[null,null,null,null,140,-2.1999999999999999E-2,0.44500000000000001,0.38,0,0.47399999999999998,-1.8388000000000002,-1.9590000000000001]
[]
[null,null,null,"DB-1701",null,"14 % 3-cyanopropylphenylsiloxane",null,null,null,null,null,null,null,0.32,0.25,3.1323395073973664E-3]
[null,null,null,null,60,-0.19500000000000001,0.9,0.96199999999999997,0,0.7,-2.4320909090909093,-2.7010000000000001,null,{"$f":"SQRT(F416^2+G416^2+H416^2+I416^2+J416^2)","v":1.5044829676669655},{"$f":"ACOS(($C$6*F416+$D$6*G416+$E$6*H416+$F$6*I416+$G$6*J416)/($I$7*N416)-0.000001)*180/PI()","v":23.394468351431769},{"$f":"SQRT(($C$7-F416/N416)^2+($D$7-G416/N416)^2+($E$7-H416/N416)^2+($F$7-I416/N416)^2+($G$7-J416/N416)^2)","v":0.40547758448359461}]
[null,null,null,null,80,-0.14799999999999999,0.82799999999999996,0.82799999999999996,0,0.63300000000000001,-2.4320909090909093,-2.78,"1)"]
[null,null,null,null,100,-0.121,0.79900000000000004,0.74,0,0.57799999999999996,-2.4320909090909093,-2.8769999999999998]
[null,null,null,null,120,-7.0000000000000007E-2,0.70199999999999996,0.66400000000000003,0,0.51800000000000002,-2.4320909090909093,-2.8690000000000002]
[null,null,null,null,140,-4.3999999999999997E-2,0.65600000000000003,0.57099999999999995,0,0.47699999999999998,-2.4320909090909093,-2.9430000000000001]
[null,null,null,null,160,-1.7999999999999999E-2,0.56000000000000005,0.53600000000000003,0,0.40799999999999997,-2.4320909090909093,-2.1150000000000002]
[null,null,null,null,180,0,0.51600000000000001,0.46800000000000003,0,0.36599999999999999,-2.4320909090909093,-2.105]
[null,null,null,null,200,2.1000000000000001E-2,0.47899999999999998,0.40600000000000003,0,0.33,-2.4320909090909093,-2.1059999999999999]
[null,null,null,null,220,3.4000000000000002E-2,0.44400000000000001,0.35299999999999998,0,0.29799999999999999,-2.4320909090909093,-2.0950000000000002]
[null,null,null,null,240,5.1999999999999998E-2,0.40100000000000002,0.317,0,0.26900000000000002,-2.4320909090909093,-2.0819999999999999]
[null,null,null,null,260,6.5000000000000002E-2,0.372,0.29299999999999998,0,0.24399999999999999,-2.4320909090909093,-2.08]
[]
[null,null,null,"DB-225",null,"50 % 3-cyanopropylphenylsiloxane",null,null,null,null,null,null,null,0.32,0.25,3.1323395073973664E-3]
[null,null,null,null,60,-0.121,1.61,1.5620000000000001,0,0.63200000000000001,-2.8918999999999997,-2.9159999999999999,"1)",{"$f":"SQRT(F429^2+G429^2+H429^2+I429^2+J429^2)","v":2.3336685711557243},{"$f":"ACOS(($C$6*F429+$D$6*G429+$E$6*H429+$F$6*I429+$G$6*J429)/($I$7*N429)-0.000001)*180/PI()","v":35.500213851689324},{"$f":"SQRT(($C$7-F429/N429)^2+($D$7-G429/N429)^2+($E$7-H429/N429)^2+($F$7-I429/N429)^2+($G$7-J429/N429)^2)","v":0.60973051272575585}]
[null,null,null,null,80,-7.8E-2,1.452,1.4470000000000001,0,0.56899999999999995,-2.8918999999999997,-2.968]
[null,null,null,null,100,-4.7E-2,1.296,1.27,0,0.50700000000000001,-2.8918999999999997,-2.9359999999999999]
[null,null,null,null,120,0,1.1439999999999999,1.1140000000000001,0,0.44600000000000001,-2.8918999999999997,-2.88]
[null,null,null,null,140,3.3000000000000002E-2,1.03,0.95099999999999996,0,0.39200000000000002,-2.8918999999999997,-2.8109999999999999]
[null,null,null,null,160,2.8000000000000001E-2,1.0169999999999999,0.90200000000000002,0,0.35799999999999998,-2.8918999999999997,-2.8969999999999998]
[null,null,null,null,180,0.06,0.93500000000000005,0.81399999999999995,0,0.32200000000000001,-2.8918999999999997,-2.9119999999999999]
[null,null,null,null,200,8.2000000000000003E-2,0.86599999999999999,0.72599999999999998,0,0.28799999999999998,-2.8918999999999997,-2.8969999999999998]
[null,null,null,null,220,0.104,0.78100000000000003,0.67500000000000004,0,0.25900000000000001,-2.8918999999999997,-2.8610000000000002]
[null,null,null,null,240,0.105,0.73499999999999999,0.621,0,0.23100000000000001,-2.8918999999999997,-2.8410000000000002]
["(viii) Poly(biscyanopropylsiloxane)"]
[null,null,null,"SP-2340",null,"(viii) Poly(biscyanopropylsiloxane)",null,null,null,null,null,null,null,0.25,0.2,3.207696416831093E-3]
[null,null,null,null,60,0,1.9350000000000001,2.294,0,0.52800000000000002,-3.1558000000000002,-2.851,"1)",{"$f":"SQRT(F441^2+G441^2+H441^2+I441^2+J441^2)","v":3.0472028156983582},{"$f":"ACOS(($C$6*F441+$D$6*G441+$E$6*H441+$F$6*I441+$G$6*J441)/($I$7*N441)-0.000001)*180/PI()","v":42.171570353275364},{"$f":"SQRT(($C$7-F441/N441)^2+($D$7-G441/N441)^2+($E$7-H441/N441)^2+($F$7-I441/N441)^2+($G$7-J441/N441)^2)","v":0.71952928119848414}]
[null,null,null,null,80,6.9000000000000006E-2,1.9039999999999999,2.1640000000000001,0,0.47799999999999998,-3.1558000000000002,-3.0329999999999999]
[null,null,null,null,100,8.4000000000000005E-2,1.8360000000000001,1.9810000000000001,0,0.43099999999999999,-3.1558000000000002,-3.1440000000000001]
[null,null,null,null,120,0.10199999999999999,1.823,1.897,0,0.39500000000000002,-3.1558000000000002,-3.3029999999999999]
[null,null,null,null,140,0.111,1.7649999999999999,1.7889999999999999,0,0.37,-3.1558000000000002,-3.448]
["(ix) Bis(3-cyanopropylsiloxane)-co-methylsilarylene"]
[null,null,null,"HP-88",null,"88 % biscyanopropylsiloxane",null,null,null,null,null,null,null,0.25,0.2,3.207696416831093E-3]
[null,null,null,null,60,0,1.925,2.2370000000000001,0,0.55500000000000005,-3.0289000000000006,-2.9340000000000002,"1)",{"$f":"SQRT(F448^2+G448^2+H448^2+I448^2+J448^2)","v":3.0029683648017342},{"$f":"ACOS(($C$6*F448+$D$6*G448+$E$6*H448+$F$6*I448+$G$6*J448)/($I$7*N448)-0.000001)*180/PI()","v":41.437754626448829},{"$f":"SQRT(($C$7-F448/N448)^2+($D$7-G448/N448)^2+($E$7-H448/N448)^2+($F$7-I448/N448)^2+($G$7-J448/N448)^2)","v":0.70756463974531114}]
[null,null,null,null,80,0.03,1.88,2.0550000000000002,0,0.501,-3.0289000000000006,-3.1]
[null,null,null,null,100,5.5E-2,1.786,1.8460000000000001,0,0.45200000000000001,-3.0289000000000006,-3.1970000000000001]
[null,null,null,null,120,8.5000000000000006E-2,1.66,1.6839999999999999,0,0.40300000000000002,-3.0289000000000006,-3.2280000000000002]
[null,null,null,null,140,0.11799999999999999,1.5640000000000001,1.5269999999999999,0,0.35699999999999998,-3.0289000000000006,-3.2549999999999999]
[null,null,null,null,160,0.155,1.3220000000000001,1.3069999999999999,0,0.28000000000000003,-3.0289000000000006,-2.9129999999999998]
[null,null,null,null,180,0.16300000000000001,1.2210000000000001,1.161,0,0.249,-3.0289000000000006,-2.9]
[null,null,null,null,200,0.17299999999999999,1.175,1.0740000000000001,0,0.215,-3.0289000000000006,-2.92]
[null,null,null,null,220,0.17399999999999999,1.0920000000000001,0.99399999999999999,0,0.191,-3.0289000000000006,-2.899]
[null,null,null,null,240,0.19400000000000001,1.0549999999999999,0.91500000000000004,0,0.16700000000000001,-3.0289000000000006,-2.9430000000000001]
[]
[null,null,null,"BPX-90",null,"90 % biscyanopropylsiloxane",null,null,null,null,null,null,null,0.25,0.25,4.0120320801924486E-3]
[null,null,null,null,60,0,2.0910000000000002,2.3290000000000002,0,0.51900000000000002,-3.3287999999999998,-2.992,"1)",{"$f":"SQRT(F460^2+G460^2+H460^2+I460^2+J460^2)","v":3.1726775758024961},{"$f":"ACOS(($C$6*F460+$D$6*G460+$E$6*H460+$F$6*I460+$G$6*J460)/($I$7*N460)-0.000001)*180/PI()","v":42.496875585835362},{"$f":"SQRT(($C$7-F460/N460)^2+($D$7-G460/N460)^2+($E$7-H460/N460)^2+($F$7-I460/N460)^2+($G$7-J460/N460)^2)","v":0.72482387303965889}]
[null,null,null,null,80,5.6000000000000001E-2,2.024,2.1589999999999998,0,0.46500000000000002,-3.3287999999999998,-3.161]
[null,null,null,null,100,8.5000000000000006E-2,1.9219999999999999,1.925,0,0.42699999999999999,-3.3287999999999998,-3.3]
[null,null,null,null,120,9.5000000000000001E-2,1.9379999999999999,1.7869999999999999,0,0.38800000000000001,-3.3287999999999998,-3.484]
[null,null,null,null,140,0.158,1.897,1.675,0,0.36399999999999999,-3.3287999999999998,-3.7069999999999999]
["(x) Poly(ethylene glycol)"]
[null,null,null,"SolGel-Wax",null,"(x) Poly(ethylene glycol)",null,null,null,null,null,null,null,0.25,0.25,4.0120320801924486E-3]
[null,null,null,null,60,0.18,1.6779999999999999,2.629,0,0.61499999999999999,-3.2069999999999999,-2.968,"1)",{"$f":"SQRT(F467^2+G467^2+H467^2+I467^2+J467^2)","v":3.1840147612723153},{"$f":"ACOS(($C$6*F467+$D$6*G467+$E$6*H467+$F$6*I467+$G$6*J467)/($I$7*N467)-0.000001)*180/PI()","v":43.191222784807707},{"$f":"SQRT(($C$7-F467/N467)^2+($D$7-G467/N467)^2+($E$7-H467/N467)^2+($F$7-I467/N467)^2+($G$7-J467/N467)^2)","v":0.73610531103718613}]
[null,null,null,null,80,0.20300000000000001,1.573,2.4119999999999999,0,0.57899999999999996,-3.2069999999999999,-3.1339999999999999]
[null,null,null,null,100,0.22800000000000001,1.4730000000000001,2.2149999999999999,0,0.53700000000000003,-3.2069999999999999,-3.2549999999999999]
[null,null,null,null,120,0.23,1.357,1.9770000000000001,0,0.495,-3.2069999999999999,-3.3050000000000002]
[null,null,null,null,140,0.23200000000000001,1.272,1.762,0,0.45900000000000002,-3.2069999999999999,-3.3730000000000002]
[]
[null,null,null,"HP-INNOWax",null,"(x) Poly(ethylene glycol)",null,null,null,null,null,null,null,0.25,0.5,8.0482572861728038E-3]
[null,null,null,null,60,0.214,1.706,2.653,0,0.59799999999999998,-2.5254444444444446,-2.488,"1)",{"$f":"SQRT(F474^2+G474^2+H474^2+I474^2+J474^2)","v":3.217490481726403},{"$f":"ACOS(($C$6*F474+$D$6*G474+$E$6*H474+$F$6*I474+$G$6*J474)/($I$7*N474)-0.000001)*180/PI()","v":43.666879637450307},{"$f":"SQRT(($C$7-F474/N474)^2+($D$7-G474/N474)^2+($E$7-H474/N474)^2+($F$7-I474/N474)^2+($G$7-J474/N474)^2)","v":0.74381799366237689}]
[null,null,null,null,80,0.219,1.581,2.3439999999999999,0,0.54800000000000004,-2.5254444444444446,-2.56]
[null,null,null,null,100,0.22500000000000001,1.446,2.08,0,0.496,-2.5254444444444446,-2.5819999999999999]
[null,null,null,null,120,0.23499999999999999,1.3320000000000001,1.841,0,0.45400000000000001,-2.5254444444444446,-2.6150000000000002]
[null,null,null,null,140,0.24099999999999999,1.2310000000000001,1.64,0,0.41599999999999998,-2.5254444444444446,-2.6429999999999998]
[null,null,null,null,160,0.158,1.1459999999999999,1.5269999999999999,0,0.35299999999999998,-2.5254444444444446,-2.524]
[null,null,null,null,180,0.192,1.0109999999999999,1.3480000000000001,0,0.312,-2.5254444444444446,-2.4620000000000002]
[null,null,null,null,200,0.21299999999999999,0.90800000000000003,1.2150000000000001,0,0.28199999999999997,-2.5254444444444446,-2.4470000000000001]
[null,null,null,null,220,0.215,0.84399999999999997,1.08,0,0.25,-2.5254444444444446,-2.4079999999999999]
[]
[null,null,null,"DB-WAXetr",null,"(x) Poly(ethylene glycol)",null,null,null,null,null,null,null,0.25,0.5,8.0482572861728038E-3]
[null,null,null,null,60,0.21,1.6459999999999999,2.6760000000000002,0,0.59899999999999998,-2.6657999999999999,-2.4900000000000002,"1)",{"$f":"SQRT(F485^2+G485^2+H485^2+I485^2+J485^2)","v":3.2051822101091223},{"$f":"ACOS(($C$6*F485+$D$6*G485+$E$6*H485+$F$6*I485+$G$6*J485)/($I$7*N485)-0.000001)*180/PI()","v":43.89264494595303},{"$f":"SQRT(($C$7-F485/N485)^2+($D$7-G485/N485)^2+($E$7-H485/N485)^2+($F$7-I485/N485)^2+($G$7-J485/N485)^2)","v":0.74747425684995594}]
[null,null,null,null,80,0.23400000000000001,1.5629999999999999,2.4279999999999999,0,0.55400000000000005,-2.6657999999999999,-2.6230000000000002]
[null,null,null,null,100,0.22800000000000001,1.464,2.1640000000000001,0,0.50900000000000001,-2.6657999999999999,-2.6960000000000002]
[null,null,null,null,120,0.255,1.343,1.9690000000000001,0,0.46600000000000003,-2.6657999999999999,-2.7490000000000001]
[null,null,null,null,140,0.253,1.2509999999999999,1.77,0,0.42499999999999999,-2.6657999999999999,-2.7709999999999999]
[]
[null,null,null,"EC-Wax",null,"(x) Poly(ethylene glycol)",null,null,null,null,null,null,null,0.25,0.25,4.0120320801924486E-3]
[null,null,null,null,60,0.20300000000000001,1.752,2.8220000000000001,0,0.61799999999999999,-2.9986000000000002,-3.024,"1)",{"$f":"SQRT(F492^2+G492^2+H492^2+I492^2+J492^2)","v":3.3847187475475713},{"$f":"ACOS(($C$6*F492+$D$6*G492+$E$6*H492+$F$6*I492+$G$6*J492)/($I$7*N492)-0.000001)*180/PI()","v":43.995986110994501},{"$f":"SQRT(($C$7-F492/N492)^2+($D$7-G492/N492)^2+($E$7-H492/N492)^2+($F$7-I492/N492)^2+($G$7-J492/N492)^2)","v":0.74914689711998694}]
[null,null,null,null,80,0.22800000000000001,1.5609999999999999,2.4420000000000002,0,0.55700000000000005,-2.9986000000000002,-3.024]
[null,null,null,null,100,0.24,1.4,2.137,0,0.49299999999999999,-2.9986000000000002,-2.98]
[null,null,null,null,120,0.23599999999999999,1.2969999999999999,1.9019999999999999,0,0.44600000000000001,-2.9986000000000002,-2.9910000000000001]
[null,null,null,null,140,0.25700000000000001,1.1619999999999999,1.663,0,0.40200000000000002,-2.9986000000000002,-2.9740000000000002]
[]
[null,null,null,"HP-20M",null,"(x) Poly(ethylene glycol)",null,null,null,null,null,null,null,0.32,0.3,3.7605733041250838E-3]
[null,null,null,null,60,0.23200000000000001,1.675,2.7440000000000002,0,0.627,-3.1618000000000004,-3.0619999999999998,"1)",{"$f":"SQRT(F499^2+G499^2+H499^2+I499^2+J499^2)","v":3.2836129491765624},{"$f":"ACOS(($C$6*F499+$D$6*G499+$E$6*H499+$F$6*I499+$G$6*J499)/($I$7*N499)-0.000001)*180/PI()","v":43.788352566388113},{"$f":"SQRT(($C$7-F499/N499)^2+($D$7-G499/N499)^2+($E$7-H499/N499)^2+($F$7-I499/N499)^2+($G$7-J499/N499)^2)","v":0.74578560424987927}]
[null,null,null,null,80,0.21299999999999999,1.5640000000000001,2.4449999999999998,0,0.56899999999999995,-3.1618000000000004,-3.1190000000000002]
[null,null,null,null,100,0.219,1.4450000000000001,2.2000000000000002,0,0.52,-3.1618000000000004,-3.1739999999999999]
[null,null,null,null,120,0.23200000000000001,1.319,1.954,0,0.47499999999999998,-3.1618000000000004,-3.198]
[null,null,null,null,140,0.23799999999999999,1.2310000000000001,1.762,0,0.438,-3.1618000000000004,-3.2559999999999998]
[]
[null,null,null,"AT-Wax",null,"(x) Poly(ethylene glycol)",null,null,null,null,null,null,null,0.25,0.25,4.0120320801924486E-3]
[null,null,null,null,60,0.26200000000000001,1.6759999999999999,2.831,0,0.60099999999999998,-2.9119999999999999,-2.851,"1)",{"$f":"SQRT(F506^2+G506^2+H506^2+I506^2+J506^2)","v":3.3546060871583716},{"$f":"ACOS(($C$6*F506+$D$6*G506+$E$6*H506+$F$6*I506+$G$6*J506)/($I$7*N506)-0.000001)*180/PI()","v":44.734703142015327},{"$f":"SQRT(($C$7-F506/N506)^2+($D$7-G506/N506)^2+($E$7-H506/N506)^2+($F$7-I506/N506)^2+($G$7-J506/N506)^2)","v":0.76108566069824013}]
[null,null,null,null,80,0.25,1.5669999999999999,2.4940000000000002,0,0.55300000000000005,-2.9119999999999999,-2.9289999999999998]
[null,null,null,null,100,0.25,1.4219999999999999,2.1629999999999998,0,0.496,-2.9119999999999999,-2.92]
[null,null,null,null,120,0.24399999999999999,1.3149999999999999,1.93,0,0.45,-2.9119999999999999,-2.9350000000000001]
[null,null,null,null,140,0.23799999999999999,1.2050000000000001,1.706,0,0.40699999999999997,-2.9119999999999999,-2.9249999999999998]
[]
[null,null,null,"DB-FFAP",null,"Modified with nitroterephthalic acid",null,null,null,null,null,null,null,0.32,0.25,3.1323395073973664E-3]
[null,null,null,null,60,0.28499999999999998,1.7390000000000001,2.851,0,0.60899999999999999,-3.1383999999999999,-3.1419999999999999,"1)",{"$f":"SQRT(F513^2+G513^2+H513^2+I513^2+J513^2)","v":3.4065272639449113},{"$f":"ACOS(($C$6*F513+$D$6*G513+$E$6*H513+$F$6*I513+$G$6*J513)/($I$7*N513)-0.000001)*180/PI()","v":44.625020165051097},{"$f":"SQRT(($C$7-F513/N513)^2+($D$7-G513/N513)^2+($E$7-H513/N513)^2+($F$7-I513/N513)^2+($G$7-J513/N513)^2)","v":0.75931500851033662}]
[null,null,null,null,80,0.252,1.617,2.5219999999999998,0,0.55000000000000004,-3.1383999999999999,-3.1779999999999999]
[null,null,null,null,100,0.248,1.482,2.1909999999999998,0,0.495,-3.1383999999999999,-3.1819999999999999]
[null,null,null,null,120,0.23799999999999999,1.327,1.968,0,0.435,-3.1383999999999999,-3.1]
[null,null,null,null,140,0.25,1.1819999999999999,1.75,0,0.39100000000000001,-3.1383999999999999,-3.09]
[]
[null,null,null,"PAG",null,"Ethylene glycol-propylene glycol copolymer",null,null,null,null,null,null,null,0.25,0.25,4.0120320801924486E-3]
[null,null,null,null,60,0.151,1.5589999999999999,2.714,0,0.64700000000000002,-2.9805999999999999,-2.7989999999999999,"1)",{"$f":"SQRT(F520^2+G520^2+H520^2+I520^2+J520^2)","v":3.1996385733391826},{"$f":"ACOS(($C$6*F520+$D$6*G520+$E$6*H520+$F$6*I520+$G$6*J520)/($I$7*N520)-0.000001)*180/PI()","v":43.313829956259987},{"$f":"SQRT(($C$7-F520/N520)^2+($D$7-G520/N520)^2+($E$7-H520/N520)^2+($F$7-I520/N520)^2+($G$7-J520/N520)^2)","v":0.73809458091967983}]
[null,null,null,null,80,0.14099999999999999,1.4830000000000001,2.4380000000000002,0,0.60599999999999998,-2.9805999999999999,-2.9460000000000002]
[null,null,null,null,100,0.16400000000000001,1.3420000000000001,2.121,0,0.54200000000000004,-2.9805999999999999,-2.948]
[null,null,null,null,120,0.187,1.2370000000000001,1.877,0,0.501,-2.9805999999999999,-3.0289999999999999]
[null,null,null,null,140,0.216,1.171,1.716,0,0.47399999999999998,-2.9805999999999999,-3.181]
["(xi) Binary stationary phase mixtures"]
[null,null,null,"DX-1",null,"poly(dimethylsiloxane) 90 % + poly(ethylene glycol) 10 %",null,null,null,null,null,null,null,0.25,1,1.6194068678459937E-2]
[null,null,null,null,60,-7.3999999999999996E-2,0.47199999999999998,0.81100000000000005,0,0.66700000000000004,-2.0578000000000003,-1.8240000000000001,"1)",{"$f":"SQRT(F527^2+G527^2+H527^2+I527^2+J527^2)","v":1.1536333906401983},{"$f":"ACOS(($C$6*F527+$D$6*G527+$E$6*H527+$F$6*I527+$G$6*J527)/($I$7*N527)-0.000001)*180/PI()","v":20.826880244398193},{"$f":"SQRT(($C$7-F527/N527)^2+($D$7-G527/N527)^2+($E$7-H527/N527)^2+($F$7-I527/N527)^2+($G$7-J527/N527)^2)","v":0.36149695564360834}]
[null,null,null,null,80,0,0.40899999999999997,0.65500000000000003,0,0.622,-2.0578000000000003,-1.9710000000000001]
[null,null,null,null,100,0,0.41799999999999998,0.56100000000000005,0,0.57999999999999996,-2.0578000000000003,-2.105]
[null,null,null,null,120,3.5000000000000003E-2,0.37,0.46400000000000002,0,0.52800000000000002,-2.0578000000000003,-2.153]
[null,null,null,null,140,5.3999999999999999E-2,0.34300000000000003,0.40100000000000002,0,0.49099999999999999,-2.0578000000000003,-2.2360000000000002]
[]
[null,null,null,"DX-3",null,"poly(dimethylsiloxane) 50 % + poly(ethylene glycol) 50 %",null,null,null,null,null,null,null,0.25,0.25,4.0120320801924486E-3]
[null,null,null,null,60,0.114,1.3089999999999999,2.0880000000000001,0,0.65700000000000003,-3.032,-2.8380000000000001,"1)",{"$f":"SQRT(F534^2+G534^2+H534^2+I534^2+J534^2)","v":2.5530119467013859},{"$f":"ACOS(($C$6*F534+$D$6*G534+$E$6*H534+$F$6*I534+$G$6*J534)/($I$7*N534)-0.000001)*180/PI()","v":39.635534558918778},{"$f":"SQRT(($C$7-F534/N534)^2+($D$7-G534/N534)^2+($E$7-H534/N534)^2+($F$7-I534/N534)^2+($G$7-J534/N534)^2)","v":0.6780578627060867}]
[null,null,null,null,80,0.11700000000000001,1.258,1.869,0,0.60599999999999998,-3.032,-2.964]
[null,null,null,null,100,0.14099999999999999,1.1839999999999999,1.7230000000000001,0,0.55800000000000005,-3.032,-3.0569999999999999]
[null,null,null,null,120,0.16700000000000001,1.107,1.627,0,0.51600000000000001,-3.032,-3.1419999999999999]
[null,null,null,null,140,0.17499999999999999,1,1.468,0,0.47599999999999998,-3.032,-3.1589999999999998]
[]
[null,null,null,"DX-4",null,"poly(dimethylsiloxane) 15 % + poly(ethylene glycol) 85 %",null,null,null,null,null,null,null,0.25,0.25,4.0120320801924486E-3]
[null,null,null,null,60,0.14899999999999999,1.33,2.3109999999999999,0,0.626,-2.9584000000000001,-2.665,"1)",{"$f":"SQRT(F541^2+G541^2+H541^2+I541^2+J541^2)","v":2.7429360182111431},{"$f":"ACOS(($C$6*F541+$D$6*G541+$E$6*H541+$F$6*I541+$G$6*J541)/($I$7*N541)-0.000001)*180/PI()","v":41.971154396838415},{"$f":"SQRT(($C$7-F541/N541)^2+($D$7-G541/N541)^2+($E$7-H541/N541)^2+($F$7-I541/N541)^2+($G$7-J541/N541)^2)","v":0.71626446849053993}]
[null,null,null,null,80,0.19,1.3680000000000001,2.1589999999999998,0,0.59,-2.9584000000000001,-2.911]
[null,null,null,null,100,0.20499999999999999,1.29,2.0049999999999999,0,0.54800000000000004,-2.9584000000000001,-3.03]
[null,null,null,null,120,0.224,1.1930000000000001,1.821,0,0.504,-2.9584000000000001,-3.0859999999999999]
[null,null,null,null,140,0.23300000000000001,1.093,1.6379999999999999,0,0.46100000000000002,-2.9584000000000001,-3.1]
[]
[null,null,null,"Cyclodex-B",null,"DB-1701 89.5 % + permethylated ?-cyclodextrin 10.5 %",null,null,null,null,null,null,null,0.25,0.25,4.0120320801924486E-3]
[null,null,null,null,60,-0.22500000000000001,0.95299999999999996,1.6659999999999999,0,0.71299999999999997,-2.6040000000000001,-2.4260000000000002,"1)",{"$f":"SQRT(F548^2+G548^2+H548^2+I548^2+J548^2)","v":2.059795863671932},{"$f":"ACOS(($C$6*F548+$D$6*G548+$E$6*H548+$F$6*I548+$G$6*J548)/($I$7*N548)-0.000001)*180/PI()","v":34.024480325241882},{"$f":"SQRT(($C$7-F548/N548)^2+($D$7-G548/N548)^2+($E$7-H548/N548)^2+($F$7-I548/N548)^2+($G$7-J548/N548)^2)","v":0.5851502800867785}]
[null,null,null,null,80,-0.16,0.83199999999999996,1.298,0,0.64200000000000002,-2.6040000000000001,-2.488]
[null,null,null,null,100,-0.107,0.78400000000000003,1.151,0,0.58699999999999997,-2.6040000000000001,-2.6059999999999999]
[null,null,null,null,120,-6.2E-2,0.73,0.99,0,0.53900000000000003,-2.6040000000000001,-2.718]
[null,null,null,null,140,-2.4E-2,0.68,0.81799999999999995,0,0.49099999999999999,-2.6040000000000001,-2.782]
[]
[null,null,null,"CycloSil-B",null,"DB-1701 70 % + heptakis(2,3-di-O-methyl-6-O-t-butyldimethylsilyl)-β-cyclodextrin 30 %",null,null,null,null,null,null,null,0.25,0.25,4.0120320801924486E-3]
[null,null,null,null,60,-0.26900000000000002,0.89600000000000002,1.8260000000000001,0,0.71399999999999997,-2.4775999999999998,-2.3050000000000002,"1)",{"$f":"SQRT(F555^2+G555^2+H555^2+I555^2+J555^2)","v":2.1723832534799197},{"$f":"ACOS(($C$6*F555+$D$6*G555+$E$6*H555+$F$6*I555+$G$6*J555)/($I$7*N555)-0.000001)*180/PI()","v":36.269996477970359},{"$f":"SQRT(($C$7-F555/N555)^2+($D$7-G555/N555)^2+($E$7-H555/N555)^2+($F$7-I555/N555)^2+($G$7-J555/N555)^2)","v":0.62251235248674575}]
[null,null,null,null,80,-0.154,0.76700000000000002,1.482,0,0.64200000000000002,-2.4775999999999998,-2.359]
[null,null,null,null,100,-0.104,0.70599999999999996,1.22,0,0.59299999999999997,-2.4775999999999998,-2.484]
[null,null,null,null,120,-4.1000000000000002E-2,0.63,1.0429999999999999,0,0.54300000000000004,-2.4775999999999998,-2.5830000000000002]
[null,null,null,null,140,0,0.57999999999999996,0.86299999999999999,0,0.495,-2.4775999999999998,-2.657]
["(xii) Ionic liquids"]
[null,null,null,"SLB-IL60",null,"1,12-Di(tripropylphosphonium)dodecane bis(trifluoromethylsulfonyl)imide",null,null,null,null,null,null,null,0.25,0.2,3.207696416831093E-3]
[null,null,null,null,80,-0.161,1.7190000000000001,1.391,0.34699999999999998,0.51900000000000002,-2.9297272727272725,-2.895,"1)",{"$f":"SQRT(F562^2+G562^2+H562^2+I562^2+J562^2)","v":2.3033742639875094},{"$f":"ACOS(($C$6*F562+$D$6*G562+$E$6*H562+$F$6*I562+$G$6*J562)/($I$7*N562)-0.000001)*180/PI()","v":38.66929266587394},{"$f":"SQRT(($C$7-F562/N562)^2+($D$7-G562/N562)^2+($E$7-H562/N562)^2+($F$7-I562/N562)^2+($G$7-J562/N562)^2)","v":0.66216857318696287}]
[null,null,null,null,100,-7.5999999999999998E-2,1.59,1.131,0.36899999999999999,0.46200000000000002,-2.9297272727272725,-2.9350000000000001]
[null,null,null,null,120,-7.1999999999999995E-2,1.522,1.0589999999999999,0.28299999999999997,0.40600000000000003,-2.9297272727272725,-2.919]
[null,null,null,null,140,0,1.391,0.95799999999999996,0.26300000000000001,0.36,-2.9297272727272725,-2.915]
[null,null,null,null,160,0,1.3260000000000001,0.92500000000000004,0.22500000000000001,0.32300000000000001,-2.9297272727272725,-2.9319999999999999]
[null,null,null,null,180,6.4000000000000001E-2,1.2,0.80400000000000005,0.19500000000000001,0.27900000000000003,-2.9297272727272725,-2.8690000000000002]
[null,null,null,null,200,6.0999999999999999E-2,1.1719999999999999,0.77100000000000002,0.13,0.25,-2.9297272727272725,-2.8839999999999999]
[null,null,null,null,220,9.1999999999999998E-2,1.1240000000000001,0.75700000000000001,9.0999999999999998E-2,0.22800000000000001,-2.9297272727272725,-2.952]
[null,null,null,null,240,0.10299999999999999,1.0760000000000001,0.71299999999999997,5.1999999999999998E-2,0.20499999999999999,-2.9297272727272725,-2.952]
[null,null,null,null,260,0.115,1.046,0.68200000000000005,0,0.187,-2.9297272727272725,-2.9910000000000001]
[null,null,null,null,280,0.13400000000000001,0.98499999999999999,0.64500000000000002,0,0.16900000000000001,-2.9297272727272725,-2.9830000000000001]
[]
[null,null,null,"SLB-IL61",null,"1,12-Di(tripropylphosphonium)dodecane bis(trifluoromethylsulfonyl)imide trifluoromethylsulfonate",null,null,null,null,null,null,null,0.25,0.2,3.207696416831093E-3]
[null,null,null,null,80,-8.8999999999999996E-2,1.6679999999999999,1.6739999999999999,0.25700000000000001,0.50700000000000001,-2.9024999999999999,-2.8119999999999998,"1)",{"$f":"SQRT(F575^2+G575^2+H575^2+I575^2+J575^2)","v":2.4321839979738376},{"$f":"ACOS(($C$6*F575+$D$6*G575+$E$6*H575+$F$6*I575+$G$6*J575)/($I$7*N575)-0.000001)*180/PI()","v":39.647302790773949},{"$f":"SQRT(($C$7-F575/N575)^2+($D$7-G575/N575)^2+($E$7-H575/N575)^2+($F$7-I575/N575)^2+($G$7-J575/N575)^2)","v":0.67825108960040137}]
[null,null,null,null,100,0,1.548,1.5129999999999999,0.26800000000000002,0.45100000000000001,-2.9024999999999999,-2.8780000000000001]
[null,null,null,null,120,0,1.5149999999999999,1.4610000000000001,0.188,0.41199999999999998,-2.9024999999999999,-2.9750000000000001]
[null,null,null,null,140,4.4999999999999998E-2,1.393,1.2769999999999999,0.20100000000000001,0.36199999999999999,-2.9024999999999999,-2.944]
[null,null,null,null,160,9.0999999999999998E-2,1.3069999999999999,1.121,0.1,0.317,-2.9024999999999999,-2.91]
[null,null,null,null,180,0.108,1.2170000000000001,1.069,0.125,0.27900000000000003,-2.9024999999999999,-2.9039999999999999]
[null,null,null,null,200,0.113,1.17,0.96399999999999997,4.8000000000000001E-2,0.249,-2.9024999999999999,-2.8929999999999998]
[null,null,null,null,220,0.13100000000000001,1.1220000000000001,0.91,0,0.224,-2.9024999999999999,-2.8959999999999999]
[null,null,null,null,240,0.154,1.07,0.872,0,0.19900000000000001,-2.9024999999999999,-2.9089999999999998]
[null,null,null,null,260,0.16300000000000001,1.0069999999999999,0.81599999999999995,0,0.17799999999999999,-2.9024999999999999,-2.9039999999999999]
[]
[null,null,null,"SLB-IL76",null,"Tri(tripropylphosphoniumhexamide)triethylamine bis(trifluoromethylsulfonyl)imide",null,null,null,null,null,null,null,0.25,0.2,3.207696416831093E-3]
[null,null,null,null,80,0,1.728,1.7030000000000001,0.38100000000000001,0.45800000000000002,-3.0143333333333335,-2.9180000000000001,"1)",{"$f":"SQRT(F587^2+G587^2+H587^2+I587^2+J587^2)","v":2.4982229684317612},{"$f":"ACOS(($C$6*F587+$D$6*G587+$E$6*H587+$F$6*I587+$G$6*J587)/($I$7*N587)-0.000001)*180/PI()","v":41.709574864213096},{"$f":"SQRT(($C$7-F587/N587)^2+($D$7-G587/N587)^2+($E$7-H587/N587)^2+($F$7-I587/N587)^2+($G$7-J587/N587)^2)","v":0.71199999538955372}]
[null,null,null,null,100,0.107,1.6639999999999999,1.7190000000000001,0.28299999999999997,0.41599999999999998,-3.0143333333333335,-3.0569999999999999]
[null,null,null,null,120,0.13800000000000001,1.5529999999999999,1.611,0.224,0.36399999999999999,-3.0143333333333335,-3.0539999999999998]
[null,null,null,null,140,0.14599999999999999,1.494,1.4530000000000001,0.19500000000000001,0.32100000000000001,-3.0143333333333335,-3.08]
[null,null,null,null,160,0.14000000000000001,1.389,1.2889999999999999,0.17100000000000001,0.28000000000000003,-3.0143333333333335,-3.03]
[null,null,null,null,180,0.16400000000000001,1.296,1.1599999999999999,9.7000000000000003E-2,0.24399999999999999,-3.0143333333333335,-2.9940000000000002]
[null,null,null,null,200,0.17799999999999999,1.234,1.0569999999999999,4.3999999999999997E-2,0.217,-3.0143333333333335,-2.9950000000000001]
[null,null,null,null,220,0.17199999999999999,1.1919999999999999,0.96799999999999997,3.9E-2,0.193,-3.0143333333333335,-3.0030000000000001]
[null,null,null,null,240,0.16800000000000001,1.147,0.873,0,0.17299999999999999,-3.0143333333333335,-2.9980000000000002]
[]
[null,null,null,"SLB-IL100",null,"1,9-Di(3-vinylimidazolium)nonane bis(trifluoromethylsulfonyl)imide",null,null,null,null,null,null,null,0.25,0.2,3.207696416831093E-3]
[null,null,null,null,60,0,1.8420000000000001,1.784,0.80600000000000005,0.47399999999999998,-3.1408749999999999,-2.8519999999999999,"1)",{"$f":"SQRT(F598^2+G598^2+H598^2+I598^2+J598^2)","v":2.7294563561266187},{"$f":"ACOS(($C$6*F598+$D$6*G598+$E$6*H598+$F$6*I598+$G$6*J598)/($I$7*N598)-0.000001)*180/PI()","v":43.975656825975953},{"$f":"SQRT(($C$7-F598/N598)^2+($D$7-G598/N598)^2+($E$7-H598/N598)^2+($F$7-I598/N598)^2+($G$7-J598/N598)^2)","v":0.74881790324453845}]
[null,null,null,null,80,0,1.857,1.6040000000000001,0.69199999999999995,0.433,-3.1408749999999999,-3.06]
[null,null,null,null,100,0,1.8280000000000001,1.4910000000000001,0.56599999999999995,0.38200000000000001,-3.1408749999999999,-3.1320000000000001]
[null,null,null,null,120,0,1.7609999999999999,1.347,0.53300000000000003,0.34,-3.1408749999999999,-3.2010000000000001]
[null,null,null,null,140,0,1.7090000000000001,1.2390000000000001,0.372,0.30099999999999999,-3.1408749999999999,-3.2029999999999998]
[null,null,null,null,160,7.1999999999999995E-2,1.569,1.052,0.35599999999999998,0.26700000000000002,-3.1408749999999999,-3.198]
[null,null,null,null,180,7.2999999999999995E-2,1.516,1.012,0.28399999999999997,0.246,-3.1408749999999999,-3.2669999999999999]
[null,null,null,null,200,0.14799999999999999,1.349,0.93,0.29299999999999998,0.20899999999999999,-3.1408749999999999,-3.214]

{"sheet":"Compare Columns","index":4,"n_rows":45,"n_cols":16,"rows_kept":45,"cut":false,"hidden":false,"merged":[]}
[{"$f":"GC!A1","v":"ChromSimGCxGC_4.0"},null,null,null,null,null,null,null,null,null,null,null,{"$f":"GC!D1","v":"Author: Bo Svensmark, svensmark@plen.ku.dk, Analytical Chemistry, PLEN, Univ. of Copenhagen, 2017-2026"}]
[]
[null,"1) In sheet GC choose the column of interest as Column 1 (Green column) in Table 3"]
[]
[]
[null,"2) Copy The values for the columns from sheet GC ",null,null,null,null,null,null,null,null,null,null,"q degrees",null,"Angle between the vector of the two columns in 5-dimensions (e,s,a,b,l)"]
[null,null,"a) Copy the table with all the columns ",null,null,null,null,null,null,null,null,null,"d",null,"Difference between the normalized vectors:"]
[null,null,"b) In Cell B14 in this sheet: Paste Values",null,null,null,null,null,null,null,null,null,null,null,"d = 0","No difference"]
[null,null,null,null,null,null,null,null,null,null,null,null,null,null,"d = Ö2","Orthogonal columns"]
[null,"3) Sort the table according to q degrees",null,null,null,null,null,null,null,null,null,null,null,null,"d = 2","Opposite retention"]
[null,null,"a) Mark the part of the table with column data"]
[null,null,"b) In menu Data -> Sort according to column B, Smallest to largest"]
[]
[null,"Column difference"]
[null,"q degrees","d","Name",null,"Columns to select from"]
[null,8.1028475198674038E-2,0,"DB-624",null,"6 % 3-cyanopropylphenylsiloxane"]
[null,8.9866460031663262,0.15667945533068403,"DB-1701",null,"Poly(cyanopropylphenyldimethylsiloxane)"]
[null,9.594835240962027,0.1672598819721127,"Rtx-440",null,"Poly(cyanopropylphenyldimethylsiloxane)"]
[null,10.893054822372104,0.18982820171698495,"Rxi-5Sil MS",null,"Similar to 5% poly(dimethyldiphenylsiloxane)"]
[null,14.983254665825791,0.26075878583972129,"HP-5",null,"5% poly(dimethyldiphenylsiloxane)"]
[null,16.251344955034394,0.28268609642176962,"Rtx-TNT",null,"5% poly(dimethyldiphenylsiloxane)"]
[null,16.642914435963558,0.28945007997119965,"Rxi-17",null,"50% poly(dimethyldiphenylsiloxane)"]
[null,16.93535229820861,0.29449945802090965,"SolGel-1",null,"100% poly(dimethyldiphenylsiloxane)"]
[null,19.637173223548587,0.34105537620638782,"Rxi-50",null,"50% poly(dimethyldiphenylsiloxane)"]
[null,21.367561011973102,0.37077419576672965,"DB-1",null,"100% poly(dimethyldiphenylsiloxane)"]
[null,21.985455609112432,0.38136618192218702,"Cyclodex B",null,"10.5% permethylated beta-cyclodextrin Cyclodex-B + 14% DB-1701"]
[null,22.061385144087698,0.38266701145793885,"DB-225",null,"Poly(cyanopropylphenyldimethylsiloxane)"]
[null,22.70531994797777,0.39369212877873772,"HP-5 ref3",null,"5% poly(dimethyldiphenylsiloxane)"]
[null,25.332353892650858,0.43853828963867669,"Rtx-Dioxin",null,"Carborane-siloxane copolymer"]
[null,26.691462494954621,0.46165066805285726,"HP-5 H",null,"High temperature data"]
[null,27.395121420135965,0.47359145541575293,"Rtx-OPPesticides",null,"35% Poly(dimethylmethyltrifluoropropylsiloxane)"]
[null,27.744911054188655,0.4795206161927183,"HP-88",null,"Bis(cyanopropylsiloxane)-co-methylsilarylene"]
[null,28.222935434839613,0.48761620167697306,"Rxi-50 ref 3",null,"50% poly(dimethyldiphenylsiloxane)"]
[null,28.701931187022897,0.49571972524872465,"Rtx-TNT2",null,"Similar to 35 % poly(dimethylmethyltrifluoropropylsiloxane) ?"]
[null,30.935240401453598,0.53338563117785209,"HP-INNOwax",null,"Poly(ethylene glycol)"]
[null,49.809636891274337,0.84222299712942927,"SPB-Octyl",null,"Poly(methyloctylsiloxane)"]
[null,58.797168416603633,0.9817634325742769,"SLB-IL100",null,"1,9-di(3-vinylimidazolium)nonane bis(trifluoromethylsulfonyl)imide"]
[null,"","","",null,""]
[null,"","","",null,""]
[null,"","","",null,""]
[null,"","","",null,""]
[null,"","","",null,""]
[null,"","","",null,""]
[null,"","","",null,""]
[null,"","","",null,""]

{"sheet":"High temperature data","index":5,"n_rows":111,"n_cols":15,"rows_kept":111,"cut":false,"hidden":false,"merged":[]}
["High temperature columns and compounds ",null,null,null,null,"(at present not included in the calculations)",null,null,null,null,null,null,null,null,{"$f":"GC!$D$1","v":"Author: Bo Svensmark, svensmark@plen.ku.dk, Analytical Chemistry, PLEN, Univ. of Copenhagen, 2017-2026"}]
[]
[]
["Columns at high temperature"]
["3)",null,"T","e","s","a","b","l","c",null,null,"3)","Compounds for expanding the descriptor space for characterizing separation"]
[null,"HP-5",200,5.6000000000000001E-2,0.20300000000000001,0.11700000000000001,0,0.32400000000000001,-2.6,null,null,null,"systems"]
[null,"3)",220,7.0000000000000007E-2,0.184,0.107,0,0.29499999999999998,-2.6230000000000002,null,null,null,"Thushara Karunasekara, Colin F. Poole∗"]
[null,null,240,7.5999999999999998E-2,0.17399999999999999,9.7000000000000003E-2,0,0.26500000000000001,-2.601,null,null,null,"Journal of Chromatography A, 1216 (2009) 1640–1649"]
[null,null,260,8.8999999999999996E-2,0.18099999999999999,0.08,0,0.245,-2.6680000000000001]
[null,null,280,9.5000000000000001E-2,0.16,9.1999999999999998E-2,0,0.223,-2.661]
[null,null,300,0.104,0.13800000000000001,0.105,0,0.21,-2.6480000000000001]
[]
[null,"Rtx-440",200,7.9000000000000001E-2,0.26300000000000001,0.159,0,0.34699999999999998,-2.403]
[null,"3)",220,9.2999999999999999E-2,0.246,0.14399999999999999,0,0.31900000000000001,-2.4449999999999998]
[null,null,240,0.109,0.217,0.128,0,0.28499999999999998,-2.4]
[null,null,260,0.11899999999999999,0.21099999999999999,0.11899999999999999,0,0.26600000000000001,-2.4670000000000001]
[null,null,280,0.127,0.19500000000000001,0.10199999999999999,0,0.24399999999999999,-2.4860000000000002]
[null,null,300,0.13500000000000001,0.186,9.2999999999999999E-2,0,0.22600000000000001,-2.52]
[]
[null,"SPB-Octyl",200,0.19,4.7E-2,0,0,-2E-3,-1.2E-2]
[null,"3)",220,0.19,4.7E-2,0,0,-2E-3,-1.2E-2]
[null,null,240,0.19800000000000001,4.3999999999999997E-2,0,0,-2E-3,-0.01]
[null,null,260,0.2,4.2999999999999997E-2,0,0,-2E-3,-1.4999999999999999E-2]
[]
[null,"Rxi-5Sil MS",200,5.7000000000000002E-2,0.23300000000000001,0.13,0,0.36,-2.492]
[null,"3)",220,6.9000000000000006E-2,0.21199999999999999,0.11700000000000001,0,0.32800000000000001,-2.5019999999999998]
[null,null,240,9.0999999999999998E-2,0.192,0.108,0,0.29799999999999999,-2.512]
[null,null,260,9.8000000000000004E-2,0.16900000000000001,0.112,0,0.254,-2.3849999999999998]
[null,null,280,0.107,0.14599999999999999,0.111,0,0.22800000000000001,-2.34]
[null,null,300,0.113,0.13600000000000001,9.7000000000000003E-2,0,0.20699999999999999,-2.3479999999999999]
[null,null,320,0.113,0.12,0.12,0,0.184,-2.2709999999999999]
[]
[null,"Rtx-OPP",200,-7.5999999999999998E-2,0.56100000000000005,0.13,0,0.3,-2.56]
[null,"3)",220,-5.1999999999999998E-2,0.52,0.13300000000000001,0,0.27300000000000002,-2.5830000000000002]
[null,null,240,-3.1E-2,0.47499999999999998,0.11899999999999999,0,0.24299999999999999,-2.5430000000000001]
[null,null,260,1.0999999999999999E-2,0.42099999999999999,0.109,0,0.214,-2.5179999999999998]
[null,null,280,1.7999999999999999E-2,0.40600000000000003,0.129,0,0.19600000000000001,-2.5579999999999998]
[null,null,300,4.1000000000000002E-2,0.33200000000000002,0.11700000000000001,0,0.17799999999999999,-2.4980000000000002]
[]
["Compounds for high temperatures"]
["3)",null,null,"E","S","A","B","L","V"]
[null,"1-Acetonaphthone",null,1.5169999999999999,1.417,0,0.55700000000000005,6.67,1.3829]
[null,"2-Acetonaphthone",null,1.429,1.4570000000000001,0,0.60099999999999998,6.7949999999999999,1.3829]
[null,"4-Acetylbiphenyl",null,1.504,1.5169999999999999,0,0.626,7.6719999999999997,1.6216999999999999]
[null,"Androsterone",null,1.371,1.651,0.43,1.5740000000000001,10.791,2.4257]
[null,"Anthracene",null,1.98,1.278,0,0.27,7.7359999999999998,1.4543999999999999]
[null,"Benzenesulfonamide",null,1.1890000000000001,1.873,0.65400000000000003,0.68200000000000005,6.0540000000000003,1.0971]
[null,"Benzyl cinnamate",null,1.2849999999999999,1.5429999999999999,0,0.61199999999999999,8.952,1.9192]
[null,"Benzyl cinnamate",null,1.212,1.113,0,0.71899999999999997,7.1639999999999997,1.6647000000000001]
[null,"Benzy lsalicylate",null,1.413,1.345,8.0000000000000002E-3,0.435,7.9880000000000004,1.7391000000000001]
[null,"1-Bromodecane",null,0.33200000000000002,0.41799999999999998,0,0.27,7.2629999999999999,1.9743999999999999]
[null,"Butylbenzyl phthalate",null,1.296,1.734,0,1.002,9.7959999999999994,2.4592999999999998]
[null,"Butyl oleate",null,2.4E-2,0.64500000000000002,0,0.57299999999999995,10.846,3.2395999999999998]
[null,"Butyl oleate",null,5.0999999999999997E-2,0.47399999999999998,0,0.66900000000000004,11.042999999999999,3.2827999999999999]
[null,"Carbazole",null,2.0510000000000002,1.5529999999999999,0.38800000000000001,0.22900000000000001,7.5330000000000004,1.3153999999999999]
[null,"Cholestane",null,1.22,0.41199999999999998,0,0,12.997,3.4784999999999999]
[null,"Cholesterol",null,1.353,1.087,0.21199999999999999,0.55800000000000005,13.388999999999999,3.4942000000000002]
[null,"Chrysene",null,2.6469999999999998,1.667,0,0.30199999999999999,10.122999999999999,1.8233999999999999]
[null,"Di(n-butoxyethyl)phthalate",null,0.64100000000000001,1.575,0,1.5149999999999999,10.673999999999999,2.9552]
[null,"Di-n-butyl phthalate",null,0.69399999999999995,1.3149999999999999,0,0.93400000000000005,8.4930000000000003,2.2742]
[null,"Di-n-butyl phthalate",null,9.0999999999999998E-2,0.94,0,0.96499999999999997,6.867,1.9481999999999999]
[null,"2,6-Dichloro-4-nitroaniline",null,1.2629999999999999,1.494,0.36899999999999999,0.31900000000000001,7.25,1.2352000000000001]
[null,"Dicyclohexyl phthalate",null,1.405,1.5349999999999999,0,1.0449999999999999,10.72,2.6206]
[null,"1,3-Diethyl-1,3-diphenylurea",null,1.6919999999999999,1.2949999999999999,0,1.304,7.952,2.2440000000000002]
[null,"N,N-Diethyldodecamide",null,0.33100000000000002,0.93600000000000005,0,0.94799999999999995,8.7370000000000001,2.2635000000000001]
[null,"Di(2-ethoxyethyl)phthalate",null,0.61899999999999999,1.56,0,1.5,9.0410000000000004,2.3915999999999999]
[null,"Diethyl phthalate",null,0.72499999999999998,1.9339999999999999,0,0.88800000000000001,6.6779999999999999,1.7105999999999999]
[null,"Diethyl phthalate",null,4.2999999999999997E-2,1.0580000000000001,0,0.98099999999999998,7.8710000000000004,2.23]
[null,"Dihydrocholesterol",null,1.333,1.046,0.20699999999999999,0.63300000000000001,13.525,3.5371999999999999]
[null,"N,N-Dimethyldodecylamine",null,0.08,0.19900000000000001,0,1.4670000000000001,7.032,2.181]
[null,"Di-n-octyl sebaccate",null,0.66200000000000003,1.2809999999999999,0,1.131,11.959,3.4014000000000002]
[null,"Diphenylamine",null,1.704,1.278,0.14899999999999999,0.53200000000000003,6.7990000000000004,1.4239999999999999]
[null,"N,N-Diphenyl-p-phenylenediamine",null,2.7149999999999999,2.09,0.312,0.98099999999999998,10.218,2.1316000000000002]
[null,"Dodecamethylcyclohexasiloxane",null,-0.88,-0.115,0,0.80800000000000005,6.0730000000000004,3.5171999999999999]
[null,"1,12-Dodecanediol",null,0.45500000000000002,0.80500000000000005,0.81899999999999995,1.2190000000000001,7.532,1.9168000000000001]
[null,"Dotricontane",null,0,0,0,0,15.122,4.6173999999999999]
[null,"Fluoranthene",null,2.31,1.47,0,0.28599999999999998,8.75,1.5846]
[null,"Glycidyloxypropyltrimethoxysilane",null,6.7000000000000004E-2,1.1200000000000001,0,0.98099999999999998,6.202,1.8072999999999999]
[null,"Hexachlorobenzene",null,1.401,0.88200000000000001,0,0,7.6710000000000003,1.4508000000000001]
[null,"Isocyanatopropyltriethoxysilane",null,-4.9000000000000002E-2,0.66100000000000003,0,0.85399999999999998,5.9420000000000002,2.0118999999999998]
[null,"alpha-Isomethyl ionone",null,0.76200000000000001,1.0109999999999999,0,0.70799999999999996,6.399,1.9023000000000001]
[null,"2-Methoxycinnamaldehyde",null,1.1599999999999999,1.5209999999999999,0,0.59799999999999998,6.3179999999999996,1.3113999999999999]
[null,"Methyl abietate",null,1.246,1.1459999999999999,0,1.08,10.202999999999999,2.7301000000000002]
[null,"1-Naphthol",null,1.4550000000000001,1.123,0.75700000000000001,0.33300000000000002,6.1630000000000003,1.1440999999999999]
[null,"2-Naphthol",null,1.4530000000000001,1.1739999999999999,0.78300000000000003,0.34699999999999998,6.1479999999999997,1.1440999999999999]
[null,"2-(1-Naphthyl)ethanol",null,1.5920000000000001,1.2330000000000001,0.44,0.74199999999999999,6.9889999999999999,1.4258999999999999]
[null,"Nicotinamide",null,1.1910000000000001,1.798,0.43099999999999999,0.77300000000000002,5.3550000000000004,0.93169999999999997]
[null,"Nicotine",null,0.86099999999999999,0.95799999999999996,0,1.0820000000000001,5.9219999999999997,1.371]
[null,"4-Nitrobenzyl alcohol",null,1.01,1.365,0.499,0.58399999999999996,6.3440000000000003,1.0902000000000001]
[null,"1-Nitronaphthalene",null,1.393,1.4790000000000001,0,0.28999999999999998,6.8440000000000003,1.2596000000000001]
[null,"Octadecane",null,0,0,0,0,8.6519999999999992,2.6448]
[null,"Octaethylcyclotetrasiloxane",null,-0.26500000000000001,-0.152,0,0.94399999999999995,8.3130000000000006,3.472]
[null,"Octanophenone",null,0.77900000000000003,0.98799999999999999,0,0.501,7.3860000000000001,1.8593]
[null,"Octyltriethoxysilane",null,-0.255,-2E-3,0,0.95299999999999996,6.9859999999999998,2.5030000000000001]
[null,"Pentachlorophenol",null,1.7450000000000001,0.95599999999999996,0.66500000000000004,6.0999999999999999E-2,7.5019999999999998,1.3371]
[null,"Perylene",null,2.5110000000000001,1.87,0,0.34899999999999998,11.874000000000001,1.9536]
[null,"Phenanthrene",null,1.9350000000000001,1.284,0,0.28399999999999997,7.6829999999999998,1.4543999999999999]
[null,"Phenylcyclohexane",null,0.879,0.60699999999999998,0,0.245,6.0609999999999999,1.4532]
[null,"Phenyl ether",null,1.2210000000000001,0.97899999999999998,0,0.26700000000000002,6.0579999999999998,1.3829]
[null,"4-Phenylphenol",null,1.518,1.1879999999999999,0.79700000000000004,0.44700000000000001,7.0590000000000002,1.3829]
[null,"Progesterone",null,1.585,2.214,0,1.3879999999999999,11.664999999999999,2.6215000000000002]
[null,"Resorcinol",null,1.02,0.98499999999999999,1.369,0.503,4.8620000000000001,0.83379999999999999]
[null,"Tetracosane",null,0,0,0,0,11.403,3.4902000000000002]
[null,"Trans-stilbene",null,1.621,1.218,0,0.28499999999999998,7.2990000000000004,1.5629999999999999]
[null,"Tribenzylamine",null,1.821,1.27,0,0.63100000000000001,9.7270000000000003,2.4544999999999999]
[null,"Tri-n-butyrina",null,0.11799999999999999,1.22,0,1.343,8.0150000000000006,2.4453]
[null,"Triisopropanolamine",null,0.629,1.335,0.41199999999999998,1.4990000000000001,5.8819999999999997,1.6526000000000001]
[null,"Trimethoprimb",null,1.819,2.0259999999999998,2.7E-2,2.0819999999999999,10.541,2.1812999999999998]
[null,"Triphenylamine",null,2.4409999999999998,0.98099999999999998,0,0.754,8.7669999999999995,2.0318000000000001]
[null,"Triphenylmethane",null,1.865,1.1519999999999999,0,0.54900000000000004,8.6310000000000002,2.0729000000000002]
[null,"Vanillin",null,1.1200000000000001,1.385,0.38500000000000001,0.67300000000000004,5.673,1.1313]

{"sheet":"Macro input","index":6,"n_rows":90,"n_cols":21,"rows_kept":90,"cut":false,"hidden":false,"merged":[]}
["N:","tM:","t(iso)","tmax","Time:","T","kW","S1","S2","S3",null,"N:","tM:","ntrap","tmax","No cycles",null,"kW","S1","S2","S3"]
[200,{"$f":"GC!B29","v":1},{"$f":"GC!I29","v":5},{"$f":"GC!B31","v":20},0,{"$f":"IF($F$19=0,GC!$G$29,IF($B48=\"\",\"\",$B48))","v":150},{"$f":"IF(ISNUMBER(SPmodel!L147),SPmodel!L147+LOG(GC!$F$29),\"\")","v":1.7891094999999988},{"$f":"IF(ISNUMBER(SPmodel!K147),-SPmodel!K147,\"\")","v":1.2748555769230759E-2},null,null,null,100,{"$f":"GC!C29","v":0.01},{"$f":"O2*2000/D2","v":10},{"$f":"GC!C31","v":0.1},{"$f":"GC!J13","v":200},null,{"$f":"IF(ISNUMBER(SPmodel!AH147),SPmodel!AH147+LOG(GC!$F$31),\"\")","v":1.6743937818181829},{"$f":"IF(ISNUMBER(SPmodel!AG147),-SPmodel!AG147,\"\")","v":9.7386945454545504E-3}]
[{"$f":"GC!B30","v":2000},null,null,null,{"$f":"IF($F$19=0,GC!$I$29,IF($B49=\"\",\"\",$A49))","v":5},{"$f":"IF($F$19=0,GC!$G$29,IF($B49=\"\",\"\",$B49))","v":150},{"$f":"IF(ISNUMBER(SPmodel!L148),SPmodel!L148+LOG(GC!$F$29),\"\")","v":1.893095604395604},{"$f":"IF(ISNUMBER(SPmodel!K148),-SPmodel!K148,\"\")","v":1.2928278571428571E-2},null,null,null,{"$f":"GC!C30","v":500},null,null,null,null,null,{"$f":"IF(ISNUMBER(SPmodel!AH148),SPmodel!AH148+LOG(GC!$F$31),\"\")","v":1.9206275272727289},{"$f":"IF(ISNUMBER(SPmodel!AG148),-SPmodel!AG148,\"\")","v":1.0512811515151524E-2}]
[{"$f":"IF(A2>1000,\"N too high. Fortran will use N=1000\",\"\")","v":""},null,null,null,{"$f":"IF($F$19=0,GC!$I$29+GC!$J$29,IF($B50=\"\",\"\",$A50))","v":25},{"$f":"IF($F$19=0,GC!$H$29,IF($B50=\"\",\"\",$B50))","v":350},{"$f":"IF(ISNUMBER(SPmodel!L149),SPmodel!L149+LOG(GC!$F$29),\"\")","v":1.8946132692307682},{"$f":"IF(ISNUMBER(SPmodel!K149),-SPmodel!K149,\"\")","v":1.2874574999999992E-2},null,null,null,{"$f":"IF(L2>1000,\"N too high. Fortran will use N=1000\",\"\")","v":""},null,null,null,null,null,{"$f":"IF(ISNUMBER(SPmodel!AH149),SPmodel!AH149+LOG(GC!$F$31),\"\")","v":1.719169945454545},{"$f":"IF(ISNUMBER(SPmodel!AG149),-SPmodel!AG149,\"\")","v":9.7429169696969676E-3}]
["Most cells are proteted. ",null,null,null,{"$f":"IF($F$19=0,\"\",IF($B51=\"\",\"\",$A51))","v":""},{"$f":"IF($F$19=0,\"\",IF($B51=\"\",\"\",$B51))","v":""},{"$f":"IF(ISNUMBER(SPmodel!L150),SPmodel!L150+LOG(GC!$F$29),\"\")","v":2.0991572637362634},{"$f":"IF(ISNUMBER(SPmodel!K150),-SPmodel!K150,\"\")","v":1.351535274725274E-2},null,null,null,null,null,"Test for integer ntrap",null,null,null,{"$f":"IF(ISNUMBER(SPmodel!AH150),SPmodel!AH150+LOG(GC!$F$31),\"\")","v":1.9602730181818202},{"$f":"IF(ISNUMBER(SPmodel!AG150),-SPmodel!AG150,\"\")","v":1.0478912121212132E-2}]
["To unprotect go to Review ",null,null,null,{"$f":"IF($F$19=0,\"\",IF($B52=\"\",\"\",$A52))","v":""},"",{"$f":"IF(ISNUMBER(SPmodel!L151),SPmodel!L151+LOG(GC!$F$29),\"\")","v":2.5129278241758231},{"$f":"IF(ISNUMBER(SPmodel!K151),-SPmodel!K151,\"\")","v":1.4652703296703288E-2},null,null,null,null,null,{"$f":"IF(INT(N2)<>N2,O2*2000/INT(N2),\"Ok\")","v":"Ok"},null,null,null,{"$f":"IF(ISNUMBER(SPmodel!AH151),SPmodel!AH151+LOG(GC!$F$31),\"\")","v":2.4342521636363652},{"$f":"IF(ISNUMBER(SPmodel!AG151),-SPmodel!AG151,\"\")","v":1.1953435757575764E-2}]
["click Unprotect sheet",null,null,null,"","",{"$f":"IF(ISNUMBER(SPmodel!L152),SPmodel!L152+LOG(GC!$F$29),\"\")","v":2.8096796318681312},{"$f":"IF(ISNUMBER(SPmodel!K152),-SPmodel!K152,\"\")","v":1.5097578296703293E-2},null,null,null,null,null,{"$f":"IF(INT(N2)<>N2,O2*2000/INT(N2+1),\"Ok\")","v":"Ok"},null,null,null,{"$f":"IF(ISNUMBER(SPmodel!AH152),SPmodel!AH152+LOG(GC!$F$31),\"\")","v":2.8920080363636367},{"$f":"IF(ISNUMBER(SPmodel!AG152),-SPmodel!AG152,\"\")","v":1.275903090909091E-2}]
[null,null,null,null,"","",{"$f":"IF(ISNUMBER(SPmodel!L153),SPmodel!L153+LOG(GC!$F$29),\"\")","v":3.0511363791208796},{"$f":"IF(ISNUMBER(SPmodel!K153),-SPmodel!K153,\"\")","v":1.5857877747252749E-2},null,null,null,null,null,null,null,null,null,{"$f":"IF(ISNUMBER(SPmodel!AH153),SPmodel!AH153+LOG(GC!$F$31),\"\")","v":3.3596024363636379},{"$f":"IF(ISNUMBER(SPmodel!AG153),-SPmodel!AG153,\"\")","v":1.4501877575757582E-2}]
["For update Macro",null,null,null,"","",{"$f":"IF(ISNUMBER(SPmodel!L154),SPmodel!L154+LOG(GC!$F$29),\"\")","v":3.4498414835164835},{"$f":"IF(ISNUMBER(SPmodel!K154),-SPmodel!K154,\"\")","v":1.7556277472527471E-2},null,null,null,"For update Macro",null,null,null,null,null,{"$f":"IF(ISNUMBER(SPmodel!AH154),SPmodel!AH154+LOG(GC!$F$31),\"\")","v":2.6872627272727287},{"$f":"IF(ISNUMBER(SPmodel!AG154),-SPmodel!AG154,\"\")","v":1.3484818181818188E-2}]
["HP-5",{"$f":"IF(A10<>GC!E29,1,0)","v":0},null,null,"","",{"$f":"IF(ISNUMBER(SPmodel!L155),SPmodel!L155+LOG(GC!$F$29),\"\")","v":3.7990364999999997},{"$f":"IF(ISNUMBER(SPmodel!K155),-SPmodel!K155,\"\")","v":1.7652648076923069E-2},null,null,null,"Rxi-50-240",{"$f":"IF(L10<>GC!E31,1,0)","v":0},null,null,null,null,{"$f":"IF(ISNUMBER(SPmodel!AH155),SPmodel!AH155+LOG(GC!$F$31),\"\")","v":3.9390758000000035},{"$f":"IF(ISNUMBER(SPmodel!AG155),-SPmodel!AG155,\"\")","v":1.5825840000000018E-2}]
[1,{"$f":"IF(A11<>GC!F29,1,0)","v":0},null,null,"","",{"$f":"IF(ISNUMBER(SPmodel!L156),SPmodel!L156+LOG(GC!$F$29),\"\")","v":4.1111823736263728},{"$f":"IF(ISNUMBER(SPmodel!K156),-SPmodel!K156,\"\")","v":1.8567390109890107E-2},null,null,null,1,{"$f":"IF(L11<>GC!F31,1,0)","v":0},null,null,null,null,{"$f":"IF(ISNUMBER(SPmodel!AH156),SPmodel!AH156+LOG(GC!$F$31),\"\")","v":4.3843717272727307},{"$f":"IF(ISNUMBER(SPmodel!AG156),-SPmodel!AG156,\"\")","v":1.7262251515151532E-2}]
[20,{"$f":"IF(A12<>GC!B31,1,0)","v":0},null,null,"","",{"$f":"IF(ISNUMBER(SPmodel!L157),SPmodel!L157+LOG(GC!$F$29),\"\")","v":4.6125425494505476},{"$f":"IF(ISNUMBER(SPmodel!K157),-SPmodel!K157,\"\")","v":1.9345879120879109E-2},null,null,null,0.1,{"$f":"IF(L12<>GC!C31,1,0)","v":0},null,null,null,null,{"$f":"IF(ISNUMBER(SPmodel!AH157),SPmodel!AH157+LOG(GC!$F$31),\"\")","v":5.308207509090912},{"$f":"IF(ISNUMBER(SPmodel!AG157),-SPmodel!AG157,\"\")","v":1.9046906060606075E-2}]
[11,{"$f":"IF(A13<>B24,1,0)","v":0},null,null,"","",{"$f":"IF(ISNUMBER(SPmodel!L158),SPmodel!L158+LOG(GC!$F$29),\"\")","v":""},{"$f":"IF(ISNUMBER(SPmodel!K158),-SPmodel!K158,\"\")","v":""},null,null,null,2,{"$f":"IF(L13<>GC!L32,1,0)","v":0},null,null,null,null,{"$f":"IF(ISNUMBER(SPmodel!AH158),SPmodel!AH158+LOG(GC!$F$31),\"\")","v":""},{"$f":"IF(ISNUMBER(SPmodel!AG158),-SPmodel!AG158,\"\")","v":""}]
[1,{"$f":"IF(A14<>GC!B29,1,0)","v":0},null,null,"","",{"$f":"IF(ISNUMBER(SPmodel!L159),SPmodel!L159+LOG(GC!$F$29),\"\")","v":""},{"$f":"IF(ISNUMBER(SPmodel!K159),-SPmodel!K159,\"\")","v":""},null,null,null,0.01,{"$f":"IF(L14<>GC!C29,1,0)","v":0},null,null,null,null,{"$f":"IF(ISNUMBER(SPmodel!AH159),SPmodel!AH159+LOG(GC!$F$31),\"\")","v":""},{"$f":"IF(ISNUMBER(SPmodel!AG159),-SPmodel!AG159,\"\")","v":""}]
[2000,{"$f":"IF(A15<>GC!B30,1,0)","v":0},null,null,"","",{"$f":"IF(ISNUMBER(SPmodel!L160),SPmodel!L160+LOG(GC!$F$29),\"\")","v":""},{"$f":"IF(ISNUMBER(SPmodel!K160),-SPmodel!K160,\"\")","v":""},null,null,null,500,{"$f":"IF(L15<>GC!C30,1,0)","v":0},null,null,null,null,{"$f":"IF(ISNUMBER(SPmodel!AH160),SPmodel!AH160+LOG(GC!$F$31),\"\")","v":""},{"$f":"IF(ISNUMBER(SPmodel!AG160),-SPmodel!AG160,\"\")","v":""}]
[150,{"$f":"IF(A16<>GC!G29,1,0)","v":0},null,null,"","",{"$f":"IF(ISNUMBER(SPmodel!L161),SPmodel!L161+LOG(GC!$F$29),\"\")","v":""},{"$f":"IF(ISNUMBER(SPmodel!K161),-SPmodel!K161,\"\")","v":""},null,null,null,51.295899337289796,{"$f":"IF(L16<>M25,1,0)","v":0},null,null,null,null,{"$f":"IF(ISNUMBER(SPmodel!AH161),SPmodel!AH161+LOG(GC!$F$31),\"\")","v":""},{"$f":"IF(ISNUMBER(SPmodel!AG161),-SPmodel!AG161,\"\")","v":""}]
[350,{"$f":"IF(A17<>GC!H29,1,0)","v":0},null,null,"Temp. Program:",null,{"$f":"IF(ISNUMBER(SPmodel!L162),SPmodel!L162+LOG(GC!$F$29),\"\")","v":""},{"$f":"IF(ISNUMBER(SPmodel!K162),-SPmodel!K162,\"\")","v":""},null,null,null,null,null,null,null,null,null,{"$f":"IF(ISNUMBER(SPmodel!AH162),SPmodel!AH162+LOG(GC!$F$31),\"\")","v":""},{"$f":"IF(ISNUMBER(SPmodel!AG162),-SPmodel!AG162,\"\")","v":""}]
[5,{"$f":"IF(A18<>GC!I29,1,0)","v":0},null,null,"1D",null,{"$f":"IF(ISNUMBER(SPmodel!L163),SPmodel!L163+LOG(GC!$F$29),\"\")","v":""},{"$f":"IF(ISNUMBER(SPmodel!K163),-SPmodel!K163,\"\")","v":""},null,null,null,null,null,null,null,null,null,{"$f":"IF(ISNUMBER(SPmodel!AH163),SPmodel!AH163+LOG(GC!$F$31),\"\")","v":""},{"$f":"IF(ISNUMBER(SPmodel!AG163),-SPmodel!AG163,\"\")","v":""}]
[20,{"$f":"IF(A19<>GC!J29,1,0)","v":0},null,null,"Input from:",0,{"$f":"IF(ISNUMBER(SPmodel!L164),SPmodel!L164+LOG(GC!$F$29),\"\")","v":""},{"$f":"IF(ISNUMBER(SPmodel!K164),-SPmodel!K164,\"\")","v":""},null,null,null,null,null,null,null,null,null,{"$f":"IF(ISNUMBER(SPmodel!AH164),SPmodel!AH164+LOG(GC!$F$31),\"\")","v":""},{"$f":"IF(ISNUMBER(SPmodel!AG164),-SPmodel!AG164,\"\")","v":""}]
[42.173035620569351,{"$f":"IF(A20<>B25,1,0)","v":0},null,null,"0: Sheet GC",null,{"$f":"IF(ISNUMBER(SPmodel!L165),SPmodel!L165+LOG(GC!$F$29),\"\")","v":""},{"$f":"IF(ISNUMBER(SPmodel!K165),-SPmodel!K165,\"\")","v":""},null,null,null,null,null,null,null,null,null,{"$f":"IF(ISNUMBER(SPmodel!AH165),SPmodel!AH165+LOG(GC!$F$31),\"\")","v":""},{"$f":"IF(ISNUMBER(SPmodel!AG165),-SPmodel!AG165,\"\")","v":""}]
["SUM=",{"$f":"SUM(B10:B20)+M21","v":0},null,null,"1: Complex program",null,{"$f":"IF(ISNUMBER(SPmodel!L166),SPmodel!L166+LOG(GC!$F$29),\"\")","v":""},{"$f":"IF(ISNUMBER(SPmodel!K166),-SPmodel!K166,\"\")","v":""},null,null,null,"SUM=",{"$f":"SUM(M10:M20)","v":0},null,null,null,null,{"$f":"IF(ISNUMBER(SPmodel!AH166),SPmodel!AH166+LOG(GC!$F$31),\"\")","v":""},{"$f":"IF(ISNUMBER(SPmodel!AG166),-SPmodel!AG166,\"\")","v":""}]
[]
["Degree",{"$f":"GC!L30","v":2},null,null,null,null,{"$f":"IF(ISNUMBER(SPmodel!I147),SPmodel!I147+LOG(GC!$F$29),\"\")","v":3.1318210589410542},{"$f":"IF(ISNUMBER(SPmodel!H147),-SPmodel!H147,\"\")","v":3.0784979695304658E-2},{"$f":"IF(ISNUMBER(SPmodel!G147),-SPmodel!G147,\"\")","v":-5.0101177572427574E-5},null,null,"Degree",{"$f":"GC!L32","v":2},null,null,null,null,{"$f":"IF(ISNUMBER(SPmodel!AE147),SPmodel!AE147+LOG(GC!$F$31),\"\")","v":2.4666699636363631},{"$f":"IF(ISNUMBER(SPmodel!AD147),-SPmodel!AD147,\"\")","v":2.2118009886363605E-2},{"$f":"IF(ISNUMBER(SPmodel!AC147),-SPmodel!AC147,\"\")","v":-4.1264384469696819E-5}]
["jmax",{"$f":"COUNT(G44:G63)","v":11},null,null,null,null,{"$f":"IF(ISNUMBER(SPmodel!I148),SPmodel!I148+LOG(GC!$F$29),\"\")","v":3.1462830149850096},{"$f":"IF(ISNUMBER(SPmodel!H148),-SPmodel!H148,\"\")","v":2.9762139310689259E-2},{"$f":"IF(ISNUMBER(SPmodel!G148),-SPmodel!G148,\"\")","v":-4.6760724275724213E-5},null,null,"jmax",{"$f":"COUNT(R44:R63)","v":11},null,null,null,null,{"$f":"IF(ISNUMBER(SPmodel!AE148),SPmodel!AE148+LOG(GC!$F$31),\"\")","v":2.6871344363636385},{"$f":"IF(ISNUMBER(SPmodel!AD148),-SPmodel!AD148,\"\")","v":2.2489481969696967E-2},{"$f":"IF(ISNUMBER(SPmodel!AC148),-SPmodel!AC148,\"\")","v":-3.9922234848484777E-5}]
["Cheksum",{"$f":"SUM(G44:J63)","v":42.173035620569351},null,null,null,null,{"$f":"IF(ISNUMBER(SPmodel!I149),SPmodel!I149+LOG(GC!$F$29),\"\")","v":3.1415631538461484},{"$f":"IF(ISNUMBER(SPmodel!H149),-SPmodel!H149,\"\")","v":2.962464807692303E-2},{"$f":"IF(ISNUMBER(SPmodel!G149),-SPmodel!G149,\"\")","v":-4.6527980769230739E-5},null,null,"Cheksum",{"$f":"SUM(R44:U63)","v":51.295899337289796},null,null,null,null,{"$f":"IF(ISNUMBER(SPmodel!AE149),SPmodel!AE149+LOG(GC!$F$31),\"\")","v":2.4422779454545478},{"$f":"IF(ISNUMBER(SPmodel!AD149),-SPmodel!AD149,\"\")","v":2.1041479469696971E-2},{"$f":"IF(ISNUMBER(SPmodel!AC149),-SPmodel!AC149,\"\")","v":-3.7661874999999943E-5}]
[null,null,null,null,null,null,{"$f":"IF(ISNUMBER(SPmodel!I150),SPmodel!I150+LOG(GC!$F$29),\"\")","v":3.4892054605394573},{"$f":"IF(ISNUMBER(SPmodel!H150),-SPmodel!H150,\"\")","v":3.2187641958041933E-2},{"$f":"IF(ISNUMBER(SPmodel!G150),-SPmodel!G150,\"\")","v":-5.1867470029970041E-5},null,null,null,null,null,null,null,null,{"$f":"IF(ISNUMBER(SPmodel!AE150),SPmodel!AE150+LOG(GC!$F$31),\"\")","v":2.760297381818186},{"$f":"IF(ISNUMBER(SPmodel!AD150),-SPmodel!AD150,\"\")","v":2.2979292803030328E-2},{"$f":"IF(ISNUMBER(SPmodel!AC150),-SPmodel!AC150,\"\")","v":-4.1667935606060602E-5}]
[null,null,null,null,null,null,{"$f":"IF(ISNUMBER(SPmodel!I151),SPmodel!I151+LOG(GC!$F$29),\"\")","v":4.0064597632367569},{"$f":"IF(ISNUMBER(SPmodel!H151),-SPmodel!H151,\"\")","v":3.4715072627372563E-2},{"$f":"IF(ISNUMBER(SPmodel!G151),-SPmodel!G151,\"\")","v":-5.5728803696303579E-5},null,null,null,null,null,null,null,null,{"$f":"IF(ISNUMBER(SPmodel!AE151),SPmodel!AE151+LOG(GC!$F$31),\"\")","v":3.2975527090909078},{"$f":"IF(ISNUMBER(SPmodel!AD151),-SPmodel!AD151,\"\")","v":2.5442506780302996E-2},{"$f":"IF(ISNUMBER(SPmodel!AC151),-SPmodel!AC151,\"\")","v":-4.4963570075757443E-5}]
[null,null,null,null,null,null,{"$f":"IF(ISNUMBER(SPmodel!I152),SPmodel!I152+LOG(GC!$F$29),\"\")","v":4.2391013726273661},{"$f":"IF(ISNUMBER(SPmodel!H152),-SPmodel!H152,\"\")","v":3.4298765859140802E-2},{"$f":"IF(ISNUMBER(SPmodel!G152),-SPmodel!G152,\"\")","v":-5.3336632117882051E-5},null,null,null,null,null,null,null,null,{"$f":"IF(ISNUMBER(SPmodel!AE152),SPmodel!AE152+LOG(GC!$F$31),\"\")","v":3.6766064000000012},{"$f":"IF(ISNUMBER(SPmodel!AD152),-SPmodel!AD152,\"\")","v":2.5018380340909068E-2},{"$f":"IF(ISNUMBER(SPmodel!AC152),-SPmodel!AC152,\"\")","v":-4.0864498106060434E-5}]
[null,null,null,null,null,null,{"$f":"IF(ISNUMBER(SPmodel!I153),SPmodel!I153+LOG(GC!$F$29),\"\")","v":4.6091679999999933},{"$f":"IF(ISNUMBER(SPmodel!H153),-SPmodel!H153,\"\")","v":3.6786660714285664E-2},{"$f":"IF(ISNUMBER(SPmodel!G153),-SPmodel!G153,\"\")","v":-5.81355082417582E-5},null,null,null,null,null,null,null,null,{"$f":"IF(ISNUMBER(SPmodel!AE153),SPmodel!AE153+LOG(GC!$F$31),\"\")","v":4.3048029818181828},{"$f":"IF(ISNUMBER(SPmodel!AD153),-SPmodel!AD153,\"\")","v":2.9270636098484817E-2},{"$f":"IF(ISNUMBER(SPmodel!AC153),-SPmodel!AC153,\"\")","v":-4.9229195075757372E-5}]
[null,null,null,null,null,null,{"$f":"IF(ISNUMBER(SPmodel!I154),SPmodel!I154+LOG(GC!$F$29),\"\")","v":5.1089030469530421},{"$f":"IF(ISNUMBER(SPmodel!H154),-SPmodel!H154,\"\")","v":3.9842179070929032E-2},{"$f":"IF(ISNUMBER(SPmodel!G154),-SPmodel!G154,\"\")","v":-6.1905282217782182E-5},null,null,null,null,null,null,null,null,{"$f":"IF(ISNUMBER(SPmodel!AE154),SPmodel!AE154+LOG(GC!$F$31),\"\")","v":3.6044263636363651},{"$f":"IF(ISNUMBER(SPmodel!AD154),-SPmodel!AD154,\"\")","v":2.7815499999999979E-2},{"$f":"IF(ISNUMBER(SPmodel!AC154),-SPmodel!AC154,\"\")","v":-4.7768939393939265E-5}]
[null,null,null,null,null,null,{"$f":"IF(ISNUMBER(SPmodel!I155),SPmodel!I155+LOG(GC!$F$29),\"\")","v":5.4428400349650303},{"$f":"IF(ISNUMBER(SPmodel!H155),-SPmodel!H155,\"\")","v":3.9733591083916033E-2},{"$f":"IF(ISNUMBER(SPmodel!G155),-SPmodel!G155,\"\")","v":-6.1335952797202743E-5},null,null,null,null,null,null,null,null,{"$f":"IF(ISNUMBER(SPmodel!AE155),SPmodel!AE155+LOG(GC!$F$31),\"\")","v":4.8551263454545479},{"$f":"IF(ISNUMBER(SPmodel!AD155),-SPmodel!AD155,\"\")","v":3.013912977272724E-2},{"$f":"IF(ISNUMBER(SPmodel!AC155),-SPmodel!AC155,\"\")","v":-4.7710965909090703E-5}]
[null,null,null,null,null,null,{"$f":"IF(ISNUMBER(SPmodel!I156),SPmodel!I156+LOG(GC!$F$29),\"\")","v":5.8676425264735208},{"$f":"IF(ISNUMBER(SPmodel!H156),-SPmodel!H156,\"\")","v":4.2161630969030917E-2},{"$f":"IF(ISNUMBER(SPmodel!G156),-SPmodel!G156,\"\")","v":-6.5539557942057881E-5},null,null,null,null,null,null,null,null,{"$f":"IF(ISNUMBER(SPmodel!AE156),SPmodel!AE156+LOG(GC!$F$31),\"\")","v":5.3786497272727312},{"$f":"IF(ISNUMBER(SPmodel!AD156),-SPmodel!AD156,\"\")","v":3.2797845265151539E-2},{"$f":"IF(ISNUMBER(SPmodel!AC156),-SPmodel!AC156,\"\")","v":-5.1785312499999998E-5}]
[null,null,null,null,null,null,{"$f":"IF(ISNUMBER(SPmodel!I157),SPmodel!I157+LOG(GC!$F$29),\"\")","v":6.443739093906089},{"$f":"IF(ISNUMBER(SPmodel!H157),-SPmodel!H157,\"\")","v":4.3944041658341627E-2},{"$f":"IF(ISNUMBER(SPmodel!G157),-SPmodel!G157,\"\")","v":-6.8328229270729287E-5},null,null,null,null,null,null,null,null,{"$f":"IF(ISNUMBER(SPmodel!AE157),SPmodel!AE157+LOG(GC!$F$31),\"\")","v":6.3304320545454562},{"$f":"IF(ISNUMBER(SPmodel!AD157),-SPmodel!AD157,\"\")","v":3.5019164583333318E-2},{"$f":"IF(ISNUMBER(SPmodel!AC157),-SPmodel!AC157,\"\")","v":-5.3240861742424081E-5}]
[null,null,null,null,null,null,{"$f":"IF(ISNUMBER(SPmodel!I158),SPmodel!I158+LOG(GC!$F$29),\"\")","v":""},{"$f":"IF(ISNUMBER(SPmodel!H158),-SPmodel!H158,\"\")","v":""},{"$f":"IF(ISNUMBER(SPmodel!G158),-SPmodel!G158,\"\")","v":""},null,null,null,null,null,null,null,null,{"$f":"IF(ISNUMBER(SPmodel!AE158),SPmodel!AE158+LOG(GC!$F$31),\"\")","v":""},{"$f":"IF(ISNUMBER(SPmodel!AD158),-SPmodel!AD158,\"\")","v":""},{"$f":"IF(ISNUMBER(SPmodel!AC158),-SPmodel!AC158,\"\")","v":""}]
[null,null,null,null,null,null,{"$f":"IF(ISNUMBER(SPmodel!I159),SPmodel!I159+LOG(GC!$F$29),\"\")","v":""},{"$f":"IF(ISNUMBER(SPmodel!H159),-SPmodel!H159,\"\")","v":""},{"$f":"IF(ISNUMBER(SPmodel!G159),-SPmodel!G159,\"\")","v":""},null,null,null,null,null,null,null,null,{"$f":"IF(ISNUMBER(SPmodel!AE159),SPmodel!AE159+LOG(GC!$F$31),\"\")","v":""},{"$f":"IF(ISNUMBER(SPmodel!AD159),-SPmodel!AD159,\"\")","v":""},{"$f":"IF(ISNUMBER(SPmodel!AC159),-SPmodel!AC159,\"\")","v":""}]
[null,null,null,null,null,null,{"$f":"IF(ISNUMBER(SPmodel!I160),SPmodel!I160+LOG(GC!$F$29),\"\")","v":""},{"$f":"IF(ISNUMBER(SPmodel!H160),-SPmodel!H160,\"\")","v":""},{"$f":"IF(ISNUMBER(SPmodel!G160),-SPmodel!G160,\"\")","v":""},null,null,null,null,null,null,null,null,{"$f":"IF(ISNUMBER(SPmodel!AE160),SPmodel!AE160+LOG(GC!$F$31),\"\")","v":""},{"$f":"IF(ISNUMBER(SPmodel!AD160),-SPmodel!AD160,\"\")","v":""},{"$f":"IF(ISNUMBER(SPmodel!AC160),-SPmodel!AC160,\"\")","v":""}]
[null,null,null,null,null,null,{"$f":"IF(ISNUMBER(SPmodel!I161),SPmodel!I161+LOG(GC!$F$29),\"\")","v":""},{"$f":"IF(ISNUMBER(SPmodel!H161),-SPmodel!H161,\"\")","v":""},{"$f":"IF(ISNUMBER(SPmodel!G161),-SPmodel!G161,\"\")","v":""},null,null,null,null,null,null,null,null,{"$f":"IF(ISNUMBER(SPmodel!AE161),SPmodel!AE161+LOG(GC!$F$31),\"\")","v":""},{"$f":"IF(ISNUMBER(SPmodel!AD161),-SPmodel!AD161,\"\")","v":""},{"$f":"IF(ISNUMBER(SPmodel!AC161),-SPmodel!AC161,\"\")","v":""}]
[null,null,null,null,null,null,{"$f":"IF(ISNUMBER(SPmodel!I162),SPmodel!I162+LOG(GC!$F$29),\"\")","v":""},{"$f":"IF(ISNUMBER(SPmodel!H162),-SPmodel!H162,\"\")","v":""},{"$f":"IF(ISNUMBER(SPmodel!G162),-SPmodel!G162,\"\")","v":""},null,null,null,null,null,null,null,null,{"$f":"IF(ISNUMBER(SPmodel!AE162),SPmodel!AE162+LOG(GC!$F$31),\"\")","v":""},{"$f":"IF(ISNUMBER(SPmodel!AD162),-SPmodel!AD162,\"\")","v":""},{"$f":"IF(ISNUMBER(SPmodel!AC162),-SPmodel!AC162,\"\")","v":""}]
[null,null,null,null,null,null,{"$f":"IF(ISNUMBER(SPmodel!I163),SPmodel!I163+LOG(GC!$F$29),\"\")","v":""},{"$f":"IF(ISNUMBER(SPmodel!H163),-SPmodel!H163,\"\")","v":""},{"$f":"IF(ISNUMBER(SPmodel!G163),-SPmodel!G163,\"\")","v":""},null,null,null,null,null,null,null,null,{"$f":"IF(ISNUMBER(SPmodel!AE163),SPmodel!AE163+LOG(GC!$F$31),\"\")","v":""},{"$f":"IF(ISNUMBER(SPmodel!AD163),-SPmodel!AD163,\"\")","v":""},{"$f":"IF(ISNUMBER(SPmodel!AC163),-SPmodel!AC163,\"\")","v":""}]
[null,null,null,null,null,null,{"$f":"IF(ISNUMBER(SPmodel!I164),SPmodel!I164+LOG(GC!$F$29),\"\")","v":""},{"$f":"IF(ISNUMBER(SPmodel!H164),-SPmodel!H164,\"\")","v":""},{"$f":"IF(ISNUMBER(SPmodel!G164),-SPmodel!G164,\"\")","v":""},null,null,null,null,null,null,null,null,{"$f":"IF(ISNUMBER(SPmodel!AE164),SPmodel!AE164+LOG(GC!$F$31),\"\")","v":""},{"$f":"IF(ISNUMBER(SPmodel!AD164),-SPmodel!AD164,\"\")","v":""},{"$f":"IF(ISNUMBER(SPmodel!AC164),-SPmodel!AC164,\"\")","v":""}]
[null,null,null,null,null,null,{"$f":"IF(ISNUMBER(SPmodel!I165),SPmodel!I165+LOG(GC!$F$29),\"\")","v":""},{"$f":"IF(ISNUMBER(SPmodel!H165),-SPmodel!H165,\"\")","v":""},{"$f":"IF(ISNUMBER(SPmodel!G165),-SPmodel!G165,\"\")","v":""},null,null,null,null,null,null,null,null,{"$f":"IF(ISNUMBER(SPmodel!AE165),SPmodel!AE165+LOG(GC!$F$31),\"\")","v":""},{"$f":"IF(ISNUMBER(SPmodel!AD165),-SPmodel!AD165,\"\")","v":""},{"$f":"IF(ISNUMBER(SPmodel!AC165),-SPmodel!AC165,\"\")","v":""}]
[null,null,null,null,null,null,{"$f":"IF(ISNUMBER(SPmodel!I166),SPmodel!I166+LOG(GC!$F$29),\"\")","v":""},{"$f":"IF(ISNUMBER(SPmodel!H166),-SPmodel!H166,\"\")","v":""},{"$f":"IF(ISNUMBER(SPmodel!G166),-SPmodel!G166,\"\")","v":""},null,null,null,null,null,null,null,null,{"$f":"IF(ISNUMBER(SPmodel!AE166),SPmodel!AE166+LOG(GC!$F$31),\"\")","v":""},{"$f":"IF(ISNUMBER(SPmodel!AD166),-SPmodel!AD166,\"\")","v":""},{"$f":"IF(ISNUMBER(SPmodel!AC166),-SPmodel!AC166,\"\")","v":""}]
[]
[null,null,null,null,null,null,{"$f":"IF(ISNUMBER(SPmodel!E147),SPmodel!E147+LOG(GC!$F$29),\"\")","v":2.516613135864139},{"$f":"IF(ISNUMBER(SPmodel!D147),-SPmodel!D147,\"\")","v":1.7479887708125273E-2},{"$f":"IF(ISNUMBER(SPmodel!C147),-SPmodel!C147,\"\")","v":3.2292740696802824E-5},{"$f":"IF(ISNUMBER(SPmodel!B147),-SPmodel!B147,\"\")","v":-1.5258133012820443E-7},null,null,null,null,null,null,null,{"$f":"IF(ISNUMBER(SPmodel!AA147),SPmodel!AA147+LOG(GC!$F$31),\"\")","v":3.5764088121212128},{"$f":"IF(ISNUMBER(SPmodel!Z147),-SPmodel!Z147,\"\")","v":4.9523579846542452E-2},{"$f":"IF(ISNUMBER(SPmodel!Y147),-SPmodel!Y147,\"\")","v":-2.4133749417249497E-4},{"$f":"IF(ISNUMBER(SPmodel!X147),-SPmodel!X147,\"\")","v":4.4460691045066173E-7}]
["1D complex temperature program",null,null,null,null,null,{"$f":"IF(ISNUMBER(SPmodel!E148),SPmodel!E148+LOG(GC!$F$29),\"\")","v":2.4989092597402616},{"$f":"IF(ISNUMBER(SPmodel!D148),-SPmodel!D148,\"\")","v":1.5761397381784902E-2},{"$f":"IF(ISNUMBER(SPmodel!C148),-SPmodel!C148,\"\")","v":3.994111794455539E-5},{"$f":"IF(ISNUMBER(SPmodel!B148),-SPmodel!B148,\"\")","v":-1.6055896707459199E-7},null,null,null,null,null,null,null,{"$f":"IF(ISNUMBER(SPmodel!AA148),SPmodel!AA148+LOG(GC!$F$31),\"\")","v":3.6146934666666679},{"$f":"IF(ISNUMBER(SPmodel!Z148),-SPmodel!Z148,\"\")","v":4.5396027894328027E-2},{"$f":"IF(ISNUMBER(SPmodel!Y148),-SPmodel!Y148,\"\")","v":-2.0715042540792652E-4},{"$f":"IF(ISNUMBER(SPmodel!X148),-SPmodel!X148,\"\")","v":3.7161820124320346E-7}]
["Time","Temp","Ramp","dt",null,null,{"$f":"IF(ISNUMBER(SPmodel!E149),SPmodel!E149+LOG(GC!$F$29),\"\")","v":2.4577570419580446},{"$f":"IF(ISNUMBER(SPmodel!D149),-SPmodel!D149,\"\")","v":1.4835984149184212E-2},{"$f":"IF(ISNUMBER(SPmodel!C149),-SPmodel!C149,\"\")","v":4.5053194930069547E-5},{"$f":"IF(ISNUMBER(SPmodel!B149),-SPmodel!B149,\"\")","v":-1.6959476981351912E-7},null,null,null,null,null,null,null,{"$f":"IF(ISNUMBER(SPmodel!AA149),SPmodel!AA149+LOG(GC!$F$31),\"\")","v":3.4136687333333371},{"$f":"IF(ISNUMBER(SPmodel!Z149),-SPmodel!Z149,\"\")","v":4.503047312548579E-2},{"$f":"IF(ISNUMBER(SPmodel!Y149),-SPmodel!Y149,\"\")","v":-2.127924256993019E-4},{"$f":"IF(ISNUMBER(SPmodel!X149),-SPmodel!X149,\"\")","v":3.8917900155400356E-7}]
["min","Degree o","o/min","min",null,null,{"$f":"IF(ISNUMBER(SPmodel!E150),SPmodel!E150+LOG(GC!$F$29),\"\")","v":2.8672387682317688},{"$f":"IF(ISNUMBER(SPmodel!D150),-SPmodel!D150,\"\")","v":1.8736378175990664E-2},{"$f":"IF(ISNUMBER(SPmodel!C150),-SPmodel!C150,\"\")","v":3.1431640546953205E-5},{"$f":"IF(ISNUMBER(SPmodel!B150),-SPmodel!B150,\"\")","v":-1.5425761217948752E-7},null,null,null,null,null,null,null,{"$f":"IF(ISNUMBER(SPmodel!AA150),SPmodel!AA150+LOG(GC!$F$31),\"\")","v":3.8176349575757609},{"$f":"IF(ISNUMBER(SPmodel!Z150),-SPmodel!Z150,\"\")","v":4.9090786460761635E-2},{"$f":"IF(ISNUMBER(SPmodel!Y150),-SPmodel!Y150,\"\")","v":-2.3229370046620179E-4},{"$f":"IF(ISNUMBER(SPmodel!X150),-SPmodel!X150,\"\")","v":4.236128108003133E-7}]
[0,{"$f":"B49","v":35},null,null,null,null,{"$f":"IF(ISNUMBER(SPmodel!E151),SPmodel!E151+LOG(GC!$F$29),\"\")","v":3.4147730149850171},{"$f":"IF(ISNUMBER(SPmodel!D151),-SPmodel!D151,\"\")","v":2.1918672714785269E-2},{"$f":"IF(ISNUMBER(SPmodel!C151),-SPmodel!C151,\"\")","v":2.351495723026942E-5},{"$f":"IF(ISNUMBER(SPmodel!B151),-SPmodel!B151,\"\")","v":-1.4674770541957981E-7},null,null,null,null,null,null,null,{"$f":"IF(ISNUMBER(SPmodel!AA151),SPmodel!AA151+LOG(GC!$F$31),\"\")","v":4.2835968909090889},{"$f":"IF(ISNUMBER(SPmodel!Z151),-SPmodel!Z151,\"\")","v":4.9793373513986078E-2},{"$f":"IF(ISNUMBER(SPmodel!Y151),-SPmodel!Y151,\"\")","v":-2.2273595862470932E-4},{"$f":"IF(ISNUMBER(SPmodel!X151),-SPmodel!X151,\"\")","v":3.9504975233100378E-7}]
[{"$f":"IF(D49=\"\",NA(),D49)","v":5},35,-5,{"$f":"IF(C49>0,(B49-B48)/C49,IF(C49<0,-C49,\"\"))","v":5},null,null,{"$f":"IF(ISNUMBER(SPmodel!E152),SPmodel!E152+LOG(GC!$F$29),\"\")","v":3.5989975824175904},{"$f":"IF(ISNUMBER(SPmodel!D152),-SPmodel!D152,\"\")","v":2.0455251348651504E-2},{"$f":"IF(ISNUMBER(SPmodel!C152),-SPmodel!C152,\"\")","v":3.2391554070928192E-5},{"$f":"IF(ISNUMBER(SPmodel!B152),-SPmodel!B152,\"\")","v":-1.5875590034964877E-7},null,null,null,null,null,null,null,{"$f":"IF(ISNUMBER(SPmodel!AA152),SPmodel!AA152+LOG(GC!$F$31),\"\")","v":4.5719004000000067},{"$f":"IF(ISNUMBER(SPmodel!Z152),-SPmodel!Z152,\"\")","v":4.7128124796037563E-2},{"$f":"IF(ISNUMBER(SPmodel!Y152),-SPmodel!Y152,\"\")","v":-2.0227567599067812E-4},{"$f":"IF(ISNUMBER(SPmodel!X152),-SPmodel!X152,\"\")","v":3.5869150641026099E-7}]
[{"$f":"IF(D50=\"\",NA(),A49+D50)","v":20.333333333333336},150,7.5,{"$f":"IF(C50>0,(B50-B49)/C50,IF(C50<0,-C50,\"\"))","v":15.333333333333334},null,null,{"$f":"IF(ISNUMBER(SPmodel!E153),SPmodel!E153+LOG(GC!$F$29),\"\")","v":4.0490611398601457},{"$f":"IF(ISNUMBER(SPmodel!D153),-SPmodel!D153,\"\")","v":2.4673238540626159E-2},{"$f":"IF(ISNUMBER(SPmodel!C153),-SPmodel!C153,\"\")","v":1.6878803384115225E-5},{"$f":"IF(ISNUMBER(SPmodel!B153),-SPmodel!B153,\"\")","v":-1.3891539189976574E-7},null,null,null,null,null,null,null,{"$f":"IF(ISNUMBER(SPmodel!AA153),SPmodel!AA153+LOG(GC!$F$31),\"\")","v":4.9791946787878896},{"$f":"IF(ISNUMBER(SPmodel!Z153),-SPmodel!Z153,\"\")","v":4.5925084897047753E-2},{"$f":"IF(ISNUMBER(SPmodel!Y153),-SPmodel!Y153,\"\")","v":-1.7081423659673931E-4},{"$f":"IF(ISNUMBER(SPmodel!X153),-SPmodel!X153,\"\")","v":2.7018898115773667E-7}]
[{"$f":"IF(D51=\"\",NA(),A50+D51)","v":53.333333333333336},315,5,{"$f":"IF(C51>0,(B51-B50)/C51,IF(C51<0,-C51,\"\"))","v":33},null,null,{"$f":"IF(ISNUMBER(SPmodel!E154),SPmodel!E154+LOG(GC!$F$29),\"\")","v":4.4627638861138923},{"$f":"IF(ISNUMBER(SPmodel!D154),-SPmodel!D154,\"\")","v":2.5868137695637783E-2},{"$f":"IF(ISNUMBER(SPmodel!C154),-SPmodel!C154,\"\")","v":2.4631212537462133E-5},{"$f":"IF(ISNUMBER(SPmodel!B154),-SPmodel!B154,\"\")","v":-1.6025276806526731E-7},null,null,null,null,null,null,null,{"$f":"IF(ISNUMBER(SPmodel!AA154),SPmodel!AA154+LOG(GC!$F$31),\"\")","v":4.4364081818181953},{"$f":"IF(ISNUMBER(SPmodel!Z154),-SPmodel!Z154,\"\")","v":4.8361717657343074E-2},{"$f":"IF(ISNUMBER(SPmodel!Y154),-SPmodel!Y154,\"\")","v":-1.977656614219145E-4},{"$f":"IF(ISNUMBER(SPmodel!X154),-SPmodel!X154,\"\")","v":3.3332604895105515E-7}]
[66.733333333333334,315,-13.4,13.4,null,null,{"$f":"IF(ISNUMBER(SPmodel!E155),SPmodel!E155+LOG(GC!$F$29),\"\")","v":4.8345171748251756},{"$f":"IF(ISNUMBER(SPmodel!D155),-SPmodel!D155,\"\")","v":2.6577402243589766E-2},{"$f":"IF(ISNUMBER(SPmodel!C155),-SPmodel!C155,\"\")","v":2.013585882867118E-5},{"$f":"IF(ISNUMBER(SPmodel!B155),-SPmodel!B155,\"\")","v":-1.5087372523309991E-7},null,null,null,null,null,null,null,{"$f":"IF(ISNUMBER(SPmodel!AA155),SPmodel!AA155+LOG(GC!$F$31),\"\")","v":5.4422521636363621},{"$f":"IF(ISNUMBER(SPmodel!Z155),-SPmodel!Z155,\"\")","v":4.4638502942890498E-2},{"$f":"IF(ISNUMBER(SPmodel!Y155),-SPmodel!Y155,\"\")","v":-1.5356297639860183E-4},{"$f":"IF(ISNUMBER(SPmodel!X155),-SPmodel!X155,\"\")","v":2.3522668997669043E-7}]
[{"$error":"#N/A"},null,null,"",null,null,{"$f":"IF(ISNUMBER(SPmodel!E156),SPmodel!E156+LOG(GC!$F$29),\"\")","v":5.3143123516483524},{"$f":"IF(ISNUMBER(SPmodel!D156),-SPmodel!D156,\"\")","v":3.0194768061105565E-2},{"$f":"IF(ISNUMBER(SPmodel!C156),-SPmodel!C156,\"\")","v":8.5671619005994429E-6},{"$f":"IF(ISNUMBER(SPmodel!B156),-SPmodel!B156,\"\")","v":-1.3723466637529142E-7},null,null,null,null,null,null,null,{"$f":"IF(ISNUMBER(SPmodel!AA156),SPmodel!AA156+LOG(GC!$F$31),\"\")","v":5.9530421515151524},{"$f":"IF(ISNUMBER(SPmodel!Z156),-SPmodel!Z156,\"\")","v":4.6982760742035952E-2},{"$f":"IF(ISNUMBER(SPmodel!Y156),-SPmodel!Y156,\"\")","v":-1.553416389860159E-4},{"$f":"IF(ISNUMBER(SPmodel!X156),-SPmodel!X156,\"\")","v":2.3012516996892404E-7}]
[{"$error":"#N/A"},null,null,"",null,null,{"$f":"IF(ISNUMBER(SPmodel!E157),SPmodel!E157+LOG(GC!$F$29),\"\")","v":5.9089367932068031},{"$f":"IF(ISNUMBER(SPmodel!D157),-SPmodel!D157,\"\")","v":3.2377880790043494E-2},{"$f":"IF(ISNUMBER(SPmodel!C157),-SPmodel!C157,\"\")","v":3.2970788586401861E-6},{"$f":"IF(ISNUMBER(SPmodel!B157),-SPmodel!B157,\"\")","v":-1.3263945949883239E-7},null,null,null,null,null,null,null,{"$f":"IF(ISNUMBER(SPmodel!AA157),SPmodel!AA157+LOG(GC!$F$31),\"\")","v":6.6933578121212127},{"$f":"IF(ISNUMBER(SPmodel!Z157),-SPmodel!Z157,\"\")","v":4.3981802282439975E-2},{"$f":"IF(ISNUMBER(SPmodel!Y157),-SPmodel!Y157,\"\")","v":-1.1867218822844008E-4},{"$f":"IF(ISNUMBER(SPmodel!X157),-SPmodel!X157,\"\")","v":1.4540294774670186E-7}]
[{"$error":"#N/A"},null,null,"",null,null,{"$f":"IF(ISNUMBER(SPmodel!E158),SPmodel!E158+LOG(GC!$F$29),\"\")","v":""},{"$f":"IF(ISNUMBER(SPmodel!D158),-SPmodel!D158,\"\")","v":""},{"$f":"IF(ISNUMBER(SPmodel!C158),-SPmodel!C158,\"\")","v":""},{"$f":"IF(ISNUMBER(SPmodel!B158),-SPmodel!B158,\"\")","v":""},null,null,null,null,null,null,null,{"$f":"IF(ISNUMBER(SPmodel!AA158),SPmodel!AA158+LOG(GC!$F$31),\"\")","v":""},{"$f":"IF(ISNUMBER(SPmodel!Z158),-SPmodel!Z158,\"\")","v":""},{"$f":"IF(ISNUMBER(SPmodel!Y158),-SPmodel!Y158,\"\")","v":""},{"$f":"IF(ISNUMBER(SPmodel!X158),-SPmodel!X158,\"\")","v":""}]
[{"$error":"#N/A"},null,null,"",null,null,{"$f":"IF(ISNUMBER(SPmodel!E159),SPmodel!E159+LOG(GC!$F$29),\"\")","v":""},{"$f":"IF(ISNUMBER(SPmodel!D159),-SPmodel!D159,\"\")","v":""},{"$f":"IF(ISNUMBER(SPmodel!C159),-SPmodel!C159,\"\")","v":""},{"$f":"IF(ISNUMBER(SPmodel!B159),-SPmodel!B159,\"\")","v":""},null,null,null,null,null,null,null,{"$f":"IF(ISNUMBER(SPmodel!AA159),SPmodel!AA159+LOG(GC!$F$31),\"\")","v":""},{"$f":"IF(ISNUMBER(SPmodel!Z159),-SPmodel!Z159,\"\")","v":""},{"$f":"IF(ISNUMBER(SPmodel!Y159),-SPmodel!Y159,\"\")","v":""},{"$f":"IF(ISNUMBER(SPmodel!X159),-SPmodel!X159,\"\")","v":""}]
[{"$error":"#N/A"},null,null,"",null,null,{"$f":"IF(ISNUMBER(SPmodel!E160),SPmodel!E160+LOG(GC!$F$29),\"\")","v":""},{"$f":"IF(ISNUMBER(SPmodel!D160),-SPmodel!D160,\"\")","v":""},{"$f":"IF(ISNUMBER(SPmodel!C160),-SPmodel!C160,\"\")","v":""},{"$f":"IF(ISNUMBER(SPmodel!B160),-SPmodel!B160,\"\")","v":""},null,null,null,null,null,null,null,{"$f":"IF(ISNUMBER(SPmodel!AA160),SPmodel!AA160+LOG(GC!$F$31),\"\")","v":""},{"$f":"IF(ISNUMBER(SPmodel!Z160),-SPmodel!Z160,\"\")","v":""},{"$f":"IF(ISNUMBER(SPmodel!Y160),-SPmodel!Y160,\"\")","v":""},{"$f":"IF(ISNUMBER(SPmodel!X160),-SPmodel!X160,\"\")","v":""}]
[{"$error":"#N/A"},null,null,"",null,null,{"$f":"IF(ISNUMBER(SPmodel!E161),SPmodel!E161+LOG(GC!$F$29),\"\")","v":""},{"$f":"IF(ISNUMBER(SPmodel!D161),-SPmodel!D161,\"\")","v":""},{"$f":"IF(ISNUMBER(SPmodel!C161),-SPmodel!C161,\"\")","v":""},{"$f":"IF(ISNUMBER(SPmodel!B161),-SPmodel!B161,\"\")","v":""},null,null,null,null,null,null,null,{"$f":"IF(ISNUMBER(SPmodel!AA161),SPmodel!AA161+LOG(GC!$F$31),\"\")","v":""},{"$f":"IF(ISNUMBER(SPmodel!Z161),-SPmodel!Z161,\"\")","v":""},{"$f":"IF(ISNUMBER(SPmodel!Y161),-SPmodel!Y161,\"\")","v":""},{"$f":"IF(ISNUMBER(SPmodel!X161),-SPmodel!X161,\"\")","v":""}]
[{"$error":"#N/A"},null,null,"",null,null,{"$f":"IF(ISNUMBER(SPmodel!E162),SPmodel!E162+LOG(GC!$F$29),\"\")","v":""},{"$f":"IF(ISNUMBER(SPmodel!D162),-SPmodel!D162,\"\")","v":""},{"$f":"IF(ISNUMBER(SPmodel!C162),-SPmodel!C162,\"\")","v":""},{"$f":"IF(ISNUMBER(SPmodel!B162),-SPmodel!B162,\"\")","v":""},null,null,null,null,null,null,null,{"$f":"IF(ISNUMBER(SPmodel!AA162),SPmodel!AA162+LOG(GC!$F$31),\"\")","v":""},{"$f":"IF(ISNUMBER(SPmodel!Z162),-SPmodel!Z162,\"\")","v":""},{"$f":"IF(ISNUMBER(SPmodel!Y162),-SPmodel!Y162,\"\")","v":""},{"$f":"IF(ISNUMBER(SPmodel!X162),-SPmodel!X162,\"\")","v":""}]
[{"$error":"#N/A"},null,null,"",null,null,{"$f":"IF(ISNUMBER(SPmodel!E163),SPmodel!E163+LOG(GC!$F$29),\"\")","v":""},{"$f":"IF(ISNUMBER(SPmodel!D163),-SPmodel!D163,\"\")","v":""},{"$f":"IF(ISNUMBER(SPmodel!C163),-SPmodel!C163,\"\")","v":""},{"$f":"IF(ISNUMBER(SPmodel!B163),-SPmodel!B163,\"\")","v":""},null,null,null,null,null,null,null,{"$f":"IF(ISNUMBER(SPmodel!AA163),SPmodel!AA163+LOG(GC!$F$31),\"\")","v":""},{"$f":"IF(ISNUMBER(SPmodel!Z163),-SPmodel!Z163,\"\")","v":""},{"$f":"IF(ISNUMBER(SPmodel!Y163),-SPmodel!Y163,\"\")","v":""},{"$f":"IF(ISNUMBER(SPmodel!X163),-SPmodel!X163,\"\")","v":""}]
[{"$error":"#N/A"},null,null,"",null,null,{"$f":"IF(ISNUMBER(SPmodel!E164),SPmodel!E164+LOG(GC!$F$29),\"\")","v":""},{"$f":"IF(ISNUMBER(SPmodel!D164),-SPmodel!D164,\"\")","v":""},{"$f":"IF(ISNUMBER(SPmodel!C164),-SPmodel!C164,\"\")","v":""},{"$f":"IF(ISNUMBER(SPmodel!B164),-SPmodel!B164,\"\")","v":""},null,null,null,null,null,null,null,{"$f":"IF(ISNUMBER(SPmodel!AA164),SPmodel!AA164+LOG(GC!$F$31),\"\")","v":""},{"$f":"IF(ISNUMBER(SPmodel!Z164),-SPmodel!Z164,\"\")","v":""},{"$f":"IF(ISNUMBER(SPmodel!Y164),-SPmodel!Y164,\"\")","v":""},{"$f":"IF(ISNUMBER(SPmodel!X164),-SPmodel!X164,\"\")","v":""}]
[{"$error":"#N/A"},null,null,"",null,null,{"$f":"IF(ISNUMBER(SPmodel!E165),SPmodel!E165+LOG(GC!$F$29),\"\")","v":""},{"$f":"IF(ISNUMBER(SPmodel!D165),-SPmodel!D165,\"\")","v":""},{"$f":"IF(ISNUMBER(SPmodel!C165),-SPmodel!C165,\"\")","v":""},{"$f":"IF(ISNUMBER(SPmodel!B165),-SPmodel!B165,\"\")","v":""},null,null,null,null,null,null,null,{"$f":"IF(ISNUMBER(SPmodel!AA165),SPmodel!AA165+LOG(GC!$F$31),\"\")","v":""},{"$f":"IF(ISNUMBER(SPmodel!Z165),-SPmodel!Z165,\"\")","v":""},{"$f":"IF(ISNUMBER(SPmodel!Y165),-SPmodel!Y165,\"\")","v":""},{"$f":"IF(ISNUMBER(SPmodel!X165),-SPmodel!X165,\"\")","v":""}]
[{"$error":"#N/A"},null,null,"",null,null,{"$f":"IF(ISNUMBER(SPmodel!E166),SPmodel!E166+LOG(GC!$F$29),\"\")","v":""},{"$f":"IF(ISNUMBER(SPmodel!D166),-SPmodel!D166,\"\")","v":""},{"$f":"IF(ISNUMBER(SPmodel!C166),-SPmodel!C166,\"\")","v":""},{"$f":"IF(ISNUMBER(SPmodel!B166),-SPmodel!B166,\"\")","v":""},null,null,null,null,null,null,null,{"$f":"IF(ISNUMBER(SPmodel!AA166),SPmodel!AA166+LOG(GC!$F$31),\"\")","v":""},{"$f":"IF(ISNUMBER(SPmodel!Z166),-SPmodel!Z166,\"\")","v":""},{"$f":"IF(ISNUMBER(SPmodel!Y166),-SPmodel!Y166,\"\")","v":""},{"$f":"IF(ISNUMBER(SPmodel!X166),-SPmodel!X166,\"\")","v":""}]
[]
["OBS: The max time for simulation will be the time given in sheet GC, NOT the max time of the complex temperature program"]
[]
["Enter Temp and Ramp and the Time will be calculated",null,null,null,null,null,null,null,null,"OBS: LSS calculations and plots in sheet GC will use the temperature program in sheet GC "]
["Enter the number 1 in cell F19 to use this program"]
["Hold at a temperature: Enter Ramp as a negative numer, i.e. Ramp = -5 hold for 5 min."]
["The gradent plot in sheet GC will be updated to the complex gradient after the simulation"]
[]
["Example of input to 1D complex gradient"]
[]
[]
[]
[]
[]
[]
[]
[]
[null,"1D complex gradient"]
[null,"Temperature program calculations"]
[null,"Time","Temp","Ramp","dt"]
[null,"min","Degree o","o/min","min"]
[null,0,35]
[null,5,35,-5,5]
[null,20.333333333333336,150,7.5,15.333333333333334]
[null,53.333333333333336,315,5,33]
[null,66.733333333333334,315,-13.4,13.4]
[null,{"$error":"#N/A"},null,null,""]